Workbook

Sheet EAN 13
B6: Code | I6: Code Barre EAN 13 | P6: Code | W6: Code Barre EAN 8
B7: 532164863567 | I7: =_EAN13(B7) -> 5DMLGES*gdfghc+ | P7: 6435124 | W7: =_EAN8(P7) -> :GEDF*bceh+
B8: 945678210604 | I8: =_EAN13(B8) -> 9EPQHSC*bagaeb+ | P8: 8946478 | W8: =_EAN8(P8) -> :IJEG*ehig+
B9: 346513205007 | I9: =_EAN13(B9) -> 3EGPLNC*afaahg+ | P9: 4568795 | W9: =_EAN8(P9) -> :EFGI*hjfc+
B10: 531645789654 | I10: =_EAN13(B10) -> 5DLQEFR*ijgfed+ | P10: 4568486 | W10: =_EAN8(P10) -> :EFGI*eigj+
B12: Structure d'un code EAN 13 | R12: Structure d'un code EAN 8
B14: Code pays | D14: Code fabricant | H14: Code article | N14: Clé | R14: Code pays | T14: Code article | Y14: Clé
B16: Liste des codes pays ou système | P16: Liste des codes pays ou système
B17: 00 à 13 UCC (Etats-Unis et Canada) | H17: 628 EAN Arabie Saoudite | P17: 489 HKANA (Hong Kong) | V17: 80 à 83 INDICOD (Italie)
B18: 20 à 29 Codification interne en magasin | H18: 64 EAN Finlande | P18: 50 E Centre UK | V18: 84 AECOC (Espagne)
B19: 30 à 37 GENCOD-EAN France | H19: 690 - 693 Article Numbering Centre of China - ANCC (Chine) | P19: 520 HELLCAN-EAN HELLAS (Grèce) | V19: 850 Camera de Comercio de la Republica de Cuba (Cuba)
B20: 380 BCCI (Bulgarie) | H20: 70 EAN Norge (Norvège) | P20: 528 EAN Liban | V20: 858 EAN Slovaquie
B21: 383 SANA (Slovénie) | H21: 729 Israeli Bar Code Association – EAN Israël | P21: 529 EAN Chypre | V21: 859 EAN République Tchèque
B22: 385 CRO-EAN (Croatie) | H22: 73 EAN Suède | P22: 531 EAN-MAC (FYR Macédonie) | V22: 860 EAN YU (Yougoslavie)
B23: 387 EAN-BIH (Bosnie-Herzégovine) | H23: 740 EAN Guatemala | P23: 535 EAN Malte | V23: 867 EAN DPR Korea (Corée du Nord)
B24: 400 à 440 CCG (Allemagne) | H24: 741 EAN El Salvador | P24: 539 EAN Irlande | V24: 869 Union of Chambers of Commerce of Turkey (Turquie)
B25: 45 + 49 Distribution Code Center – DCC (Japon) | H25: 742 ICCC (Honduras) | P25: 54 ICODIF/EAN Belgique. Luxembourg | V25: 87 EAN Nederland (Hollande)
B26: 460 à 469 UNISCAN - EAN Russie (Fédération de Russie) | H26: 743 EAN Nicaragua | P26: 560 CODIPOR (Portugal) | V26: 880 EAN Korea (Corée du Sud)
B27: 471 CAN (Taiwan) | H27: 744 EAN Costa Rica Panama | P27: 569 EAN Islande | V27: 885 EAN Thaï lande
B28: 474 EAN Estonie | H28: 746 746 EAN République Dominicaine | P28: 57 EAN Danemark | V28: 888 SANC (Singapour)
... B40: 487 EAN Kazakhstan | H40: 789 EAN Brésil | P40: 626 EAN Iran | V40: 99 Coupons

Sheet sandwich)
B7: 532164863567 | I7: =_EAN13(B7) -> 5DMLGES*gdfghc+ | P7: 6435124 | W7: =_EAN8(P7) -> :GEDF*bceh+
B8: 945678210604 | I8: =_EAN13(B8) -> 9EPQHSC*bagaeb+ | P8: 8946478 | W8: =_EAN8(P8) -> :IJEG*ehig+
B9: 346513205007 | I9: =_EAN13(B9) -> 3EGPLNC*afaahg+ | P9: 4568795 | W9: =_EAN8(P9) -> :EFGI*hjfc+
B10: 531645789654 | I10: =_EAN13(B10) -> 5DLQEFR*ijgfed+ | P10: 4568486 | W10: =_EAN8(P10) -> :EFGI*eigj+
B12: Structure d'un code EAN 13 | R12: Structure d'un code EAN 8
B14: Code pays | D14: Code fabricant | H14: Code article | N14: Clé | R14: Code pays | T14: Code article | Y14: Clé
B16: Liste des codes pays ou système | P16: Liste des codes pays ou système
B17: 00 à 13 UCC (Etats-Unis et Canada) | H17: 628 EAN Arabie Saoudite | P17: 489 HKANA (Hong Kong) | V17: 80 à 83 INDICOD (Italie)
B18: 20 à 29 Codification interne en magasin | H18: 64 EAN Finlande | P18: 50 E Centre UK | V18: 84 AECOC (Espagne)
B19: 30 à 37 GENCOD-EAN France | H19: 690 - 693 Article Numbering Centre of China - ANCC (Chine) | P19: 520 HELLCAN-EAN HELLAS (Grèce) | V19: 850 Camera de Comercio de la Republica de Cuba (Cuba)
B20: 380 BCCI (Bulgarie) | H20: 70 EAN Norge (Norvège) | P20: 528 EAN Liban | V20: 858 EAN Slovaquie
B21: 383 SANA (Slovénie) | H21: 729 Israeli Bar Code Association – EAN Israël | P21: 529 EAN Chypre | V21: 859 EAN République Tchèque
B22: 385 CRO-EAN (Croatie) | H22: 73 EAN Suède | P22: 531 EAN-MAC (FYR Macédonie) | V22: 860 EAN YU (Yougoslavie)
B23: 387 EAN-BIH (Bosnie-Herzégovine) | H23: 740 EAN Guatemala | P23: 535 EAN Malte | V23: 867 EAN DPR Korea (Corée du Nord)
B24: 400 à 440 CCG (Allemagne) | H24: 741 EAN El Salvador | P24: 539 EAN Irlande | V24: 869 Union of Chambers of Commerce of Turkey (Turquie)
B25: 45 + 49 Distribution Code Center – DCC (Japon) | H25: 742 ICCC (Honduras) | P25: 54 ICODIF/EAN Belgique. Luxembourg | V25: 87 EAN Nederland (Hollande)
B26: 460 à 469 UNISCAN - EAN Russie (Fédération de Russie) | H26: 743 EAN Nicaragua | P26: 560 CODIPOR (Portugal) | V26: 880 EAN Korea (Corée du Sud)
B27: 471 CAN (Taiwan) | H27: 744 EAN Costa Rica Panama | P27: 569 EAN Islande | V27: 885 EAN Thaï lande
B28: 474 EAN Estonie | H28: 746 746 EAN République Dominicaine | P28: 57 EAN Danemark | V28: 888 SANC (Singapour)
... B40: 487 EAN Kazakhstan | H40: 789 EAN Brésil | P40: 626 EAN Iran | V40: 99 Coupons

Sheet Feuil2
A1: sandwich | O1: prix
A2: 2060417800004 | H2: =_EAN13(A2) -> 2AGKOBR*iaaaae+ | N2: parisien | O2: 2.99
A3: 2060417800011 | H3: =_EAN13(A3) -> 2AGKOBR*iaaabb+ | N3: lyonnais | O3: 2.99
A4: 2060417800028 | H4: =_EAN13(A4) -> 2AGKOBR*iaaaci+ | N4: thon crudités | O4: 3.2
A5: 2060417800035 | H5: =_EAN13(A5) -> 2AGKOBR*iaaadf+ | N5: jambon emmental | O5: 3.2
A6: 2060417800042 | H6: =_EAN13(A6) -> 2AGKOBR*iaaaec+ | N6: fermier | O6: 3.2
A7: 2060417800059 | H7: =_EAN13(A7) -> 2AGKOBR*iaaafj+ | N7: végetarien | O7: 3.2
A8: menu | O8: prix
A9: 2060417800066 | H9: =_EAN13(A9) -> 2AGKOBR*iaaagg+ | N9: parisien | O9: 4.99
A10: 2060417800073 | H10: =_EAN13(A10) -> 2AGKOBR*iaaahd+ | N10: lyonnais | O10: 4.99
A11: 2060417800080 | H11: 2AGKOBR*iaaaia+ | N11: thon crudités | O11: 5.2
A12: 2060417800097 | H12: =_EAN13(A12) -> 2AGKOBR*iaaajh+ | N12: jambon emmental | O12: 5.2
A13: 2060417800103 | H13: =_EAN13(A13) -> 2AGKOBR*iaabad+ | N13: fermier | O13: 5.2
A14: 2060417800110 | H14: 2AGKOBR*iaabba+ | N14: végetarien | O14: 5.2
A15: boisson et dessert seul | O15: prix
A16: 2060417800127 | H16: =_EAN13(A16) -> 2AGKOBR*iaabch+ | N16: boisson | O16: 1
A17: 0202501013057 | H17: =_EAN13(A17) -> 0CACFAB*abdafh+ | N17: eclair | O17: 1.99
A18: 0202501013057 | H18: =_EAN13(A18) -> 0CACFAB*abdafh+ | N18: tartellette | O18: 1.99
A19: 0202501015020 | H19: 0CACFAB*abfaca+ | N19: part de gateaux | O19: 2.29
A20: 0202501009845 | H20: =_EAN13(A20) -> 0CACFAB*aajief+ | N20: part de flan | O20: 1.5

Sheet tracabilité
A1: SCAN | B1: Produit | C1: Prix
B2: =IF(A2="","",VLOOKUP($A2,Feuil2!$A:$O,14,FALSE)) | C2: =IF(A2="","",VLOOKUP($A2,Feuil2!$A:$O,15,FALSE))
B3: =IF(A3="","",VLOOKUP($A3,Feuil2!$A:$O,14,FALSE)) | C3: =IF(A3="","",VLOOKUP($A3,Feuil2!$A:$O,15,FALSE))
B4: =IF(A4="","",VLOOKUP($A4,Feuil2!$A:$O,14,FALSE)) | C4: =IF(A4="","",VLOOKUP($A4,Feuil2!$A:$O,15,FALSE))
B5: =IF(A5="","",VLOOKUP($A5,Feuil2!$A:$O,14,FALSE)) | C5: =IF(A5="","",VLOOKUP($A5,Feuil2!$A:$O,15,FALSE))
B6: =IF(A6="","",VLOOKUP($A6,Feuil2!$A:$O,14,FALSE)) | C6: =IF(A6="","",VLOOKUP($A6,Feuil2!$A:$O,15,FALSE))
B7: =IF(A7="","",VLOOKUP($A7,Feuil2!$A:$O,14,FALSE)) | C7: =IF(A7="","",VLOOKUP($A7,Feuil2!$A:$O,15,FALSE))
B8: =IF(A8="","",VLOOKUP($A8,Feuil2!$A:$O,14,FALSE)) | C8: =IF(A8="","",VLOOKUP($A8,Feuil2!$A:$O,15,FALSE))
B9: =IF(A9="","",VLOOKUP($A9,Feuil2!$A:$O,14,FALSE)) | C9: =IF(A9="","",VLOOKUP($A9,Feuil2!$A:$O,15,FALSE))
B10: =IF(A10="","",VLOOKUP($A10,Feuil2!$A:$O,14,FALSE)) | C10: =IF(A10="","",VLOOKUP($A10,Feuil2!$A:$O,15,FALSE))
B11: =IF(A11="","",VLOOKUP($A11,Feuil2!$A:$O,14,FALSE)) | C11: =IF(A11="","",VLOOKUP($A11,Feuil2!$A:$O,15,FALSE))
B12: =IF(A12="","",VLOOKUP($A12,Feuil2!$A:$O,14,FALSE)) | C12: =IF(A12="","",VLOOKUP($A12,Feuil2!$A:$O,15,FALSE))
B13: =IF(A13="","",VLOOKUP($A13,Feuil2!$A:$O,14,FALSE)) | C13: =IF(A13="","",VLOOKUP($A13,Feuil2!$A:$O,15,FALSE))
... B1461: =IF(A1461="","",VLOOKUP($A1461,Feuil2!$A:$O,14,FALSE)) | C1461: =IF(A1461="","",VLOOKUP($A1461,Feuil2!$A:$O,15,FALSE))

Sheet PATISSERIE
A1: casse patisserie
A3: gros gateaux
A4: 2025734020399 | B4: =_EAN13(A4) -> 2ACPRDO*acadjj+ | C4: MULTIFRUIT 8 PERS | D4: 5.7 | E4: 18.29
A5: 2025734020337 | B5: =_EAN13(A5) -> 2ACPRDO*acaddh+ | C5: PASSION FRAMBOISE 8 PERS | D5: 5.12 | E5: 18.29
A6: 257376119977 | B6: =_EAN13(A6) -> 2FHNRGL*bjjhhe+ | C6: FRAMBOISIER 8 PERS | D6: 3.89 | E6: 18.29
A7: 2025734020313 | B7: =_EAN13(A7) -> 2ACPRDO*acadbd+ | C7: 3 CHOCOLATS 8 PERS | D7: 7.8 | E7: 18.29
A8: 2025734020344 | B8: =_EAN13(A8) -> 2ACPRDO*acadee+ | C8: ABRICOT/FRAISE 8 PER | D8: 5.2 | E8: 18.29
A9: 2025734020351 | B9: =_EAN13(A9) -> 2ACPRDO*acadfb+ | C9: FRUIT ROUGE 8 PERS | D9: 5.8 | E9: 18.29
A10: 2025734020306 | B10: =_EAN13(A10) -> 2ACPRDO*acadag+ | C10: REVE NOIR 8 PERS | D10: 5.98 | E10: 18.29
A11: 2025734020320 | B11: =_EAN13(A11) -> 2ACPRDO*acadcb+ | C11: POIRE CHOCOLAT 8 PERS | D11: 5.2 | E11: 18.29
A12: 2025734020368 | B12: =_EAN13(A12) -> 2ACPRDO*acadgi+ | C12: FRAISIER 6PERS | D12: 3.4 | E12: 13.49
A13: 2025734020375 | B13: =_EAN13(A13) -> 2ACPRDO*acadhf+ | C13: FRAISIER 8 PERS | D13: 6.6 | E13: 18.29
A14: 2025734020382 | B14: =_EAN13(A14) -> 2ACPRDO*acadic+ | C14: FRAISIER 10 PERS | D14: 8.87 | E14: 19.99
A15: 2025734020405 | B15: =_EAN13(A15) -> 2ACPRDO*acaeaf+ | C15: ST HONORÉ VANILLE 6 PERS | D15: 3.8 | E15: 10.99
A16: 2025734020412 | B16: =_EAN13(A16) -> 2ACPRDO*acaebc+ | C16: ST HONORÉ VANILLE 8 PERS | D16: 6.2 | E16: 14.99
A17: 2025734020429 | B17: =_EAN13(A17) -> 2ACPRDO*acaecj+ | C17: ST HONORÉ VANILLE 10 PERS | D17: 9.2 | E17: 19.99
A18: 2025734020436 | B18: =_EAN13(A18) -> 2ACPRDO*acaedg+ | C18: ST HONORÉ CHOC 6 PERS | D18: 3.99 | E18: 10.99
... A20: 2025734020450 | B20: =_EAN13(A20) -> 2ACPRDO*acaefb+ | C20: ST HONORÉ CHOC 10 PERS | D20: 9.6 | E20: 19.99
A21: grosse tarte
A22: 2025734020481 | B22: =_EAN13(A22) -> 2ACPRDO*acaeib+ | C22: TARTE FRAISE 4/6 PERS | D22: 3.45 | E22: 9.9
A23: 2025734020498 | B23: =_EAN13(A23) -> 2ACPRDO*acaeji+ | C23: TARTE FRUIT 4/6 PERS | D23: 3.9 | E23: 9.9
A24: 2025734020504 | B24: =_EAN13(A24) -> 2ACPRDO*acafae+ | C24: TARTE FRAMBOISE 4/6 PERS | D24: 4.5 | E24: 9.9
A25: 2025734020511 | B25: =_EAN13(A25) -> 2ACPRDO*acafbb+ | C25: TARTE FR ROUGE 4/6 PERS | D25: 4.7 | E25: 9.9
A26: 2025734020535 | B26: =_EAN13(A26) -> 2ACPRDO*acafdf+ | C26: TARTE CITRON MERINGUÉ 4/6 PERS | D26: 2.9 | E26: 7.9
A27: 2025734020542 | B27: =_EAN13(A27) -> 2ACPRDO*acafec+ | C27: TARTE CHOCOLAT 4/6 PERS | D27: 3.2 | E27: 7.9
A28: 2025734020528 | B28: =_EAN13(A28) -> 2ACPRDO*acafci+ | C28: TARTE CITRON 4/6 PERS | D28: 2.8 | E28: 7.9
A29: tartellette et mignardise
A30: 2025734020467 | B30: =_EAN13(A30) -> 2ACPRDO*acaegh+ | C30: MIGNARDISE | D30: 0.18 | E30: 0.59
A31: 2025734020474 | B31: =_EAN13(A31) -> 2ACPRDO*acaehe+ | C31: MIGNARDISE X10 | D31: 1.8 | E31: 4.9
A32: 2025734020610 | B32: =_EAN13(A32) -> 2ACPRDO*acagbb+ | C32: MERINGUETTE | D32: 0.03 | E32: 0.18
A33: 2025734020627 | B33: =_EAN13(A33) -> 2ACPRDO*acagch+ | C33: MERINGUETTE X10 | D33: 0.3 | E33: 1.6
A34: 2025734020665 | B34: =_EAN13(A34) -> 2ACPRDO*acaggf+ | C34: GROSSE MERINGUE | D34: 0.2 | E34: 3
A35: 2025734020245 | B35: =_EAN13(A35) -> 2ACPRDO*acacef+ | C35: PART DE FRAISE/ABRICOT | D35: 0.7 | E35: 2.29
A36: 2025734021204 | B36: =_EAN13(A36) -> 2ACPRDO*acbcae+ | C36: PART DE REVE NOIR | D36: 0.8 | E36: 2.29
A37: 2025734020221 | B37: =_EAN13(A37) -> 2ACPRDO*acaccb+ | C37: PART DE POIRE CHOCOLAT | D37: 0.7 | E37: 2.29
A38: 2025734020252 | B38: =_EAN13(A38) -> 2ACPRDO*acacfc+ | C38: PART DE FRUIT ROUGE | D38: 0.78 | E38: 2.29
A39: 2025734020276 | B39: =_EAN13(A39) -> 2ACPRDO*acachg+ | C39: PART DE MULTIFRUIT | D39: 0.81 | E39: 2.29
A40: 2025734020283 | B40: =_EAN13(A40) -> 2ACPRDO*acacid+ | C40: PART DE FRAMBOISIER | D40: 0.77 | E40: 2.29
A41: 2025734020214 | B41: =_EAN13(A41) -> 2ACPRDO*acacbe+ | C41: PART DE 3 CHOCOLATS | D41: 0.92 | E41: 2.29
... A64: 2025734020672 | B64: =_EAN13(A64) -> 2ACPRDO*acaghc+ | C64: DELICE CHOCOLAT 6 PERS | D64: 5.2 | E64: 8.9

Sheet vien,noiserie
A1: viennoiserie
A3: 2025724010065 | B3: =_EAN13(A3) -> 2ACPRCO*abaagf+ | C3: BRIOCHETTE CHOCOLAT | D3: 0.25 | E3: 0.99
A4: 2025724010072 | B4: =_EAN13(A4) -> 2ACPRCO*abaahc+ | C4: BRIOCHETTE PRALINE | D4: 0.25 | E4: 0.99
A5: 2025724010058 | B5: =_EAN13(A5) -> 2ACPRCO*abaafi+ | C5: BRIOCHETTE SUCRÉ | D5: 0.22 | E5: 0.79
A6: 2025724010119 | B6: =_EAN13(A6) -> 2ACPRCO*ababbj+ | C6: CHOUQUETTE X1 | D6: 0.05 | E6: 0.2
A7: 2025724010126 | B7: =_EAN13(A7) -> 2ACPRCO*ababcg+ | C7: CHOUQUETTE X10 | D7: 0.5 | E7: 1.8
A8: 2025724010003 | B8: =_EAN13(A8) -> 2ACPRCO*abaaad+ | C8: CROISSANT | D8: 0.3 | E8: 0.99
A9: 2025724010027 | B9: =_EAN13(A9) -> 2ACPRCO*abaach+ | C9: ESCARGOT PRALINE | D9: 0.31 | E9: 0.99
A10: 2025724010096 | B10: =_EAN13(A10) -> 2ACPRCO*abaajg+ | C10: NANTERRE CHOCOLAT | D10: 1.25 | E10: 4.99
A11: 2025724010102 | B11: =_EAN13(A11) -> 2ACPRCO*ababac+ | C11: NANTERRE PRALINE | D11: 1.25 | E11: 4.99
A12: 2025724010089 | B12: =_EAN13(A12) -> 2ACPRCO*abaaij+ | C12: NANTERRE SUCRÉ | D12: 1.2 | E12: 3.99
A13: 2025724010010 | B13: =_EAN13(A13) -> 2ACPRCO*abaabb+ | C13: PAIN AU CHOCOLAT | D13: 0.35 | E13: 0.99
A14: 2025724010041 | B14: =_EAN13(A14) -> 2ACPRCO*abaaeb+ | C14: PAIN PRALINÉ | D14: 0.32 | E14: 0.99
... A16: 2025724010034 | B16: =_EAN13(A16) -> 2ACPRCO*abaade+ | C16: SUISSE | D16: 0.3 | E16: 0.99

Sheet boulangerie
A1: boulangerie
A3: 2025714000038 | B3: =_EAN13(A3) -> 2ACPRBO*aaaadi+ | C3: BAGUETTE 250G | D3: 0.1144 | E3: 0.5
A4: 2025714000076 | B4: =_EAN13(A4) -> 2ACPRBO*aaaahg+ | C4: BAGUETTE CRAQUANTE 250G | D4: 0.135 | E4: 0.9
A5: 2025714000083 | B5: =_EAN13(A5) -> 2ACPRBO*aaaaid+ | C5: BAGUETTE MULTICEREALES 250G | D5: 0.2407 | E5: 0.95
A6: 2025714000243 | B6: =_EAN13(A6) -> 2ACPRBO*aaaced+ | C6: BAGUETTE PAVOT | D6: 0.155 | E6: 0.95
A7: 2025714000021 | B7: =_EAN13(A7) -> 2ACPRBO*aaaacb+ | C7: BAGUETTE SESAME 250G | D7: 0.135 | E7: 0.95
A8: 2060417800127 | B8: =_EAN13(A8) -> 2AGKOBR*iaabch+ | C8: BOISSON | D8: 0.5 | E8: 1
A9: 2025714000014 | B9: =_EAN13(A9) -> 2ACPRBO*aaaabe+ | C9: BOULE BLANCHE 400G | D9: 0.1685 | E9: 1
A10: 2025714000052 | B10: =_EAN13(A10) -> 2ACPRBO*aaaafc+ | C10: COURONNE 400G | D10: 0.1685 | E10: 0.7
A11: 2025714000151 | B11: =_EAN13(A11) -> 2ACPRBO*aaabfb+ | C11: CRAQUANTE 2 +1 GRATUITE | D11: 0.45 | E11: 1.8
A12: 2025714000069 | B12: =_EAN13(A12) -> 2ACPRBO*aaaagj+ | C12: CRAQUINETTE 125G | D12: 0.0723 | E12: 0.5
A13: 2060417800134 | B13: =_EAN13(A13) -> 2AGKOBR*iaabde+ | C13: DESSERT | D13: 0.5 | E13: 1
A14: 2025714000182 | B14: =_EAN13(A14) -> 2ACPRBO*aaabic+ | C14: FICELLE AU GRUYERE | D14: 0.3 | E14: 0.99
... A42: 2060417800059 | B42: =_EAN13(A42) -> 2AGKOBR*iaaafj+ | C42: SANDWICH VEGETARIEN | D42: 0.85 | E42: 3.2
