Workbook

Sheet Secteur Vert
A1: SECTEUR VERT | C1: EFFECTIFS
A4: Date : | V4: Nom de l'agent : | AQ4: MIDI | BC4: SOIR
AP5: en chambre | AV5: en restauration | BB5: en chambre | BH5: en restauration
A6: Mode Opératoire pour saisie | C6: Normal | D6: Normal viande mixée | E6: Normal mixé complet | F6: Diabétique normal | G6: Diabétique viande mixée | H6: Diabétique mixé complet | I6: Sans sel normal | J6: Sans sel viande mixée | K6: Sans sel mixé complet | L6: AVK normal | M6: AVK viande mixée | N6: AVK mixé complet | O6: Hypocalorique normal | P6: Hypocalorique viande mixée | Q6: Hypocalorique mixé complet | R6: Hypercalorique normal | S6: Hypercalorique viande mixée | T6: Hypercalorique mixé complet | U6: Hyperprotéïné normal | V6: Hyperprotéïné viande mixée | W6: hyperprotéïné mixé complet | X6: Riche en fibre normal | Y6: Riche en fiobre viande mixée | Z6: Riche en fibre mixé complet | AA6: Diabétique sans sel normal | AB6: Diabétique sans sel viande mixée | AC6: Diabétique sans sel mixé complet | AD6: sans porc normal | AE6: sans porc viande mixée | AF6: sans porc mixé complet | AG6: sans poisson normal | AH6: sans poisson viande mixée | AI6: sans poisson mixé complet | AJ6: Lacté froid | AK6: sans résidu | AL6: Soupe + 2 desserts
A7: 1 | B7: BEGIN Andrée | C7: 1 | AP7: 1 | BB7: 1
A8: 2 | B8: WOELLER Henriette | D8: 1 | AP8: 1 | BB8: 1
A9: 3 | B9: OLEKSY Jeannine | D9: 1 | AV9: 1 | BH9: 1
A10: 4 | B10: DHAMELINCOURT Josiane | D10: 1 | AP10: 1 | BB10: 1
A11: 5 CC
A12: 5 CF | B12: JEANSON Pierre | C12: 1 | AP12: 1 | BB12: 1
A13: 6 | B13: GLACE Josette | C13: 1 | AV13: 1 | BH13: 1
A14: 7 CC | B14: FROMONT Germaine | C14: 1 | AV14: 1 | BH14: 1
A15: 7 CF
A16: 8 | B16: DELUARD Jean-Marie | F16: 1 | AV16: 1 | BB16: 1
A17: 9 | B17: GAULLIER Yvonne | F17: 1 | AV17: 1 | BB17: 1
A18: 10 | B18: CHATY Jeanine | C18: 1 | AP18: 1 | BH18: 1
A19: 11 | B19: CHEVRY Elisabeth | C19: 1 | AP19: 1 | BH19: 1
A20: 12 CC | B20: CASTEX Pierre | C20: 1 | AP20: 1 | BH20: 1
A21: 12 CF
A22: 13 | B22: PICARD Monique | L22: 1 | AV22: 1 | BH22: 1
A23: 14 | B23: PERRAUDIN Noémie | L23: 1 | AV23: 1 | BH23: 1
A24: 15
A25: 16
A26: 17
A27: 18 | B27: AVERT Jacqueline | K27: 1 | AP27: 1 | BH27: 1
A28: 19
A29: 20 | B29: CHAPELLIER Josiane | O29: 1 | AV29: 1 | BB29: 1
A30: 21 | B30: BANCHET Marcelle | O30: 1 | AV30: 1 | BB30: 1
A31: 22 CC | B31: CHATELOT Lucie | O31: 1 | AP31: 1 | BB31: 1
A32: 22 CF
A33: 23 | B33: ANTHOINE Pierrette | N33: 1 | AP33: 1 | BH33: 1
A34: 24 | B34: MOREL Geneviève | N34: 1 | AP34: 1 | BH34: 1
A35: 25 | B35: RIGNAUX Marie-Louise | N35: 1 | AP35: 1 | BH35: 1
A36: 26 CC
A37: 26 CF | B37: PINCHARD Jackie | C37: 1 | AP37: 1 | BH37: 1
A38: 27 CC
A39: 27 CF | B39: CHARTON Micheline | D39: 1 | AV39: 1 | BB39: 1
A40: 28 | B40: HUTAIN Denise | D40: 1 | AV40: 1 | BB40: 1
A41: 29 | B41: TAISANT Sylviane | C41: 1 | AV41: 1 | BB41: 1
A42: 30 | B42: LEGENDRE Monique | C42: 1 | AV42: 1 | BB42: 1
A43: 31 | B43: DEMANGEON Lucette | C43: 1 | AP43: 1 | BH43: 1
A44: 32 | B44: PARCOLLET Monique | C44: 1 | AP44: 1 | BH44: 1
A45: 33 | B45: GAUBERVILLE Andrée | C45: 1 | AP45: 1 | BH45: 1
A46: 34 | B46: KENDZIA Wiktoria | C46: 1 | AP46: 1 | BH46: 1
A47: 35 | B47: COLLOT Régis | C47: 1 | AP47: 1 | BH47: 1
A48: 36 | B48: BEAUVALLET Mauricette | C48: 1 | AV48: 1 | BB48: 1
A49: 37 | B49: VARNIER Gilbert | F49: 1 | AV49: 1 | BB49: 1
A50: 38 | B50: ROBIN Monique | F50: 1 | AV50: 1 | BB50: 1
A51: 39 | B51: DROUIN Christiane | C51: 1 | AV51: 1 | BB51: 1
A52: 40 | B52: RISSER Christian | C52: 1 | AV52: 1 | BB52: 1
A53: 41 | B53: SANDALO Monique | C53: 1 | AV53: 1 | BB53: 1
A54: 42 | B54: ADDENET André | C54: 1 | AV54: 1 | BB54: 1
A55: 43 | B55: LABREVEUX Lucienne | C55: 1 | AP55: 1 | BB55: 1
A56: 44 | B56: LOUIS Josette | C56: 1 | AP56: 1 | BB56: 1
A57: 45 | B57: CHEVASSIE Claudette | C57: 1 | AP57: 1 | BB57: 1
A58: 46 | B58: PETRE Odette | C58: 1 | AP58: 1 | BH58: 1
A59: TOTAL | C59: =SUM(C7:C58) -> 24 | D59: =SUM(D7:D58) -> 5 | E59: =SUM(E7:E58) -> 0 | F59: =SUM(F7:F58) -> 4 | G59: =SUM(G7:G58) -> 0 | H59: =SUM(H7:H58) -> 0 | I59: =SUM(I7:I58) -> 0 | J59: =SUM(J7:J58) -> 0 | ... AO59: =SUM(AO7:AO58) -> 0 | AP59: =SUM(AP7:AU58) -> 22 | AV59: =SUM(AV7:BA58) -> 20 | BB59: =SUM(BB7:BG58) -> 23 | BH59: =SUM(BH7:BM58) -> 19

Sheet V3 (2)
A1: EFFECTIF CUISINE
AO4: MIDI | AW4: SOIR
AO5: En chambre | AS5: En restauration | AW5: En chambre | BA5: En restauration
B6: Normal | C6: Normal viande mixée | D6: Normal mixé complet | E6: Diabétique normal | F6: Diabétique viande mixée | G6: Diabétique mixé complet | H6: Sans sel normal | I6: Sans sel viande mixée | J6: Sans sel mixé complet | K6: AVK normal | L6: AVK viande mixée | M6: AVK mixé complet | N6: Hypocalorique normal | O6: Hypocalorique viande mixée | P6: Hypocalorique mixé complet | Q6: Hypercalorique normal | R6: Hypercalorique viande mixée | S6: Hypercalorique mixé complet | T6: Hyperprotéïné normal | U6: Hyperprotéïné viande mixée | V6: hyperprotéïné mixé complet | W6: Riche en fibre normal | X6: Riche en fiobre viande mixée | Y6: Riche en fibre mixé complet | Z6: Diabétique sans sel normal | AA6: Diabétique sans sel viande mixée | AB6: Diabétique sans sel mixé complet | AC6: sans porc normal | AD6: sans porc viande mixée | AE6: sans porc mixé complet | AF6: sans poisson normal | AG6: sans poisson viande mixée | AH6: sans poisson mixé complet | AI6: Lacté froid | AJ6: sans résidu | AK6: Soupe + 2 desserts
A8: Secteur Vert
A10: Secteur Jaune
A12: Secteur Rouge
A14: Médecine
A59: TOTAL | B59: =SUM(#REF!) -> #REF! | C59: =SUM(B7:B58) -> 0 | D59: =SUM(C7:C58) -> 0 | E59: =SUM(D7:D58) -> 0 | F59: =SUM(E7:E58) -> 0 | G59: =SUM(F7:F58) -> 0 | H59: =SUM(G7:G58) -> 0 | I59: =SUM(H7:H58) -> 0 | J59: =SUM(I7:I58) -> 0 | ... S59: =SUM(R7:R58) -> 0 | W59: =SUM(V7:V58) -> 0 | X59: =SUM(W7:W58) -> 0 | Y59: =SUM(X7:X58) -> 0 | Z59: =SUM(Y7:Y58) -> 0 | AA59: =SUM(Z7:Z58) -> 0 | AB59: =SUM(AA7:AA58) -> 0 | AJ59: =SUM(AI7:AI58) -> 0 | AK59: =SUM(AJ7:AJ58) -> 0

Sheet Secteur Rouge
A1: SECTEUR ROUGE | C1: EFFECTIFS
A4: Date : | V4: Nom de l'agent : | AQ4: MIDI | BC4: SOIR
AP5: en chambre | AV5: en restauration | BB5: en chambre | BH5: en restauration
A6: Mode Opératoire pour saisie | C6: Normal | D6: Normal viande mixée | E6: Normal mixé complet | F6: Diabétique normal | G6: Diabétique viande mixée | H6: Diabétique mixé complet | I6: Sans sel normal | J6: Sans sel viande mixée | K6: Sans sel mixé complet | L6: AVK normal | M6: AVK viande mixée | N6: AVK mixé complet | O6: Hypocalorique normal | P6: Hypocalorique viande mixée | Q6: Hypocalorique mixé complet | R6: Hypercalorique normal | S6: Hypercalorique viande mixée | T6: Hypercalorique mixé complet | U6: Hyperprotéïné normal | V6: Hyperprotéïné viande mixée | W6: hyperprotéïné mixé complet | X6: Riche en fibre normal | Y6: Riche en fiobre viande mixée | Z6: Riche en fibre mixé complet | AA6: Diabétique sans sel normal | AB6: Diabétique sans sel viande mixée | AC6: Diabétique sans sel mixé complet | AD6: sans porc normal | AE6: sans porc viande mixée | AF6: sans porc mixé complet | AG6: sans poisson normal | AH6: sans poisson viande mixée | AI6: sans poisson mixé complet | AJ6: Lacté froid | AK6: sans résidu | AL6: Soupe + 2 desserts
A7: 101 | B7: MATRION Régine | C7: 1 | AP7: 1 | BB7: 1
A8: 102 | B8: PORENTRU Jeannine | D8: 1 | AP8: 1 | BB8: 1
A9: 103 | B9: SMOLUCH Jean | D9: 1 | AV9: 1 | BH9: 1
A10: 104 | B10: BON Marie-Antoinette | D10: 1 | AP10: 1 | BB10: 1
A11: 105F | B11: BLONDEL René | F11: 1 | AP11: 1 | BB11: 1
A12: 105P | B12: BLONDEL Denise | O12: 1 | AP12: 1 | BB12: 1
A13: 106 | B13: PIERRET Chantal | C13: 1 | AV13: 1 | BH13: 1
A14: 107F
A15: 107P | B15: TRIDON Jacques | E15: 1 | AV15: 1 | BH15: 1
A16: 108 | B16: LETOURNEUR Marcelle | F16: 1 | AV16: 1 | BB16: 1
A17: 109 | B17: PRUDENT Annette | F17: 1 | AV17: 1 | BB17: 1
A18: 110 | B18: SALOMON Yvette | C18: 1 | AP18: 1 | BH18: 1
A19: 111 | B19: LAMOUREUX Jean | C19: 1 | AP19: 1 | BH19: 1
A20: 112F
A21: 112P | B21: SIMONET Marcelle | AG21: 1 | AP21: 1 | BB21: 1
A22: 113 | B22: GONZAGUE Jeanne | L22: 1 | AV22: 1 | BH22: 1
A23: 114 | B23: ALLEG Nouara | L23: 1 | AV23: 1 | BH23: 1
A24: 115 | B24: SIX Josette | E24: 1 | AP24: 1 | BB24: 1
A25: 116 | B25: GOLL Renée | X25: 1 | AV25: 1 | BH25: 1
A26: 117 | B26: HENRION Pierrette | D26: 1 | AP26: 1 | BB26: 1
A27: 302 | B27: COLLOMBAR Alberte | K27: 1 | AP27: 1 | BH27: 1
A28: 303 | B28: FERY Pierrette | C28: 1 | AP28: 1 | BB28: 1
A29: 304 | B29: LEFEBVRE Claudine | O29: 1 | AV29: 1 | BB29: 1
A30: 305P | B30: FOURNIER Suzanne | O30: 1 | AV30: 1 | BB30: 1
A31: 305F
A32: 306P | B32: VIEVILLE Yves | C32: 1 | AV32: 1 | BB32: 1
A33: 306F
A59: TOTAL | C59: =SUM(C7:C58) -> 6 | D59: =SUM(D7:D58) -> 4 | E59: =SUM(E7:E58) -> 2 | F59: =SUM(F7:F58) -> 3 | G59: =SUM(G7:G58) -> 0 | H59: =SUM(H7:H58) -> 0 | I59: =SUM(I7:I58) -> 0 | J59: =SUM(J7:J58) -> 0 | ... AO59: =SUM(AO7:AO58) -> 0 | AP59: =SUM(AP7:AU58) -> 12 | AV59: =SUM(AV7:BA58) -> 11 | BB59: =SUM(BB7:BG58) -> 14 | BH59: =SUM(BH7:BM58) -> 9

Sheet Secteur Jaune
A1: SECTEUR JAUNE | C1: EFFECTIFS
A4: Date : | V4: Nom de l'agent : | AQ4: MIDI | BC4: SOIR
AP5: en chambre | AV5: en restauration | BB5: en chambre | BH5: en restauration
A6: Mode Opératoire pour saisie | C6: Normal | D6: Normal viande mixée | E6: Normal mixé complet | F6: Diabétique normal | G6: Diabétique viande mixée | H6: Diabétique mixé complet | I6: Sans sel normal | J6: Sans sel viande mixée | K6: Sans sel mixé complet | L6: AVK normal | M6: AVK viande mixée | N6: AVK mixé complet | O6: Hypocalorique normal | P6: Hypocalorique viande mixée | Q6: Hypocalorique mixé complet | R6: Hypercalorique normal | S6: Hypercalorique viande mixée | T6: Hypercalorique mixé complet | U6: Hyperprotéïné normal | V6: Hyperprotéïné viande mixée | W6: hyperprotéïné mixé complet | X6: Riche en fibre normal | Y6: Riche en fiobre viande mixée | Z6: Riche en fibre mixé complet | AA6: Diabétique sans sel normal | AB6: Diabétique sans sel viande mixée | AC6: Diabétique sans sel mixé complet | AD6: sans porc normal | AE6: sans porc viande mixée | AF6: sans porc mixé complet | AG6: sans poisson normal | AH6: sans poisson viande mixée | AI6: sans poisson mixé complet | AJ6: Lacté froid | AK6: sans résidu | AL6: Soupe + 2 desserts
A7: 118 | B7: FERNANDEZ Maria | C7: 1 | AP7: 1 | BB7: 1
A8: 119 | B8: BEZIAT Micheline | D8: 1 | AP8: 1 | BB8: 1
A9: 120 | B9: LHUILLIER Guy | D9: 1 | AV9: 1 | BH9: 1
A10: 121 | B10: VARNIER Raymond | D10: 1 | AP10: 1 | BB10: 1
A11: 122F | B11: COLLOT André | J11: 1 | AP11: 1 | BH11: 1
A12: 122P | B12: COLLOT Hélène | C12: 1 | AP12: 1 | BB12: 1
A13: 123 | B13: HERRARD Micheline | C13: 1 | AV13: 1 | BH13: 1
A14: 124 | B14: LEBLANC François | C14: 1 | AV14: 1 | BH14: 1
A15: 126F | B15: BRELEST Pierrette | E15: 1 | AV15: 1 | BB15: 1
A16: 127P | B16: VIEVILLE Yves | F16: 1 | AV16: 1 | BB16: 1
A17: 128 | B17: STOQUERT Andrée | F17: 1 | AV17: 1 | BB17: 1
A18: 129 | B18: THOMAS Jean | C18: 1 | AP18: 1 | BH18: 1
A19: 130 | B19: VANAQUER Colette | C19: 1 | AP19: 1 | BH19: 1
A20: 131 | B20: COLLINET Françoise | C20: 1 | AP20: 1 | BH20: 1
A21: 132 | B21: THOMAS Jeannine | O21: 1 | AV21: 1 | BH21: 1
A22: 133 | B22: BROUILLARD Josette | L22: 1 | AV22: 1 | BH22: 1
A23: 134 | B23: DHYEVRE Marie | L23: 1 | AV23: 1 | BH23: 1
A24: 135 | B24: DANDEU Colette | E24: 1 | AP24: 1 | BB24: 1
A25: 136 | B25: THEVENIN Roger | D25: 1 | AV25: 1 | BB25: 1
A26: 137 | B26: GODFROY Marie | D26: 1 | AP26: 1 | BB26: 1
A27: 138 | B27: LAVIGNE Jeannine | K27: 1 | AP27: 1 | BH27: 1
A28: 139 | B28: PEIGNOT Bernadette | H28: 1 | AV28: 1 | BB28: 1
A29: 140 | B29: DENNI Jeannine | O29: 1 | AV29: 1 | BB29: 1
A30: 141 | B30: GAGNOLE Louise | O30: 1 | AV30: 1 | BB30: 1
A31: 142 | B31: GERARD Marie-Josée | O31: 1 | AP31: 1 | BB31: 1
A32: 143 | B32: ROUSSELET Marcelle | C32: 1 | AV32: 1 | BB32: 1
A33: 144 | B33: TIMMERMAN Marie-Thérèse | N33: 1 | AP33: 1 | BH33: 1
A34: 145 | B34: VAUTRIN Marcelle | N34: 1 | AP34: 1 | BH34: 1
A35: 146 | B35: REMY Arlette | N35: 1 | AP35: 1 | BH35: 1
A36: 147 | B36: ROYER Mireille | C36: 1 | AV36: 1 | BB36: 1
A37: 148 | B37: MAILLARD Marie-Thérèse | C37: 1 | AP37: 1 | BH37: 1
A38: 149 | B38: DANGOISSE Renée | C38: 1 | AV38: 1 | BB38: 1
A39: 150 | B39: MAURON André | D39: 1 | AV39: 1 | BB39: 1
A40: 151 | B40: ROBIN Liliane | D40: 1 | AV40: 1 | BB40: 1
A41: 152 | B41: PETIT Nicole | C41: 1 | AV41: 1 | BB41: 1
A42: 153 | B42: COLLOMBAR Alberte | C42: 1 | AV42: 1 | BB42: 1
A43: 154 | B43: FAYS Colette | C43: 1 | AV43: 1 | BH43: 1
A44: 155 | B44: HOISNARD Yves | C44: 1 | AV44: 1 | BH44: 1
A59: Total | C59: =SUM(C7:C58) -> 15 | D59: =SUM(D7:D58) -> 7 | E59: =SUM(E7:E58) -> 2 | F59: =SUM(F7:F58) -> 2 | G59: =SUM(G7:G58) -> 0 | H59: =SUM(H7:H58) -> 1 | I59: =SUM(I7:I58) -> 0 | J59: =SUM(J7:J58) -> 1 | ... AM59: =SUM(AM7:AM58) -> 0 | AN59: 0 | AO59: =SUM(AO7:AO58) -> 0 | AP59: =SUM(AP7:AU58) -> 16 | AV59: =SUM(AV7:BA58) -> 22 | BB59: =SUM(BB7:BG58) -> 21 | BH59: =SUM(BH7:BM58) -> 17

Sheet Médecine
A1: MEDECINE | C1: EFFECTIFS
A4: Date : | V4: Nom de l'agent : | AQ4: MIDI | BC4: SOIR
AP5: en chambre | AV5: en restauration | BB5: en chambre | BH5: en restauration
A6: Mode Opératoire pour saisie | C6: Normal | D6: Normal viande mixée | E6: Normal mixé complet | F6: Diabétique normal | G6: Diabétique viande mixée | H6: Diabétique mixé complet | I6: Sans sel normal | J6: Sans sel viande mixée | K6: Sans sel mixé complet | L6: AVK normal | M6: AVK viande mixée | N6: AVK mixé complet | O6: Hypocalorique normal | P6: Hypocalorique viande mixée | Q6: Hypocalorique mixé complet | R6: Hypercalorique normal | S6: Hypercalorique viande mixée | T6: Hypercalorique mixé complet | U6: Hyperprotéïné normal | V6: Hyperprotéïné viande mixée | W6: hyperprotéïné mixé complet | X6: Riche en fibre normal | Y6: Riche en fiobre viande mixée | Z6: Riche en fibre mixé complet | AA6: Diabétique sans sel normal | AB6: Diabétique sans sel viande mixée | AC6: Diabétique sans sel mixé complet | AD6: sans porc normal | AE6: sans porc viande mixée | AF6: sans porc mixé complet | AG6: sans poisson normal | AH6: sans poisson viande mixée | AI6: sans poisson mixé complet | AJ6: Lacté froid | AK6: sans résidu | AL6: Soupe + 2 desserts
A7: 201 | B7: ROYER Mireille | C7: 1 | AP7: 1 | BB7: 1
A8: 202 | B8: SALACH Boleslaw | D8: 1 | AP8: 1 | BB8: 1
A9: 203 | B9: POISSONNIER Monique | D9: 1 | AV9: 1 | BH9: 1
A10: 204 | B10: RONDEAUX Camille | D10: 1 | AP10: 1 | BB10: 1
A11: 205 | AP11: 1 | BB11: 1
A12: 206 | AP12: 1 | BB12: 1
A13: 207 | AV13: 1 | BH13: 1
A14: 208 | B14: BONHOMME Geneviève
A15: 209 | B15: COPIN Monique | E15: 1 | AV15: 1 | BH15: 1
A16: 210 | B16: VIEL CAZAL René | F16: 1 | AV16: 1 | BB16: 1
A17: 211 | B17: FLEURIOT Gilbert | F17: 1 | AV17: 1 | BB17: 1
A18: 212 | B18: POSTAT Josette | C18: 1 | AP18: 1 | BH18: 1
A19: 213 | C19: 1 | AP19: 1 | BH19: 1
A20: 214
A21: 215 | AG21: 1 | AP21: 1 | BB21: 1
A22: 216 | L22: 1 | AV22: 1 | BH22: 1
A23: 217 | B23: SALVAT Geneviève | L23: 1 | AV23: 1 | BH23: 1
A24: 218 | E24: 1 | AP24: 1 | BB24: 1
A25: 219 | B25: DESSAUX André | X25: 1 | AV25: 1 | BH25: 1
A26: 220 | D26: 1 | AP26: 1 | BB26: 1
A27: 221 | B27: LAURAIN Christiane | K27: 1 | AP27: 1 | BH27: 1
A28: 222 | B28: PINCHARD Gilbert | C28: 1 | AP28: 1 | BB28: 1
A29: 223 | O29: 1 | AV29: 1 | BB29: 1
A30: 224 | O30: 1 | AV30: 1 | BB30: 1
A31: 225
A32: 226 | C32: 1 | AV32: 1 | BB32: 1
A33: 227
A34: 228
A35: 229
A36: 230
A37: 231
A38: 232
A39: 233 | B39: GERGOINE Jean-Claude
A59: TOTAL | C59: =SUM(C7:C58) -> 5 | D59: =SUM(D7:D58) -> 4 | E59: =SUM(E7:E58) -> 2 | F59: =SUM(F7:F58) -> 2 | G59: =SUM(G7:G58) -> 0 | H59: =SUM(H7:H58) -> 0 | I59: =SUM(I7:I58) -> 0 | J59: =SUM(J7:J58) -> 0 | ... AO59: =SUM(AO7:AO58) -> 0 | AP59: =SUM(AP7:AU58) -> 12 | AV59: =SUM(AV7:BA58) -> 11 | BB59: =SUM(BB7:BG58) -> 14 | BH59: =SUM(BH7:BM58) -> 9

Sheet Destination_Cuisines
AU2: MIDI | AW2: SOIR
A3: Mode Opératoire | B3: Normal | C3: Normal Viande Mixé | D3: Normal mixé complet | E3: Diabétique normal | F3: Diabétique viande mixée | G3: Diabétique mixé complet | H3: Sans sel normal | I3: Sans sel viande mixée | J3: Sans sel mixée complet | K3: AVK normal | L3: AVK viande mixée | M3: AVK mixé complet | N3: Hypocalorique normal | O3: Hypocalorique viande mixée | P3: Hypocalorique mixé complet | Q3: Hypercalorique normal | R3: Hypercalorique viande mixée | S3: Hypercalorique mixé complet | T3: Hyperprotéiné normal | U3: Hyperprotéiné viande mixée | V3: Normal mixé complet | W3: Riche en fibre normal | X3: Riche en fibre viande mixée | Y3: Riche en fibre mixé complet | Z3: Diabétique sans sel normal | AA3: Diabétique sans sel viande mixée | AB3: Diabétique sans sel mixé complet | AC3: Sans porc normal | AD3: Sans porc viande mixée | AE3: Sans porc mixé complet | AF3: Sans poisson normal | AG3: Sans poisson viande mixée | AH3: Sans poisson mixé complet | AI3: Lactée froid | AJ3: Sans résidu | AK3: Soupe + 2 desserts | AL3: ='Secteur Vert'!AM6 -> 0 | AM3: ='Secteur Vert'!AN6 -> 0 | AN3: ='Secteur Vert'!AO6 -> 0 | AO3: ='Secteur Jaune'!AM6 -> 0 | AP3: ='Secteur Jaune'!AN6 -> 0 | AQ3: ='Secteur Jaune'!AO6 -> 0 | AR3: ='Secteur Rouge'!AM6 -> 0 | AS3: ='Secteur Rouge'!AN6 -> 0 | AT3: ='Secteur Rouge'!AO6 -> 0 | AU3: En chambre | AV3: En restauration | AW3: En chambre | AX3: En Restauration
A5: Secteur Vert | B5: ='Secteur Vert'!C59 -> 24 | C5: ='Secteur Vert'!D59 -> 5 | D5: ='Secteur Vert'!E59 -> 0 | E5: ='Secteur Vert'!F59 -> 4 | F5: ='Secteur Vert'!G59 -> 0 | G5: ='Secteur Vert'!H59 -> 0 | H5: ='Secteur Vert'!I59 -> 0 | I5: ='Secteur Vert'!J59 -> 0 | ... AL5: ='Secteur Vert'!AM59 -> 0 | AM5: =AN5 -> 0 | AN5: ='Secteur Vert'!AO59 -> 0 | AU5: ='Secteur Vert'!AP59 -> 22 | AV5: ='Secteur Vert'!AV59 -> 20 | AW5: ='Secteur Vert'!BB59 -> 23 | AX5: ='Secteur Vert'!BH59 -> 19
A7: Secteur Jaune | B7: ='Secteur Jaune'!C59 -> 15 | C7: ='Secteur Jaune'!D59 -> 7 | D7: ='Secteur Jaune'!E59 -> 2 | E7: ='Secteur Jaune'!F59 -> 2 | F7: ='Secteur Jaune'!G59 -> 0 | G7: ='Secteur Jaune'!H59 -> 1 | H7: ='Secteur Jaune'!I59 -> 0 | I7: ='Secteur Jaune'!J59 -> 1 | ... AK7: ='Secteur Jaune'!AL59 -> 0 | AO7: ='Secteur Jaune'!AM59 -> 0 | AP7: ='Secteur Jaune'!AN59 -> 0 | AQ7: ='Secteur Jaune'!AO59 -> 0 | AU7: ='Secteur Jaune'!AP59 -> 16 | AV7: ='Secteur Jaune'!AV59 -> 22 | AW7: ='Secteur Jaune'!BB59 -> 21 | AX7: ='Secteur Jaune'!BH59 -> 17
A9: Secteur Rouge | B9: ='Secteur Rouge'!C59 -> 6 | C9: ='Secteur Rouge'!D59 -> 4 | D9: ='Secteur Rouge'!E59 -> 2 | E9: ='Secteur Rouge'!F59 -> 3 | F9: ='Secteur Rouge'!G59 -> 0 | G9: ='Secteur Rouge'!H59 -> 0 | H9: ='Secteur Rouge'!I59 -> 0 | I9: ='Secteur Rouge'!J59 -> 0 | ... AK9: ='Secteur Rouge'!AL59 -> 0 | AR9: ='Secteur Rouge'!AM59 -> 0 | AS9: ='Secteur Rouge'!AN59 -> 0 | AT9: ='Secteur Rouge'!AO59 -> 0 | AU9: ='Secteur Rouge'!AP59 -> 12 | AV9: ='Secteur Rouge'!AV59 -> 11 | AW9: ='Secteur Rouge'!BB59 -> 14 | AX9: ='Secteur Rouge'!BH59 -> 9
A11: Totaux | B11: =SUM(B9,B7,B5) -> 45 | C11: =SUM(C9,C7,C5) -> 16 | D11: =SUM(D9,D7,D5) -> 4 | E11: =SUM(E9,E7,E5) -> 9 | F11: =SUM(F9,F7,F5) -> 0 | G11: =SUM(G9,G7,G5) -> 1 | H11: =SUM(H9,H7,H5) -> 0 | I11: =SUM(I9,I7,I5) -> 1 | ... AX11: =SUM(AX9,AX7,AX5) -> 45
