Workbook

Sheet Database
A1: SKU
A2: SKU101193
A3: SKU101194
A4: SKU101195
A5: SKU101196
A6: SKU101197
A7: SKU101198
A8: SKU101199
A9: SKU101200
A10: SKU101201
A11: SKU101202
A12: SKU101203
... A97: SKU101288

Sheet Sale
A1: CustomLabel
A2: =CONCATENATE("TMPL_",$A$3) -> TMPL_SKU101193 | B2: =IF(LEN(A2)>10,1,0) -> 1
A3: =Database!A2 -> SKU101193 | B3: =IF(LEN(A3)>10,1,0) -> 0
A4: =Database!A3 -> SKU101194 | B4: =IF(LEN(A4)>10,1,0) -> 0
A5: =Database!A4 -> SKU101195 | B5: =IF(LEN(A5)>10,1,0) -> 0
A6: =Database!A5 -> SKU101196 | B6: =IF(LEN(A6)>10,1,0) -> 0
A7: =Database!A6 -> SKU101197 | B7: =IF(LEN(A7)>10,1,0) -> 0
A8: =Database!A7 -> SKU101198 | B8: =IF(LEN(A8)>10,1,0) -> 0
A9: =IF(B2=1,CONCATENATE("TMPL_",INDIRECT("'Database'!A"&(ROW()-SUM($B$2:B8)))),INDIRECT("'Database'!A"&(ROW()-SUM($B$2:B8)))) -> TMPL_SKU101199 | B9: =IF(LEN(A9)>10,1,0) -> 1
A10: =IF(B3=1,CONCATENATE("TMPL_",INDIRECT("'Database'!A"&(ROW()-SUM($B$2:B9)))),INDIRECT("'Database'!A"&(ROW()-SUM($B$2:B9)))) -> SKU101199 | B10: =IF(LEN(A10)>10,1,0) -> 0
A11: =IF(B4=1,CONCATENATE("TMPL_",INDIRECT("'Database'!A"&(ROW()-SUM($B$2:B10)))),INDIRECT("'Database'!A"&(ROW()-SUM($B$2:B10)))) -> SKU101200 | B11: =IF(LEN(A11)>10,1,0) -> 0
A12: =IF(B5=1,CONCATENATE("TMPL_",INDIRECT("'Database'!A"&(ROW()-SUM($B$2:B11)))),INDIRECT("'Database'!A"&(ROW()-SUM($B$2:B11)))) -> SKU101201 | B12: =IF(LEN(A12)>10,1,0) -> 0
A13: =IF(B6=1,CONCATENATE("TMPL_",INDIRECT("'Database'!A"&(ROW()-SUM($B$2:B12)))),INDIRECT("'Database'!A"&(ROW()-SUM($B$2:B12)))) -> SKU101202 | B13: =IF(LEN(A13)>10,1,0) -> 0
A14: =IF(B7=1,CONCATENATE("TMPL_",INDIRECT("'Database'!A"&(ROW()-SUM($B$2:B13)))),INDIRECT("'Database'!A"&(ROW()-SUM($B$2:B13)))) -> SKU101203 | B14: =IF(LEN(A14)>10,1,0) -> 0
A15: =IF(B8=1,CONCATENATE("TMPL_",INDIRECT("'Database'!A"&(ROW()-SUM($B$2:B14)))),INDIRECT("'Database'!A"&(ROW()-SUM($B$2:B14)))) -> SKU101204 | B15: =IF(LEN(A15)>10,1,0) -> 0
A16: =IF(B9=1,CONCATENATE("TMPL_",INDIRECT("'Database'!A"&(ROW()-SUM($B$2:B15)))),INDIRECT("'Database'!A"&(ROW()-SUM($B$2:B15)))) -> TMPL_SKU101205 | B16: =IF(LEN(A16)>10,1,0) -> 1
A17: =IF(B10=1,CONCATENATE("TMPL_",INDIRECT("'Database'!A"&(ROW()-SUM($B$2:B16)))),INDIRECT("'Database'!A"&(ROW()-SUM($B$2:B16)))) -> SKU101205 | B17: =IF(LEN(A17)>10,1,0) -> 0
A18: =IF(B11=1,CONCATENATE("TMPL_",INDIRECT("'Database'!A"&(ROW()-SUM($B$2:B17)))),INDIRECT("'Database'!A"&(ROW()-SUM($B$2:B17)))) -> SKU101206 | B18: =IF(LEN(A18)>10,1,0) -> 0
A19: =IF(B12=1,CONCATENATE("TMPL_",INDIRECT("'Database'!A"&(ROW()-SUM($B$2:B18)))),INDIRECT("'Database'!A"&(ROW()-SUM($B$2:B18)))) -> SKU101207 | B19: =IF(LEN(A19)>10,1,0) -> 0
A20: =IF(B13=1,CONCATENATE("TMPL_",INDIRECT("'Database'!A"&(ROW()-SUM($B$2:B19)))),INDIRECT("'Database'!A"&(ROW()-SUM($B$2:B19)))) -> SKU101208 | B20: =IF(LEN(A20)>10,1,0) -> 0
... A46: =IF(B39=1,CONCATENATE("TMPL_",INDIRECT("'Database'!A"&(ROW()-SUM($B$2:B45)))),INDIRECT("'Database'!A"&(ROW()-SUM($B$2:B45)))) -> SKU101230 | B46: =IF(LEN(A46)>10,1,0) -> 0
