Workbook

Sheet Feuil1
A3: 1 bla bla | B3: 2 bla bla | C3: 3 blabla | D3: 4 Commune | E3: 4 territoire | F3: 5truc machin etc…
D4: Ville3 | E4: =VLOOKUP(D4,Feuil2!A:B,2) -> Territoire1
D5: Ville5 | E5: =VLOOKUP(D5,Feuil2!A:B,2) -> Territoire4
D6: Ville2 | E6: =VLOOKUP(D6,Feuil2!A:B,2) -> Territoire4
D7: Ville3 | E7: =VLOOKUP(D7,Feuil2!A:B,2) -> Territoire1
D8: Ville3 | E8: =VLOOKUP(D8,Feuil2!A:B,2) -> Territoire1
D9: Ville5 | E9: =VLOOKUP(D9,Feuil2!A:B,2) -> Territoire4
D10: Ville2 | E10: =VLOOKUP(D10,Feuil2!A:B,2) -> Territoire4
D11: Ville3 | E11: =VLOOKUP(D11,Feuil2!A:B,2) -> Territoire1
D12: Ville3 | E12: =VLOOKUP(D12,Feuil2!A:B,2) -> Territoire1
D13: Ville5 | E13: =VLOOKUP(D13,Feuil2!A:B,2) -> Territoire4
D14: Ville2 | E14: =VLOOKUP(D14,Feuil2!A:B,2) -> Territoire4
D15: Ville3 | E15: =VLOOKUP(D15,Feuil2!A:B,2) -> Territoire1
... D85: Ville5 | E85: =VLOOKUP(D85,Feuil2!A:B,2) -> Territoire4

Sheet Feuil2
A1: Commune: | B1: Territoire
A2: Ville1 | B2: Territoire1
A3: Ville2 | B3: Territoire4
A4: Ville3 | B4: Territoire1
A5: Ville4 | B5: Territoire3
A6: Ville5 | B6: Territoire4
A7: Ville6 | B7: Territoire1
A8: Ville7 | B8: Territoire2
A9: Ville8 | B9: Territoire1
A10: Ville9 | B10: Territoire2
A11: Ville10 | B11: Territoire3
A12: Ville11 | B12: Territoire3
A13: Ville12 | B13: Territoire2
