Workbook
Name Aliment: Alimentaire!$C:$C
Name type: Alimentaire!$C$5:$C$123

Sheet Repas
A1: Repas
I5: Choisir | J5: Lipide | K5: Glucide | L5: Protéine | M5: Calorie
G6: Choix aliment | H6: Aliment 1 | I6: Choisir | J6: =VLOOKUP($I$6,Alimentaire!C6:H128,3,0) -> 0 | K6: =VLOOKUP($I$6,Alimentaire!C6:H128,4,0) -> 0 | L6: =VLOOKUP($I$6,Alimentaire!C6:H128,5,0) -> 0 | M6: =VLOOKUP($I$6,Alimentaire!C6:H128,6,0) -> 0
H7: Aliment 2 | I7: Choisir | J7: =VLOOKUP($I$7,Alimentaire!C6:H128,3,0) -> 0 | K7: =VLOOKUP($I$7,Alimentaire!C6:H128,4,0) -> 0 | L7: =VLOOKUP($I$7,Alimentaire!C6:H128,5,0) -> 0 | M7: =VLOOKUP($I$7,Alimentaire!C6:H128,6,0) -> 0
H8: Aliment 3 | I8: Choisir | J8: =VLOOKUP($I$8,Alimentaire!C6:H128,3,0) -> 0 | K8: =VLOOKUP($I$8,Alimentaire!C6:H128,4,0) -> 0 | L8: =VLOOKUP($I$8,Alimentaire!C6:H128,5,0) -> 0 | M8: =VLOOKUP($I$8,Alimentaire!C6:H128,6,0) -> 0
H9: Aliment 4 | I9: Choisir | J9: =VLOOKUP($I$9,Alimentaire!C6:H128,3,0) -> 0 | K9: =VLOOKUP($I$9,Alimentaire!C6:H128,4,0) -> 0 | L9: =VLOOKUP($I$9,Alimentaire!C6:H128,5,0) -> 0 | M9: =VLOOKUP($I$9,Alimentaire!C6:H128,6,0) -> 0
H10: Aliment 5 | I10: Choisir | J10: =VLOOKUP($I$10,Alimentaire!C6:H128,3,0) -> 0 | K10: =VLOOKUP($I$10,Alimentaire!C6:H128,4,0) -> 0 | L10: =VLOOKUP($I$10,Alimentaire!C6:H128,5,0) -> 0 | M10: =VLOOKUP($I$10,Alimentaire!C6:H128,6,0) -> 0
H11: Aliment 6 | I11: Choisir | J11: =VLOOKUP($I$11,Alimentaire!C6:H128,3,0) -> 0 | K11: =VLOOKUP($I$11,Alimentaire!C6:H128,4,0) -> 0 | L11: =VLOOKUP($I$11,Alimentaire!C6:H128,5,0) -> 0 | M11: =VLOOKUP($I$11,Alimentaire!C6:H128,6,0) -> 0
H12: Aliment 7 | I12: Choisir | J12: =VLOOKUP($I$11,Alimentaire!C6:H128,3,0) -> 0 | K12: =VLOOKUP($I$12,Alimentaire!C6:H128,4,0) -> 0 | L12: =VLOOKUP($I$12,Alimentaire!C6:H128,5,0) -> 0 | M12: =VLOOKUP($I$12,Alimentaire!C6:H128,6,0) -> 0
H13: Aliment 8 | I13: Choisir | J13: =VLOOKUP($I$11,Alimentaire!C6:H128,3,0) -> 0 | K13: =VLOOKUP($I$13,Alimentaire!C6:H128,4,0) -> 0 | L13: =VLOOKUP($I$13,Alimentaire!C6:H128,5,0) -> 0 | M13: =VLOOKUP($I$13,Alimentaire!C6:H128,6,0) -> 0
H14: Aliment 9 | I14: Choisir | J14: =VLOOKUP($I$11,Alimentaire!C6:H128,3,0) -> 0 | K14: =VLOOKUP($I$14,Alimentaire!C6:H128,4,0) -> 0 | L14: =VLOOKUP($I$14,Alimentaire!C6:H128,5,0) -> 0 | M14: =VLOOKUP($I$14,Alimentaire!C6:H128,6,0) -> 0
H15: Aliment 10 | I15: Choisir | J15: =VLOOKUP($I$11,Alimentaire!C6:H128,3,0) -> 0 | K15: =VLOOKUP($I$15,Alimentaire!C6:H128,4,0) -> 0 | L15: =VLOOKUP($I$15,Alimentaire!C6:H128,5,0) -> 0 | M15: =VLOOKUP($I$15,Alimentaire!C6:H128,6,0) -> 0
H16: Aliment 11 | I16: Choisir | J16: =VLOOKUP($I$16,Alimentaire!C6:H128,3,0) -> 0 | K16: =VLOOKUP($I$16,Alimentaire!C6:H128,4,0) -> 0 | L16: =VLOOKUP($I$16,Alimentaire!C6:H128,5,0) -> 0 | M16: =VLOOKUP($I$16,Alimentaire!C6:H128,6,0) -> 0
H17: Aliment 12 | I17: Choisir | J17: =VLOOKUP($I$17,Alimentaire!C6:H128,3,0) -> 0 | K17: =VLOOKUP($I$17,Alimentaire!C6:H128,4,0) -> 0 | L17: =VLOOKUP($I$17,Alimentaire!C6:H128,5,0) -> 0 | M17: =VLOOKUP($I$17,Alimentaire!C6:H128,6,0) -> 0
H18: Aliment 13 | I18: Choisir | J18: =VLOOKUP($I$18,Alimentaire!C6:H128,3,0) -> 0 | K18: =VLOOKUP($I$18,Alimentaire!C6:H128,4,0) -> 0 | L18: =VLOOKUP($I$18,Alimentaire!C6:H128,5,0) -> 0 | M18: =VLOOKUP($I$18,Alimentaire!C6:H128,6,0) -> 0
H19: Aliment 14 | I19: Choisir | J19: =VLOOKUP($I$19,Alimentaire!C6:H128,3,0) -> 0 | K19: =VLOOKUP($I$19,Alimentaire!C6:H128,4,0) -> 0 | L19: =VLOOKUP($I$19,Alimentaire!C6:H128,5,0) -> 0 | M19: =VLOOKUP($I$19,Alimentaire!C6:H128,6,0) -> 0
H20: Aliment 15 | I20: Choisir | J20: =VLOOKUP($I$20,Alimentaire!C6:H128,3,0) -> 0 | K20: =VLOOKUP($I$20,Alimentaire!C6:H128,4,0) -> 0 | L20: =VLOOKUP($I$20,Alimentaire!C6:H128,5,0) -> 0 | M20: =VLOOKUP($I$20,Alimentaire!C6:H128,6,0) -> 0
I22: Quantité | J22: Lipide | K22: Glucide | L22: Protéine | M22: Calorie

Sheet Alimentaire
A1: Alimentaire
A5: Famille | B5: Catégorie | C5: Aliment | D5: Portion | E5: Lipide | F5: Glucide | G5: Protéine | H5: Calories
A6: X | B6: X | C6: Choisir | D6: 0 | E6: 0 | F6: 0 | G6: 0 | H6: 0
A7: Viande | B7: Volaille | C7: Pilon de poulet | D7: 100 g | E7: 10.6 | F7: 0 | G7: 25.3 | H7: 204
A8: Viande | B8: Volaille | C8: Filet de poulet | D8: 100 g | E8: 18.1 | F8: 16.2 | G8: 17.6 | H8: 299
A9: Viande | B9: Volaille | C9: Cuisse de poulet | D9: 100 g | E9: 12.9 | F9: 0 | G9: 24.2 | H9: 221
A10: Viande | B10: Volaille | C10: Aile de poulet | D10: 100 g | E10: 16.8 | F10: 0 | G10: 22.8 | H10: 250
A11: Viande | B11: Volaille | C11: Haut de cuisse de poulet | D11: 100g | E11: 14.7 | F11: 0 | G11: 23.3 | H11: 232
A12: Viande | B12: Volaille | C12: Cuisse de dinde | D12: 100 g | E12: 9.8 | F12: 0.1 | G12: 27.9 | H12: 208
