Workbook
Name sites: #REF!

Sheet Cde Réassort
A1: Rapport commande / stock
A2: Sélectionner un site
A3: Azu'Rivage
A6: ='Stocks Réel'!A6 -> COBAL | F6: Stock site | G6: Stock dept | H6: Stock Région
A7: ='Stocks Réel'!A7 -> ABATTANT WC DECLIPSABLE FREIN DE CHUTE
A8: ='Stocks Réel'!A8 -> ADAPTATEUR FICHE EUROPÉENNE A ANGLAISE
A9: ='Stocks Réel'!A9 -> ALLUME GAZ
A10: ='Stocks Réel'!A10 -> ANNEAU DE DOUCHE LOT DE 12 BLANC
A11: ='Stocks Réel'!A11 -> ASPIRATEUR SANS SAC VC700B
A12: ='Stocks Réel'!A12 -> ASSIETTE DESSERT 19 CM EVORA IVOIRE
A13: ='Stocks Réel'!A13 -> ASSIETTE PLATE 26 CM EVORA IVOIRE
A14: ='Stocks Réel'!A14 -> BAC À GLAÇONS
A15: ='Stocks Réel'!A15 -> BACHE IMPERMEABLE POUR PLANCHA
A16: ='Stocks Réel'!A16 -> BAIGNOIRE BÉBÉ
A17: ='Stocks Réel'!A17 -> BAIN DE SOLEIL ZANZIBAR BLANC
A18: ='Stocks Réel'!A18 -> BAIN DE SOLEIL ZANZIBAR VERT
... A322: ='Stocks Réel'!A322 -> 0

Sheet Stocks Réel
B2: ABRI DE CAMARGUE | C2: Acapulco | D2: Airotel oleron | E2: Almyre loisirs | F2: Amiaux | G2: Azu'Rivage | H2: AVIGNON | I2: BAUME | J2: BEACH GARDEN | K2: Biches | L2: BOIS DE VALMARIE | M2: Bois soleil | N2: California | O2: CAMPING DU GOLF | P2: Carbonnier | Q2: Chant des oiseaux | R2: Charmilles | S2: CHÂTEAU DE BOISSON | T2: CHATEAU DE BOISSON | U2: Chenes verts dordogne | V2: CLARYS | W2: CHATEAU EOUVIERE | X2: COLOMBIER | Y2: COSTE ROUGE | Z2: Côte d'Argent | AA2: CRIN BLANC | AB2: CROIX DU SUD | AC2: CROS D'AUZON | AD2: Domaine de la Marina (Messanges) | AE2: Domaine de la Rive | AF2: DOMAINE OLERON | AG2: DOMAINE DE LA YOLE | AH2: ESTEREL CAMPING | AI2: ETOILE DE MER | AJ2: FONTAINES (CANET EN ROUSSILLON) | AK2: FREJUS | AL2: FRONT DE MER | AM2: GRAND TERRE | AN2: Jard | AO2: LA YOLE | AP2: HOLIDAY MARINA | AQ2: LE CHENE VERT (Montmirail) | AR2: LAC BLEU | AS2: MAÏRE | AT2: Lou Broustaricq | AU2: Lou Pignada (Messanges) | AV2: Lou Pignada (Ondres) | AW2: MAR ESTANG | AX2: MAR I SOL | AY2: MAS DES LAVANDES | AZ2: NOUVELLE FLORIDE | BA2: NOUZAREDE | BB2: OASIS | BC2: PECHEURS | BD2: OCEANO DOR | BE2: Oyam | BF2: Oyats | BG2: Paille basse | BH2: Palace | BI2: palmyre loisirs | BJ2: PARK PLAYA BARA | BK2: PETIT BOIS (RUOMS) | BL2: Pipiou | BM2: RANCHISSE | BN2: RIBEYRE | BO2: ROUSSILLON | BP2: ROUSSILLONNAIS | BQ2: Ruisseau des Pyrénées | BR2: Sen Yan | BS2: SIRÈNE | BT2: SOLEIL | BU2: TORRE DEL SOL | BV2: TERRASSE DU LAC | BW2: Vieux Port | BX2: VAL DE CANTOBRE | BY2: Zagarella
A3: Département | B3: 30 | G3: 40 | M3: 34 | Z3: 33 | AD3: 40 | AE3: 40 | AK3: 84 | AT3: 40 | AU3: 40 | AV3: 40 | BE3: 40 | BF3: 40 | BH3: 33 | BL3: 40 | BQ3: 64 | BR3: 40 | BW3: 40
A4: Région | B4: Occitanie | G4: Nouvelle-Aquitaine | M4: Occitanie | Z4: Nouvelle-Aquitaine | AD4: Nouvelle-Aquitaine | AE4: Nouvelle-Aquitaine | AK4: PACA | AT4: Nouvelle-Aquitaine | AU4: Nouvelle-Aquitaine | AV4: Nouvelle-Aquitaine | BE4: Nouvelle-Aquitaine | BF4: Nouvelle Aquitaine | BH4: Nouvelle-Aquitaine | BJ4: Nouvelle-Aquitaine | BL4: Nouvelle-Aquitaine | BQ4: Nouvelle-Aquitaine | BR4: Nouvelle-Aquitaine | BW4: Nouvelle-Aquitaine
A6: COBAL
A7: ABATTANT WC DECLIPSABLE FREIN DE CHUTE | G7: 40
A8: ADAPTATEUR FICHE EUROPÉENNE A ANGLAISE
A9: ALLUME GAZ
A10: ANNEAU DE DOUCHE LOT DE 12 BLANC
A11: ASPIRATEUR SANS SAC VC700B
A12: ASSIETTE DESSERT 19 CM EVORA IVOIRE
A13: ASSIETTE PLATE 26 CM EVORA IVOIRE
A14: BAC À GLAÇONS
A15: BACHE IMPERMEABLE POUR PLANCHA
A16: BAIGNOIRE BÉBÉ
A17: BAIN DE SOLEIL ZANZIBAR BLANC
A18: BAIN DE SOLEIL ZANZIBAR VERT
A19: BOITE VERRE CARRÉE 2L 20CM
... A318: MATELAS 28KG 160*200 EP. 15CM

Sheet Cumul
A1: Cumul stock par zone
A4: ='Stocks Réel'!A6 -> COBAL
A5: ='Stocks Réel'!A7 -> ABATTANT WC DECLIPSABLE FREIN DE CHUTE
A6: ='Stocks Réel'!A8 -> ADAPTATEUR FICHE EUROPÉENNE A ANGLAISE
A7: ='Stocks Réel'!A9 -> ALLUME GAZ
A8: ='Stocks Réel'!A10 -> ANNEAU DE DOUCHE LOT DE 12 BLANC
A9: ='Stocks Réel'!A11 -> ASPIRATEUR SANS SAC VC700B
A10: ='Stocks Réel'!A12 -> ASSIETTE DESSERT 19 CM EVORA IVOIRE
A11: ='Stocks Réel'!A13 -> ASSIETTE PLATE 26 CM EVORA IVOIRE
A12: ='Stocks Réel'!A14 -> BAC À GLAÇONS
A13: ='Stocks Réel'!A15 -> BACHE IMPERMEABLE POUR PLANCHA
A14: ='Stocks Réel'!A16 -> BAIGNOIRE BÉBÉ
A15: ='Stocks Réel'!A17 -> BAIN DE SOLEIL ZANZIBAR BLANC
... A320: ='Stocks Réel'!A322 -> 0
