Workbook

Sheet semaine
A1: ma base de données | D1: tot cvts | E1: =SUM(E4:E195) -> 38
A3: jour | B3: a/b | C3: Accompagnateur | D3: Heure | E3: cvt | F3: Observations | G3: euros | I3: valeurs concatenées | J3: tableau de rechecrhe | L3: TABLEAU DE RECHERCHE EN FCT DU JOUR ET HEURE
A4: 43801 | B4: a | C4: dupont | D4: 12h00 | E4: 2 | F4: petit pieds | G4: 100 | I4: =CONCATENATE(D4,TEXT(A4,"nnnn")) -> 12h00lundi | J4: =I4&"_"&COUNTIF($I$4:I4,I4) -> 12h00lundi _1
A5: 43801 | B5: a | C5: marcel | D5: 12h00 | E5: 2 | F5: gros pif | G5: 10 | I5: =CONCATENATE(D5,TEXT(A5,"nnnn")) -> 12h00lundi | J5: =I5&"_"&COUNTIF($I$4:I5,I5) -> 12h00lundi _2 | L5: jour | M5: lundi
A6: 43801 | B6: b | C6: amandine | D6: 0 | E6: 0 | F6: blond | G6: 40 | I6: =CONCATENATE(D6,TEXT(A6,"nnnn")) -> 0lundi | J6: =I6&"_"&COUNTIF($I$4:I6,I6) -> 0lundi _1
A7: 43802 | B7: b | C7: francine | D7: 12h00 | E7: 12 | F7: roule en 2cv | G7: 20 | I7: =CONCATENATE(D7,TEXT(A7,"nnnn")) -> 12h00mardi | J7: =I7&"_"&COUNTIF($I$4:I7,I7) -> 12h00mardi _1 | L7: heure | M7: 12H00
A8: 43802 | C8: papoute | D8: 12h30 | E8: 0 | F8: oublie ses clefs | G8: 50 | I8: =CONCATENATE(D8,TEXT(A8,"nnnn")) -> 12h30mardi | J8: =I8&"_"&COUNTIF($I$4:I8,I8) -> 12h30mardi _1 | L8: recherche donc | N8: =TEXT(M7,"hh:mm")&TEXT(M5,"nnnn") -> 12H00lundi
A9: 43802 | B9: a | C9: pirouette | D9: 12h30 | E9: 11 | F9: a peur du noir | G9: 70 | I9: =CONCATENATE(D9,TEXT(A9,"nnnn")) -> 12h30mardi | J9: =I9&"_"&COUNTIF($I$4:I9,I9) -> 12h30mardi _2
A10: 43803 | B10: b | C10: chouchou | D10: 12h30 | E10: 0 | F10: vole au dessus d'un nid de coucou | G10: 30 | I10: =CONCATENATE(D10,TEXT(A10,"nnnn")) -> 12h30mercredi | J10: =I10&"_"&COUNTIF($I$4:I10,I10) -> 12h30mercredi _1 | L10: a ou b | M10: Accompagnateurs | N10: ="nb cvts"&"("&SUM($N$11:$N$20)&")" -> nb cvts(4) | R10: =COUNTIF(I4:I13,I4) -> 2 | S10: compte le nb d'occurence égale à la valeur en H4
A11: 43803 | C11: papoute | D11: 12h30 | E11: 0 | F11: oublie ses clefs | G11: 45 | I11: =CONCATENATE(D11,TEXT(A11,"nnnn")) -> 12h30mercredi | J11: =I11&"_"&COUNTIF($I$4:I11,I11) -> 12h30mercredi _2 | K11: 1 | L11: =IF(ROWS($L$11:L11)<=$R$10,INDEX(bdd,MATCH($I$4&"_"&$K11,tdr,0),1),"") -> 0 | M11: =IF(ROWS($M$11:M11)<=$R$10,INDEX(bdd,MATCH($I$4&"_"&$K11,tdr,0),2),"") -> 0 | N11: =IF(ROWS($N$11:N11)<=$R$10,INDEX(bdd,MATCH($I$4&"_"&$K11,tdr,0),4),"") -> 2 | R11: =ROWS($L$11:L11) -> 1
A12: 43804 | B12: a | C12: pirouette | D12: 12h30 | E12: 11 | F12: a peur du noir | G12: 87 | I12: =CONCATENATE(D12,TEXT(A12,"nnnn")) -> 12h30jeudi | J12: =I12&"_"&COUNTIF($I$4:I12,I12) -> 12h30jeudi _1 | K12: =K11+1 -> 2 | L12: =IF(ROWS($L$11:L12)<=$R$10,INDEX(bdd,MATCH($I$4&"_"&$K12,tdr,0),1),"") -> 0 | M12: =IF(ROWS($M$11:M12)<=$R$10,INDEX(bdd,MATCH($I$4&"_"&$K12,tdr,0),2),"") -> 0 | N12: =IF(ROWS($N$11:N12)<=$R$10,INDEX(bdd,MATCH($I$4&"_"&$K12,tdr,0),4),"") -> 2 | R12: =ROWS($L$11:L12) -> 2
A13: 43804 | B13: b | C13: chouchou | D13: 12h30 | E13: 0 | F13: vole au dessus d'un nid de coucou | G13: 45 | I13: =CONCATENATE(D13,TEXT(A13,"nnnn")) -> 12h30jeudi | J13: =I13&"_"&COUNTIF($I$4:I13,I13) -> 12h30jeudi _2 | K13: =K12+1 -> 3 | L13: =IF(ROWS($L$11:L13)<=$R$10,INDEX(bdd,MATCH($I$4&"_"&$K13,tdr,0),1),"") -> 0 | M13: =IF(ROWS($M$11:M13)<=$R$10,INDEX(bdd,MATCH($I$4&"_"&$K13,tdr,0),2),"") -> 0 | N13: =IF(ROWS($N$11:N13)<=$R$10,INDEX(bdd,MATCH($I$4&"_"&$K13,tdr,0),4),"") -> 0 | R13: =ROWS($L$11:L13) -> 3
C14: Problème | K14: =K13+1 -> 4 | L14: =IF(ROWS($L$11:L14)<=$R$10,INDEX(bdd,MATCH($I$4&"_"&$K14,tdr,0),1),"") -> 0 | M14: =IF(ROWS($M$11:M14)<=$R$10,INDEX(bdd,MATCH($I$4&"_"&$K14,tdr,0),2),"") -> 0 | N14: =IF(ROWS($N$11:N14)<=$R$10,INDEX(bdd,MATCH($I$4&"_"&$K14,tdr,0),4),"") -> 0 | R14: =ROWS($L$11:L14) -> 4
C15: Problème 1 : le but est que lorsqu'on précise un jour et une heure, dans le tableau recherche nb couverts heure, la liste relative à cette recherche s'affiche. Donc, en n8, il y a la concatenation de m7 et m5. Sauf qu'avec n8 ma formule en L11 ne fonctionne pas. En utilisant par exemple i3, si je veux lundi et 12h00, la formule en L11 fonctionne. CE QUE JE VEUX : que dans mes formules de L11 à N20, soit utilisé n8 . | K15: =K14+1 -> 5 | L15: =IF(ROWS($L$11:L15)<=$R$10,INDEX(bdd,MATCH($I$4&"_"&$K15,tdr,0),1),"") -> 0 | M15: =IF(ROWS($M$11:M15)<=$R$10,INDEX(bdd,MATCH($I$4&"_"&$K15,tdr,0),2),"") -> 0 | N15: =IF(ROWS($N$11:N15)<=$R$10,INDEX(bdd,MATCH($I$4&"_"&$K15,tdr,0),4),"") -> 0 | R15: =ROWS($L$11:L15) -> 5
K16: =K15+1 -> 6 | L16: =IF(ROWS($L$11:L16)<=$R$10,INDEX(bdd,MATCH($I$4&"_"&$K16,tdr,0),1),"") -> 0 | M16: =IF(ROWS($M$11:M16)<=$R$10,INDEX(bdd,MATCH($I$4&"_"&$K16,tdr,0),2),"") -> 0 | N16: =IF(ROWS($N$11:N16)<=$R$10,INDEX(bdd,MATCH($I$4&"_"&$K16,tdr,0),4),"") -> 0 | R16: =ROWS($L$11:L16) -> 6
K17: =K16+1 -> 7 | L17: =IF(ROWS($L$11:L17)<=$R$10,INDEX(bdd,MATCH($I$4&"_"&$K17,tdr,0),1),"") -> 0 | M17: =IF(ROWS($M$11:M17)<=$R$10,INDEX(bdd,MATCH($I$4&"_"&$K17,tdr,0),2),"") -> 0 | N17: =IF(ROWS($N$11:N17)<=$R$10,INDEX(bdd,MATCH($I$4&"_"&$K17,tdr,0),4),"") -> 0 | R17: =ROWS($L$11:L17) -> 7
C18: Problème 2 (voir feuille lundi) : mon classeur= 6 feuilles : semaine, lundi, mardi, …. , vendredi, où les informations de ma bdd dans semaine sont dispatchées sur les feuilles lundi, mardi etc. Le problème : parfois, lors de l'ouverture du classeur, les feuilles lundi, mardi.... affichent dans les cellules 0, à la place de leurs valeurs (simple renvoi à semaine : par exemple lundi : = semaine.A4 à semaine.A13 . Je ne vois pas d'où vient se problème. | K18: =K17+1 -> 8 | L18: =IF(ROWS($L$11:L18)<=$R$10,INDEX(bdd,MATCH($I$4&"_"&$K18,tdr,0),1),"") -> 0 | M18: =IF(ROWS($M$11:M18)<=$R$10,INDEX(bdd,MATCH($I$4&"_"&$K18,tdr,0),2),"") -> 0 | N18: =IF(ROWS($N$11:N18)<=$R$10,INDEX(bdd,MATCH($I$4&"_"&$K18,tdr,0),4),"") -> 0 | R18: =ROWS($L$11:L18) -> 8
K19: =K18+1 -> 9 | L19: =IF(ROWS($L$11:L19)<=$R$10,INDEX(bdd,MATCH($I$4&"_"&$K19,tdr,0),1),"") -> 0 | M19: =IF(ROWS($M$11:M19)<=$R$10,INDEX(bdd,MATCH($I$4&"_"&$K19,tdr,0),2),"") -> 0 | N19: =IF(ROWS($N$11:N19)<=$R$10,INDEX(bdd,MATCH($I$4&"_"&$K19,tdr,0),4),"") -> 0 | R19: =ROWS($L$11:L19) -> 9
K20: =K19+1 -> 10 | L20: =IF(ROWS($L$11:L20)<=$R$10,INDEX(bdd,MATCH($I$4&"_"&$K20,tdr,0),1),"") -> 0 | M20: =IF(ROWS($M$11:M20)<=$R$10,INDEX(bdd,MATCH($I$4&"_"&$K20,tdr,0),2),"") -> 0 | N20: =IF(ROWS($N$11:N20)<=$R$10,INDEX(bdd,MATCH($I$4&"_"&$K20,tdr,0),4),"") -> 0 | R20: =ROWS($L$11:L20) -> 10
C21: Problème 3 : j'ai crée une mfc à partir d'une formule sur la plage b4:f4. Celle ci fonctionne nickel. J'aimerai en créer une nouvelle, qui serait : si b4=a, alors g4=g4, sinon, g4=0.
C2134: modif le 02/02 15h52

Sheet lundi
C1: Accompagnateur | D1: Heure | E1: 43801 | F1: Observations
A2: =semaine!A4 -> 43801 | B2: =semaine!B4 -> 0 | C2: =semaine!C4 -> 0 | D2: =semaine!D4 -> 0 | E2: =semaine!E4 -> 2 | F2: =semaine!F4 -> 0
A3: =semaine!A5 -> 43801 | B3: =semaine!B5 -> 0 | C3: =semaine!C5 -> 0 | D3: =semaine!D5 -> 0 | E3: =semaine!E5 -> 2 | F3: =semaine!F5 -> 0
A4: =semaine!A6 -> 43801 | B4: =semaine!B6 -> 0 | C4: =semaine!C6 -> 0 | D4: =semaine!D6 -> 0 | E4: =semaine!E6 -> 0 | F4: =semaine!F6 -> 0
A7: Probème 2 : lors de l'ouverture de mon classeur, je vois ça, au lieu de ce qu'il y a au dessus (ie : toute la colonne heure affiche 0)
C8: Accompagnateur | D8: Heure | E8: 43801 | F8: Observations
A9: =semaine!A4 -> 43801 | B9: =semaine!B4 -> 0 | C9: =semaine!C4 -> 0 | D9: 0 | E9: =semaine!E4 -> 2 | F9: =semaine!F4 -> 0
A10: =semaine!A5 -> 43801 | B10: =semaine!B5 -> 0 | C10: =semaine!C5 -> 0 | D10: 0 | E10: =semaine!E5 -> 2 | F10: =semaine!F5 -> 0
A11: =semaine!A6 -> 43801 | B11: =semaine!B6 -> 0 | C11: =semaine!C6 -> 0 | D11: 0 | E11: =semaine!E6 -> 0 | F11: =semaine!F6 -> 0
