Workbook

Sheet Saisie
W2: M. | X2: SKI | Y2: 1 | Z2: CASQUE -12
A3: SAISIE | B3: MMmeMlle | C3: Prenom | D3: Nom | E3: Mail | F3: Gamme Ref | G3: SKI / SNOW | H3: Jours | I3: BOTE / PACK | J3: CASQUE | K3: REF | L3: PRIX CASQUE | M3: REF | N3: PRIX PACK | O3: PRIX TOTAL | P3: Remise 20% | Q3: Remise 5% | R3: Total remisé | W3: Mme. | X3: SNOW | Y3: 2 | Z3: OUI
B4: M. | C4: Gilles | D4: Vallé | E4: gillesvalle@gmail.com | F4: PREMB | G4: SKI | H4: 5 | I4: =IF(ISBLANK($F4),"",IF(ISNUMBER(SEARCH("B",$F4)),"OUI","NON")) -> OUI | J4: OUI | K4: =IF(ISBLANK($J4),"",VLOOKUP(J4,Tarifs!$E$2:$F$24,2,)) -> 22 | L4: =IF(ISBLANK($J4),"",INDEX(Tarifs!$G$2:$M$24,K4,H4)) -> 17 | M4: =IF(ISBLANK($F4),"",VLOOKUP(F4,Tarifs!$E$2:$F$21,2,)) -> 7 | N4: =IF(ISBLANK($F4),"",INDEX(Tarifs!$G$2:$M$21,$M$4,$H$4)) -> 221 | O4: =IF(ISBLANK($F4),"",N4+L4) -> 238 | P4: =IF(ISBLANK($F4),"",O4*20%) -> 47.6 | Q4: =IF(ISBLANK($F4),"",O4*5%) -> 11.9 | R4: =IF(ISBLANK($F4),"",O4-P4-Q4) -> 178.5 | Y4: 3 | Z4: NON
F5: PREMB | G5: SKI | H5: 5 | I5: =IF(ISBLANK($F5),"",IF(ISNUMBER(SEARCH("B",$F5)),"OUI","NON")) -> OUI | J5: OUI | K5: =IF(ISBLANK($J5),"",VLOOKUP(J5,Tarifs!$E$2:$F$24,2,)) -> 22 | L5: =IF(ISBLANK($J5),"",INDEX(Tarifs!$G$2:$M$24,K5,H5)) -> 17 | M5: =IF(ISBLANK($F5),"",VLOOKUP(F5,Tarifs!$E$2:$F$21,2,)) -> 7 | N5: =IF(ISBLANK($F5),"",INDEX(Tarifs!$G$2:$M$21,$M$4,$H$4)) -> 221 | O5: =IF(ISBLANK($F5),"",N5+L5) -> 238 | P5: =IF(ISBLANK($F5),"",O5*20%) -> 47.6 | Q5: =IF(ISBLANK($F5),"",O5*5%) -> 11.9 | R5: =IF(ISBLANK($F5),"",O5-P5-Q5) -> 178.5 | Y5: 4
F6: PREMB | G6: SNOW | H6: 5 | I6: =IF(ISBLANK($F6),"",IF(ISNUMBER(SEARCH("B",$F6)),"OUI","NON")) -> OUI | J6: OUI | K6: =IF(ISBLANK($J6),"",VLOOKUP(J6,Tarifs!$E$2:$F$24,2,)) -> 22 | L6: =IF(ISBLANK($J6),"",INDEX(Tarifs!$G$2:$M$24,K6,H6)) -> 17 | M6: =IF(ISBLANK($F6),"",VLOOKUP(F6,Tarifs!$E$2:$F$21,2,)) -> 7 | N6: =IF(ISBLANK($F6),"",INDEX(Tarifs!$G$2:$M$21,$M$4,$H$4)) -> 221 | O6: =IF(ISBLANK($F6),"",N6+L6) -> 238 | P6: =IF(ISBLANK($F6),"",O6*20%) -> 47.6 | Q6: =IF(ISBLANK($F6),"",O6*5%) -> 11.9 | R6: =IF(ISBLANK($F6),"",O6-P6-Q6) -> 178.5 | Y6: 5
I7: =IF(ISBLANK($F7),"",IF(ISNUMBER(SEARCH("B",$F7)),"OUI","NON")) | K7: =IF(ISBLANK($J7),"",VLOOKUP(J7,Tarifs!$E$2:$F$24,2,)) | L7: =IF(ISBLANK($J7),"",INDEX(Tarifs!$G$2:$M$24,K7,H7)) | M7: =IF(ISBLANK($F7),"",VLOOKUP(F7,Tarifs!$E$2:$F$21,2,)) | N7: =IF(ISBLANK($F7),"",INDEX(Tarifs!$G$2:$M$21,$M$4,$H$4)) | O7: =IF(ISBLANK($F7),"",N7+L7) | P7: =IF(ISBLANK($F7),"",O7*20%) | Q7: =IF(ISBLANK($F7),"",O7*5%) | R7: =IF(ISBLANK($F7),"",O7-P7-Q7) | Y7: 6
I8: =IF(ISBLANK($F8),"",IF(ISNUMBER(SEARCH("B",$F8)),"OUI","NON")) | K8: =IF(ISBLANK($J8),"",VLOOKUP(J8,Tarifs!$E$2:$F$24,2,)) | L8: =IF(ISBLANK($J8),"",INDEX(Tarifs!$G$2:$M$24,K8,H8)) | M8: =IF(ISBLANK($F8),"",VLOOKUP(F8,Tarifs!$E$2:$F$21,2,)) | N8: =IF(ISBLANK($F8),"",INDEX(Tarifs!$G$2:$M$21,$M$4,$H$4)) | O8: =IF(ISBLANK($F8),"",N8+L8) | P8: =IF(ISBLANK($F8),"",O8*20%) | Q8: =IF(ISBLANK($F8),"",O8*5%) | R8: =IF(ISBLANK($F8),"",O8-P8-Q8) | Y8: 7
I9: =IF(ISBLANK($F9),"",IF(ISNUMBER(SEARCH("B",$F9)),"OUI","NON")) | K9: =IF(ISBLANK($J9),"",VLOOKUP(J9,Tarifs!$E$2:$F$24,2,)) | L9: =IF(ISBLANK($J9),"",INDEX(Tarifs!$G$2:$M$24,K9,H9)) | M9: =IF(ISBLANK($F9),"",VLOOKUP(F9,Tarifs!$E$2:$F$21,2,)) | N9: =IF(ISBLANK($F9),"",INDEX(Tarifs!$G$2:$M$21,$M$4,$H$4)) | O9: =IF(ISBLANK($F9),"",N9+L9) | P9: =IF(ISBLANK($F9),"",O9*20%) | Q9: =IF(ISBLANK($F9),"",O9*5%) | R9: =IF(ISBLANK($F9),"",O9-P9-Q9) | Y9: 8
I10: =IF(ISBLANK($F10),"",IF(ISNUMBER(SEARCH("B",$F10)),"OUI","NON")) | K10: =IF(ISBLANK($J10),"",VLOOKUP(J10,Tarifs!$E$2:$F$24,2,)) | L10: =IF(ISBLANK($J10),"",INDEX(Tarifs!$G$2:$M$24,K10,H10)) | M10: =IF(ISBLANK($F10),"",VLOOKUP(F10,Tarifs!$E$2:$F$21,2,)) | N10: =IF(ISBLANK($F10),"",INDEX(Tarifs!$G$2:$M$21,$M$4,$H$4)) | O10: =IF(ISBLANK($F10),"",N10+L10) | P10: =IF(ISBLANK($F10),"",O10*20%) | Q10: =IF(ISBLANK($F10),"",O10*5%) | R10: =IF(ISBLANK($F10),"",O10-P10-Q10) | Y10: 9
I11: =IF(ISBLANK($F11),"",IF(ISNUMBER(SEARCH("B",$F11)),"OUI","NON")) | K11: =IF(ISBLANK($J11),"",VLOOKUP(J11,Tarifs!$E$2:$F$24,2,)) | L11: =IF(ISBLANK($J11),"",INDEX(Tarifs!$G$2:$M$24,K11,H11)) | M11: =IF(ISBLANK($F11),"",VLOOKUP(F11,Tarifs!$E$2:$F$21,2,)) | N11: =IF(ISBLANK($F11),"",INDEX(Tarifs!$G$2:$M$21,$M$4,$H$4)) | O11: =IF(ISBLANK($F11),"",N11+L11) | P11: =IF(ISBLANK($F11),"",O11*20%) | Q11: =IF(ISBLANK($F11),"",O11*5%) | R11: =IF(ISBLANK($F11),"",O11-P11-Q11) | Y11: 10
I12: =IF(ISBLANK($F12),"",IF(ISNUMBER(SEARCH("B",$F12)),"OUI","NON")) | K12: =IF(ISBLANK($J12),"",VLOOKUP(J12,Tarifs!$E$2:$F$24,2,)) | L12: =IF(ISBLANK($J12),"",INDEX(Tarifs!$G$2:$M$24,K12,H12)) | M12: =IF(ISBLANK($F12),"",VLOOKUP(F12,Tarifs!$E$2:$F$21,2,)) | N12: =IF(ISBLANK($F12),"",INDEX(Tarifs!$G$2:$M$21,$M$4,$H$4)) | O12: =IF(ISBLANK($F12),"",N12+L12) | P12: =IF(ISBLANK($F12),"",O12*20%) | Q12: =IF(ISBLANK($F12),"",O12*5%) | R12: =IF(ISBLANK($F12),"",O12-P12-Q12)
I13: =IF(ISBLANK($F13),"",IF(ISNUMBER(SEARCH("B",$F13)),"OUI","NON")) | K13: =IF(ISBLANK($J13),"",VLOOKUP(J13,Tarifs!$E$2:$F$24,2,)) | L13: =IF(ISBLANK($J13),"",INDEX(Tarifs!$G$2:$M$24,K13,H13)) | M13: =IF(ISBLANK($F13),"",VLOOKUP(F13,Tarifs!$E$2:$F$21,2,)) | N13: =IF(ISBLANK($F13),"",INDEX(Tarifs!$G$2:$M$21,$M$4,$H$4)) | O13: =IF(ISBLANK($F13),"",N13+L13) | P13: =IF(ISBLANK($F13),"",O13*20%) | Q13: =IF(ISBLANK($F13),"",O13*5%) | R13: =IF(ISBLANK($F13),"",O13-P13-Q13)
I14: =IF(ISBLANK($F14),"",IF(ISNUMBER(SEARCH("B",$F14)),"OUI","NON")) | K14: =IF(ISBLANK($J14),"",VLOOKUP(J14,Tarifs!$E$2:$F$24,2,)) | L14: =IF(ISBLANK($J14),"",INDEX(Tarifs!$G$2:$M$24,K14,H14)) | M14: =IF(ISBLANK($F14),"",VLOOKUP(F14,Tarifs!$E$2:$F$21,2,)) | N14: =IF(ISBLANK($F14),"",INDEX(Tarifs!$G$2:$M$21,$M$4,$H$4)) | O14: =IF(ISBLANK($F14),"",N14+L14) | P14: =IF(ISBLANK($F14),"",O14*20%) | Q14: =IF(ISBLANK($F14),"",O14*5%) | R14: =IF(ISBLANK($F14),"",O14-P14-Q14)
A15: RECAP | B15: M. Mme. | C15: Prenom | D15: Nom | E15: Mail | F15: Nb Resa | H15: Jours | J15: Casques | L15: Total Casque | N15: Prix Pack | O15: Prix Total | P15: Remise 20% | Q15: Remise 5% | R15: Total remisé
B16: =B4 -> M. | C16: =C4 -> Gilles | D16: =D4 -> Vallé | E16: =E4 -> gillesvalle@gmail.com | F16: =COUNTA(F4:F14) -> 3 | H16: =MAX(H4:H14) -> 5 | I16: =COUNTIF(I4:I14,"OUI") -> 3 | J16: =COUNTIF(J4:J14,"OUI") -> 3 | L16: =SUM(L4:L14) -> 51 | N16: =SUM(N4:N14) -> 663 | O16: =SUM(O4:O14) -> 714 | P16: =SUM(P4:P14) -> 142.8 | Q16: =SUM(Q4:Q14) -> 35.7 | R16: =SUM(R4:R14) -> 535.5

Sheet Recap
A1: M. Mme. | B1: Prenom | C1: Nom | D1: Mail | E1: Nb Resa | G1: Jours | I1: Casques | K1: Total Casque | M1: Prix Pack | N1: Prix Total | O1: Remise 20% | P1: Remise 5% | Q1: Total remisé
A2: M. | B2: Gilles | C2: Vallé | D2: gillesvalle@me.com | E2: 3 | G2: 5 | H2: 3 | I2: 3 | K2: 51 | M2: 663 | N2: 714 | O2: 142.8 | P2: 35.7 | Q2: 535.5

Sheet General
A1: SAISIE | B1: MMmeMlle | C1: Prenom | D1: Nom | E1: Mail | F1: Gamme Ref | G1: SKI / SNOW | H1: Jours | I1: BOTE / PACK | J1: CASQUE | K1: REF | L1: PRIX CASQUE | M1: REF | N1: PRIX PACK | O1: PRIX TOTAL | P1: Remise 20% | Q1: Remise 5% | R1: Total remisé
B2: M. | C2: Gilles | D2: Vallé | E2: gillesvalle@me.com | F2: PREMB | G2: SKI | H2: 5 | I2: =IF(ISBLANK($F2),"",IF(ISNUMBER(SEARCH("B",$F2)),"OUI","NON")) -> OUI | J2: OUI | K2: =IF(ISBLANK($J2),"",VLOOKUP(J2,Tarifs!$E$2:$F$24,2,)) -> 22 | L2: =IF(ISBLANK($J2),"",INDEX(Tarifs!$G$2:$M$24,K2,H2)) -> 17 | M2: =IF(ISBLANK($F2),"",VLOOKUP(F2,Tarifs!$E$2:$F$21,2,)) -> 7 | N2: =IF(ISBLANK($F2),"",INDEX(Tarifs!$G$2:$M$21,$M$4,$H$4)) -> 221 | O2: =IF(ISBLANK($F2),"",N2+L2) -> 238 | P2: =IF(ISBLANK($F2),"",O2*20%) -> 47.6 | Q2: =IF(ISBLANK($F2),"",O2*5%) -> 11.9 | R2: =IF(ISBLANK($F2),"",O2-P2-Q2) -> 178.5
F3: PREMB | G3: SKI | H3: 5 | I3: =IF(ISBLANK($F3),"",IF(ISNUMBER(SEARCH("B",$F3)),"OUI","NON")) -> OUI | J3: OUI | K3: =IF(ISBLANK($J3),"",VLOOKUP(J3,Tarifs!$E$2:$F$24,2,)) -> 22 | L3: =IF(ISBLANK($J3),"",INDEX(Tarifs!$G$2:$M$24,K3,H3)) -> 17 | M3: =IF(ISBLANK($F3),"",VLOOKUP(F3,Tarifs!$E$2:$F$21,2,)) -> 7 | N3: =IF(ISBLANK($F3),"",INDEX(Tarifs!$G$2:$M$21,$M$4,$H$4)) -> 221 | O3: =IF(ISBLANK($F3),"",N3+L3) -> 238 | P3: =IF(ISBLANK($F3),"",O3*20%) -> 47.6 | Q3: =IF(ISBLANK($F3),"",O3*5%) -> 11.9 | R3: =IF(ISBLANK($F3),"",O3-P3-Q3) -> 178.5
F4: PREMB | G4: SKI | H4: 5 | I4: =IF(ISBLANK($F4),"",IF(ISNUMBER(SEARCH("B",$F4)),"OUI","NON")) -> OUI | J4: OUI | K4: =IF(ISBLANK($J4),"",VLOOKUP(J4,Tarifs!$E$2:$F$24,2,)) -> 22 | L4: =IF(ISBLANK($J4),"",INDEX(Tarifs!$G$2:$M$24,K4,H4)) -> 17 | M4: =IF(ISBLANK($F4),"",VLOOKUP(F4,Tarifs!$E$2:$F$21,2,)) -> 7 | N4: =IF(ISBLANK($F4),"",INDEX(Tarifs!$G$2:$M$21,$M$4,$H$4)) -> 221 | O4: =IF(ISBLANK($F4),"",N4+L4) -> 238 | P4: =IF(ISBLANK($F4),"",O4*20%) -> 47.6 | Q4: =IF(ISBLANK($F4),"",O4*5%) -> 11.9 | R4: =IF(ISBLANK($F4),"",O4-P4-Q4) -> 178.5
I5: =IF(ISBLANK($F5),"",IF(ISNUMBER(SEARCH("B",$F5)),"OUI","NON")) | K5: =IF(ISBLANK($J5),"",VLOOKUP(J5,Tarifs!$E$2:$F$24,2,)) | L5: =IF(ISBLANK($J5),"",INDEX(Tarifs!$G$2:$M$24,K5,H5)) | M5: =IF(ISBLANK($F5),"",VLOOKUP(F5,Tarifs!$E$2:$F$21,2,)) | N5: =IF(ISBLANK($F5),"",INDEX(Tarifs!$G$2:$M$21,$M$4,$H$4)) | O5: =IF(ISBLANK($F5),"",N5+L5) | P5: =IF(ISBLANK($F5),"",O5*20%) | Q5: =IF(ISBLANK($F5),"",O5*5%) | R5: =IF(ISBLANK($F5),"",O5-P5-Q5)
I6: =IF(ISBLANK($F6),"",IF(ISNUMBER(SEARCH("B",$F6)),"OUI","NON")) | K6: =IF(ISBLANK($J6),"",VLOOKUP(J6,Tarifs!$E$2:$F$24,2,)) | L6: =IF(ISBLANK($J6),"",INDEX(Tarifs!$G$2:$M$24,K6,H6)) | M6: =IF(ISBLANK($F6),"",VLOOKUP(F6,Tarifs!$E$2:$F$21,2,)) | N6: =IF(ISBLANK($F6),"",INDEX(Tarifs!$G$2:$M$21,$M$4,$H$4)) | O6: =IF(ISBLANK($F6),"",N6+L6) | P6: =IF(ISBLANK($F6),"",O6*20%) | Q6: =IF(ISBLANK($F6),"",O6*5%) | R6: =IF(ISBLANK($F6),"",O6-P6-Q6)
I7: =IF(ISBLANK($F7),"",IF(ISNUMBER(SEARCH("B",$F7)),"OUI","NON")) | K7: =IF(ISBLANK($J7),"",VLOOKUP(J7,Tarifs!$E$2:$F$24,2,)) | L7: =IF(ISBLANK($J7),"",INDEX(Tarifs!$G$2:$M$24,K7,H7)) | M7: =IF(ISBLANK($F7),"",VLOOKUP(F7,Tarifs!$E$2:$F$21,2,)) | N7: =IF(ISBLANK($F7),"",INDEX(Tarifs!$G$2:$M$21,$M$4,$H$4)) | O7: =IF(ISBLANK($F7),"",N7+L7) | P7: =IF(ISBLANK($F7),"",O7*20%) | Q7: =IF(ISBLANK($F7),"",O7*5%) | R7: =IF(ISBLANK($F7),"",O7-P7-Q7)
I8: =IF(ISBLANK($F8),"",IF(ISNUMBER(SEARCH("B",$F8)),"OUI","NON")) | K8: =IF(ISBLANK($J8),"",VLOOKUP(J8,Tarifs!$E$2:$F$24,2,)) | L8: =IF(ISBLANK($J8),"",INDEX(Tarifs!$G$2:$M$24,K8,H8)) | M8: =IF(ISBLANK($F8),"",VLOOKUP(F8,Tarifs!$E$2:$F$21,2,)) | N8: =IF(ISBLANK($F8),"",INDEX(Tarifs!$G$2:$M$21,$M$4,$H$4)) | O8: =IF(ISBLANK($F8),"",N8+L8) | P8: =IF(ISBLANK($F8),"",O8*20%) | Q8: =IF(ISBLANK($F8),"",O8*5%) | R8: =IF(ISBLANK($F8),"",O8-P8-Q8)
I9: =IF(ISBLANK($F9),"",IF(ISNUMBER(SEARCH("B",$F9)),"OUI","NON")) | K9: =IF(ISBLANK($J9),"",VLOOKUP(J9,Tarifs!$E$2:$F$24,2,)) | L9: =IF(ISBLANK($J9),"",INDEX(Tarifs!$G$2:$M$24,K9,H9)) | M9: =IF(ISBLANK($F9),"",VLOOKUP(F9,Tarifs!$E$2:$F$21,2,)) | N9: =IF(ISBLANK($F9),"",INDEX(Tarifs!$G$2:$M$21,$M$4,$H$4)) | O9: =IF(ISBLANK($F9),"",N9+L9) | P9: =IF(ISBLANK($F9),"",O9*20%) | Q9: =IF(ISBLANK($F9),"",O9*5%) | R9: =IF(ISBLANK($F9),"",O9-P9-Q9)
I10: =IF(ISBLANK($F10),"",IF(ISNUMBER(SEARCH("B",$F10)),"OUI","NON")) | K10: =IF(ISBLANK($J10),"",VLOOKUP(J10,Tarifs!$E$2:$F$24,2,)) | L10: =IF(ISBLANK($J10),"",INDEX(Tarifs!$G$2:$M$24,K10,H10)) | M10: =IF(ISBLANK($F10),"",VLOOKUP(F10,Tarifs!$E$2:$F$21,2,)) | N10: =IF(ISBLANK($F10),"",INDEX(Tarifs!$G$2:$M$21,$M$4,$H$4)) | O10: =IF(ISBLANK($F10),"",N10+L10) | P10: =IF(ISBLANK($F10),"",O10*20%) | Q10: =IF(ISBLANK($F10),"",O10*5%) | R10: =IF(ISBLANK($F10),"",O10-P10-Q10)
I11: =IF(ISBLANK($F11),"",IF(ISNUMBER(SEARCH("B",$F11)),"OUI","NON")) | K11: =IF(ISBLANK($J11),"",VLOOKUP(J11,Tarifs!$E$2:$F$24,2,)) | L11: =IF(ISBLANK($J11),"",INDEX(Tarifs!$G$2:$M$24,K11,H11)) | M11: =IF(ISBLANK($F11),"",VLOOKUP(F11,Tarifs!$E$2:$F$21,2,)) | N11: =IF(ISBLANK($F11),"",INDEX(Tarifs!$G$2:$M$21,$M$4,$H$4)) | O11: =IF(ISBLANK($F11),"",N11+L11) | P11: =IF(ISBLANK($F11),"",O11*20%) | Q11: =IF(ISBLANK($F11),"",O11*5%) | R11: =IF(ISBLANK($F11),"",O11-P11-Q11)
I12: =IF(ISBLANK($F12),"",IF(ISNUMBER(SEARCH("B",$F12)),"OUI","NON")) | K12: =IF(ISBLANK($J12),"",VLOOKUP(J12,Tarifs!$E$2:$F$24,2,)) | L12: =IF(ISBLANK($J12),"",INDEX(Tarifs!$G$2:$M$24,K12,H12)) | M12: =IF(ISBLANK($F12),"",VLOOKUP(F12,Tarifs!$E$2:$F$21,2,)) | N12: =IF(ISBLANK($F12),"",INDEX(Tarifs!$G$2:$M$21,$M$4,$H$4)) | O12: =IF(ISBLANK($F12),"",N12+L12) | P12: =IF(ISBLANK($F12),"",O12*20%) | Q12: =IF(ISBLANK($F12),"",O12*5%) | R12: =IF(ISBLANK($F12),"",O12-P12-Q12)
A13: RECAP | B13: M. Mme. | C13: Prenom | D13: Nom | E13: Mail | F13: Nb Resa | H13: Jours | J13: Casques | L13: Total Casque | N13: Prix Pack | O13: Prix Total | P13: Remise 20% | Q13: Remise 5% | R13: Total remisé
B14: =B2 -> M. | C14: =C2 -> Gilles | D14: =D2 -> Vallé | E14: =E2 -> gillesvalle@me.com | F14: =COUNTA(F2:F12) -> 3 | H14: =MAX(H2:H12) -> 5 | I14: =COUNTIF(I2:I12,"OUI") -> 3 | J14: =COUNTIF(J2:J12,"OUI") -> 3 | L14: =SUM(L2:L12) -> 51 | N14: =SUM(N2:N12) -> 663 | O14: =SUM(O2:O12) -> 714 | P14: =SUM(P2:P12) -> 142.8 | Q14: =SUM(Q2:Q12) -> 35.7 | R14: =SUM(R2:R12) -> 535.5

Sheet Tarifs
A1: GAMME | B1: SKI | C1: SNOWBOARD | D1: AVEC OU SANS BOTES | E1: Gamme T | G1: 1 | H1: 2 | I1: 3 | J1: 4 | K1: 5 | L1: 6 | M1: 7 et +
A2: DECOUVERTE | D2: AVEC | E2: DECB | F2: 1 | G2: 24 | H2: 47 | I2: 70 | J2: 90 | K2: 106 | L2: 121 | M2: 141
D3: SANS | E3: DEC | F3: 2 | G3: 22 | H3: 43 | I3: 64 | J3: 80 | K3: 99 | L3: 111 | M3: 129
A4: SENSATION | D4: AVEC | E4: SENSB | F4: 3 | G4: 31 | H4: 61 | I4: 89 | J4: 114 | K4: 140 | L4: 160 | M4: 186
D5: SANS | E5: SENS | F5: 4 | G5: 28 | H5: 55 | I5: 81 | J5: 104 | K5: 127 | L5: 143 | M5: 143
A6: EXCELLENCE | D6: AVEC | E6: EXCELB | F6: 5 | G6: 40 | H6: 78 | I6: 116 | J6: 153 | K6: 185 | L6: 208 | M6: 208
D7: SANS | E7: EXCEL | F7: 6 | G7: 35 | H7: 68 | I7: 97 | J7: 128 | K7: 156 | L7: 178 | M7: 178
A8: PREMIUM | D8: AVEC | E8: PREMB | F8: 7 | G8: 48 | H8: 95 | I8: 140 | J8: 185 | K8: 221 | L8: 252 | M8: 252
D9: SANS | E9: PREM | F9: 8 | G9: 42 | H9: 83 | I9: 121 | J9: 160 | K9: 192 | L9: 222 | M9: 222
A10: ECO | D10: AVEC | E10: ECOB | F10: 9 | G10: 19 | H10: 37 | I10: 55 | J10: 71 | K10: 86 | L10: 101 | M10: 101
D11: SANS | E11: ECO | F11: 10 | G11: 16 | H11: 31 | I11: 45 | J11: 60 | K11: 73 | L11: 85 | M11: 85
A12: MINI KID (SKI) | D12: AVEC | E12: KIDB | F12: 11 | G12: 12 | H12: 23 | I12: 33 | J12: 42 | K12: 51 | L12: 59 | M12: 59
D13: SANS | E13: KID | F13: 12 | G13: 9 | H13: 17 | I13: 25 | J13: 32 | K13: 39 | L13: 45 | M13: 45
A14: ESPOIR (SKI) | D14: AVEC | E14: ESPB | F14: 13 | G14: 16 | H14: 31 | I14: 45 | J14: 59 | K14: 73 | L14: 85 | M14: 85
D15: SANS | E15: ESP | F15: 14 | G15: 14 | H15: 27 | I15: 39 | J15: 52 | K15: 62 | L15: 73 | M15: 73
A16: RIDER JUNIOR ( 6/12 ANS ) | D16: AVEC | E16: RIDB | F16: 15 | G16: 24 | H16: 47 | I16: 70 | J16: 90 | K16: 106 | L16: 121 | M16: 121
D17: SANS | E17: RID | F17: 16 | G17: 22 | H17: 43 | I17: 64 | J17: 80 | K17: 99 | L17: 111 | M17: 111
A18: ADO (14/17 ANS) | D18: AVEC | E18: ADOB | F18: 17 | G18: 28 | H18: 55 | I18: 81 | J18: 104 | K18: 127 | L18: 145 | M18: 145
D19: SANS | E19: ADO | F19: 18 | G19: 25 | H19: 50 | I19: 74 | J19: 95 | K19: 115 | L19: 130 | M19: 130
A20: MINI SKI SNOWBLADES | D20: AVEC | E20: MINIB | F20: 19 | G20: 24 | H20: 47 | I20: 70 | J20: 90 | K20: 106 | L20: 121 | M20: 121
D21: SANS | E21: MINI | F21: 20 | G21: 22 | H21: 43 | I21: 64 | J21: 80 | K21: 99 | L21: 111 | M21: 111
A22: CASQUE (-12 ANS) | E22: CASQUE -12 | F22: 21 | G22: 3 | H22: 6 | I22: 9 | J22: 11 | K22: 13 | L22: 15 | M22: 17
A23: CASC | E23: OUI | F23: 22 | G23: 4 | H23: 8 | I23: 11 | J23: 14 | K23: 17 | L23: 20 | M23: 23
E24: NON | F24: 23 | G24: 0 | H24: 0 | I24: 0 | J24: 0 | K24: 0 | L24: 0 | M24: 0
