Workbook
Name APPAREIL_DE_MESURE_ET_DE_CONTROLE: Tableau!$B$3:$B$42
Name ASPIRATEUR: Tableau!$E$3:$E$42
Name BOULONNEUSE: Tableau!$H$3:$H$42
Name CHARGEUR_DE_BATTERIE: Tableau!$K$3:$K$42
Name COMPRESSEUR: Tableau!$N$3:$N$42
Name désignation: 'Export Sap'!$E$1:$E$400
Name GENERATEUR_PISTOLET_A_AIR_CHAUD: Tableau!$Q$3:$Q$42
Name groupe: 'Export Sap'!$D$2:$D$225
Name im: 'Export Sap'!$C$2:$C$225
Name Liste: Divers!$C$2:$C$15
Name MACHINE_À_PONCER_POUR_ATELIERS: Tableau!$T$3:$T$42
Name MACHINE_A_SCIER_COUPER: Tableau!$W$3:$W$42
Name MEULEUSE_SUR_ACCU: Tableau!$Z$3:$Z$42
Name MEULEUSE_SUR_SECTEUR: Tableau!$AC$3:$AC$42
Name poste: 'Export Sap'!$A$1:$A$225
Name prix: 'Export Sap'!$I$1:$I$225

Sheet Bon de commande
A1: Type de machine | B1: Description machine | C1: Numéro IM | D1: N° poste | E1: Quantité | F1: Prix | G1: Total | H1: =COUNTIF(im,C2) -> 27
A2: MEULEUSE_SUR_SECTEUR | B2: Makita GA9030SF01 | C2: =IF(A2="","",VLOOKUP(A2,Divers!C$2:D$16,2,FALSE)) -> IM31415 | D2: =IF(H2="","",INDEX(poste,H2)) -> 10 | F2: =IF(H2="","",INDEX(prix,H2)) -> 181.29 | G2: =IF(E2="","",F2*E2) | H2: =IF(ISERROR(MATCH(B2,désignation,0)),"",MATCH(B2,désignation,0)) -> 8
C3: =IF(A3="","",VLOOKUP(A3,Divers!C$2:D$16,2,FALSE)) | D3: =IF(H3="","",INDEX(poste,H3)) | F3: =IF(H3="","",INDEX(prix,H3)) | G3: =IF(E3="","",F3*E3) | H3: =IF(ISERROR(MATCH(B3,désignation,0)),"",MATCH(B3,désignation,0))
C4: =IF(A4="","",VLOOKUP(A4,Divers!C$2:D$16,2,FALSE)) | F4: =IF(H4="","",INDEX(prix,H4)) | G4: =IF(E4="","",F4*E4) | H4: =IF(ISERROR(MATCH(B4,désignation,0)),"",MATCH(B4,désignation,0))
C5: =IF(A5="","",VLOOKUP(A5,Divers!C$2:D$16,2,FALSE)) | F5: =IF(H5="","",INDEX(prix,H5)) | G5: =IF(E5="","",F5*E5) | H5: =IF(ISERROR(MATCH(B5,désignation,0)),"",MATCH(B5,désignation,0))
C6: =IF(A6="","",VLOOKUP(A6,Divers!C$2:D$16,2,FALSE)) | F6: =IF(H6="","",INDEX(prix,H6)) | G6: =IF(E6="","",F6*E6) | H6: =IF(ISERROR(MATCH(B6,désignation,0)),"",MATCH(B6,désignation,0))
C7: =IF(A7="","",VLOOKUP(A7,Divers!C$2:D$16,2,FALSE)) | F7: =IF(H7="","",INDEX(prix,H7)) | G7: =IF(E7="","",F7*E7) | H7: =IF(ISERROR(MATCH(B7,désignation,0)),"",MATCH(B7,désignation,0))
C8: =IF(A8="","",VLOOKUP(A8,Divers!C$2:D$16,2,FALSE)) | F8: =IF(H8="","",INDEX(prix,H8)) | G8: =IF(E8="","",F8*E8) | H8: =IF(ISERROR(MATCH(B8,désignation,0)),"",MATCH(B8,désignation,0))
C9: =IF(A9="","",VLOOKUP(A9,Divers!C$2:D$16,2,FALSE)) | F9: =IF(H9="","",INDEX(prix,H9)) | G9: =IF(E9="","",F9*E9) | H9: =IF(ISERROR(MATCH(B9,désignation,0)),"",MATCH(B9,désignation,0))
C10: =IF(A10="","",VLOOKUP(A10,Divers!C$2:D$16,2,FALSE)) | F10: =IF(H10="","",INDEX(prix,H10)) | G10: =IF(E10="","",F10*E10) | H10: =IF(ISERROR(MATCH(B10,désignation,0)),"",MATCH(B10,désignation,0))
C11: =IF(A11="","",VLOOKUP(A11,Divers!C$2:D$16,2,FALSE)) | F11: =IF(H11="","",INDEX(prix,H11)) | G11: =IF(E11="","",F11*E11) | H11: =IF(ISERROR(MATCH(B11,désignation,0)),"",MATCH(B11,désignation,0))
F12: =IF(H12="","",INDEX(prix,H12)) | G12: =IF(E12="","",F12*E12)

Sheet Export Sap
A1: Poste | B1: Fournisseur/Division fourn. | C1: Article | D1: Désignation alternative | E1: Désignation | F1: Début de validité | G1: Fin de la période de validité | H1: Unité d'achat | I1: Prix net | J1: Devise | K1: Base de prix
A2: 840 | B2: 10400 ERIKS | C2: IM31057 | D2: APPAREIL_DE_MESURE_ET_DE_CONTROLE | E2: Bosch GLM 50 C Professional | F2: 43397 | G2: 44492 | H2: PC | I2: 97.68 | J2: EUR | K2: 1
A3: 850 | B3: 10400 ERIKS | C3: IM31057 | D3: APPAREIL_DE_MESURE_ET_DE_CONTROLE | E3: Bosch GLM80 Professional | F3: 43397 | G3: 44492 | H3: PC | I3: 145.35 | J3: EUR | K3: 1
A4: 1150 | B4: 10400 ERIKS | C4: IM31057 | D4: APPAREIL_DE_MESURE_ET_DE_CONTROLE | E4: Metabo GPA 18 LTX | F4: 43397 | G4: 44492 | H4: PC | I4: 175.87 | J4: EUR | K4: 1
A5: 1160 | B5: 10400 ERIKS | C5: IM31057 | D5: APPAREIL_DE_MESURE_ET_DE_CONTROLE | E5: Metabo Powermaxx BS QUICK PRO | F5: 43397 | G5: 44492 | H5: PC | I5: 135.27 | J5: EUR | K5: 1
A6: 1750 | B6: 10400 ERIKS | C6: IM31057 | D6: APPAREIL_DE_MESURE_ET_DE_CONTROLE | E6: Bosch GLM 50 C Professional | F6: 43397 | G6: 44492 | H6: PC | I6: 97.68 | J6: EUR | K6: 1
A7: 1760 | B7: 10400 ERIKS | C7: IM31057 | D7: APPAREIL_DE_MESURE_ET_DE_CONTROLE | E7: Bosch GLM80 Professional | F7: 43397 | G7: 44492 | H7: PC | I7: 145.35 | J7: EUR | K7: 1
A8: 10 | B8: 10400 ERIKS | C8: IM31415 | D8: MEULEUSE SUR SECTEUR | E8: Makita GA9030SF01 | F8: 43397 | G8: 44492 | H8: PC | I8: 181.29 | J8: EUR | K8: 1
A9: 20 | B9: 10400 ERIKS | C9: IM31415 | D9: MEULEUSE SUR SECTEUR | E9: Makita GA9040RF01 | F9: 43397 | G9: 44492 | H9: PC | I9: 190.4 | J9: EUR | K9: 1
A10: 30 | B10: 10400 ERIKS | C10: IM31415 | D10: MEULEUSE SUR SECTEUR | E10: Metabo WE26-230 MVT Quick | F10: 43397 | G10: 44492 | H10: PC | I10: 155.57 | J10: EUR | K10: 1
A11: 40 | B11: 10400 ERIKS | C11: IM31415 | D11: MEULEUSE SUR SECTEUR | E11: Bosch GWS24-230 JVX | F11: 43397 | G11: 44492 | H11: PC | I11: 244.67 | J11: EUR | K11: 1
A12: 50 | B12: 10400 ERIKS | C12: IM31415 | D12: MEULEUSE SUR SECTEUR | E12: Metabo WEA 24-230 MVT Quick DDMS | F12: 43397 | G12: 44492 | H12: PC | I12: 142.04 | J12: EUR | K12: 1
A13: 60 | B13: 10400 ERIKS | C13: IM31415 | D13: MEULEUSE SUR SECTEUR | E13: Metabo WPB 12-125 Quick | F13: 43397 | G13: 44492 | H13: PC | I13: 121.75 | J13: EUR | K13: 1
... A225: 1310 | B225: 10400 ERIKS | C225: IM39000 | D225: CHARGEUR_DE_BATTERIE | E225: Metabo ASC Multi 8 14,4-36V | F225: 43397 | G225: 44492 | H225: PC | I225: 676.5 | J225: EUR | K225: 1

Sheet Tableau
A1: Numéro IM | B1: Type de machine | D1: Numéro IM | E1: Type de machine | G1: Numéro IM | H1: Type de machine | J1: Numéro IM | K1: Type de machine | M1: Numéro IM | N1: Type de machine | P1: Numéro IM | Q1: Type de machine | S1: Numéro IM | T1: Type de machine | V1: Numéro IM | W1: Type de machine | Y1: Numéro IM | Z1: Type de machine | AB1: Numéro IM | AC1: Type de machine
A2: =IF(B2="","",VLOOKUP(B2,Divers!$C2:$D16,2,0)) -> IM31057 | B2: APPAREIL_DE_MESURE_ET_DE_CONTROLE | D2: =IF(E2="","",VLOOKUP(E2,Divers!$C2:$D16,2,0)) -> IM31851 | E2: ASPIRATEUR | G2: =IF(H2="","",VLOOKUP(H2,Divers!$C2:$D16,2,0)) -> IM31561 | H2: BOULONNEUSE | J2: =IF(K2="","",VLOOKUP(K2,Divers!$C2:$D16,2,0)) -> IM39000 | K2: CHARGEUR_DE_BATTERIE | M2: =IF(N2="","",VLOOKUP(N2,Divers!$C2:$D16,2,0)) -> IM31812 | N2: COMPRESSEUR | P2: =IF(Q2="","",VLOOKUP(Q2,Divers!$C2:$D16,2,0)) -> IM31895 | Q2: GENERATEUR_PISTOLET_A_AIR_CHAUD | S2: =IF(T2="","",VLOOKUP(T2,Divers!$C2:$D16,2,0)) -> IM31540 | T2: MACHINE_À_PONCER_POUR_ATELIERS | V2: =IF(W2="","",VLOOKUP(W2,Divers!$C2:$D16,2,0)) -> IM31682 | W2: MACHINE_A_SCIER_COUPER | Y2: =IF(Z2="","",VLOOKUP(Z2,Divers!$C2:$D16,2,0)) -> IM31416 | Z2: MEULEUSE_SUR_ACCU | AB2: =IF(AC2="","",VLOOKUP(AC2,Divers!$C2:$D16,2,0)) -> IM31415 | AC2: MEULEUSE_SUR_SECTEUR
A3: =IFERROR(SMALL(Divers!$E$2:$E$600,ROW()-2),"") -> 2 | B3: =IF(A3="","",INDEX(désignation,A3)) -> Bosch GLM 50 C Professional | D3: =IFERROR(SMALL(Divers!$F$2:$F$600,ROW()-2),"") -> 185 | E3: =IF(D3="","",INDEX(désignation,D3)) -> Metabo ASA 30 L PC INOX | G3: =IFERROR(SMALL(Divers!$G$2:$G$600,ROW()-2),"") -> 124 | H3: =IF(G3="","",INDEX(désignation,G3)) -> Makita DTW285RTJ | J3: =IFERROR(SMALL(Divers!$H$2:$H$600,ROW()-2),"") -> 224 | K3: =IF(J3="","",INDEX(désignation,J3)) -> Metabo ASC Multi 8 14,4-36V | M3: =IFERROR(SMALL(Divers!$I$2:$I$600,ROW()-2),"") -> 161 | N3: =IF(M3="","",INDEX(désignation,M3)) -> Contimac CM240/10/5W | P3: =IFERROR(SMALL(Divers!$J$2:$J$600,ROW()-2),"") -> 213 | Q3: =IF(P3="","",INDEX(désignation,P3)) -> Metabo HE 20-600 | S3: =IFERROR(SMALL(Divers!$K$2:$K$600,ROW()-2),"") -> 61 | T3: =IF(S3="","",INDEX(désignation,S3)) -> Metabo BS 175 | V3: =IFERROR(SMALL(Divers!$L$2:$L$600,ROW()-2),"") -> 148 | W3: =IF(V3="","",INDEX(désignation,V3)) -> Makita 4351FCTJ | Y3: =IFERROR(SMALL(Divers!$M$2:$M$600,ROW()-2),"") -> 35 | Z3: =IF(Y3="","",INDEX(désignation,Y3)) -> Metabo WPB36 LTX BL230 | AB3: =IFERROR(SMALL(Divers!$N$2:$N$600,ROW()-2),"") -> 8 | AC3: =IF(AB3="","",INDEX(désignation,AB3)) -> Makita GA9030SF01
A4: =IFERROR(SMALL(Divers!$E$2:$E$600,ROW()-2),"") -> 3 | B4: =IF(A4="","",INDEX(désignation,A4)) -> Bosch GLM80 Professional | D4: =IFERROR(SMALL(Divers!$F$2:$F$600,ROW()-2),"") -> 186 | E4: =IF(D4="","",INDEX(désignation,D4)) -> Metabo ASR 50M SC | G4: =IFERROR(SMALL(Divers!$G$2:$G$600,ROW()-2),"") -> 125 | H4: =IF(G4="","",INDEX(désignation,G4)) -> Makita DTW450ZJ (sans accu) | J4: =IFERROR(SMALL(Divers!$H$2:$H$600,ROW()-2),"") -> 225 | K4: =IF(J4="","",INDEX(désignation,J4)) -> Metabo ASC Multi 8 14,4-36V | M4: =IFERROR(SMALL(Divers!$I$2:$I$600,ROW()-2),"") -> 162 | N4: =IF(M4="","",INDEX(désignation,M4)) -> Contimac CM350/10/24WF | P4: =IFERROR(SMALL(Divers!$J$2:$J$600,ROW()-2),"") -> 214 | Q4: =IF(P4="","",INDEX(désignation,P4)) -> Makita HG551VK | S4: =IFERROR(SMALL(Divers!$K$2:$K$600,ROW()-2),"") -> 62 | T4: =IF(S4="","",INDEX(désignation,S4)) -> Metabo DS 200 | V4: =IFERROR(SMALL(Divers!$L$2:$L$600,ROW()-2),"") -> 149 | W4: =IF(V4="","",INDEX(désignation,V4)) -> Metabo STEB 80 QUICK | Y4: =IFERROR(SMALL(Divers!$M$2:$M$600,ROW()-2),"") -> 36 | Z4: =IF(Y4="","",INDEX(désignation,Y4)) -> Metabo WPB36-18 LTX BL230 | AB4: =IFERROR(SMALL(Divers!$N$2:$N$600,ROW()-2),"") -> 9 | AC4: =IF(AB4="","",INDEX(désignation,AB4)) -> Makita GA9040RF01
A5: =IFERROR(SMALL(Divers!$E$2:$E$600,ROW()-2),"") -> 4 | B5: =IF(A5="","",INDEX(désignation,A5)) -> Metabo GPA 18 LTX | D5: =IFERROR(SMALL(Divers!$F$2:$F$600,ROW()-2),"") -> 187 | E5: =IF(D5="","",INDEX(désignation,D5)) -> Metabo ASR 35M ACP | G5: =IFERROR(SMALL(Divers!$G$2:$G$600,ROW()-2),"") -> 126 | H5: =IF(G5="","",INDEX(désignation,G5)) -> Makita DTW450RTJ | J5: =IFERROR(SMALL(Divers!$H$2:$H$600,ROW()-2),"") | K5: =IF(J5="","",INDEX(désignation,J5)) | M5: =IFERROR(SMALL(Divers!$I$2:$I$600,ROW()-2),"") -> 163 | N5: =IF(M5="","",INDEX(désignation,M5)) -> Metabo Power 280-20 W OF | P5: =IFERROR(SMALL(Divers!$J$2:$J$600,ROW()-2),"") -> 215 | Q5: =IF(P5="","",INDEX(désignation,P5)) -> Metabo SB 18 LTX-3 BL Q I | S5: =IFERROR(SMALL(Divers!$K$2:$K$600,ROW()-2),"") -> 63 | T5: =IF(S5="","",INDEX(désignation,S5)) -> Metabo BS 18 LTX BL I | V5: =IFERROR(SMALL(Divers!$L$2:$L$600,ROW()-2),"") -> 150 | W5: =IF(V5="","",INDEX(désignation,V5)) -> Makita 5903RKX1 | Y5: =IFERROR(SMALL(Divers!$M$2:$M$600,ROW()-2),"") -> 37 | Z5: =IF(Y5="","",INDEX(désignation,Y5)) -> Makita DGA900PT2 LTX2x18V | AB5: =IFERROR(SMALL(Divers!$N$2:$N$600,ROW()-2),"") -> 10 | AC5: =IF(AB5="","",INDEX(désignation,AB5)) -> Metabo WE26-230 MVT Quick
A6: =IFERROR(SMALL(Divers!$E$2:$E$600,ROW()-2),"") -> 5 | B6: =IF(A6="","",INDEX(désignation,A6)) -> Metabo Powermaxx BS QUICK PRO | D6: =IFERROR(SMALL(Divers!$F$2:$F$600,ROW()-2),"") -> 188 | E6: =IF(D6="","",INDEX(désignation,D6)) -> Metabo WPB36-18 LTX BL230 | G6: =IFERROR(SMALL(Divers!$G$2:$G$600,ROW()-2),"") -> 127 | H6: =IF(G6="","",INDEX(désignation,G6)) -> Makita DTW1002RTJ | J6: =IFERROR(SMALL(Divers!$H$2:$H$600,ROW()-2),"") | K6: =IF(J6="","",INDEX(désignation,J6)) | M6: =IFERROR(SMALL(Divers!$I$2:$I$600,ROW()-2),"") -> 164 | N6: =IF(M6="","",INDEX(désignation,M6)) -> Metabo Power 400-20 W OF | P6: =IFERROR(SMALL(Divers!$J$2:$J$600,ROW()-2),"") -> 216 | Q6: =IF(P6="","",INDEX(désignation,P6)) -> Metabo SB 18 LTX BL Q I | S6: =IFERROR(SMALL(Divers!$K$2:$K$600,ROW()-2),"") -> 64 | T6: =IF(S6="","",INDEX(désignation,S6)) -> Metabo BS 18 LTX BL Q I | V6: =IFERROR(SMALL(Divers!$L$2:$L$600,ROW()-2),"") -> 151 | W6: =IF(V6="","",INDEX(désignation,V6)) -> Metabo KSE 68 Plus | Y6: =IFERROR(SMALL(Divers!$M$2:$M$600,ROW()-2),"") -> 38 | Z6: =IF(Y6="","",INDEX(désignation,Y6)) -> Metabo WB18LTX BL125 Quick | AB6: =IFERROR(SMALL(Divers!$N$2:$N$600,ROW()-2),"") -> 11 | AC6: =IF(AB6="","",INDEX(désignation,AB6)) -> Bosch GWS24-230 JVX
A7: =IFERROR(SMALL(Divers!$E$2:$E$600,ROW()-2),"") -> 6 | B7: =IF(A7="","",INDEX(désignation,A7)) -> Bosch GLM 50 C Professional | D7: =IFERROR(SMALL(Divers!$F$2:$F$600,ROW()-2),"") -> 189 | E7: =IF(D7="","",INDEX(désignation,D7)) -> Makita DGA900PT2 LTX2x18V | G7: =IFERROR(SMALL(Divers!$G$2:$G$600,ROW()-2),"") -> 128 | H7: =IF(G7="","",INDEX(désignation,G7)) -> Makita DTW1002ZJ | J7: =IFERROR(SMALL(Divers!$H$2:$H$600,ROW()-2),"") | K7: =IF(J7="","",INDEX(désignation,J7)) | M7: =IFERROR(SMALL(Divers!$I$2:$I$600,ROW()-2),"") -> 165 | N7: =IF(M7="","",INDEX(désignation,M7)) -> Metabo Power 250-10 W OF | P7: =IFERROR(SMALL(Divers!$J$2:$J$600,ROW()-2),"") -> 217 | Q7: =IF(P7="","",INDEX(désignation,P7)) -> Metabo HE 20-600 | S7: =IFERROR(SMALL(Divers!$K$2:$K$600,ROW()-2),"") -> 65 | T7: =IF(S7="","",INDEX(désignation,S7)) -> Metabo BS 175 | V7: =IFERROR(SMALL(Divers!$L$2:$L$600,ROW()-2),"") -> 152 | W7: =IF(V7="","",INDEX(désignation,V7)) -> Metabo WE26-230 MVT Quick | Y7: =IFERROR(SMALL(Divers!$M$2:$M$600,ROW()-2),"") -> 39 | Z7: =IF(Y7="","",INDEX(désignation,Y7)) -> Metabo WPB18LTX BL 125 Quick | AB7: =IFERROR(SMALL(Divers!$N$2:$N$600,ROW()-2),"") -> 12 | AC7: =IF(AB7="","",INDEX(désignation,AB7)) -> Metabo WEA 24-230 MVT Quick DDMS
A8: =IFERROR(SMALL(Divers!$E$2:$E$600,ROW()-2),"") -> 7 | B8: =IF(A8="","",INDEX(désignation,A8)) -> Bosch GLM80 Professional | D8: =IFERROR(SMALL(Divers!$F$2:$F$600,ROW()-2),"") -> 190 | E8: =IF(D8="","",INDEX(désignation,D8)) -> Metabo WB18LTX BL125 Quick | G8: =IFERROR(SMALL(Divers!$G$2:$G$600,ROW()-2),"") -> 129 | H8: =IF(G8="","",INDEX(désignation,G8)) -> Milwaukee M18CHIWF12-502X | J8: =IFERROR(SMALL(Divers!$H$2:$H$600,ROW()-2),"") | K8: =IF(J8="","",INDEX(désignation,J8)) | M8: =IFERROR(SMALL(Divers!$I$2:$I$600,ROW()-2),"") -> 166 | N8: =IF(M8="","",INDEX(désignation,M8)) -> Airpress HK425-150 | P8: =IFERROR(SMALL(Divers!$J$2:$J$600,ROW()-2),"") -> 218 | Q8: =IF(P8="","",INDEX(désignation,P8)) -> Makita HG6031VK | S8: =IFERROR(SMALL(Divers!$K$2:$K$600,ROW()-2),"") -> 66 | T8: =IF(S8="","",INDEX(désignation,S8)) -> Metabo DS 200 | V8: =IFERROR(SMALL(Divers!$L$2:$L$600,ROW()-2),"") -> 153 | W8: =IF(V8="","",INDEX(désignation,V8)) -> Bosch GWS24-230 JVX | Y8: =IFERROR(SMALL(Divers!$M$2:$M$600,ROW()-2),"") -> 40 | Z8: =IF(Y8="","",INDEX(désignation,Y8)) -> Makita DGA506RTJ LTX18V | AB8: =IFERROR(SMALL(Divers!$N$2:$N$600,ROW()-2),"") -> 13 | AC8: =IF(AB8="","",INDEX(désignation,AB8)) -> Metabo WPB 12-125 Quick
A9: =IFERROR(SMALL(Divers!$E$2:$E$600,ROW()-2),"") | B9: =IF(A9="","",INDEX(désignation,A9)) | D9: =IFERROR(SMALL(Divers!$F$2:$F$600,ROW()-2),"") -> 191 | E9: =IF(D9="","",INDEX(désignation,D9)) -> Metabo ASA 30 L PC INOX | G9: =IFERROR(SMALL(Divers!$G$2:$G$600,ROW()-2),"") -> 130 | H9: =IF(G9="","",INDEX(désignation,G9)) -> Milwaukee M18CHIWF34-502X | J9: =IFERROR(SMALL(Divers!$H$2:$H$600,ROW()-2),"") | K9: =IF(J9="","",INDEX(désignation,J9)) | M9: =IFERROR(SMALL(Divers!$I$2:$I$600,ROW()-2),"") -> 167 | N9: =IF(M9="","",INDEX(désignation,M9)) -> Airpress HK650-200 | P9: =IFERROR(SMALL(Divers!$J$2:$J$600,ROW()-2),"") | Q9: =IF(P9="","",INDEX(désignation,P9)) | S9: =IFERROR(SMALL(Divers!$K$2:$K$600,ROW()-2),"") | T9: =IF(S9="","",INDEX(désignation,S9)) | V9: =IFERROR(SMALL(Divers!$L$2:$L$600,ROW()-2),"") -> 154 | W9: =IF(V9="","",INDEX(désignation,V9)) -> Metabo WEA 24-230 MVT Quick DDMS | Y9: =IFERROR(SMALL(Divers!$M$2:$M$600,ROW()-2),"") -> 41 | Z9: =IF(Y9="","",INDEX(désignation,Y9)) -> Makita DGA508RTJ LXT18V | AB9: =IFERROR(SMALL(Divers!$N$2:$N$600,ROW()-2),"") -> 14 | AC9: =IF(AB9="","",INDEX(désignation,AB9)) -> Metabo WPBA 17-125 Quick
A10: =IFERROR(SMALL(Divers!$E$2:$E$600,ROW()-2),"") | B10: =IF(A10="","",INDEX(désignation,A10)) | D10: =IFERROR(SMALL(Divers!$F$2:$F$600,ROW()-2),"") -> 192 | E10: =IF(D10="","",INDEX(désignation,D10)) -> Metabo ASR 50M SC | G10: =IFERROR(SMALL(Divers!$G$2:$G$600,ROW()-2),"") -> 131 | H10: =IF(G10="","",INDEX(désignation,G10)) -> Milwaukee M18ONEFHIWF34-502X | J10: =IFERROR(SMALL(Divers!$H$2:$H$600,ROW()-2),"") | K10: =IF(J10="","",INDEX(désignation,J10)) | M10: =IFERROR(SMALL(Divers!$I$2:$I$600,ROW()-2),"") -> 168 | N10: =IF(M10="","",INDEX(désignation,M10)) -> Airpress HK650-270 | P10: =IFERROR(SMALL(Divers!$J$2:$J$600,ROW()-2),"") | Q10: =IF(P10="","",INDEX(désignation,P10)) | S10: =IFERROR(SMALL(Divers!$K$2:$K$600,ROW()-2),"") | T10: =IF(S10="","",INDEX(désignation,S10)) | V10: =IFERROR(SMALL(Divers!$L$2:$L$600,ROW()-2),"") -> 155 | W10: =IF(V10="","",INDEX(désignation,V10)) -> Metabo WPB 12-125 Quick | Y10: =IFERROR(SMALL(Divers!$M$2:$M$600,ROW()-2),"") -> 42 | Z10: =IF(Y10="","",INDEX(désignation,Y10)) -> Makita DGD800RTJ | AB10: =IFERROR(SMALL(Divers!$N$2:$N$600,ROW()-2),"") -> 15 | AC10: =IF(AB10="","",INDEX(désignation,AB10)) -> Metabo WEV15-125 Quick
A11: =IFERROR(SMALL(Divers!$E$2:$E$600,ROW()-2),"") | B11: =IF(A11="","",INDEX(désignation,A11)) | D11: =IFERROR(SMALL(Divers!$F$2:$F$600,ROW()-2),"") -> 193 | E11: =IF(D11="","",INDEX(désignation,D11)) -> Metabo ASR 35M ACP | G11: =IFERROR(SMALL(Divers!$G$2:$G$600,ROW()-2),"") -> 132 | H11: =IF(G11="","",INDEX(désignation,G11)) -> Metabo SSW 18 LTX 400 BL | J11: =IFERROR(SMALL(Divers!$H$2:$H$600,ROW()-2),"") | K11: =IF(J11="","",INDEX(désignation,J11)) | M11: =IFERROR(SMALL(Divers!$I$2:$I$600,ROW()-2),"") -> 169 | N11: =IF(M11="","",INDEX(désignation,M11)) -> Metabo WPBA 17-125 Quick | P11: =IFERROR(SMALL(Divers!$J$2:$J$600,ROW()-2),"") | Q11: =IF(P11="","",INDEX(désignation,P11)) | S11: =IFERROR(SMALL(Divers!$K$2:$K$600,ROW()-2),"") | T11: =IF(S11="","",INDEX(désignation,S11)) | V11: =IFERROR(SMALL(Divers!$L$2:$L$600,ROW()-2),"") -> 156 | W11: =IF(V11="","",INDEX(désignation,V11)) -> Makita 4351FCTJ | Y11: =IFERROR(SMALL(Divers!$M$2:$M$600,ROW()-2),"") -> 43 | Z11: =IF(Y11="","",INDEX(désignation,Y11)) -> Makita DGD800ZJ (sans accu) | AB11: =IFERROR(SMALL(Divers!$N$2:$N$600,ROW()-2),"") -> 16 | AC11: =IF(AB11="","",INDEX(désignation,AB11)) -> Makita GA5041 TX2
A12: =IFERROR(SMALL(Divers!$E$2:$E$600,ROW()-2),"") | B12: =IF(A12="","",INDEX(désignation,A12)) | D12: =IFERROR(SMALL(Divers!$F$2:$F$600,ROW()-2),"") | E12: =IF(D12="","",INDEX(désignation,D12)) | G12: =IFERROR(SMALL(Divers!$G$2:$G$600,ROW()-2),"") -> 133 | H12: =IF(G12="","",INDEX(désignation,G12)) -> Metabo SSW 18 LTX 600 | J12: =IFERROR(SMALL(Divers!$H$2:$H$600,ROW()-2),"") | K12: =IF(J12="","",INDEX(désignation,J12)) | M12: =IFERROR(SMALL(Divers!$I$2:$I$600,ROW()-2),"") -> 170 | N12: =IF(M12="","",INDEX(désignation,M12)) -> Metabo WEV15-125 Quick | P12: =IFERROR(SMALL(Divers!$J$2:$J$600,ROW()-2),"") | Q12: =IF(P12="","",INDEX(désignation,P12)) | S12: =IFERROR(SMALL(Divers!$K$2:$K$600,ROW()-2),"") | T12: =IF(S12="","",INDEX(désignation,S12)) | V12: =IFERROR(SMALL(Divers!$L$2:$L$600,ROW()-2),"") -> 157 | W12: =IF(V12="","",INDEX(désignation,V12)) -> Metabo STEB 80 QUICK | Y12: =IFERROR(SMALL(Divers!$M$2:$M$600,ROW()-2),"") -> 44 | Z12: =IF(Y12="","",INDEX(désignation,Y12)) -> Metabo GA18 LTX | AB12: =IFERROR(SMALL(Divers!$N$2:$N$600,ROW()-2),"") -> 17 | AC12: =IF(AB12="","",INDEX(désignation,AB12)) -> Makita GA5040RKDJ
A13: =IFERROR(SMALL(Divers!$E$2:$E$600,ROW()-2),"") | B13: =IF(A13="","",INDEX(désignation,A13)) | D13: =IFERROR(SMALL(Divers!$F$2:$F$600,ROW()-2),"") | E13: =IF(D13="","",INDEX(désignation,D13)) | G13: =IFERROR(SMALL(Divers!$G$2:$G$600,ROW()-2),"") -> 134 | H13: =IF(G13="","",INDEX(désignation,G13)) -> Makita GA9030SF01 | J13: =IFERROR(SMALL(Divers!$H$2:$H$600,ROW()-2),"") | K13: =IF(J13="","",INDEX(désignation,J13)) | M13: =IFERROR(SMALL(Divers!$I$2:$I$600,ROW()-2),"") -> 171 | N13: =IF(M13="","",INDEX(désignation,M13)) -> Makita GA5041 TX2 | P13: =IFERROR(SMALL(Divers!$J$2:$J$600,ROW()-2),"") | Q13: =IF(P13="","",INDEX(désignation,P13)) | S13: =IFERROR(SMALL(Divers!$K$2:$K$600,ROW()-2),"") | T13: =IF(S13="","",INDEX(désignation,S13)) | V13: =IFERROR(SMALL(Divers!$L$2:$L$600,ROW()-2),"") -> 158 | W13: =IF(V13="","",INDEX(désignation,V13)) -> Makita 5903RKX1 | Y13: =IFERROR(SMALL(Divers!$M$2:$M$600,ROW()-2),"") -> 45 | Z13: =IF(Y13="","",INDEX(désignation,Y13)) -> Metabo GPA 18 LTX | AB13: =IFERROR(SMALL(Divers!$N$2:$N$600,ROW()-2),"") -> 18 | AC13: =IF(AB13="","",INDEX(désignation,AB13)) -> Makita 9565CRX1
A14: =IFERROR(SMALL(Divers!$E$2:$E$600,ROW()-2),"") | B14: =IF(A14="","",INDEX(désignation,A14)) | D14: =IFERROR(SMALL(Divers!$F$2:$F$600,ROW()-2),"") | E14: =IF(D14="","",INDEX(désignation,D14)) | G14: =IFERROR(SMALL(Divers!$G$2:$G$600,ROW()-2),"") -> 135 | H14: =IF(G14="","",INDEX(désignation,G14)) -> Makita GA9040RF01 | J14: =IFERROR(SMALL(Divers!$H$2:$H$600,ROW()-2),"") | K14: =IF(J14="","",INDEX(désignation,J14)) | M14: =IFERROR(SMALL(Divers!$I$2:$I$600,ROW()-2),"") -> 172 | N14: =IF(M14="","",INDEX(désignation,M14)) -> Makita GA5040RKDJ | P14: =IFERROR(SMALL(Divers!$J$2:$J$600,ROW()-2),"") | Q14: =IF(P14="","",INDEX(désignation,P14)) | S14: =IFERROR(SMALL(Divers!$K$2:$K$600,ROW()-2),"") | T14: =IF(S14="","",INDEX(désignation,S14)) | V14: =IFERROR(SMALL(Divers!$L$2:$L$600,ROW()-2),"") -> 159 | W14: =IF(V14="","",INDEX(désignation,V14)) -> Metabo KSE 68 Plus | Y14: =IFERROR(SMALL(Divers!$M$2:$M$600,ROW()-2),"") -> 46 | Z14: =IF(Y14="","",INDEX(désignation,Y14)) -> Makita DGA506RTJ LTX18V | AB14: =IFERROR(SMALL(Divers!$N$2:$N$600,ROW()-2),"") -> 19 | AC14: =IF(AB14="","",INDEX(désignation,AB14)) -> Metabo GEP710 Plus
... A42: =IFERROR(SMALL(Divers!$E$2:$E$600,ROW()-2),"") | B42: =IF(A42="","",INDEX(désignation,A42)) | D42: =IFERROR(SMALL(Divers!$F$2:$F$600,ROW()-2),"") | E42: =IF(D42="","",INDEX(désignation,D42)) | G42: =IFERROR(SMALL(Divers!$G$2:$G$600,ROW()-2),"") | H42: =IF(G42="","",INDEX(désignation,G42)) | J42: =IFERROR(SMALL(Divers!$H$2:$H$600,ROW()-2),"") | K42: =IF(J42="","",INDEX(désignation,J42)) | M42: =IFERROR(SMALL(Divers!$I$2:$I$600,ROW()-2),"") | N42: =IF(M42="","",INDEX(désignation,M42)) | P42: =IFERROR(SMALL(Divers!$J$2:$J$600,ROW()-2),"") | Q42: =IF(P42="","",INDEX(désignation,P42)) | S42: =IFERROR(SMALL(Divers!$K$2:$K$600,ROW()-2),"") | T42: =IF(S42="","",INDEX(désignation,S42)) | V42: =IFERROR(SMALL(Divers!$L$2:$L$600,ROW()-2),"") | W42: =IF(V42="","",INDEX(désignation,V42)) | Y42: =IFERROR(SMALL(Divers!$M$2:$M$600,ROW()-2),"") | Z42: =IF(Y42="","",INDEX(désignation,Y42)) | AB42: =IFERROR(SMALL(Divers!$N$2:$N$600,ROW()-2),"") | AC42: =IF(AB42="","",INDEX(désignation,AB42))

Sheet Divers
E1: APPAREIL_DE_MESURE_ET_DE_CONTROLE | F1: ASPIRATEUR | G1: BOULONNEUSE | H1: CHARGEUR_DE_BATTERIE | I1: COMPRESSEUR | J1: GENERATEUR_PISTOLET_A_AIR_CHAUD | K1: MACHINE_À_PONCER_POUR_ATELIERS | L1: MACHINE_A_SCIER_COUPER | M1: MEULEUSE_SUR_ACCU | N1: MEULEUSE_SUR_SECTEUR
A2: =IF(ISNUMBER(MATCH(C2,Tableau!$2:$2,0)),"",C2) | B2: =COUNTIF(im,D2) -> 6 | C2: APPAREIL_DE_MESURE_ET_DE_CONTROLE | D2: IM31057 | E2: =IF('Export Sap'!C2=Tableau!$A$2,ROW(),"0") -> 2 | F2: =IF('Export Sap'!C2=Tableau!$D$2,ROW(),"0") -> 0 | G2: =IF('Export Sap'!C2=Tableau!$G$2,ROW(),"0") -> 0 | H2: =IF('Export Sap'!C2=Tableau!$J$2,ROW(),"0") -> 0 | I2: =IF('Export Sap'!C2=Tableau!$M$2,ROW(),"0") -> 0 | J2: =IF('Export Sap'!C2=Tableau!$P$2,ROW(),"0") -> 0 | K2: =IF('Export Sap'!C2=Tableau!$S$2,ROW(),"0") -> 0 | L2: =IF('Export Sap'!C2=Tableau!$V$2,ROW(),"0") -> 0 | M2: =IF('Export Sap'!C2=Tableau!$Y$2,ROW(),"0") -> 0 | N2: =IF('Export Sap'!C2=Tableau!$AB$2,ROW(),"0") -> 0
A3: =IF(ISNUMBER(MATCH(C3,Tableau!$2:$2,0)),"",C3) | B3: =COUNTIF(im,D3) -> 9 | C3: ASPIRATEUR | D3: IM31851 | E3: =IF('Export Sap'!C3=Tableau!$A$2,ROW(),"0") -> 3 | F3: =IF('Export Sap'!C3=Tableau!$D$2,ROW(),"0") -> 0 | G3: =IF('Export Sap'!C3=Tableau!$G$2,ROW(),"0") -> 0 | H3: =IF('Export Sap'!C3=Tableau!$J$2,ROW(),"0") -> 0 | I3: =IF('Export Sap'!C3=Tableau!$M$2,ROW(),"0") -> 0 | J3: =IF('Export Sap'!C3=Tableau!$P$2,ROW(),"0") -> 0 | K3: =IF('Export Sap'!C3=Tableau!$S$2,ROW(),"0") -> 0 | L3: =IF('Export Sap'!C3=Tableau!$V$2,ROW(),"0") -> 0 | M3: =IF('Export Sap'!C3=Tableau!$Y$2,ROW(),"0") -> 0 | N3: =IF('Export Sap'!C3=Tableau!$AB$2,ROW(),"0") -> 0
A4: =IF(ISNUMBER(MATCH(C4,Tableau!$2:$2,0)),"",C4) | B4: =COUNTIF(im,D4) -> 24 | C4: BOULONNEUSE | D4: IM31561 | E4: =IF('Export Sap'!C4=Tableau!$A$2,ROW(),"0") -> 4 | F4: =IF('Export Sap'!C4=Tableau!$D$2,ROW(),"0") -> 0 | G4: =IF('Export Sap'!C4=Tableau!$G$2,ROW(),"0") -> 0 | H4: =IF('Export Sap'!C4=Tableau!$J$2,ROW(),"0") -> 0 | I4: =IF('Export Sap'!C4=Tableau!$M$2,ROW(),"0") -> 0 | J4: =IF('Export Sap'!C4=Tableau!$P$2,ROW(),"0") -> 0 | K4: =IF('Export Sap'!C4=Tableau!$S$2,ROW(),"0") -> 0 | L4: =IF('Export Sap'!C4=Tableau!$V$2,ROW(),"0") -> 0 | M4: =IF('Export Sap'!C4=Tableau!$Y$2,ROW(),"0") -> 0 | N4: =IF('Export Sap'!C4=Tableau!$AB$2,ROW(),"0") -> 0
A5: =IF(ISNUMBER(MATCH(C5,Tableau!$2:$2,0)),"",C5) | B5: =COUNTIF(im,D5) -> 2 | C5: CHARGEUR_DE_BATTERIE | D5: IM39000 | E5: =IF('Export Sap'!C5=Tableau!$A$2,ROW(),"0") -> 5 | F5: =IF('Export Sap'!C5=Tableau!$D$2,ROW(),"0") -> 0 | G5: =IF('Export Sap'!C5=Tableau!$G$2,ROW(),"0") -> 0 | H5: =IF('Export Sap'!C5=Tableau!$J$2,ROW(),"0") -> 0 | I5: =IF('Export Sap'!C5=Tableau!$M$2,ROW(),"0") -> 0 | J5: =IF('Export Sap'!C5=Tableau!$P$2,ROW(),"0") -> 0 | K5: =IF('Export Sap'!C5=Tableau!$S$2,ROW(),"0") -> 0 | L5: =IF('Export Sap'!C5=Tableau!$V$2,ROW(),"0") -> 0 | M5: =IF('Export Sap'!C5=Tableau!$Y$2,ROW(),"0") -> 0 | N5: =IF('Export Sap'!C5=Tableau!$AB$2,ROW(),"0") -> 0
A6: =IF(ISNUMBER(MATCH(C6,Tableau!$2:$2,0)),"",C6) | B6: =COUNTIF(im,D6) -> 24 | C6: COMPRESSEUR | D6: IM31812 | E6: =IF('Export Sap'!C6=Tableau!$A$2,ROW(),"0") -> 6 | F6: =IF('Export Sap'!C6=Tableau!$D$2,ROW(),"0") -> 0 | G6: =IF('Export Sap'!C6=Tableau!$G$2,ROW(),"0") -> 0 | H6: =IF('Export Sap'!C6=Tableau!$J$2,ROW(),"0") -> 0 | I6: =IF('Export Sap'!C6=Tableau!$M$2,ROW(),"0") -> 0 | J6: =IF('Export Sap'!C6=Tableau!$P$2,ROW(),"0") -> 0 | K6: =IF('Export Sap'!C6=Tableau!$S$2,ROW(),"0") -> 0 | L6: =IF('Export Sap'!C6=Tableau!$V$2,ROW(),"0") -> 0 | M6: =IF('Export Sap'!C6=Tableau!$Y$2,ROW(),"0") -> 0 | N6: =IF('Export Sap'!C6=Tableau!$AB$2,ROW(),"0") -> 0
A7: =IF(ISNUMBER(MATCH(C7,Tableau!$2:$2,0)),"",C7) | B7: =COUNTIF(im,D7) -> 6 | C7: GENERATEUR_PISTOLET_A_AIR_CHAUD | D7: IM31895 | E7: =IF('Export Sap'!C7=Tableau!$A$2,ROW(),"0") -> 7 | F7: =IF('Export Sap'!C7=Tableau!$D$2,ROW(),"0") -> 0 | G7: =IF('Export Sap'!C7=Tableau!$G$2,ROW(),"0") -> 0 | H7: =IF('Export Sap'!C7=Tableau!$J$2,ROW(),"0") -> 0 | I7: =IF('Export Sap'!C7=Tableau!$M$2,ROW(),"0") -> 0 | J7: =IF('Export Sap'!C7=Tableau!$P$2,ROW(),"0") -> 0 | K7: =IF('Export Sap'!C7=Tableau!$S$2,ROW(),"0") -> 0 | L7: =IF('Export Sap'!C7=Tableau!$V$2,ROW(),"0") -> 0 | M7: =IF('Export Sap'!C7=Tableau!$Y$2,ROW(),"0") -> 0 | N7: =IF('Export Sap'!C7=Tableau!$AB$2,ROW(),"0") -> 0
A8: =IF(ISNUMBER(MATCH(C8,Tableau!$2:$2,0)),"",C8) | B8: =COUNTIF(im,D8) -> 6 | C8: MACHINE_À_PONCER_POUR_ATELIERS | D8: IM31540 | E8: =IF('Export Sap'!C8=Tableau!$A$2,ROW(),"0") -> 0 | F8: =IF('Export Sap'!C8=Tableau!$D$2,ROW(),"0") -> 0 | G8: =IF('Export Sap'!C8=Tableau!$G$2,ROW(),"0") -> 0 | H8: =IF('Export Sap'!C8=Tableau!$J$2,ROW(),"0") -> 0 | I8: =IF('Export Sap'!C8=Tableau!$M$2,ROW(),"0") -> 0 | J8: =IF('Export Sap'!C8=Tableau!$P$2,ROW(),"0") -> 0 | K8: =IF('Export Sap'!C8=Tableau!$S$2,ROW(),"0") -> 0 | L8: =IF('Export Sap'!C8=Tableau!$V$2,ROW(),"0") -> 0 | M8: =IF('Export Sap'!C8=Tableau!$Y$2,ROW(),"0") -> 0 | N8: =IF('Export Sap'!C8=Tableau!$AB$2,ROW(),"0") -> 8
A9: =IF(ISNUMBER(MATCH(C9,Tableau!$2:$2,0)),"",C9) | B9: =COUNTIF(im,D9) -> 13 | C9: MACHINE_A_SCIER_COUPER | D9: IM31682 | E9: =IF('Export Sap'!C9=Tableau!$A$2,ROW(),"0") -> 0 | F9: =IF('Export Sap'!C9=Tableau!$D$2,ROW(),"0") -> 0 | G9: =IF('Export Sap'!C9=Tableau!$G$2,ROW(),"0") -> 0 | H9: =IF('Export Sap'!C9=Tableau!$J$2,ROW(),"0") -> 0 | I9: =IF('Export Sap'!C9=Tableau!$M$2,ROW(),"0") -> 0 | J9: =IF('Export Sap'!C9=Tableau!$P$2,ROW(),"0") -> 0 | K9: =IF('Export Sap'!C9=Tableau!$S$2,ROW(),"0") -> 0 | L9: =IF('Export Sap'!C9=Tableau!$V$2,ROW(),"0") -> 0 | M9: =IF('Export Sap'!C9=Tableau!$Y$2,ROW(),"0") -> 0 | N9: =IF('Export Sap'!C9=Tableau!$AB$2,ROW(),"0") -> 9
A10: =IF(ISNUMBER(MATCH(C10,Tableau!$2:$2,0)),"",C10) | B10: =COUNTIF(im,D10) -> 26 | C10: MEULEUSE_SUR_ACCU | D10: IM31416 | E10: =IF('Export Sap'!C10=Tableau!$A$2,ROW(),"0") -> 0 | F10: =IF('Export Sap'!C10=Tableau!$D$2,ROW(),"0") -> 0 | G10: =IF('Export Sap'!C10=Tableau!$G$2,ROW(),"0") -> 0 | H10: =IF('Export Sap'!C10=Tableau!$J$2,ROW(),"0") -> 0 | I10: =IF('Export Sap'!C10=Tableau!$M$2,ROW(),"0") -> 0 | J10: =IF('Export Sap'!C10=Tableau!$P$2,ROW(),"0") -> 0 | K10: =IF('Export Sap'!C10=Tableau!$S$2,ROW(),"0") -> 0 | L10: =IF('Export Sap'!C10=Tableau!$V$2,ROW(),"0") -> 0 | M10: =IF('Export Sap'!C10=Tableau!$Y$2,ROW(),"0") -> 0 | N10: =IF('Export Sap'!C10=Tableau!$AB$2,ROW(),"0") -> 10
A11: =IF(ISNUMBER(MATCH(C11,Tableau!$2:$2,0)),"",C11) | B11: =COUNTIF(im,D11) -> 27 | C11: MEULEUSE_SUR_SECTEUR | D11: IM31415 | E11: =IF('Export Sap'!C11=Tableau!$A$2,ROW(),"0") -> 0 | F11: =IF('Export Sap'!C11=Tableau!$D$2,ROW(),"0") -> 0 | G11: =IF('Export Sap'!C11=Tableau!$G$2,ROW(),"0") -> 0 | H11: =IF('Export Sap'!C11=Tableau!$J$2,ROW(),"0") -> 0 | I11: =IF('Export Sap'!C11=Tableau!$M$2,ROW(),"0") -> 0 | J11: =IF('Export Sap'!C11=Tableau!$P$2,ROW(),"0") -> 0 | K11: =IF('Export Sap'!C11=Tableau!$S$2,ROW(),"0") -> 0 | L11: =IF('Export Sap'!C11=Tableau!$V$2,ROW(),"0") -> 0 | M11: =IF('Export Sap'!C11=Tableau!$Y$2,ROW(),"0") -> 0 | N11: =IF('Export Sap'!C11=Tableau!$AB$2,ROW(),"0") -> 11
A12: =IF(ISNUMBER(MATCH(C12,Tableau!$2:$2,0)),"",C12) -> NETTOYEUR_A_HAUTE_PRESSION | B12: =COUNTIF(im,D12) -> 18 | C12: NETTOYEUR_A_HAUTE_PRESSION | D12: IM31853 | E12: =IF('Export Sap'!C12=Tableau!$A$2,ROW(),"0") -> 0 | F12: =IF('Export Sap'!C12=Tableau!$D$2,ROW(),"0") -> 0 | G12: =IF('Export Sap'!C12=Tableau!$G$2,ROW(),"0") -> 0 | H12: =IF('Export Sap'!C12=Tableau!$J$2,ROW(),"0") -> 0 | I12: =IF('Export Sap'!C12=Tableau!$M$2,ROW(),"0") -> 0 | J12: =IF('Export Sap'!C12=Tableau!$P$2,ROW(),"0") -> 0 | K12: =IF('Export Sap'!C12=Tableau!$S$2,ROW(),"0") -> 0 | L12: =IF('Export Sap'!C12=Tableau!$V$2,ROW(),"0") -> 0 | M12: =IF('Export Sap'!C12=Tableau!$Y$2,ROW(),"0") -> 0 | N12: =IF('Export Sap'!C12=Tableau!$AB$2,ROW(),"0") -> 12
A13: =IF(ISNUMBER(MATCH(C13,Tableau!$2:$2,0)),"",C13) -> PERCEUSE_VISSEUSE_SUR_ACCU | B13: =COUNTIF(im,D13) -> 30 | C13: PERCEUSE_VISSEUSE_SUR_ACCU | D13: IM31544 | E13: =IF('Export Sap'!C13=Tableau!$A$2,ROW(),"0") -> 0 | F13: =IF('Export Sap'!C13=Tableau!$D$2,ROW(),"0") -> 0 | G13: =IF('Export Sap'!C13=Tableau!$G$2,ROW(),"0") -> 0 | H13: =IF('Export Sap'!C13=Tableau!$J$2,ROW(),"0") -> 0 | I13: =IF('Export Sap'!C13=Tableau!$M$2,ROW(),"0") -> 0 | J13: =IF('Export Sap'!C13=Tableau!$P$2,ROW(),"0") -> 0 | K13: =IF('Export Sap'!C13=Tableau!$S$2,ROW(),"0") -> 0 | L13: =IF('Export Sap'!C13=Tableau!$V$2,ROW(),"0") -> 0 | M13: =IF('Export Sap'!C13=Tableau!$Y$2,ROW(),"0") -> 0 | N13: =IF('Export Sap'!C13=Tableau!$AB$2,ROW(),"0") -> 13
... A16: =IF(ISNUMBER(MATCH(C16,Tableau!$2:$2,0)),"",C16) -> VENTILATION_POUR_ATELIERS | B16: =COUNTIF(im,D16) -> 1 | C16: VENTILATION_POUR_ATELIERS | D16: IM31855 | E16: =IF('Export Sap'!C16=Tableau!$A$2,ROW(),"0") -> 0 | F16: =IF('Export Sap'!C16=Tableau!$D$2,ROW(),"0") -> 0 | G16: =IF('Export Sap'!C16=Tableau!$G$2,ROW(),"0") -> 0 | H16: =IF('Export Sap'!C16=Tableau!$J$2,ROW(),"0") -> 0 | I16: =IF('Export Sap'!C16=Tableau!$M$2,ROW(),"0") -> 0 | J16: =IF('Export Sap'!C16=Tableau!$P$2,ROW(),"0") -> 0 | K16: =IF('Export Sap'!C16=Tableau!$S$2,ROW(),"0") -> 0 | L16: =IF('Export Sap'!C16=Tableau!$V$2,ROW(),"0") -> 0 | M16: =IF('Export Sap'!C16=Tableau!$Y$2,ROW(),"0") -> 0 | N16: =IF('Export Sap'!C16=Tableau!$AB$2,ROW(),"0") -> 16
E17: =IF('Export Sap'!C17=Tableau!$A$2,ROW(),"0") -> 0 | F17: =IF('Export Sap'!C17=Tableau!$D$2,ROW(),"0") -> 0 | G17: =IF('Export Sap'!C17=Tableau!$G$2,ROW(),"0") -> 0 | H17: =IF('Export Sap'!C17=Tableau!$J$2,ROW(),"0") -> 0 | I17: =IF('Export Sap'!C17=Tableau!$M$2,ROW(),"0") -> 0 | J17: =IF('Export Sap'!C17=Tableau!$P$2,ROW(),"0") -> 0 | K17: =IF('Export Sap'!C17=Tableau!$S$2,ROW(),"0") -> 0 | L17: =IF('Export Sap'!C17=Tableau!$V$2,ROW(),"0") -> 0 | M17: =IF('Export Sap'!C17=Tableau!$Y$2,ROW(),"0") -> 0 | N17: =IF('Export Sap'!C17=Tableau!$AB$2,ROW(),"0") -> 17
E18: =IF('Export Sap'!C18=Tableau!$A$2,ROW(),"0") -> 0 | F18: =IF('Export Sap'!C18=Tableau!$D$2,ROW(),"0") -> 0 | G18: =IF('Export Sap'!C18=Tableau!$G$2,ROW(),"0") -> 0 | H18: =IF('Export Sap'!C18=Tableau!$J$2,ROW(),"0") -> 0 | I18: =IF('Export Sap'!C18=Tableau!$M$2,ROW(),"0") -> 0 | J18: =IF('Export Sap'!C18=Tableau!$P$2,ROW(),"0") -> 0 | K18: =IF('Export Sap'!C18=Tableau!$S$2,ROW(),"0") -> 0 | L18: =IF('Export Sap'!C18=Tableau!$V$2,ROW(),"0") -> 0 | M18: =IF('Export Sap'!C18=Tableau!$Y$2,ROW(),"0") -> 0 | N18: =IF('Export Sap'!C18=Tableau!$AB$2,ROW(),"0") -> 18
E19: =IF('Export Sap'!C19=Tableau!$A$2,ROW(),"0") -> 0 | F19: =IF('Export Sap'!C19=Tableau!$D$2,ROW(),"0") -> 0 | G19: =IF('Export Sap'!C19=Tableau!$G$2,ROW(),"0") -> 0 | H19: =IF('Export Sap'!C19=Tableau!$J$2,ROW(),"0") -> 0 | I19: =IF('Export Sap'!C19=Tableau!$M$2,ROW(),"0") -> 0 | J19: =IF('Export Sap'!C19=Tableau!$P$2,ROW(),"0") -> 0 | K19: =IF('Export Sap'!C19=Tableau!$S$2,ROW(),"0") -> 0 | L19: =IF('Export Sap'!C19=Tableau!$V$2,ROW(),"0") -> 0 | M19: =IF('Export Sap'!C19=Tableau!$Y$2,ROW(),"0") -> 0 | N19: =IF('Export Sap'!C19=Tableau!$AB$2,ROW(),"0") -> 19
E20: =IF('Export Sap'!C20=Tableau!$A$2,ROW(),"0") -> 0 | F20: =IF('Export Sap'!C20=Tableau!$D$2,ROW(),"0") -> 0 | G20: =IF('Export Sap'!C20=Tableau!$G$2,ROW(),"0") -> 0 | H20: =IF('Export Sap'!C20=Tableau!$J$2,ROW(),"0") -> 0 | I20: =IF('Export Sap'!C20=Tableau!$M$2,ROW(),"0") -> 0 | J20: =IF('Export Sap'!C20=Tableau!$P$2,ROW(),"0") -> 0 | K20: =IF('Export Sap'!C20=Tableau!$S$2,ROW(),"0") -> 0 | L20: =IF('Export Sap'!C20=Tableau!$V$2,ROW(),"0") -> 0 | M20: =IF('Export Sap'!C20=Tableau!$Y$2,ROW(),"0") -> 0 | N20: =IF('Export Sap'!C20=Tableau!$AB$2,ROW(),"0") -> 20
E21: =IF('Export Sap'!C21=Tableau!$A$2,ROW(),"0") -> 0 | F21: =IF('Export Sap'!C21=Tableau!$D$2,ROW(),"0") -> 0 | G21: =IF('Export Sap'!C21=Tableau!$G$2,ROW(),"0") -> 0 | H21: =IF('Export Sap'!C21=Tableau!$J$2,ROW(),"0") -> 0 | I21: =IF('Export Sap'!C21=Tableau!$M$2,ROW(),"0") -> 0 | J21: =IF('Export Sap'!C21=Tableau!$P$2,ROW(),"0") -> 0 | K21: =IF('Export Sap'!C21=Tableau!$S$2,ROW(),"0") -> 0 | L21: =IF('Export Sap'!C21=Tableau!$V$2,ROW(),"0") -> 0 | M21: =IF('Export Sap'!C21=Tableau!$Y$2,ROW(),"0") -> 0 | N21: =IF('Export Sap'!C21=Tableau!$AB$2,ROW(),"0") -> 21
E22: =IF('Export Sap'!C22=Tableau!$A$2,ROW(),"0") -> 0 | F22: =IF('Export Sap'!C22=Tableau!$D$2,ROW(),"0") -> 0 | G22: =IF('Export Sap'!C22=Tableau!$G$2,ROW(),"0") -> 0 | H22: =IF('Export Sap'!C22=Tableau!$J$2,ROW(),"0") -> 0 | I22: =IF('Export Sap'!C22=Tableau!$M$2,ROW(),"0") -> 0 | J22: =IF('Export Sap'!C22=Tableau!$P$2,ROW(),"0") -> 0 | K22: =IF('Export Sap'!C22=Tableau!$S$2,ROW(),"0") -> 0 | L22: =IF('Export Sap'!C22=Tableau!$V$2,ROW(),"0") -> 0 | M22: =IF('Export Sap'!C22=Tableau!$Y$2,ROW(),"0") -> 0 | N22: =IF('Export Sap'!C22=Tableau!$AB$2,ROW(),"0") -> 22
E23: =IF('Export Sap'!C23=Tableau!$A$2,ROW(),"0") -> 0 | F23: =IF('Export Sap'!C23=Tableau!$D$2,ROW(),"0") -> 0 | G23: =IF('Export Sap'!C23=Tableau!$G$2,ROW(),"0") -> 0 | H23: =IF('Export Sap'!C23=Tableau!$J$2,ROW(),"0") -> 0 | I23: =IF('Export Sap'!C23=Tableau!$M$2,ROW(),"0") -> 0 | J23: =IF('Export Sap'!C23=Tableau!$P$2,ROW(),"0") -> 0 | K23: =IF('Export Sap'!C23=Tableau!$S$2,ROW(),"0") -> 0 | L23: =IF('Export Sap'!C23=Tableau!$V$2,ROW(),"0") -> 0 | M23: =IF('Export Sap'!C23=Tableau!$Y$2,ROW(),"0") -> 0 | N23: =IF('Export Sap'!C23=Tableau!$AB$2,ROW(),"0") -> 23
E24: =IF('Export Sap'!C24=Tableau!$A$2,ROW(),"0") -> 0 | F24: =IF('Export Sap'!C24=Tableau!$D$2,ROW(),"0") -> 0 | G24: =IF('Export Sap'!C24=Tableau!$G$2,ROW(),"0") -> 0 | H24: =IF('Export Sap'!C24=Tableau!$J$2,ROW(),"0") -> 0 | I24: =IF('Export Sap'!C24=Tableau!$M$2,ROW(),"0") -> 0 | J24: =IF('Export Sap'!C24=Tableau!$P$2,ROW(),"0") -> 0 | K24: =IF('Export Sap'!C24=Tableau!$S$2,ROW(),"0") -> 0 | L24: =IF('Export Sap'!C24=Tableau!$V$2,ROW(),"0") -> 0 | M24: =IF('Export Sap'!C24=Tableau!$Y$2,ROW(),"0") -> 0 | N24: =IF('Export Sap'!C24=Tableau!$AB$2,ROW(),"0") -> 24
E25: =IF('Export Sap'!C25=Tableau!$A$2,ROW(),"0") -> 0 | F25: =IF('Export Sap'!C25=Tableau!$D$2,ROW(),"0") -> 0 | G25: =IF('Export Sap'!C25=Tableau!$G$2,ROW(),"0") -> 0 | H25: =IF('Export Sap'!C25=Tableau!$J$2,ROW(),"0") -> 0 | I25: =IF('Export Sap'!C25=Tableau!$M$2,ROW(),"0") -> 0 | J25: =IF('Export Sap'!C25=Tableau!$P$2,ROW(),"0") -> 0 | K25: =IF('Export Sap'!C25=Tableau!$S$2,ROW(),"0") -> 0 | L25: =IF('Export Sap'!C25=Tableau!$V$2,ROW(),"0") -> 0 | M25: =IF('Export Sap'!C25=Tableau!$Y$2,ROW(),"0") -> 0 | N25: =IF('Export Sap'!C25=Tableau!$AB$2,ROW(),"0") -> 25
E26: =IF('Export Sap'!C26=Tableau!$A$2,ROW(),"0") -> 0 | F26: =IF('Export Sap'!C26=Tableau!$D$2,ROW(),"0") -> 0 | G26: =IF('Export Sap'!C26=Tableau!$G$2,ROW(),"0") -> 0 | H26: =IF('Export Sap'!C26=Tableau!$J$2,ROW(),"0") -> 0 | I26: =IF('Export Sap'!C26=Tableau!$M$2,ROW(),"0") -> 0 | J26: =IF('Export Sap'!C26=Tableau!$P$2,ROW(),"0") -> 0 | K26: =IF('Export Sap'!C26=Tableau!$S$2,ROW(),"0") -> 0 | L26: =IF('Export Sap'!C26=Tableau!$V$2,ROW(),"0") -> 0 | M26: =IF('Export Sap'!C26=Tableau!$Y$2,ROW(),"0") -> 0 | N26: =IF('Export Sap'!C26=Tableau!$AB$2,ROW(),"0") -> 26
E27: =IF('Export Sap'!C27=Tableau!$A$2,ROW(),"0") -> 0 | F27: =IF('Export Sap'!C27=Tableau!$D$2,ROW(),"0") -> 0 | G27: =IF('Export Sap'!C27=Tableau!$G$2,ROW(),"0") -> 0 | H27: =IF('Export Sap'!C27=Tableau!$J$2,ROW(),"0") -> 0 | I27: =IF('Export Sap'!C27=Tableau!$M$2,ROW(),"0") -> 0 | J27: =IF('Export Sap'!C27=Tableau!$P$2,ROW(),"0") -> 0 | K27: =IF('Export Sap'!C27=Tableau!$S$2,ROW(),"0") -> 0 | L27: =IF('Export Sap'!C27=Tableau!$V$2,ROW(),"0") -> 0 | M27: =IF('Export Sap'!C27=Tableau!$Y$2,ROW(),"0") -> 0 | N27: =IF('Export Sap'!C27=Tableau!$AB$2,ROW(),"0") -> 27
E28: =IF('Export Sap'!C28=Tableau!$A$2,ROW(),"0") -> 0 | F28: =IF('Export Sap'!C28=Tableau!$D$2,ROW(),"0") -> 0 | G28: =IF('Export Sap'!C28=Tableau!$G$2,ROW(),"0") -> 0 | H28: =IF('Export Sap'!C28=Tableau!$J$2,ROW(),"0") -> 0 | I28: =IF('Export Sap'!C28=Tableau!$M$2,ROW(),"0") -> 0 | J28: =IF('Export Sap'!C28=Tableau!$P$2,ROW(),"0") -> 0 | K28: =IF('Export Sap'!C28=Tableau!$S$2,ROW(),"0") -> 0 | L28: =IF('Export Sap'!C28=Tableau!$V$2,ROW(),"0") -> 0 | M28: =IF('Export Sap'!C28=Tableau!$Y$2,ROW(),"0") -> 0 | N28: =IF('Export Sap'!C28=Tableau!$AB$2,ROW(),"0") -> 28
... E600: =IF('Export Sap'!C600=Tableau!$A$2,ROW(),"0") -> 0 | F600: =IF('Export Sap'!C600=Tableau!$D$2,ROW(),"0") -> 0 | G600: =IF('Export Sap'!C600=Tableau!$G$2,ROW(),"0") -> 0 | H600: =IF('Export Sap'!C600=Tableau!$J$2,ROW(),"0") -> 0 | I600: =IF('Export Sap'!C600=Tableau!$M$2,ROW(),"0") -> 0 | J600: =IF('Export Sap'!C600=Tableau!$P$2,ROW(),"0") -> 0 | K600: =IF('Export Sap'!C600=Tableau!$S$2,ROW(),"0") -> 0 | L600: =IF('Export Sap'!C600=Tableau!$V$2,ROW(),"0") -> 0 | M600: =IF('Export Sap'!C600=Tableau!$Y$2,ROW(),"0") -> 0 | N600: =IF('Export Sap'!C600=Tableau!$AB$2,ROW(),"0") -> 0
