Workbook

Sheet Liste_Generale
A1: nom | B1: prenom | C1: age
A2: a | B2: a1 | C2: tranche1
A3: a | B3: a2 | C3: tranche1
A4: a | B4: a3 | C4: tranche1
A5: a | B5: a4 | C5: tranche1
A6: a | B6: a5 | C6: tranche1
A7: a | B7: a6 | C7: tranche2
A8: a | B8: a7 | C8: tranche2
A9: a | B9: a8 | C9: tranche2
A10: a | B10: a9 | C10: tranche2
A11: a | B11: a10 | C11: tranche2
A12: a | B12: a11 | C12: tranche2
... A15: a | B15: a14 | C15: tranche2

Sheet Listeformatee
A1: Lieu numero 1 - tranche d'age
A2: Nom et prenom | B2: Age
A3: =Liste_Generale!A2&" "&Liste_Generale!B2 -> a a1 | B3: =Liste_Generale!C2 -> tranche1
A4: =Liste_Generale!A3&" "&Liste_Generale!B3 -> a a2 | B4: =Liste_Generale!C3 -> tranche1
A5: =Liste_Generale!A4&" "&Liste_Generale!B4 -> a a3 | B5: =Liste_Generale!C4 -> tranche1
A6: =Liste_Generale!A5&" "&Liste_Generale!B5 -> a a4 | B6: =Liste_Generale!C5 -> tranche1
A7: =Liste_Generale!A6&" "&Liste_Generale!B6 -> a a5 | B7: =Liste_Generale!C6 -> tranche1
A8: =Liste_Generale!A7&" "&Liste_Generale!B7 -> a a6 | B8: =Liste_Generale!C7 -> tranche2
A9: =Liste_Generale!A8&" "&Liste_Generale!B8 -> a a7 | B9: =Liste_Generale!C8 -> tranche2
A10: =Liste_Generale!A9&" "&Liste_Generale!B9 -> a a8 | B10: =Liste_Generale!C9 -> tranche2
A11: =Liste_Generale!A10&" "&Liste_Generale!B10 -> a a9 | B11: =Liste_Generale!C10 -> tranche2
A12: =Liste_Generale!A11&" "&Liste_Generale!B11 -> a a10 | B12: =Liste_Generale!C11 -> tranche2
A13: =Liste_Generale!A12&" "&Liste_Generale!B12 -> a a11 | B13: =Liste_Generale!C12 -> tranche2
A14: =Liste_Generale!A13&" "&Liste_Generale!B13 -> a a12 | B14: =Liste_Generale!C13 -> tranche2
