Workbook

Sheet S3
A1: Date du 11 Janvier | E1: Différence | F1: Nbre de places MAX
A2: STOCKEUR | B2: DEPOT | C2: TOUR | D2: Nbre de pal | F2: Garnier
A3: GARNIER | B3: Z93 | C3: T2 | D3: 12360
B4: Z97 | C4: T3 | D4: 338
B5: YE2 | C5: YFF | D5: 900
A6: TOTAL GLOBAL | D6: =SUM(D3:D5) -> 13598 | E6: =F6-D6 -> -598 | F6: 13000
A7: GB | B7: Z81 | C7: T2 H | D7: 526 | F7: Gb vildé
B8: Z84 | C8: T2 V | D8: 577 | E8: =F8-D8-D9-D11 -> 659 | F8: 2500
B9: Z89 | C9: T3 | D9: 1086 | F9: Gb Hénansal
B10: YE3 | C10: YFF H | D10: 68 | E10: =F10-D7-D10 -> 906 | F10: 1500
B11: YE4 | C11: YFF V | D11: 178
A12: TOTAL GLOBAL | D12: =SUM(D7:D11) -> 2435 | F12: Gélin
A13: GELIN | B13: Z80 | C13: T2 | D13: 37 | E13: =F13-D15 -> 538 | F13: 2000
B14: Z90 | C14: T3 | D14: 1425
A15: TOTAL GLOBAL | D15: =SUM(D13:D14) -> 1462
A16: CELTIC | B16: Z91 | C16: T2 | D16: 646 | E16: =F17-D18 -> 3354 | F16: Celtic
B17: YE5 | C17: YFF | F17: 4000
A18: TOTAL GLOBAL | D18: =SUM(D16:D17) -> 646
A21: Attention les places MAX comprennent les sites de Landerneau dont je n'ai pas les informations du nombre de places .
A23: Et pour Info, Landerneau sont sur les sites de Garnier et Celtic.
A24: Et la fromagerie est sur le Site de Hénansal ou je n'ai pas d'info non plus

Sheet S4
A1: Date du 18 Janvier | E1: Différence | F1: Nbre de places MAX | G1: Landerneau | H1: Différence
A2: STOCKEUR | B2: DEPOT | C2: TOUR | D2: Nbre de pal | F2: Garnier | G2: Entrant
A3: GARNIER | B3: Z93 | C3: T2 | D3: 11265 | G3: 96
B4: Z97 | C4: T3 | D4: 358 | G4: Sortant
B5: YE2 | C5: YFF | D5: 865 | G5: 96
A6: TOTAL GLOBAL | D6: =SUM(D3:D5)+G6+H6 -> 13148 | E6: =F6-D6 -> -148 | F6: 13000 | G6: 660 | H6: =G3-G5 -> 0
A7: GB | B7: Z81 | C7: T2 H | D7: 510 | F7: Gb vildé
B8: Z84 | C8: T2 V | D8: 577 | E8: =F8-D8-D9-D12 -> 769 | F8: 2500
B9: Z89 | C9: T3 | D9: 1024 | F9: Gb Hénansal
B10: Z98 | C10: T3 H | D10: 329
B11: YE3 | C11: YFF H | D11: 68 | E11: =F11-D7-D11-D10 -> 593 | F11: 1500
B12: YE4 | C12: YFF V | D12: 130
A13: TOTAL GLOBAL | D13: =SUM(D7:D12) -> 2638 | F13: Gélin
A14: GELIN | B14: Z80 | C14: T2 | D14: 13 | E14: =F14-D16 -> 604 | F14: 2000
B15: Z90 | C15: T3 | D15: 1383
A16: TOTAL GLOBAL | D16: =SUM(D14:D15) -> 1396
A17: CELTIC | G17: Entrant | H17: Différence
G18: 214
B19: Z91 | C19: T2 | D19: 944 | E19: =F20-D21 -> 629 | F19: Celtic | G19: Sortant
B20: YE5 | C20: YFF | D20: 733 | F20: 4000 | G20: 119
A21: TOTAL GLOBAL | D21: =SUM(D19:D20)+G21+H21 -> 3371 | G21: 1599 | H21: =G18-G20 -> 95
A24: Attention les places MAX comprennent les sites de Landerneau dont je n'ai pas les informations du nombre de places .
A26: Et pour Info, Landerneau sont sur les sites de Garnier et Celtic.
A27: Et la fromagerie est sur le Site de Hénansal ou je n'ai pas d'info non plus

Sheet S5
A1: Date du 25 Janvier | E1: Différence | F1: Nbre de places MAX | G1: Landerneau | H1: Différence | I1: Créhen/Yff | J1: Différence
A2: STOCKEUR | B2: DEPOT | C2: TOUR | D2: Nbre de pal | F2: Garnier | G2: Entrant | I2: Entrant
A3: GARNIER | B3: Z93 | C3: T2 | D3: 10676 | I3: 720
B4: Z97 | C4: T3 | D4: 424 | G4: Sortant | I4: Sortant
B5: YE2 | C5: YFF | D5: 815 | I5: =168+372+478 -> 1018
A6: TOTAL GLOBAL | D6: =SUM(D3:D5)+G6+H6+J6 -> 12277 | E6: =F6-D6 -> 723 | F6: 13000 | G6: 660 | H6: =G3-G5 -> 0 | J6: =I3-I5 -> -298
A7: GB | B7: Z81 | C7: T2 H | D7: 544 | F7: Gb vildé
B8: Z84 | C8: T2 V | D8: 649 | E8: =F8-D8-D9-D12+J11 -> 781 | F8: 2500 | I8: Entrant
B9: Z89 | C9: T3 | D9: 1076 | F9: Gb Hénansal | I9: 144
B10: Z98 | C10: T3 H | D10: 335 | I10: Sortant
B11: YE3 | C11: YFF H | D11: 68 | E11: =F11-D7-D11-D10+J15 -> 592 | F11: 1500 | I11: =2+6 -> 8 | J11: =I9-I11 -> 136
B12: YE4 | C12: YFF V | D12: 130 | I12: Entrant
A13: TOTAL GLOBAL | D13: =SUM(D7:D12) -> 2802 | I13: 234
I14: Sortant
I15: 195 | J15: =I13-I15 -> 39
A16: GELIN | B16: Z80 | C16: T2 | D16: 13 | E16: =F17-D18+J19 -> 804 | F16: Gélin | I16: Entrant
B17: Z90 | C17: T3 | D17: 1361 | F17: 2000 | I17: 216
A18: TOTAL GLOBAL | D18: =SUM(D16:D17) -> 1374 | I18: Sortant
I19: 38 | J19: =I17-I19 -> 178
A20: CELTIC | G20: Entrant | H20: Différence | I20: Entrant
D21: 835 | I21: =166+37+478 -> 681
B22: Z91 | C22: T2 | D22: 1868 | E22: =F23-D24+J24 -> 3850 | F22: Celtic | G22: Sortant | I22: Sortant
B23: YE5 | C23: YFF | F23: 6833 | I23: 102
A24: TOTAL GLOBAL | D24: =SUM(D22:D23)+G24+H24 -> 3562 | G24: 1694 | H24: =G21-G23 -> 0 | J24: =I21-I23 -> 579
A27: Et la fromagerie est sur le Site de Hénansal ou je n'ai pas d'info non plus

Sheet S6
A1: Date du 01 Février | E1: Prévision | F1: Différence | G1: Nbre de places MAX | H1: Landerneau | I1: Différence | J1: Créhen/Yff | K1: Différence
A2: STOCKEUR | B2: DEPOT | C2: TOUR | D2: Nbre de pal | G2: Garnier | H2: Entrant | J2: Entrant
A3: GARNIER | B3: Z93 | C3: T2 | D3: 10433 | J3: 1104
B4: Z97 | C4: T3 | D4: 421 | H4: Sortant | J4: Sortant
B5: YE2 | C5: YFF | D5: 719 | H5: =24+24+24+24+24 -> 120 | J5: =214+528 -> 742
A6: TOTAL GLOBAL | D6: =SUM(D3:D5) -> 11573 | E6: =D6+H6+I6+K6 -> 12476 | F6: =G6-D6 -> 1427 | G6: 13000 | H6: 661 | I6: =H3-H5 -> -120 | K6: =J3-J5 -> 362 | L6: =D6/G6 -> 0.89023077
A7: GB | B7: Z81 | C7: T2 H | D7: 684 | G7: Gb vildé
B8: Z84 | C8: T2 V | D8: 656 | F8: =G8-D8-D9-D12+K11 -> 551 | G8: 2500 | J8: Entrant
B9: Z89 | C9: T3 | D9: 1111 | G9: Gb Hénansal | J9: 408
B10: Z98 | C10: T3 H | D10: 338 | J10: Sortant
B11: YE3 | C11: YFF H | D11: 68 | F11: =G11-D7-D11-D10+K15 -> 321 | G11: 1500 | J11: 462 | K11: =J9-J11 -> -54
B12: YE4 | C12: YFF V | D12: 128 | J12: Entrant
A13: TOTAL GLOBAL | D13: =SUM(D7:D12) -> 2985 | E13: =D13+K11+K15 -> 2842 | L13: =D13/(G8+G11) -> 0.74625
J14: Sortant
J15: 89 | K15: =J13-J15 -> -89
A16: GELIN | B16: Z80 | C16: T2 | D16: 13 | F16: =G17-D18+K19 -> 347 | G16: Gélin | J16: Entrant
B17: Z90 | C17: T3 | D17: 1616 | G17: 2000 | J17: 24
A18: TOTAL GLOBAL | D18: =SUM(D16:D17) -> 1629 | E18: =D18+K19 -> 1605 | J18: Sortant
J19: 48 | K19: =J17-J19 -> -24 | L19: =D18/G17 -> 0.8145
A20: CELTIC | H20: Entrant | I20: Différence | J20: Entrant
H21: =72+78 -> 150 | J21: =600+264 -> 864
B22: Z91 | C22: T2 | D22: 2828 | F22: =G23-D24 -> 3051 | G22: Celtic | H22: Sortant | J22: Sortant
B23: YE5 | C23: YFF | D23: 954 | G23: 6833 | H23: =24+72+24+24 -> 144 | J23: 24
A24: TOTAL GLOBAL | D24: =SUM(D22:D23) -> 3782 | E24: =D24+H24+I24+K24 -> 6348 | H24: 1720 | I24: =H21-H23 -> 6 | K24: =J21-J23 -> 840 | L24: =D24/G23 -> 0.55349041
D25: =+D6+D13+D18+D24 -> 19969 | G25: =+G6+G8+G11+G17+G23 -> 25833 | K25: =+G25-D25 -> 5864
A27: Et la fromagerie est sur le Site de Hénansal ou je n'ai pas d'info non plus

Sheet S7
A1: Date du 11 Février | E1: Prévision | F1: Différence | G1: Nbre de places MAX | H1: Landerneau | I1: Différence | J1: Créhen/Yff | K1: Différence
A2: STOCKEUR | B2: DEPOT | C2: TOUR | D2: Nbre de pal | G2: Garnier | H2: Entrant | J2: Entrant
A3: GARNIER | B3: Z93 | C3: T2 | D3: 10099 | H3: 144 | J3: 1296
B4: Z97 | C4: T3 | D4: 534 | H4: Sortant | J4: Sortant
B5: YE2 | C5: YFF | D5: 647 | H5: 120 | J5: 961
A6: TOTAL GLOBAL | D6: =SUM(D3:D5) -> 11280 | E6: =D6+H6+I6+K6 -> 12204 | F6: =G6-D6 -> 1720 | G6: 13000 | H6: 565 | I6: =H3-H5 -> 24 | K6: =J3-J5 -> 335 | L6: =(D6+H6)/G6 -> 0.91115385
A7: GB | B7: Z81 | C7: T2 H | D7: 630 | G7: Gb vildé
B8: Z84 | C8: T2 V | D8: 623 | F8: =G8-D8-D9-D12+K11 -> 796 | G8: 2500 | J8: Entrant
B9: Z89 | C9: T3 | D9: 1136 | G9: Gb Hénansal | J9: 404
B10: Z98 | C10: T3 H | D10: 333 | J10: Sortant
B11: YE3 | C11: YFF H | D11: 68 | F11: =G11-D7-D11-D10+K15 -> 388 | G11: 1500 | J11: 293 | K11: =J9-J11 -> 111
B12: YE4 | C12: YFF V | D12: 56 | J12: Entrant
A13: TOTAL GLOBAL | D13: =SUM(D7:D12) -> 2846 | E13: =D13+K11+K15 -> 2876 | L13: =D13/(G8+G11) -> 0.7115
J14: Sortant
J15: 81 | K15: =J13-J15 -> -81
A16: GELIN | B16: Z80 | C16: T2 | D16: 13 | F16: =G17-D18+K19 -> 376 | G16: Gélin | J16: Entrant
B17: Z90 | C17: T3 | D17: 1587 | G17: 2000
A18: TOTAL GLOBAL | D18: =SUM(D16:D17) -> 1600 | E18: =D18+K19 -> 1576 | J18: Sortant
J19: 24 | K19: =J17-J19 -> -24 | L19: =D18/G17 -> 0.8
A20: CELTIC | H20: Entrant | I20: Différence | J20: Entrant
H21: 200
B22: Z91 | C22: T2 | D22: 3423 | F22: =G23-D24 -> 2481 | G22: Celtic | H22: Sortant | J22: Sortant
B23: YE5 | C23: YFF | D23: 1169 | G23: 7073 | H23: 346 | J23: 213
A24: TOTAL GLOBAL | D24: =SUM(D22:D23) -> 4592 | E24: =D24+H24+I24+K24 -> 6006 | H24: 1773 | I24: =H21-H23 -> -146 | K24: =J21-J23 -> -213 | L24: =(D24+H24)/G23 -> 0.89990103
D25: =+D6+D13+D18+D24 -> 20318 | G25: =+G6+G8+G11+G17+G23 -> 26073 | K25: =+G25-D25 -> 5755
A27: Et la fromagerie est sur le Site de Hénansal ou je n'ai pas d'info non plus

Sheet S8
A1: Date du 08 Février | E1: Prévision | F1: Différence | G1: Nbre de places MAX | H1: Landerneau | I1: Différence | J1: Créhen/Yff | K1: Différence
A2: STOCKEUR | B2: DEPOT | C2: TOUR | D2: Nbre de pal | G2: Garnier | H2: Entrant | J2: Entrant
A3: GARNIER | B3: Z93 | C3: T2 | D3: 10502 | I3: 150 | J3: 1080
B4: Z97 | C4: T3 | D4: 552 | H4: Sortant | J4: Sortant
B5: YE2 | C5: YFF | D5: 551 | I5: 96 | J5: =540+789 -> 1329
A6: TOTAL GLOBAL | D6: =SUM(D3:D5) -> 11605 | E6: =D6+H6+I6+K6 -> 12017 | F6: =G6-D6-H6-I6-K6 -> 983 | G6: 13000 | H6: 661 | I6: =H3-H5 -> 0 | K6: =J3-J5 -> -249 | L6: =D6/G6 -> 0.89269231
A7: GB | B7: Z81 | C7: T2 H | D7: 631 | G7: Gb vildé
B8: Z84 | C8: T2 V | D8: 756 | F8: =G8-D8-D9-D12+K11 -> 527 | G8: 2500 | J8: Entrant
B9: Z89 | C9: T3 | D9: 1185 | G9: Gb Hénansal | J9: 334
B10: Z98 | C10: T3 H | D10: 290 | J10: Sortant
B11: YE3 | C11: YFF H | D11: 44 | F11: =G11-D7-D11-D10+K15 -> 422 | G11: 1500 | J11: =300+10 -> 310 | K11: =J9-J11 -> 24
B12: YE4 | C12: YFF V | D12: 56 | J12: Entrant
A13: TOTAL GLOBAL | D13: =SUM(D7:D12) -> 2962 | E13: =D13+K11+K15 -> 2873 | J13: 48 | L13: =D13/(G8+G11) -> 0.7405
J14: Sortant
J15: =63+98 -> 161 | K15: =J13-J15 -> -113
A16: GELIN | B16: Z80 | C16: T2 | D16: 13 | F16: =G17-D18+K19 -> 414 | G16: Gélin | J16: Entrant
B17: Z90 | C17: T3 | D17: 1563 | G17: 2000 | J17: 48
A18: TOTAL GLOBAL | D18: =SUM(D16:D17) -> 1576 | E18: =D18+K19 -> 1566 | J18: Sortant
J19: =32+26 -> 58 | K19: =J17-J19 -> -10 | L19: =D18/G17 -> 0.788
A20: CELTIC | H20: Entrant | I20: Différence | J20: Entrant
I21: 260 | J21: 312
B22: Z91 | C22: T2 | D22: 3298 | F22: =G23-D24-H24-I24-K24 -> 70 | G22: Celtic | H22: Sortant | J22: Sortant
B23: YE5 | C23: YFF | D23: 1313 | G23: 6833 | I23: 76 | J23: 96
A24: TOTAL GLOBAL | D24: =SUM(D22:D23) -> 4611 | E24: =D24+H24+I24+K24 -> 6763 | H24: 1752 | I24: =+I21-I23 -> 184 | K24: =J21-J23 -> 216 | L24: =D24/G23 -> 0.67481341
D25: =+D6+D13+D18+D24 -> 20754 | G25: =+G6+G8+G11+G17+G23 -> 25833 | K25: =+G25-D25 -> 5079
A27: Et la fromagerie est sur le Site de Hénansal ou je n'ai pas d'info non plus

Sheet S9
A1: Date du 08 Février | E1: Prévision | F1: Différence | G1: Nbre de places MAX | H1: Landerneau | I1: Différence | J1: Créhen/Yff | K1: Différence
A2: STOCKEUR | B2: DEPOT | C2: TOUR | D2: Nbre de pal | G2: Garnier | H2: Entrant | J2: Entrant
A3: GARNIER | B3: Z93 | C3: T2 | D3: 10853 | J3: 1440
B4: Z97 | C4: T3 | D4: 624 | H4: Sortant | J4: Sortant
B5: YE2 | C5: YFF | D5: 81 | J5: 1163
A6: TOTAL GLOBAL | D6: =SUM(D3:D5) -> 11558 | E6: =D6+H6+I6+K6 -> 12496 | F6: =G6-D6-H6-I6-K6 -> 504 | G6: 13000 | H6: 661 | I6: =H3-H5 -> 0 | K6: =J3-J5 -> 277 | L6: =D6/G6 -> 0.88907692
A7: GB | B7: Z81 | C7: T2 H | D7: 489 | G7: Gb vildé
B8: Z84 | C8: T2 V | D8: 703 | F8: =G8-D8-D9-D12+K11 -> 459 | G8: 2500 | J8: Entrant
B9: Z89 | C9: T3 | D9: 1241 | G9: Gb Hénansal | J9: 286
B10: Z98 | C10: T3 H | D10: 275 | J10: Sortant
B11: YE3 | C11: YFF H | D11: 44 | F11: =G11-D7-D11-D10+K15 -> 667 | G11: 1500 | J11: 327 | K11: =J9-J11 -> -41
B12: YE4 | C12: YFF V | D12: 56 | J12: Entrant
A13: TOTAL GLOBAL | D13: =SUM(D7:D12) -> 2808 | E13: =D13+K11+K15 -> 2742 | J13: 0 | L13: =D13/(G8+G11) -> 0.702
J14: Sortant
J15: 25 | K15: =J13-J15 -> -25
A16: GELIN | B16: Z80 | C16: T2 | D16: 13 | F16: =G17-D18+K19 -> 481 | G16: Gélin | J16: Entrant
B17: Z90 | C17: T3 | D17: 1499 | G17: 2000 | J17: 48
A18: TOTAL GLOBAL | D18: =SUM(D16:D17) -> 1512 | E18: =D18+K19 -> 1505 | J18: Sortant
J19: 55 | K19: =J17-J19 -> -7 | L19: =D18/G17 -> 0.756
A20: CELTIC | H20: Entrant | I20: Différence | J20: Entrant
J21: 144
B22: Z91 | C22: T2 | D22: 3298 | F22: =G23-D24-H24-I24-K24 -> 372 | G22: Celtic | H22: Sortant | J22: Sortant
B23: YE5 | C23: YFF | D23: 1480 | G23: 6833 | J23: 213
A24: TOTAL GLOBAL | D24: =SUM(D22:D23) -> 4778 | E24: =D24+H24+I24+K24 -> 6461 | H24: 1752 | I24: =+I21-I23 -> 0 | K24: =J21-J23 -> -69 | L24: =D24/G23 -> 0.69925362
D25: =+D6+D13+D18+D24 -> 20656 | G25: =+G6+G8+G11+G17+G23 -> 25833 | K25: =+G25-D25 -> 5177
A27: Et la fromagerie est sur le Site de Hénansal ou je n'ai pas d'info non plus

Sheet S10
A1: Date du 08 Février | E1: Prévision | F1: Différence | G1: Nbre de places MAX | H1: Landerneau | I1: Différence | J1: Créhen/Yff | K1: Différence | L1: CREHEN | M1: CREHEN+LDO
A2: STOCKEUR | B2: DEPOT | C2: TOUR | D2: Nbre de pal | G2: Garnier | H2: Entrant | J2: Entrant
A3: GARNIER | B3: Z93 | C3: T2 | D3: 11081 | I3: 168 | J3: 1560
B4: Z97 | C4: T3 | D4: 528 | H4: Sortant | J4: Sortant
B5: YE2 | C5: YFF | D5: 41 | I5: 96 | J5: =256+967 -> 1223
A6: TOTAL GLOBAL | D6: =SUM(D3:D5) -> 11650 | E6: =D6+H6+I6+K6 -> 12649 | F6: =G6-D6-H6-I6-K6 -> 351 | G6: 13000 | H6: 590 | I6: =+I3-I5 -> 72 | K6: =J3-J5 -> 337 | L6: =D6/G6 -> 0.89615385 | M6: =+E6/G6 -> 0.973
A7: GB | B7: Z81 | C7: T2 H | D7: 469 | G7: Gb vildé
B8: Z84 | C8: T2 V | D8: 644 | F8: =G8-D8-D9-D12+K11 -> 464 | G8: 2500 | J8: Entrant
B9: Z89 | C9: T3 | D9: 1333 | G9: Gb Hénansal | J9: 0
B10: Z98 | C10: T3 H | D10: 275 | J10: Sortant
B11: YE3 | C11: YFF H | D11: 44 | F11: =G11-D7-D11-D10+K15 -> 754 | G11: 1500 | J11: 24 | K11: =J9-J11 -> -24
B12: YE4 | C12: YFF V | D12: 35 | J12: Entrant
A13: TOTAL GLOBAL | D13: =SUM(D7:D12) -> 2800 | E13: =D13+K11+K15 -> 2818 | J13: 260 | L13: =D13/(G8+G11) -> 0.7
J14: Sortant
J15: =208+10 -> 218 | K15: =J13-J15 -> 42
A16: GELIN | B16: Z80 | C16: T2 | D16: 13 | F16: =G17-D18+K19 -> 358 | G16: Gélin | J16: Entrant
B17: Z90 | C17: T3 | D17: 1543 | G17: 2000 | J17: 96
A18: TOTAL GLOBAL | D18: =SUM(D16:D17) -> 1556 | E18: =D18+K19 -> 1470 | J18: Sortant
J19: =130+52 -> 182 | K19: =J17-J19 -> -86 | L19: =D18/G17 -> 0.778
A20: CELTIC | H20: Entrant | I20: Différence | J20: Entrant
H21: 260 | J21: 360
B22: Z91 | C22: T2 | D22: 3343 | F22: =G23-D24-H24-I24-K24 -> 57 | G22: Celtic | H22: Sortant | J22: Sortant
B23: YE5 | C23: YFF | D23: 1591 | G23: 6833 | H23: =26+26+26+24+26+24+24+24+26 -> 226 | J23: =386+96 -> 482
A24: TOTAL GLOBAL | D24: =SUM(D22:D23) -> 4934 | E24: =D24+H24+I24+K24 -> 6776 | H24: 1930 | I24: =+H21-H23 -> 34 | K24: =+J21-J23 -> -122 | L24: =D24/G23 -> 0.722084 | M24: =+E24/G23 -> 0.99165813
A27: Et la fromagerie est sur le Site de Hénansal ou je n'ai pas d'info non plus

Sheet S11
A1: Date du 08 Février | E1: Prévision | F1: Différence | G1: Nbre de places MAX | H1: Landerneau | I1: Différence | J1: Créhen/Yff | K1: Différence | L1: CREHEN | M1: CREHEN+LDO
A2: STOCKEUR | B2: DEPOT | C2: TOUR | D2: Nbre de pal | G2: Garnier | H2: Entrant | J2: Entrant
A3: GARNIER | B3: Z93 | C3: T2 | D3: 11113 | I3: 120 | J3: 1368
B4: Z97 | C4: T3 | D4: 539 | H4: Sortant | J4: Sortant
B5: YE2 | C5: YFF | D5: 41 | I5: 72 | J5: =405+578 -> 983
A6: TOTAL GLOBAL | D6: =SUM(D3:D5) -> 11693 | E6: =D6+H6+I6+K6 -> 12620 | F6: =G6-D6-H6-I6-K6 -> 380 | G6: 13000 | H6: 494 | I6: =+I3-I5 -> 48 | K6: =J3-J5 -> 385 | L6: =D6/G6 -> 0.89946154 | M6: =+E6/G6 -> 0.97076923
A7: GB | B7: Z81 | C7: T2 H | D7: 483 | G7: Gb vildé
B8: Z84 | C8: T2 V | D8: 644 | F8: =G8-D8-D9-D12+K11 -> 744 | G8: 2500 | J8: Entrant
B9: Z89 | C9: T3 | D9: 1303 | G9: Gb Hénansal | J9: 464
B10: Z98 | C10: T3 H | D10: 282 | J10: Sortant
B11: YE3 | C11: YFF H | D11: 23 | F11: =G11-D7-D11-D10+K15 -> 702 | G11: 1500 | J11: =134+114 -> 248 | K11: =J9-J11 -> 216
B12: YE4 | C12: YFF V | D12: 25 | J12: Entrant
A13: TOTAL GLOBAL | D13: =SUM(D7:D12) -> 2760 | E13: =D13+K11+K15 -> 2966 | J13: 0 | L13: =D13/(G8+G11) -> 0.69
J14: Sortant
J15: 10 | K15: =J13-J15 -> -10
A16: GELIN | B16: Z80 | C16: T2 | D16: 13 | F16: =G17-D18+K19 -> 623 | G16: Gélin | J16: Entrant
B17: Z90 | C17: T3 | D17: 1438 | G17: 2000 | J17: 144
A18: TOTAL GLOBAL | D18: =SUM(D16:D17) -> 1451 | E18: =D18+K19 -> 1525 | J18: Sortant
J19: 70 | K19: =J17-J19 -> 74 | L19: =D18/G17 -> 0.7255
A20: CELTIC | H20: Entrant | I20: Différence | J20: Entrant
I21: 312 | J21: 216
B22: Z91 | C22: T2 | D22: 3073 | F22: =G23-D24-H24-I24-K24 -> 361 | G22: Celtic | H22: Sortant | J22: Sortant
B23: YE5 | C23: YFF | D23: 1777 | G23: 7333 | I23: 50 | J23: =271+93 -> 364
A24: TOTAL GLOBAL | D24: =SUM(D22:D23) -> 4850 | E24: =D24+H24+I24+K24 -> 6972 | H24: 2008 | I24: =I21-I23 -> 262 | K24: =+J21-J23 -> -148 | L24: =D24/G23 -> 0.6613937 | M24: =+E24/G23 -> 0.95077049
A27: Et la fromagerie est sur le Site de Hénansal ou je n'ai pas d'info non plus

Sheet S12
A1: Date du 08 Février | E1: Prévision | F1: Différence | G1: Nbre de places MAX | H1: Landerneau | I1: Différence | J1: Créhen/Yff | K1: Différence | L1: CREHEN | M1: CREHEN+LDO
A2: STOCKEUR | B2: DEPOT | C2: TOUR | D2: Nbre de pal | G2: Garnier | H2: Entrant | J2: Entrant
A3: GARNIER | B3: Z93 | C3: T2 | D3: 11224 | H3: =8*24 -> 192 | J3: 1392
B4: Z97 | C4: T3 | D4: 585 | H4: Sortant | J4: Sortant
B5: YE2 | C5: YFF | D5: 14 | H5: =24+24+24+24+24+24 -> 144 | J5: =768+91 -> 859
A6: TOTAL GLOBAL | D6: =SUM(D3:D5) -> 11823 | E6: =D6+H6+I6+K6 -> 12946 | F6: =G6-D6-H6-I6-K6 -> 554 | G6: 13500 | H6: 542 | I6: =H3-H5 -> 48 | K6: =J3-J5 -> 533 | L6: =D6/G6 -> 0.87577778 | M6: =+E6/G6 -> 0.95896296
A7: GB | B7: Z81 | C7: T2 H | D7: 477 | G7: Gb vildé
B8: Z84 | C8: T2 V | D8: 772 | F8: =G8-D8-D9-D12+K11 -> 456 | G8: 2500 | J8: Entrant
B9: Z89 | C9: T3 | D9: 1302 | G9: Gb Hénansal | J9: 434
B10: Z98 | C10: T3 H | D10: 261 | J10: Sortant
B11: YE3 | C11: YFF H | D11: 23 | F11: =G11-D7-D11-D10+K15 -> 721 | G11: 1500 | J11: =102+267 -> 369 | K11: =J9-J11 -> 65
B12: YE4 | C12: YFF V | D12: 35 | J12: Entrant
A13: TOTAL GLOBAL | D13: =SUM(D7:D12) -> 2870 | E13: =D13+K11+K15 -> 2917 | L13: =D13/(G8+G11) -> 0.7175
J14: Sortant
J15: 18 | K15: =J13-J15 -> -18
A16: GELIN | B16: Z80 | C16: T2 | D16: 13 | F16: =G17-D18+K19 -> 320 | G16: Gélin | J16: Entrant
B17: Z90 | C17: T3 | D17: 1496 | G17: 2000 | J17: 168
A18: TOTAL GLOBAL | D18: =SUM(D16:D17) -> 1509 | E18: =D18+K19 -> 1338 | J18: Sortant
J19: =145+194 -> 339 | K19: =J17-J19 -> -171 | L19: =D18/G17 -> 0.7545
A20: CELTIC | H20: Entrant | I20: Différence | J20: Entrant
H21: =52+208 -> 260 | J21: 240
B22: Z91 | C22: T2 | D22: 2734 | F22: =G23-D24-H24-I24-K24 -> 673 | G22: Celtic | H22: Sortant | J22: Sortant
B23: YE5 | C23: YFF | D23: 1870 | G23: 7333 | H23: =26+24+24+26+24+24+26 -> 174 | J23: =330+150 -> 480
A24: TOTAL GLOBAL | D24: =SUM(D22:D23) -> 4604 | E24: =D24+H24+I24+K24 -> 6660 | H24: 2210 | I24: =H21-H23 -> 86 | K24: =+J21-J23 -> -240 | L24: =D24/G23 -> 0.62784672 | M24: =+E24/G23 -> 0.9082231
A27: Et la fromagerie est sur le Site de Hénansal ou je n'ai pas d'info non plus

Sheet S13
A1: Date du 08 Février | E1: Prévision | F1: Différence | G1: Nbre de places MAX | H1: Landerneau | I1: Différence | J1: Créhen/Yff | K1: Différence | L1: CREHEN | M1: CREHEN+LDO
A2: STOCKEUR | B2: DEPOT | C2: TOUR | D2: Nbre de pal | G2: Garnier | H2: Entrant | J2: Entrant
A3: GARNIER | B3: Z93 | C3: T2 | D3: 11617 | H3: 72 | J3: =1008 -> 1008
B4: Z97 | C4: T3 | D4: 726 | H4: Sortant | J4: Sortant
B5: YE2 | C5: YFF | D5: 14 | H5: =24+24+24+24 -> 96 | J5: =205+1200 -> 1405
A6: TOTAL GLOBAL | D6: =SUM(D3:D5) -> 12357 | E6: =D6+H6+I6+K6 -> 12478 | F6: =G6-D6-H6-I6-K6 -> 1022 | G6: 13500 | H6: 542 | I6: =H3-H5 -> -24 | K6: =J3-J5 -> -397 | L6: =D6/G6 -> 0.91533333 | M6: =+E6/G6 -> 0.9242963
A7: GB | B7: Z81 | C7: T2 H | D7: 453 | G7: Gb vildé
B8: Z84 | C8: T2 V | D8: 799 | F8: =G8-D8-D9-D12+K11 -> 639 | G8: 2500 | J8: Entrant
B9: Z89 | C9: T3 | D9: 1419 | G9: Gb Hénansal | J9: =440 -> 440
B10: Z98 | C10: T3 H | D10: 251 | J10: Sortant
B11: YE3 | C11: YFF H | D11: 22 | F11: =G11-D7-D11-D10+K15 -> 756 | G11: 1500 | J11: =24+24 -> 48 | K11: =J9-J11 -> 392
B12: YE4 | C12: YFF V | D12: 35 | J12: Entrant
A13: TOTAL GLOBAL | D13: =SUM(D7:D12) -> 2979 | E13: =D13+K11+K15 -> 3353 | L13: =D13/(G8+G11) -> 0.74475
J14: Sortant
J15: 18 | K15: =J13-J15 -> -18
A16: GELIN | B16: Z80 | C16: T2 | D16: 13 | F16: =G17-D18+K19 -> 851 | G16: Gélin | J16: Entrant
B17: Z90 | C17: T3 | D17: 1318 | G17: 2000 | J17: 264
A18: TOTAL GLOBAL | D18: =SUM(D16:D17) -> 1331 | E18: =D18+K19 -> 1513 | J18: Sortant
J19: 82 | K19: =J17-J19 -> 182 | L19: =D18/G17 -> 0.6655
A20: CELTIC | H20: Entrant | I20: Différence | J20: Entrant
H21: 208 | J21: 216
B22: Z91 | C22: T2 | D22: 2553 | F22: =G23-D24-H24-I24-K24 -> 897 | G22: Celtic | H22: Sortant | J22: Sortant
B23: YE5 | C23: YFF | D23: 1855 | G23: 7333 | H23: 246 | J23: =354+94 -> 448
A24: TOTAL GLOBAL | D24: =SUM(D22:D23) -> 4408 | E24: =D24+H24+I24+K24 -> 6436 | H24: 2298 | I24: =H21-H23 -> -38 | K24: =+J21-J23 -> -232 | L24: =D24/G23 -> 0.60111823 | M24: =+E24/G23 -> 0.87767626
A27: Et la fromagerie est sur le Site de Hénansal ou je n'ai pas d'info non plus

Sheet S14
A1: Date du 08 Février | E1: Prévision | F1: Différence | G1: Nbre de places MAX | H1: Landerneau | I1: Différence | J1: Créhen/Yff | K1: Différence | L1: CREHEN | M1: CREHEN+LDO
A2: STOCKEUR | B2: DEPOT | C2: TOUR | D2: Nbre de pal | G2: Garnier | H2: Entrant | J2: Entrant
A3: GARNIER | B3: Z93 | C3: T2 | D3: 11363 | H3: 120 | J3: 1296
B4: Z97 | C4: T3 | D4: 684 | H4: Sortant | J4: Sortant
B5: YE2 | C5: YFF | D5: 14 | H5: =24+24+24+24 -> 96 | J5: =346+1047 -> 1393
A6: TOTAL GLOBAL | D6: =SUM(D3:D5) -> 12061 | E6: =D6+H6+I6+K6 -> 12458 | F6: =G6-D6-H6-I6-K6 -> 1042 | G6: 13500 | H6: 470 | I6: =H3-H5 -> 24 | K6: =J3-J5 -> -97 | L6: =D6/G6 -> 0.89340741 | M6: =+E6/G6 -> 0.92281481
A7: GB | B7: Z81 | C7: T2 H | D7: 435 | G7: Gb vildé
B8: Z84 | C8: T2 V | D8: 931 | F8: =G8-D8-D9-D12+K11 -> 277 | G8: 2500 | J8: Entrant
B9: Z89 | C9: T3 | D9: 1414 | G9: Gb Hénansal | J9: 288
B10: Z98 | C10: T3 H | D10: 251 | J10: Sortant
B11: YE3 | C11: YFF H | D11: 22 | F11: =G11-D7-D11-D10+K15 -> 744 | G11: 1500 | J11: 131 | K11: =J9-J11 -> 157
B12: YE4 | C12: YFF V | D12: 35 | J12: Entrant
A13: TOTAL GLOBAL | D13: =SUM(D7:D12) -> 3088 | E13: =D13+K11+K15 -> 3197 | L13: =D13/(G8+G11) -> 0.772
J14: Sortant
J15: 48 | K15: =J13-J15 -> -48
A16: GELIN | B16: Z80 | C16: T2 | D16: 13 | F16: =G17-D18+K19 -> 437 | G16: Gélin | J16: Entrant
B17: Z90 | C17: T3 | D17: 1496 | G17: 2000 | J17: 48
A18: TOTAL GLOBAL | D18: =SUM(D16:D17) -> 1509 | E18: =D18+K19 -> 1455 | J18: Sortant
J19: =78+24 -> 102 | K19: =J17-J19 -> -54 | L19: =D18/G17 -> 0.7545
A20: CELTIC | H20: Entrant | I20: Différence | J20: Entrant
H21: 144 | J21: 264
B22: Z91 | C22: T2 | D22: 2381 | F22: =G23-D24-H24-I24-K24 -> 792 | G22: Celtic | H22: Sortant | J22: Sortant
B23: YE5 | C23: YFF | D23: 1874 | G23: 7333 | H23: =24+24+24+26+26+26+26 -> 176 | J23: =168+72 -> 240
A24: TOTAL GLOBAL | D24: =SUM(D22:D23) -> 4255 | E24: =D24+H24+I24+K24 -> 6541 | H24: 2294 | I24: =H21-H23 -> -32 | K24: =+J21-J23 -> 24 | L24: =D24/G23 -> 0.58025365 | M24: =+E24/G23 -> 0.89199509
A27: Et la fromagerie est sur le Site de Hénansal ou je n'ai pas d'info non plus

Sheet S15
A1: Date du 12 avril | E1: Prévision | F1: Différence | G1: Nbre de places MAX | H1: Landerneau | I1: Différence | J1: Créhen/Yff | K1: Différence | L1: CREHEN | M1: CREHEN+LDO
A2: STOCKEUR | B2: DEPOT | C2: TOUR | D2: Nbre de pal | G2: Garnier | H2: Entrant | J2: Entrant
A3: GARNIER | B3: Z93 | C3: T2 | D3: 11326 | H3: 144 | J3: 1272
B4: Z97 | C4: T3 | D4: 697 | H4: Sortant | J4: Sortant
B5: YE2 | C5: YFF | D5: 14 | H5: 67 | J5: =652+301 -> 953
A6: TOTAL GLOBAL | D6: =SUM(D3:D5) -> 12037 | E6: =D6+H6+I6+K6 -> 12890 | F6: =G6-D6-H6-I6-K6 -> 610 | G6: 13500 | H6: 457 | I6: =H3-H5 -> 77 | K6: =J3-J5 -> 319 | L6: =D6/G6 -> 0.89162963 | M6: =+E6/G6 -> 0.95481481
A7: GB | B7: Z81 | C7: T2 H | D7: 399 | G7: Gb vildé
B8: Z84 | C8: T2 V | D8: 920 | F8: =G8-D8-D9-D12+K11 -> -71 | G8: 2500 | J8: Entrant
B9: Z89 | C9: T3 | D9: 1571 | G9: Gb Hénansal | J9: 312
B10: Z98 | C10: T3 H | D10: 251 | J10: Sortant
B11: YE3 | C11: YFF H | D11: 22 | F11: =G11-D7-D11-D10+K15 -> 793 | G11: 1500 | J11: 357 | K11: =J9-J11 -> -45
B12: YE4 | C12: YFF V | D12: 35 | J12: Entrant
A13: TOTAL GLOBAL | D13: =SUM(D7:D12) -> 3198 | E13: =D13+K11+K15 -> 3118 | L13: =D13/(G8+G11) -> 0.7995
J14: Sortant
J15: 35 | K15: =J13-J15 -> -35
A16: GELIN | B16: Z80 | C16: T2 | D16: 16 | F16: =G17-D18+K19 -> 658 | G16: Gélin | J16: Entrant
B17: Z90 | C17: T3 | D17: 1446 | G17: 2000 | J17: 168
A18: TOTAL GLOBAL | D18: =SUM(D16:D17) -> 1462 | E18: =D18+K19 -> 1582 | J18: Sortant
J19: 48 | K19: =J17-J19 -> 120 | L19: =D18/G17 -> 0.731
A20: CELTIC | H20: Entrant | I20: Différence | J20: Entrant
H21: 234 | J21: =48+62 -> 110
B22: Z91 | C22: T2 | D22: 2309 | F22: =G23-D24-H24-I24-K24 -> 1203 | G22: Celtic | H22: Sortant | J22: Sortant
B23: YE5 | C23: YFF | D23: 1848 | G23: 7333 | H23: 154 | J23: 624
A24: TOTAL GLOBAL | D24: =SUM(D22:D23) -> 4157 | E24: =D24+H24+I24+K24 -> 6130 | H24: 2407 | I24: =H21-H23 -> 80 | K24: =+J21-J23 -> -514 | L24: =D24/G23 -> 0.5668894 | M24: =+E24/G23 -> 0.83594709
A27: Et la fromagerie est sur le Site de Hénansal ou je n'ai pas d'info non plus

Sheet S16
A1: Date du 15 avril | E1: Prévision | F1: Différence | G1: Nbre de places MAX | H1: Landerneau | I1: Différence | J1: Créhen/Yff | K1: Différence | L1: CREHEN | M1: CREHEN+LDO
A2: STOCKEUR | B2: DEPOT | C2: TOUR | D2: Nbre de pal | G2: Garnier | H2: Entrant | J2: Entrant
A3: GARNIER | B3: Z93 | C3: T2 | D3: 11622 | H3: 120 | J3: 1440
B4: Z97 | C4: T3 | D4: 722 | H4: Sortant | J4: Sortant
B5: YE2 | C5: YFF | D5: 14 | H5: 48 | J5: =955+504 -> 1459
A6: TOTAL GLOBAL | D6: =SUM(D3:D5) -> 12358 | E6: =D6+H6+I6+K6 -> 12411 | F6: =G6-D6-H6-I6-K6 -> 1089 | G6: 13500 | I6: =H3-H5 -> 72 | K6: =J3-J5 -> -19 | L6: =D6/G6 -> 0.91540741 | M6: =+E6/G6 -> 0.91933333
A7: GB | B7: Z81 | C7: T2 H | D7: 369 | G7: Gb vildé
B8: Z84 | C8: T2 V | D8: 911 | F8: =G8-D8-D9-D12+K11 -> 127 | G8: 2500 | J8: Entrant
B9: Z89 | C9: T3 | D9: 1544 | G9: Gb Hénansal | J9: 423
B10: Z98 | C10: T3 H | D10: 229 | J10: Sortant
B11: YE3 | C11: YFF H | D11: 22 | F11: =G11-D7-D11-D10+K15 -> 910 | G11: 1500 | J11: 306 | K11: =J9-J11 -> 117
B12: YE4 | C12: YFF V | D12: 35 | J12: Entrant
A13: TOTAL GLOBAL | D13: =SUM(D7:D12) -> 3110 | E13: =D13+K11+K15 -> 3257 | J13: 30 | L13: =D13/(G8+G11) -> 0.7775
J14: Sortant
K15: =J13-J15 -> 30
A16: GELIN | B16: Z80 | C16: T2 | D16: 16 | F16: =G17-D18+K19 -> 503 | G16: Gélin | J16: Entrant
B17: Z90 | C17: T3 | D17: 1564 | G17: 2000 | J17: 155
A18: TOTAL GLOBAL | D18: =SUM(D16:D17) -> 1580 | E18: =D18+K19 -> 1663 | J18: Sortant
J19: 72 | K19: =J17-J19 -> 83 | L19: =D18/G17 -> 0.79
A20: CELTIC | H20: Entrant | I20: Différence | J20: Entrant
H21: 240 | J21: 240
B22: Z91 | C22: T2 | D22: 2309 | F22: =G23-D24-H24-I24-K24 -> 3539 | G22: Celtic | H22: Sortant | J22: Sortant
B23: YE5 | C23: YFF | D23: 1504 | G23: 7333 | H23: 360 | J23: 139
A24: TOTAL GLOBAL | D24: =SUM(D22:D23) -> 3813 | E24: =D24+H24+I24+K24 -> 3794 | I24: =H21-H23 -> -120 | K24: =+J21-J23 -> 101 | L24: =D24/G23 -> 0.51997818 | M24: =+E24/G23 -> 0.51738715
A27: Et la fromagerie est sur le Site de Hénansal ou je n'ai pas d'info non plus

Sheet S17
A1: Date du 08 Février | E1: Prévision | F1: Différence | G1: Nbre de places MAX | H1: Landerneau | I1: Différence | J1: Créhen/Yff | K1: Différence | L1: CREHEN | M1: CREHEN+LDO
A2: STOCKEUR | B2: DEPOT | C2: TOUR | D2: Nbre de pal | G2: Garnier | H2: Entrant | J2: Entrant
A3: GARNIER | B3: Z93 | C3: T2 | D3: 11648 | H3: 144 | J3: 48
B4: Z97 | C4: T3 | D4: 767 | H4: Sortant | J4: Sortant
B5: YE2 | C5: YFF | D5: 9 | H5: =24+24 -> 48 | J5: =453+805 -> 1258
A6: TOTAL GLOBAL | D6: =SUM(D3:D5) -> 12424 | E6: =D6+H6+I6+K6 -> 11917 | F6: =G6-D6-H6-I6-K6 -> 1583 | G6: 13500 | H6: 607 | I6: =H3-H5 -> 96 | K6: =J3-J5 -> -1210 | L6: =D6/G6 -> 0.9202963 | M6: =+E6/G6 -> 0.88274074
A7: GB | B7: Z81 | C7: T2 H | D7: 339 | G7: Gb vildé
B8: Z84 | C8: T2 V | D8: 912 | F8: =G8-D8-D9-D12+K11 -> 42 | G8: 2500 | J8: Entrant
B9: Z89 | C9: T3 | D9: 1561 | G9: Gb Hénansal | J9: 60
B10: Z98 | C10: T3 H | D10: 229 | J10: Sortant
B11: YE3 | C11: YFF H | D11: 20 | F11: =G11-D7-D11-D10+K15 -> 960 | G11: 1500 | J11: 11 | K11: =J9-J11 -> 49
B12: YE4 | C12: YFF V | D12: 34 | J12: Entrant
A13: TOTAL GLOBAL | D13: =SUM(D7:D12) -> 3095 | E13: =D13+K11+K15 -> 3192 | J13: 48 | L13: =D13/(G8+G11) -> 0.77375
J14: Sortant
K15: =J13-J15 -> 48
A16: GELIN | B16: Z80 | C16: T2 | D16: 13 | F16: =G17-D18+K19 -> 390 | G16: Gélin | J16: Entrant
B17: Z90 | C17: T3 | D17: 1624 | G17: 2000 | J17: 144
A18: TOTAL GLOBAL | D18: =SUM(D16:D17) -> 1637 | E18: =D18+K19 -> 1664 | J18: Sortant
J19: 117 | K19: =J17-J19 -> 27 | L19: =D18/G17 -> 0.8185
A20: CELTIC | H20: Entrant | I20: Différence | J20: Entrant
H21: 250 | J21: =144+240 -> 384
B22: Z91 | C22: T2 | D22: 2242 | F22: =G23-D24-H24-I24-K24 -> 872 | G22: Celtic | H22: Sortant | J22: Sortant
B23: YE5 | C23: YFF | D23: 1719 | G23: 7333 | H23: =26+24+26+24+24+24+26+24+24+24+24+26 -> 296 | J23: =49+112 -> 161
A24: TOTAL GLOBAL | D24: =SUM(D22:D23) -> 3961 | E24: =D24+H24+I24+K24 -> 6461 | H24: 2323 | I24: =H21-H23 -> -46 | K24: =+J21-J23 -> 223 | L24: =D24/G23 -> 0.54016092 | M24: =+E24/G23 -> 0.8810855
A27: Et la fromagerie est sur le Site de Hénansal ou je n'ai pas d'info non plus

Sheet S18
A1: Date du 08 Février | E1: Prévision | F1: Différence | G1: Nbre de places MAX | H1: Landerneau | I1: Différence | J1: Créhen/Yff | K1: Différence | L1: CREHEN | M1: CREHEN+LDO
A2: STOCKEUR | B2: DEPOT | C2: TOUR | D2: Nbre de pal | G2: Garnier | H2: Entrant | J2: Entrant
A3: GARNIER | B3: Z93 | C3: T2 | D3: 11634 | H3: 96 | J3: 1392
B4: Z97 | C4: T3 | D4: 912 | H4: Sortant | J4: Sortant
B5: YE2 | C5: YFF | D5: 9 | H5: =24+24 -> 48 | J5: =428+206 -> 634
A6: TOTAL GLOBAL | D6: =SUM(D3:D5) -> 12555 | E6: =D6+H6+I6+K6 -> 14040 | F6: =G6-D6-H6-I6-K6 -> -540 | G6: 13500 | H6: 679 | I6: =H3-H5 -> 48 | K6: =J3-J5 -> 758 | L6: =D6/G6 -> 0.93 | M6: =+E6/G6 -> 1.04
A7: GB | B7: Z81 | C7: T2 H | D7: 328 | G7: Gb vildé
B8: Z84 | C8: T2 V | D8: 936 | F8: =G8-D8-D9-D12+K11 -> -519 | G8: 2500 | J8: Entrant
B9: Z89 | C9: T3 | D9: 1764 | G9: Gb Hénansal | J9: 156
B10: Z98 | C10: T3 H | D10: 281 | J10: Sortant
B11: YE3 | C11: YFF H | D11: 20 | F11: =G11-D7-D11-D10+K15 -> 871 | G11: 1500 | J11: =306+135 -> 441 | K11: =J9-J11 -> -285
B12: YE4 | C12: YFF V | D12: 34 | J12: Entrant
A13: TOTAL GLOBAL | D13: =SUM(D7:D12) -> 3363 | E13: =D13+K11+K15 -> 3078 | L13: =D13/(G8+G11) -> 0.84075
J14: Sortant
K15: =J13-J15 -> 0
A16: GELIN | B16: Z80 | C16: T2 | D16: 13 | F16: =G17-D18+K19 -> 416 | G16: Gélin | J16: Entrant
B17: Z90 | C17: T3 | D17: 1624 | G17: 2000 | J17: 120
A18: TOTAL GLOBAL | D18: =SUM(D16:D17) -> 1637 | E18: =D18+K19 -> 1690 | J18: Sortant
J19: 67 | K19: =J17-J19 -> 53 | L19: =D18/G17 -> 0.8185
A20: CELTIC | H20: Entrant | I20: Différence | J20: Entrant
H21: =178 -> 178 | J21: 336
B22: Z91 | C22: T2 | D22: 2239 | F22: =G23-D24-H24-I24-K24 -> 817 | G22: Celtic | H22: Sortant | J22: Sortant
B23: YE5 | C23: YFF | D23: 1846 | G23: 7013 | H23: =48+26+26+26 -> 126 | J23: 453
A24: TOTAL GLOBAL | D24: =SUM(D22:D23) -> 4085 | E24: =D24+H24+I24+K24 -> 6196 | H24: 2176 | I24: =H21-H23 -> 52 | K24: =+J21-J23 -> -117 | L24: =D24/G23 -> 0.58248966 | M24: =+E24/G23 -> 0.88350207
A27: Et la fromagerie est sur le Site de Hénansal ou je n'ai pas d'info non plus

Sheet S19
A1: Date du 06 Mai | E1: Prévision | F1: Différence | G1: Nbre de places MAX | H1: Landerneau | I1: Différence | J1: Créhen/Yff | K1: Différence | L1: CREHEN | M1: CREHEN+LDO
A2: STOCKEUR | B2: DEPOT | C2: TOUR | D2: Nbre de pal | G2: Garnier | H2: Entrant | J2: Entrant
A3: GARNIER | B3: Z93 | C3: T2 | D3: 12063 | H3: =72+48 -> 120 | J3: 792
B4: Z97 | C4: T3 | D4: 1116 | H4: Sortant | J4: Sortant
B5: YE2 | C5: YFF | D5: 9 | H5: =24+24 -> 48 | J5: =811+509 -> 1320
A6: TOTAL GLOBAL | D6: =SUM(D3:D5) -> 13188 | E6: =D6+H6+I6+K6 -> 13461 | F6: =G6-D6-H6-I6-K6 -> 39 | G6: 13500 | H6: 729 | I6: =H3-H5 -> 72 | K6: =J3-J5 -> -528 | L6: =D6/G6 -> 0.97688889 | M6: =+E6/G6 -> 0.99711111
A7: GB | B7: Z81 | C7: T2 H | D7: 328 | G7: Gb vildé
B8: Z84 | C8: T2 V | D8: 801 | F8: =G8-D8-D9-D12+K11 -> 132 | G8: 2500 | J8: Entrant
B9: Z89 | C9: T3 | D9: 1627 | G9: Gb Hénansal | J9: 156
B10: Z98 | C10: T3 H | D10: 274 | J10: Sortant
B11: YE3 | C11: YFF H | D11: 20 | F11: =G11-D7-D11-D10+K15 -> 734 | G11: 1500 | J11: 62 | K11: =J9-J11 -> 94
B12: YE4 | C12: YFF V | D12: 34 | J12: Entrant
A13: TOTAL GLOBAL | D13: =SUM(D7:D12) -> 3084 | E13: =D13+K11+K15 -> 3034 | L13: =D13/(G8+G11) -> 0.771
J14: Sortant
J15: 144 | K15: =J13-J15 -> -144
A16: GELIN | B16: Z88 | C16: T2 | F16: =G17-D18+K20 -> 4000 | G16: Gélin St Sauveur | J16: Entrant
B17: Z96 | C17: T3 | G17: 4000 | J17: 216
A18: TOTAL GLOBAL | D18: =SUM(D16:D17) -> 0 | E18: =D18+K20 -> 0 | J18: Sortant
A20: GELIN | B20: Z80 | C20: T2 | D20: 13 | F20: =G21-D22+K23 -> 382 | G20: Gélin Fougeres | J20: Entrant
B21: Z90 | C21: T3 | D21: 1690 | G21: 2000 | J21: 192
A22: TOTAL GLOBAL | D22: =SUM(D20:D21) -> 1703 | E22: =D22+K23 -> 1788 | J22: Sortant
J23: 107 | K23: =J21-J23 -> 85 | L23: =D22/G21 -> 0.8515
A24: CELTIC | H24: Entrant | I24: Différence | J24: Entrant
H25: =156+104 -> 260 | J25: 792
B26: Z91 | C26: T2 | D26: 2242 | F26: =G27-D28-H28-I28-K28 -> -19 | G26: Celtic | H26: Sortant | J26: Sortant
B27: YE5 | C27: YFF | D27: 1799 | G27: 7013 | H27: =26+24+26+24+24+24+26+26+26+26+26+26 -> 304 | J27: =72+20 -> 92
A28: TOTAL GLOBAL | D28: =SUM(D26:D27) -> 4041 | E28: =D28+H28+I28+K28 -> 7032 | H28: 2335 | I28: =H25-H27 -> -44 | K28: =+J25-J27 -> 700 | L28: =D28/G27 -> 0.5762156 | M28: =+E28/G27 -> 1.0027093
A31: Et la fromagerie est sur le Site de Hénansal ou je n'ai pas d'info non plus

Sheet S20
A1: Date du 06 Mai | E1: Prévision | F1: Différence | G1: Nbre de places MAX | H1: Landerneau | I1: Différence | J1: Créhen/Yff | K1: Différence | L1: CREHEN | M1: CREHEN+LDO
A2: STOCKEUR | B2: DEPOT | C2: TOUR | D2: Nbre de pal | G2: Garnier | H2: Entrant | J2: Entrant
A3: GARNIER | B3: Z93 | C3: T2 | D3: 11320 | H3: =72+48 -> 120 | J3: 936
B4: Z97 | C4: T3 | D4: 1119 | H4: Sortant | J4: Sortant
B5: YE2 | C5: YFF | D5: 9 | H5: 72 | J5: =982+385 -> 1367
A6: TOTAL GLOBAL | D6: =SUM(D3:D5) -> 12448 | E6: =D6+H6+I6+K6 -> 12890 | F6: =G6-D6-H6-I6-K6 -> 610 | G6: 13500 | H6: 825 | I6: =H3-H5 -> 48 | K6: =J3-J5 -> -431 | L6: =D6/G6 -> 0.92207407 | M6: =+E6/G6 -> 0.95481481
A7: GB | B7: Z81 | C7: T2 H | D7: 424 | G7: Gb vildé
B8: Z84 | C8: T2 V | D8: 739 | F8: =G8-D8-D9-D12+K11 -> -45 | G8: 2500 | I8: =+D8+D9+D12 -> 2559 | J8: Entrant
B9: Z89 | C9: T3 | D9: 1786 | G9: Gb Hénansal | J9: 496 | L9: =+I8/G8 -> 1.0236
B10: Z98 | C10: T3 H | D10: 274 | J10: Sortant
B11: YE3 | C11: YFF H | D11: 20 | F11: =G11-D7-D11-D10+K15 -> 782 | G11: 1500 | J11: =357+125 -> 482 | K11: =J9-J11 -> 14
B12: YE4 | C12: YFF V | D12: 34 | I12: =+D7+D10+D11 -> 718 | J12: Entrant | L12: =+I12/G11 -> 0.47866667
A13: TOTAL GLOBAL | D13: =SUM(D7:D12) -> 3277 | E13: =D13+K11+K15 -> 3291
J14: Sortant
K15: =J13-J15 -> 0
A16: GELIN | B16: Z88 | C16: T2 | F16: =G17-D19+K21 -> 4000 | G16: Gélin St Sauveur | J16: Entrant
B17: Z96 | C17: T3 | G17: 4000 | J17: 216
B18: YE6 | C18: YFF
A19: TOTAL GLOBAL | D19: =SUM(D16:D17) -> 0 | E19: =D19+K21 -> 0 | J19: Sortant
J20: 0
A21: GELIN | B21: Z80 | C21: T2 | D21: 13 | F21: =G22-D23+K24 -> 384 | G21: Gélin Fougeres | J21: Entrant
B22: Z90 | C22: T3 | D22: 1596 | G22: 2000 | J22: 0
A23: TOTAL GLOBAL | D23: =SUM(D21:D22) -> 1609 | E23: =D23+K24 -> 1602 | J23: Sortant
J24: 7 | K24: =J22-J24 -> -7 | L24: =D23/G22 -> 0.8045
A25: CELTIC | H25: Entrant | I25: Différence | J25: Entrant
H26: =196+182 -> 378 | J26: =120+264 -> 384
B27: Z91 | C27: T2 | D27: 3016 | F27: =G28-D29-H29-I29-K29 -> -134 | G27: Celtic | H27: Sortant | J27: Sortant
B28: YE5 | C28: YFF | D28: 1775 | G28: 7013 | H28: 272 | J28: =96+312 -> 408
A29: TOTAL GLOBAL | D29: =SUM(D27:D28) -> 4791 | E29: =D29+H29+I29+K29 -> 7147 | H29: 2274 | I29: =H26-H28 -> 106 | K29: =+J26-J28 -> -24 | L29: =D29/G28 -> 0.68315985 | M29: =+E29/G28 -> 1.0191074
A32: Et la fromagerie est sur le Site de Hénansal ou je n'ai pas d'info non plus

Sheet S21
A1: Date du 06 Mai | E1: Prévision | F1: Différence | G1: Nbre de places MAX | H1: Landerneau | I1: Différence | J1: Créhen/Yff | K1: Différence | L1: CREHEN | M1: CREHEN+LDO
A2: STOCKEUR | B2: DEPOT | C2: TOUR | D2: Nbre de pal | G2: Garnier | H2: Entrant | J2: Entrant
A3: GARNIER | B3: Z93 | C3: T2 | D3: 10818 | J3: 960
B4: Z97 | C4: T3 | D4: 1119 | H4: Sortant | J4: Sortant
B5: YE2 | C5: YFF | D5: 9 | J5: =1020+432 -> 1452
A6: TOTAL GLOBAL | D6: =SUM(D3:D5) -> 11946 | E6: =D6+H6+I6+K6 -> 11454 | F6: =G6-D6-H6-I6-K6 -> 2046 | G6: 13500 | I6: =H3-H5 -> 0 | K6: =J3-J5 -> -492 | L6: =D6/G6 -> 0.88488889 | M6: =+E6/G6 -> 0.84844444
A7: GB | B7: Z81 | C7: T2 H | D7: 608 | G7: Gb vildé
B8: Z84 | C8: T2 V | D8: 957 | F8: =G8-D8-D9-D12+K11 -> -286 | G8: 2500 | I8: =+D8+D9+D12 -> 2513 | J8: Entrant
B9: Z89 | C9: T3 | D9: 1522 | G9: Gb Hénansal | J9: 336 | L9: =+I8/G8 -> 1.0052
B10: Z98 | C10: T3 H | D10: 311 | J10: Sortant
B11: YE3 | C11: YFF H | D11: 20 | F11: =G11-D7-D11-D10+K15 -> 555 | G11: 1500 | J11: =357+252 -> 609 | K11: =J9-J11 -> -273
B12: YE4 | C12: YFF V | D12: 34 | I12: =+D7+D10+D11 -> 939 | J12: Entrant | L12: =+I12/G11 -> 0.626
A13: TOTAL GLOBAL | D13: =SUM(D7:D12) -> 3452 | E13: =D13+K11+K15 -> 3173
J14: Sortant
J15: 6 | K15: =J13-J15 -> -6
A16: GELIN | B16: Z88 | C16: T2 | F16: =G17-D19+K21 -> 3536 | G16: Gélin St Sauveur | J16: Entrant
B17: Z96 | C17: T3 | D17: 464 | G17: 4000
B18: YE6 | C18: YFF | D18: 546
A19: TOTAL GLOBAL | D19: =SUM(D16:D17) -> 464 | E19: =D19+K21 -> 464 | J19: Sortant
J20: 0
A21: GELIN | B21: Z80 | C21: T2 | D21: 13 | F21: =G22-D23+K24 -> 696 | G21: Gélin Fougeres | J21: Entrant
B22: Z90 | C22: T3 | D22: 1691 | G22: 2000 | J22: =256+144 -> 400
A23: TOTAL GLOBAL | D23: =SUM(D21:D22) -> 1704 | E23: =D23+K24 -> 2104 | J23: Sortant
K24: =J22-J24 -> 400 | L24: =D23/G22 -> 0.852
A25: CELTIC | H25: Entrant | I25: Différence | J25: Entrant
J26: =24+120 -> 144
B27: Z91 | C27: T2 | D27: 3086 | F27: =G28-D29-H29-I29-K29 -> 2546 | G27: Celtic | H27: Sortant | J27: Sortant
B28: YE5 | C28: YFF | D28: 1432 | G28: 7013 | J28: =149+46 -> 195
A29: TOTAL GLOBAL | D29: =SUM(D27:D28) -> 4518 | E29: =D29+H29+I29+K29 -> 4467 | I29: =H26-H28 -> 0 | K29: =+J26-J28 -> -51 | L29: =D29/G28 -> 0.64423214 | M29: =+E29/G28 -> 0.63695993
A32: Et la fromagerie est sur le Site de Hénansal ou je n'ai pas d'info non plus

Sheet S22
A1: Date du 24/05 | E1: Prévision | F1: Différence | G1: Nbre de places MAX | H1: Landerneau | I1: Différence | J1: Créhen/Yff | K1: Différence | L1: CREHEN | M1: CREHEN+LDO
A2: STOCKEUR | B2: DEPOT | C2: TOUR | D2: Nbre de pal | G2: Garnier | H2: Entrant | J2: Entrant | K2: =1272+72 -> 1344
A3: GARNIER | B3: Z93 | C3: T2 | D3: 10527
B4: Z97 | C4: T3 | D4: 1072 | H4: Sortant | J4: Sortant | K4: =497+48 -> 545
B5: YE2 | C5: YFF | D5: 9
A6: TOTAL GLOBAL | D6: =SUM(D3:D5) -> 11608 | E6: =D6+H6+I6+K6 -> 11608 | F6: =G6-D6-H6-I6-K6 -> 1892 | G6: 13500 | I6: =H3-H5 -> 0 | K6: =J3-J5 -> 0 | L6: =D6/G6 -> 0.85985185 | M6: =+E6/G6 -> 0.85985185
A7: GB | B7: Z81 | C7: T2 H | D7: 602 | G7: Gb vildé
B8: Z84 | C8: T2 V | D8: 870 | F8: =G8-D8-D9-D12+K11 -> 520 | G8: 2500 | I8: =+D8+D9+D12 -> 1980 | J8: Entrant
B9: Z89 | C9: T3 | D9: 1076 | G9: Gb Hénansal | L9: =+I8/G8 -> 0.792
B10: Z98 | C10: T3 H | D10: 314 | J10: Sortant | K10: 17
B11: YE3 | C11: YFF H | D11: 20 | F11: =G11-D7-D11-D10+K15 -> 564 | G11: 1500 | K11: =J9-J11 -> 0
B12: YE4 | C12: YFF V | D12: 34 | I12: =+D7+D10+D11 -> 936 | J12: Entrant | K12: 168 | L12: =+I12/G11 -> 0.624
A13: TOTAL GLOBAL | D13: =SUM(D7:D12) -> 2916 | E13: =D13+K11+K15 -> 2916
J14: Sortant | K14: =34+23 -> 57
K15: =J13-J15 -> 0
A16: GELIN | B16: Z88 | C16: T2 | F16: =G17-D19+K21 -> 3365 | G16: Gélin St Sauveur | J16: Entrant | K16: 216
B17: Z96 | C17: T3 | D17: 635 | G17: 4000
B18: YE6 | C18: YFF | D18: 786
A19: TOTAL GLOBAL | D19: =SUM(D16:D17) -> 635 | E19: =D19+K21 -> 635 | J19: Sortant | K19: 28
J20: 0
A21: GELIN | B21: Z80 | C21: T2 | D21: 13 | F21: =G22-D23+K24 -> 72 | G21: Gélin Fougeres | J21: Entrant
B22: Z90 | C22: T3 | D22: 1915 | G22: 2000
A23: TOTAL GLOBAL | D23: =SUM(D21:D22) -> 1928 | E23: =D23+K24 -> 1928 | J23: Sortant
K24: =J22-J24 -> 0 | L24: =D23/G22 -> 0.964
A25: CELTIC | H25: Entrant | I25: Différence | J25: Entrant | K25: =96+360 -> 456
B27: Z91 | C27: T2 | D27: 3116 | F27: =G28-D29-H29-I29-K29 -> 2534 | G27: Celtic | H27: Sortant | J27: Sortant | K27: =216+81+213 -> 510
B28: YE5 | C28: YFF | D28: 1363 | G28: 7013
A29: TOTAL GLOBAL | D29: =SUM(D27:D28) -> 4479 | E29: =D29+H29+I29+K29 -> 4479 | I29: =H26-H28 -> 0 | K29: =+J26-J28 -> 0 | L29: =D29/G28 -> 0.63867104 | M29: =+E29/G28 -> 0.63867104
A32: Et la fromagerie est sur le Site de Hénansal ou je n'ai pas d'info non plus

Sheet s23
A1: Date du 24/05 | E1: Prévision | F1: Différence | G1: Nbre de places MAX | H1: Landerneau | I1: Différence | J1: Créhen/Yff | K1: Différence | L1: CREHEN | M1: CREHEN+LDO
A2: STOCKEUR | B2: DEPOT | C2: TOUR | D2: Nbre de pal | G2: Garnier | H2: Entrant | J2: Entrant
A3: GARNIER | B3: Z93 | C3: T2 | D3: 10890 | H3: 96 | J3: 1272
B4: Z97 | C4: T3 | D4: 993 | H4: Sortant | J4: Sortant
B5: YE2 | C5: YFF | D5: 9 | H5: 72 | J5: =389+939 -> 1328
A6: TOTAL GLOBAL | D6: =SUM(D3:D5) -> 11892 | E6: =D6+H6+I6+K6 -> 12668 | F6: =G6-D6-H6-I6-K6 -> 832 | G6: 13500 | H6: 808 | I6: =H3-H5 -> 24 | K6: =J3-J5 -> -56 | L6: =D6/G6 -> 0.88088889 | M6: =+E6/G6 -> 0.93837037
A7: GB | B7: Z81 | C7: T2 H | D7: 587 | G7: Gb vildé
B8: Z84 | C8: T2 V | D8: 946 | F8: =G8-D8-D9-D12+K11 -> 537 | G8: 2500 | I8: =+D8+D9+D12 -> 2067 | J8: Entrant
B9: Z89 | C9: T3 | D9: 1097 | G9: Gb Hénansal | J9: 224 | L9: =+I8/G8 -> 0.8268
B10: Z98 | C10: T3 H | D10: 314 | J10: Sortant
B11: YE3 | C11: YFF H | D11: 20 | F11: =G11-D7-D11-D10+K15 -> 554 | G11: 1500 | J11: 120 | K11: =J9-J11 -> 104
B12: YE4 | C12: YFF V | D12: 24 | I12: =+D7+D10+D11 -> 921 | J12: Entrant | L12: =+I12/G11 -> 0.614
A13: TOTAL GLOBAL | D13: =SUM(D7:D12) -> 2988 | E13: =D13+K11+K15 -> 3067
J14: Sortant
J15: 25 | K15: =J13-J15 -> -25
A16: GELIN | B16: Z88 | C16: T2 | F16: =G17-D19+K21 -> 2248 | G16: Gélin St Sauveur | J16: Entrant
B17: Z96 | C17: T3 | D17: 685 | G17: 4000 | J17: 336
B18: YE6 | C18: YFF | D18: 1067
A19: TOTAL GLOBAL | D19: =SUM(D17:D18) -> 1752 | E19: =D19+K21 -> 1752 | J19: Sortant | L19: =D19/G17 -> 0.438
J20: 24
A21: GELIN | B21: Z80 | C21: T2 | D21: 13 | F21: =G22-D23+K24 -> 28 | G21: Gélin Fougeres | J21: Entrant
B22: Z90 | C22: T3 | D22: 1887 | G22: 2000
A23: TOTAL GLOBAL | D23: =SUM(D21:D22) -> 1900 | E23: =D23+K24 -> 1828 | J23: Sortant
J24: 72 | K24: =J22-J24 -> -72 | L24: =D23/G22 -> 0.95
A25: CELTIC | H25: Entrant | I25: Différence | J25: Entrant
H26: 350 | J26: 0
B27: Z91 | C27: T2 | D27: 3080 | F27: =G28-D29-H29-I29-K29 -> 81 | G27: Celtic | H27: Sortant | J27: Sortant
B28: YE5 | C28: YFF | D28: 1100 | G28: 7013 | H28: 366 | J28: 281
A29: TOTAL GLOBAL | D29: =SUM(D27:D28) -> 4180 | E29: =D29+H29+I29+K29 -> 6932 | H29: 3049 | I29: =H26-H28 -> -16 | K29: =+J26-J28 -> -281 | L29: =D29/G28 -> 0.59603593 | M29: =+E29/G28 -> 0.98845002
A32: Et la fromagerie est sur le Site de Hénansal ou je n'ai pas d'info non plus

Sheet S24
A1: Date du 24/05 | E1: Prévision | F1: Différence | G1: Nbre de places MAX | H1: Landerneau | I1: Différence | J1: Créhen/Yff | K1: Différence | L1: CREHEN | M1: CREHEN+LDO
A2: STOCKEUR | B2: DEPOT | C2: TOUR | D2: Nbre de pal | G2: Garnier | H2: Entrant | J2: Entrant
A3: GARNIER | B3: Z93 | C3: T2 | D3: 10933 | H3: 150 | J3: 1248
B4: Z97 | C4: T3 | D4: 920 | H4: Sortant | J4: Sortant
B5: YE2 | C5: YFF | D5: 9 | H5: 72 | J5: =81+677 -> 758
A6: TOTAL GLOBAL | D6: =SUM(D3:D5) -> 11862 | E6: =D6+H6+I6+K6 -> 13278 | F6: =G6-D6-H6-I6-K6 -> 222 | G6: 13500 | H6: 848 | I6: =H3-H5 -> 78 | K6: =J3-J5 -> 490 | L6: =D6/G6 -> 0.87866667 | M6: =+E6/G6 -> 0.98355556
A7: GB | B7: Z81 | C7: T2 H | D7: 602 | G7: Gb vildé
B8: Z84 | C8: T2 V | D8: 959 | F8: =G8-D8-D9-D12+K11 -> 233 | G8: 2500 | I8: =+D8+D9+D12 -> 2132 | J8: Entrant
B9: Z89 | C9: T3 | D9: 1149 | G9: Gb Hénansal | J9: 240 | L9: =+I8/G8 -> 0.8528
B10: Z98 | C10: T3 H | D10: 313 | J10: Sortant
B11: YE3 | C11: YFF H | D11: 20 | F11: =G11-D7-D11-D10+K15 -> 516 | G11: 1500 | J11: =120+255 -> 375 | K11: =J9-J11 -> -135
B12: YE4 | C12: YFF V | D12: 24 | I12: =+D7+D10+D11 -> 935 | J12: Entrant | L12: =+I12/G11 -> 0.62333333
A13: TOTAL GLOBAL | D13: =SUM(D7:D12) -> 3067 | E13: =D13+K11+K15 -> 2883
J14: Sortant
J15: =25+24 -> 49 | K15: =J13-J15 -> -49
A16: GELIN | B16: Z88 | C16: T2 | F16: =G17-D19+K21 -> 1717 | G16: Gélin St Sauveur | J16: Entrant
B17: Z96 | C17: T3 | D17: 1008 | G17: 4000 | J17: =288+96 -> 384
B18: YE6 | C18: YFF | D18: 1275
A19: TOTAL GLOBAL | D19: =SUM(D17:D18) -> 2283 | E19: =D19+K21 -> 2283 | J19: Sortant | L19: =D19/G17 -> 0.57075
J20: 24
A21: GELIN | B21: Z80 | C21: T2 | D21: 13 | F21: =G22-D23+K24 -> -53 | G21: Gélin Fougeres | J21: Entrant
B22: Z90 | C22: T3 | D22: 1815 | G22: 2000
A23: TOTAL GLOBAL | D23: =SUM(D21:D22) -> 1828 | E23: =D23+K24 -> 1603 | J23: Sortant
J24: =120+105 -> 225 | K24: =J22-J24 -> -225 | L24: =D23/G22 -> 0.914
A25: CELTIC | H25: Entrant | I25: Différence | J25: Entrant
H26: 300 | J26: 0
B27: Z91 | C27: T2 | D27: 2808 | F27: =G28-D29-H29-I29-K29 -> 716 | G27: Celtic | H27: Sortant | J27: Sortant
B28: YE5 | C28: YFF | D28: 933 | G28: 7013 | H28: 298 | J28: =360+116 -> 476
A29: TOTAL GLOBAL | D29: =SUM(D27:D28) -> 3741 | E29: =D29+H29+I29+K29 -> 6297 | H29: 3030 | I29: =H26-H28 -> 2 | K29: =+J26-J28 -> -476 | L29: =D29/G28 -> 0.5334379 | M29: =+E29/G28 -> 0.89790389
A32: Et la fromagerie est sur le Site de Hénansal ou je n'ai pas d'info non plus

Sheet S25
A1: Date du 17/06 | E1: Prévision | F1: Différence | G1: Nbre de places MAX | H1: Landerneau | I1: Différence | J1: Créhen/Yff | K1: Différence | L1: CREHEN | M1: CREHEN+LDO
A2: STOCKEUR | B2: DEPOT | C2: TOUR | D2: Nbre de pal | G2: Garnier | H2: Entrant | J2: Entrant
A3: GARNIER | B3: Z93 | C3: T2 | D3: 11438 | H3: 48 | J3: 1152
B4: Z97 | C4: T3 | D4: 896 | H4: Sortant | J4: Sortant
B5: YE2 | C5: YFF | D5: 9 | H5: 96 | J5: =384+908 -> 1292
A6: TOTAL GLOBAL | D6: =SUM(D3:D5) -> 12343 | E6: =D6+H6+I6+K6 -> 13027 | F6: =G6-D6-H6-I6-K6 -> 473 | G6: 13500 | H6: 872 | I6: =H3-H5 -> -48 | K6: =J3-J5 -> -140 | L6: =D6/G6 -> 0.9142963 | M6: =+E6/G6 -> 0.96496296
A7: GB | B7: Z81 | C7: T2 H | D7: 577 | G7: Gb vildé
B8: Z84 | C8: T2 V | D8: 1000 | F8: =G8-D8-D9-D12+K11 -> 255 | G8: 2500 | I8: =+D8+D9+D12 -> 2031 | J8: Entrant
B9: Z89 | C9: T3 | D9: 1007 | G9: Gb Hénansal | J9: 240 | L9: =+I8/G8 -> 0.8124
B10: Z98 | C10: T3 H | D10: 313 | J10: Sortant
B11: YE3 | C11: YFF H | D11: 20 | F11: =G11-D7-D11-D10+K15 -> 638 | G11: 1500 | J11: 454 | K11: =J9-J11 -> -214
B12: YE4 | C12: YFF V | D12: 24 | I12: =+D7+D10+D11 -> 910 | J12: Entrant | L12: =+I12/G11 -> 0.60666667
A13: TOTAL GLOBAL | D13: =SUM(D7:D12) -> 2941 | E13: =D13+K11+K15 -> 2775 | J13: 48
J14: Sortant
K15: =J13-J15 -> 48
A16: GELIN | B16: Z88 | C16: T2 | F16: =G17-D19+K21 -> 1488 | G16: Gélin St Sauveur | J16: Entrant
B17: Z96 | C17: T3 | D17: 1117 | G17: 4000 | J17: 48
B18: YE6 | C18: YFF | D18: 1395
A19: TOTAL GLOBAL | D19: =SUM(D17:D18) -> 2512 | E19: =D19+K21 -> 2512 | J19: Sortant | L19: =D19/G17 -> 0.628
J20: 144
A21: GELIN | B21: Z80 | C21: T2 | D21: 13 | F21: =G22-D23+K24 -> 198 | G21: Gélin Fougeres | J21: Entrant
B22: Z90 | C22: T3 | D22: 1597 | G22: 2000
A23: TOTAL GLOBAL | D23: =SUM(D21:D22) -> 1610 | E23: =D23+K24 -> 1418 | J23: Sortant
J24: 192 | K24: =J22-J24 -> -192 | L24: =D23/G22 -> 0.805
A25: CELTIC | H25: Entrant | I25: Différence | J25: Entrant
H26: 490 | J26: 120
B27: Z91 | C27: T2 | D27: 2648 | F27: =G28-D29-H29-I29-K29 -> 800 | G27: Celtic | H27: Sortant | J27: Sortant
B28: YE5 | C28: YFF | D28: 573 | G28: 7013 | H28: 324 | J28: 430
A29: TOTAL GLOBAL | D29: =SUM(D27:D28) -> 3221 | E29: =D29+H29+I29+K29 -> 6213 | H29: 3136 | I29: =H26-H28 -> 166 | K29: =+J26-J28 -> -310 | L29: =D29/G28 -> 0.45928989 | M29: =+E29/G28 -> 0.88592614
A32: Et la fromagerie est sur le Site de Hénansal ou je n'ai pas d'info non plus

Sheet s26
A1: Date du 25/06 | E1: Prévision | F1: Différence | G1: Nbre de places MAX | H1: Landerneau | I1: Différence | J1: Créhen/Yff | K1: Différence | L1: CREHEN | M1: CREHEN+LDO
A2: STOCKEUR | B2: DEPOT | C2: TOUR | D2: Nbre de pal | G2: Garnier | H2: Entrant | J2: Entrant
A3: GARNIER | B3: Z93 | C3: T2 | D3: 11258 | H3: 120 | J3: 1152
B4: Z97 | C4: T3 | D4: 796 | H4: Sortant | J4: Sortant
B5: YE2 | C5: YFF | D5: 9 | H5: 72 | J5: =48+598 -> 646
A6: TOTAL GLOBAL | D6: =SUM(D3:D5) -> 12063 | E6: =D6+H6+I6+K6 -> 13465 | F6: =G6-D6-H6-I6-K6 -> 35 | G6: 13500 | H6: 848 | I6: =H3-H5 -> 48 | K6: =J3-J5 -> 506 | L6: =D6/G6 -> 0.89355556 | M6: =+E6/G6 -> 0.99740741
A7: GB | B7: Z81 | C7: T2 H | D7: 579 | G7: Gb vildé
B8: Z84 | C8: T2 V | D8: 1010 | F8: =G8-D8-D9-D12+K11 -> 352 | G8: 2500 | I8: =+D8+D9+D12 -> 1801 | J8: Entrant
B9: Z89 | C9: T3 | D9: 791 | G9: Gb Hénansal | J9: 240 | L9: =+I8/G8 -> 0.7204
B10: Z98 | C10: T3 H | D10: 355 | J10: Sortant
B11: YE3 | C11: YFF H | D11: 20 | F11: =G11-D7-D11-D10+K15 -> 518 | G11: 1500 | J11: =72+515 -> 587 | K11: =J9-J11 -> -347
B12: YE4 | C12: YFF V | I12: =+D7+D10+D11 -> 954 | J12: Entrant | L12: =+I12/G11 -> 0.636
A13: TOTAL GLOBAL | D13: =SUM(D7:D12) -> 2755 | E13: =D13+K11+K15 -> 2380
J14: Sortant
J15: 28 | K15: =J13-J15 -> -28
A16: GELIN | B16: Z88 | C16: T2 | F16: =G17-D19+K21 -> 1544 | G16: Gélin St Sauveur | J16: Entrant
B17: Z96 | C17: T3 | D17: 1109 | G17: 4000 | J17: 144
B18: YE6 | C18: YFF | D18: 1347
A19: TOTAL GLOBAL | D19: =SUM(D17:D18) -> 2456 | E19: =D19+K21 -> 2456 | J19: Sortant | L19: =D19/G17 -> 0.614
J20: =360+96 -> 456
A21: GELIN | B21: Z80 | C21: T2 | D21: 13 | F21: =G22-D23+K24 -> 550 | G21: Gélin Fougeres | J21: Entrant
B22: Z90 | C22: T3 | D22: 1365 | G22: 2000
A23: TOTAL GLOBAL | D23: =SUM(D21:D22) -> 1378 | E23: =D23+K24 -> 1306 | J23: Sortant
J24: 72 | K24: =J22-J24 -> -72 | L24: =D23/G22 -> 0.689
A25: CELTIC | H25: Entrant | I25: Différence | J25: Entrant
H26: =212+336 -> 548
B27: Z91 | C27: T2 | D27: 2493 | F27: =G28-D29-H29-I29-K29 -> 582 | G27: Celtic | H27: Sortant | J27: Sortant
B28: YE5 | C28: YFF | D28: 659 | G28: 7013 | H28: 124 | J28: =227+192 -> 419
A29: TOTAL GLOBAL | D29: =SUM(D27:D28) -> 3152 | E29: =D29+H29+I29+K29 -> 6431 | H29: 3274 | I29: =H26-H28 -> 424 | K29: =+J26-J28 -> -419 | L29: =D29/G28 -> 0.44945102 | M29: =+E29/G28 -> 0.91701126
A32: Et la fromagerie est sur le Site de Hénansal ou je n'ai pas d'info non plus

Sheet S27
A1: Date du 01/07 | E1: Prévision | F1: Différence | G1: Nbre de places MAX | H1: Landerneau | I1: Différence | J1: Créhen/Yff | K1: Différence | L1: CREHEN | M1: CREHEN+LDO
A2: STOCKEUR | B2: DEPOT | C2: TOUR | D2: Nbre de pal | G2: Garnier | H2: Entrant | J2: Entrant
A3: GARNIER | B3: Z93 | C3: T2 | D3: 11850 | H3: 72 | J3: 720
B4: Z97 | C4: T3 | D4: 750 | H4: Sortant | J4: Sortant
B5: YE2 | C5: YFF | D5: 9 | H5: 96 | J5: =777+266 -> 1043
A6: TOTAL GLOBAL | D6: =SUM(D3:D5) -> 12609 | E6: =D6+H6+I6+K6 -> 13110 | F6: =G6-D6-H6-I6-K6 -> 390 | G6: 13500 | H6: 848 | I6: =H3-H5 -> -24 | K6: =J3-J5 -> -323 | L6: =D6/G6 -> 0.934 | M6: =+E6/G6 -> 0.97111111
A7: GB | B7: Z81 | C7: T2 H | D7: 559 | G7: Gb vildé
B8: Z84 | C8: T2 V | D8: 783 | F8: =G8-D8-D9-D12+K11 -> 2048 | G8: 2500 | I8: =+D8+D9+D12 -> 1460 | J8: Entrant
B9: Z89 | C9: T3 | D9: 677 | G9: Gb Hénansal | J9: =912+144 -> 1056 | L9: =+I8/G8 -> 0.584
B10: Z98 | C10: T3 H | D10: 352 | J10: Sortant
B11: YE3 | C11: YFF H | D11: 20 | F11: =G11-D7-D11-D10+K15 -> 569 | G11: 1500 | J11: 48 | K11: =J9-J11 -> 1008
B12: YE4 | C12: YFF V | I12: =+D7+D10+D11 -> 931 | J12: Entrant | L12: =+I12/G11 -> 0.62066667
A13: TOTAL GLOBAL | D13: =SUM(D7:D12) -> 2391 | E13: =D13+K11+K15 -> 3399
J14: Sortant
K15: =J13-J15 -> 0
A16: GELIN | B16: Z88 | C16: T2 | F16: =G17-D19+K21 -> 1869 | G16: Gélin St Sauveur | J16: Entrant
B17: Z96 | C17: T3 | D17: 1192 | G17: 4000
B18: YE6 | C18: YFF | D18: 939
A19: TOTAL GLOBAL | D19: =SUM(D17:D18) -> 2131 | E19: =D19+K21 -> 2131 | J19: Sortant | L19: =D19/G17 -> 0.53275
J20: 86
A21: GELIN | B21: Z80 | C21: T2 | D21: 13 | F21: =G22-D23+K24 -> 644 | G21: Gélin Fougeres | J21: Entrant
B22: Z90 | C22: T3 | D22: 1293 | G22: 2000
A23: TOTAL GLOBAL | D23: =SUM(D21:D22) -> 1306 | E23: =D23+K24 -> 1256 | J23: Sortant
J24: =24+26 -> 50 | K24: =J22-J24 -> -50 | L24: =D23/G22 -> 0.653
A25: CELTIC | H25: Entrant | I25: Différence | J25: Entrant
H26: 430 | J26: 48
B27: Z91 | C27: T2 | D27: 2244 | F27: =G28-D29-H29-I29-K29 -> 622 | G27: Celtic | H27: Sortant | J27: Sortant
B28: YE5 | C28: YFF | D28: 780 | G28: 7013 | H28: 421 | J28: =45+113 -> 158
A29: TOTAL GLOBAL | D29: =SUM(D27:D28) -> 3024 | E29: =D29+H29+I29+K29 -> 6391 | H29: 3468 | I29: =H26-H28 -> 9 | K29: =+J26-J28 -> -110 | L29: =D29/G28 -> 0.4311992 | M29: =+E29/G28 -> 0.91130757
A32: Et la fromagerie est sur le Site de Hénansal ou je n'ai pas d'info non plus

Sheet s29
A1: Date du 15/07 | E1: Prévision | F1: Différence | G1: Nbre de places MAX | H1: Landerneau | I1: Différence | J1: Créhen/Yff | K1: Différence | L1: CREHEN | M1: CREHEN+LDO
A2: STOCKEUR | B2: DEPOT | C2: TOUR | D2: Nbre de pal | G2: Garnier | H2: Entrant | J2: Entrant
A3: GARNIER | B3: Z93 | C3: T2 | D3: 11167 | H3: 24 | J3: 1224
B4: Z97 | C4: T3 | D4: 724 | H4: Sortant | J4: Sortant
B5: YE2 | C5: YFF | D5: 9 | H5: 94 | J5: =635+552 -> 1187
A6: TOTAL GLOBAL | D6: =SUM(D3:D5) -> 11900 | E6: =D6+H6+I6+K6 -> 12621 | F6: =G6-D6-H6-I6-K6 -> 879 | G6: 13500 | H6: 754 | I6: =H3-H5 -> -70 | K6: =J3-J5 -> 37 | L6: =D6/G6 -> 0.88148148 | M6: =+E6/G6 -> 0.93488889
A7: GB | B7: Z81 | C7: T2 H | D7: 598 | G7: Gb vildé
B8: Z84 | C8: T2 V | D8: 1463 | F8: =G8-D8-D9-D12+K11 -> 192 | G8: 2500 | I8: =+D8+D9+D12 -> 2474 | J8: Entrant
B9: Z89 | C9: T3 | D9: 819 | G9: Gb Hénansal | J9: 168 | L9: =+I8/G8 -> 0.9896
B10: Z98 | C10: T3 H | D10: 375 | J10: Sortant
B11: YE3 | C11: YFF H | D11: 20 | F11: =G11-D7-D11-D10+K15 -> 513 | G11: 1500 | J11: 2 | K11: =J9-J11 -> 166
B12: YE4 | C12: YFF V | D12: 192 | I12: =+D7+D10+D11 -> 993 | J12: Entrant | L12: =+I12/G11 -> 0.662
A13: TOTAL GLOBAL | D13: =SUM(D7:D12) -> 3467 | E13: =D13+K11+K15 -> 3639 | J13: 24
J14: Sortant
J15: 18 | K15: =J13-J15 -> 6
A16: GELIN | B16: Z88 | C16: T2 | F16: =G17-D19+K21 -> 1779 | G16: Gélin St Sauveur | J16: Entrant
B17: Z96 | C17: T3 | D17: 1498 | G17: 4000 | J17: 120
B18: YE6 | C18: YFF | D18: 723
A19: TOTAL GLOBAL | D19: =SUM(D17:D18) -> 2221 | E19: =D19+K21 -> 2221 | J19: Sortant | L19: =D19/G17 -> 0.55525
J20: =216+172 -> 388
A21: GELIN | B21: Z80 | C21: T2 | D21: 13 | F21: =G22-D23+K24 -> 838 | G21: Gélin Fougeres | J21: Entrant
B22: Z90 | C22: T3 | D22: 1088 | G22: 2000
A23: TOTAL GLOBAL | D23: =SUM(D21:D22) -> 1101 | E23: =D23+K24 -> 1040 | J23: Sortant
J24: =24+37 -> 61 | K24: =J22-J24 -> -61 | L24: =D23/G22 -> 0.5505
A25: CELTIC | H25: Entrant | I25: Différence | J25: Entrant
H26: 335
B27: Z91 | C27: T2 | D27: 2067 | F27: =G28-D29-H29-I29-K29 -> 821 | G27: Celtic | H27: Sortant | J27: Sortant
B28: YE5 | C28: YFF | D28: 1005 | G28: 7013 | H28: 307 | J28: =109+192 -> 301
A29: TOTAL GLOBAL | D29: =SUM(D27:D28) -> 3072 | E29: =D29+H29+I29+K29 -> 6192 | H29: 3393 | I29: =H26-H28 -> 28 | K29: =+J26-J28 -> -301 | L29: =D29/G28 -> 0.43804363 | M29: =+E29/G28 -> 0.8829317
A32: Et la fromagerie est sur le Site de Hénansal ou je n'ai pas d'info non plus

Sheet S30
A1: Date du 22/07 | E1: Prévision | F1: Différence | G1: Nbre de places MAX | H1: Landerneau | I1: Différence | J1: Créhen/Yff | K1: Différence | L1: CREHEN | M1: CREHEN+LDO
A2: STOCKEUR | B2: DEPOT | C2: TOUR | D2: Nbre de pal | G2: Garnier | H2: Entrant | J2: Entrant
A3: GARNIER | B3: Z93 | C3: T2 | D3: 11488 | H3: 48 | J3: 936
B4: Z97 | C4: T3 | D4: 594 | H4: Sortant | J4: Sortant
B5: YE2 | C5: YFF | D5: 9 | H5: 96 | J5: =788+144 -> 932
A6: TOTAL GLOBAL | D6: =SUM(D3:D5) -> 12091 | E6: =D6+H6+I6+K6 -> 12801 | F6: =G6-D6-H6-I6-K6 -> 699 | G6: 13500 | H6: 754 | I6: =H3-H5 -> -48 | K6: =J3-J5 -> 4 | L6: =D6/G6 -> 0.89562963 | M6: =+E6/G6 -> 0.94822222
A7: GB | B7: Z81 | C7: T2 H | D7: 587 | G7: Gb vildé
B8: Z84 | C8: T2 V | D8: 1553 | F8: =G8-D8-D9-D12+K11 -> 148 | G8: 2500 | I8: =+D8+D9+D12 -> 2294 | J8: Entrant
B9: Z89 | C9: T3 | D9: 549 | G9: Gb Hénansal | J9: 168 | L9: =+I8/G8 -> 0.9176
B10: Z98 | C10: T3 H | D10: 379 | J10: Sortant
B11: YE3 | C11: YFF H | D11: 20 | F11: =G11-D7-D11-D10+K15 -> 469 | G11: 1500 | J11: 226 | K11: =J9-J11 -> -58
B12: YE4 | C12: YFF V | D12: 192 | I12: =+D7+D10+D11 -> 986 | J12: Entrant | L12: =+I12/G11 -> 0.65733333
A13: TOTAL GLOBAL | D13: =SUM(D7:D12) -> 3280 | E13: =D13+K11+K15 -> 3177
J14: Sortant
J15: =24+21 -> 45 | K15: =J13-J15 -> -45
A16: GELIN | B16: Z88 | C16: T2 | F16: =G17-D19+K21 -> 1898 | G16: Gélin St Sauveur | J16: Entrant
B17: Z96 | C17: T3 | D17: 1547 | G17: 4000 | J17: 144
B18: YE6 | C18: YFF | D18: 555
A19: TOTAL GLOBAL | D19: =SUM(D16:D18) -> 2102 | E19: =D19+K21 -> 2102 | J19: Sortant | L19: =D19/G17 -> 0.5255
J20: 309 | K20: =J17-J20 -> -165
A21: GELIN | B21: Z80 | C21: T2 | D21: 13 | F21: =G22-D23+K24 -> 947 | G21: Gélin Fougeres | J21: Entrant
B22: Z90 | C22: T3 | D22: 994 | G22: 2000
A23: TOTAL GLOBAL | D23: =SUM(D21:D22) -> 1007 | E23: =D23+K24 -> 961 | J23: Sortant
J24: 46 | K24: =J22-J24 -> -46 | L24: =D23/G22 -> 0.5035
A25: CELTIC | H25: Entrant | I25: Différence | J25: Entrant
H26: 200 | J26: 209
B27: Z91 | C27: T2 | D27: 1911 | F27: =G28-D29-H29-I29-K29 -> 646 | G27: Celtic | H27: Sortant | J27: Sortant
B28: YE5 | C28: YFF | D28: 1144 | G28: 7013 | H28: 214 | J28: =156+120 -> 276
A29: TOTAL GLOBAL | D29: =SUM(D27:D28) -> 3055 | E29: =D29+H29+I29+K29 -> 6367 | H29: 3393 | I29: =H26-H28 -> -14 | K29: =+J26-J28 -> -67 | L29: =D29/G28 -> 0.43561956 | M29: =+E29/G28 -> 0.90788536
A32: Et la fromagerie est sur le Site de Hénansal ou je n'ai pas d'info non plus

Sheet S31
A1: Date du 29/07 | E1: Prévision | F1: Différence | G1: Nbre de places MAX | H1: Landerneau | I1: Différence | J1: Créhen/Yff | K1: Différence | L1: CREHEN | M1: CREHEN+LDO
A2: STOCKEUR | B2: DEPOT | C2: TOUR | D2: Nbre de pal | G2: Garnier | H2: Entrant | J2: Entrant
A3: GARNIER | B3: Z93 | C3: T2 | D3: 11501 | H3: 48 | J3: 1008
B4: Z97 | C4: T3 | D4: 595 | H4: Sortant | J4: Sortant
B5: YE2 | C5: YFF | D5: 9 | H5: 72 | J5: =216+736 -> 952
A6: TOTAL GLOBAL | D6: =SUM(D3:D5) -> 12105 | E6: =D6+H6+I6+K6 -> 12843 | F6: =G6-D6-H6-I6-K6 -> 657 | G6: 13500 | H6: 706 | I6: =H3-H5 -> -24 | K6: =J3-J5 -> 56 | L6: =D6/G6 -> 0.89666667 | M6: =+E6/G6 -> 0.95133333
A7: GB | B7: Z81 | C7: T2 H | D7: 604 | G7: Gb vildé
B8: Z84 | C8: T2 V | D8: 1520 | F8: =G8-D8-D9-D12+K11 -> 174 | G8: 2500 | I8: =+D8+D9+D12 -> 2294 | J8: Entrant
B9: Z89 | C9: T3 | D9: 582 | G9: Gb Hénansal | J9: 240 | L9: =+I8/G8 -> 0.9176
B10: Z98 | C10: T3 H | D10: 378 | J10: Sortant
B11: YE3 | C11: YFF H | D11: 20 | F11: =G11-D7-D11-D10+K15 -> 483 | G11: 1500 | J11: =18+254 -> 272 | K11: =J9-J11 -> -32
B12: YE4 | C12: YFF V | D12: 192 | I12: =+D7+D10+D11 -> 1002 | J12: Entrant | L12: =+I12/G11 -> 0.668
A13: TOTAL GLOBAL | D13: =SUM(D7:D12) -> 3296 | E13: =D13+K11+K15 -> 3249 | J13: 24
J14: Sortant
J15: =15+24 -> 39 | K15: =J13-J15 -> -15
A16: GELIN | B16: Z88 | C16: T2 | F16: =G17-D19+K21 -> 2060 | G16: Gélin St Sauveur | J16: Entrant
B17: Z96 | C17: T3 | D17: 1625 | G17: 4000 | J17: 96
B18: YE6 | C18: YFF | D18: 315
A19: TOTAL GLOBAL | D19: =SUM(D16:D18) -> 1940 | E19: =D19+K21 -> 1940 | J19: Sortant | L19: =D19/G17 -> 0.485
J20: =168+168 -> 336 | K20: =J17-J20 -> -240
