Workbook

Sheet S3
A1: Date du 11 Janvier | E1: Différence | F1: Nbre de places MAX
A2: STOCKEUR | B2: DEPOT | C2: TOUR | D2: Nbre de pal | F2: Garnier
A3: GARNIER | B3: Z93 | C3: T2 | D3: 12360
B4: Z97 | C4: T3 | D4: 338
B5: YE2 | C5: YFF | D5: 900
A6: TOTAL GLOBAL | D6: =SUM(D3:D5) -> 13598 | E6: =F6-D6 -> -598 | F6: 13000
A7: GB | B7: Z81 | C7: T2 H | D7: 526 | F7: Gb vildé
B8: Z84 | C8: T2 V | D8: 577 | E8: =F8-D8-D9-D11 -> 659 | F8: 2500
B9: Z89 | C9: T3 | D9: 1086 | F9: Gb Hénansal
B10: YE3 | C10: YFF H | D10: 68 | E10: =F10-D7-D10 -> 906 | F10: 1500
B11: YE4 | C11: YFF V | D11: 178
A12: TOTAL GLOBAL | D12: =SUM(D7:D11) -> 2435 | F12: Gélin
A13: GELIN | B13: Z80 | C13: T2 | D13: 37 | E13: =F13-D15 -> 538 | F13: 2000
B14: Z90 | C14: T3 | D14: 1425
A15: TOTAL GLOBAL | D15: =SUM(D13:D14) -> 1462
A16: CELTIC | B16: Z91 | C16: T2 | D16: 646 | E16: =F17-D18 -> 3354 | F16: Celtic
B17: YE5 | C17: YFF | F17: 4000
A18: TOTAL GLOBAL | D18: =SUM(D16:D17) -> 646
A21: Attention les places MAX comprennent les sites de Landerneau dont je n'ai pas les informations du nombre de places .
A23: Et pour Info, Landerneau sont sur les sites de Garnier et Celtic.
A24: Et la fromagerie est sur le Site de Hénansal ou je n'ai pas d'info non plus

Sheet S4
A1: Date du 18 Janvier | E1: Différence | F1: Nbre de places MAX | G1: Landerneau | H1: Différence
A2: STOCKEUR | B2: DEPOT | C2: TOUR | D2: Nbre de pal | F2: Garnier | G2: Entrant
A3: GARNIER | B3: Z93 | C3: T2 | D3: 11265 | G3: 96
B4: Z97 | C4: T3 | D4: 358 | G4: Sortant
B5: YE2 | C5: YFF | D5: 865 | G5: 96
A6: TOTAL GLOBAL | D6: =SUM(D3:D5)+G6+H6 -> 13148 | E6: =F6-D6 -> -148 | F6: 13000 | G6: 660 | H6: =G3-G5 -> 0
A7: GB | B7: Z81 | C7: T2 H | D7: 510 | F7: Gb vildé
B8: Z84 | C8: T2 V | D8: 577 | E8: =F8-D8-D9-D12 -> 769 | F8: 2500
B9: Z89 | C9: T3 | D9: 1024 | F9: Gb Hénansal
B10: Z98 | C10: T3 H | D10: 329
B11: YE3 | C11: YFF H | D11: 68 | E11: =F11-D7-D11-D10 -> 593 | F11: 1500
B12: YE4 | C12: YFF V | D12: 130
A13: TOTAL GLOBAL | D13: =SUM(D7:D12) -> 2638 | F13: Gélin
A14: GELIN | B14: Z80 | C14: T2 | D14: 13 | E14: =F14-D16 -> 604 | F14: 2000
B15: Z90 | C15: T3 | D15: 1383
A16: TOTAL GLOBAL | D16: =SUM(D14:D15) -> 1396
A17: CELTIC | G17: Entrant | H17: Différence
G18: 214
B19: Z91 | C19: T2 | D19: 944 | E19: =F20-D21 -> 629 | F19: Celtic | G19: Sortant
B20: YE5 | C20: YFF | D20: 733 | F20: 4000 | G20: 119
A21: TOTAL GLOBAL | D21: =SUM(D19:D20)+G21+H21 -> 3371 | G21: 1599 | H21: =G18-G20 -> 95
A24: Attention les places MAX comprennent les sites de Landerneau dont je n'ai pas les informations du nombre de places .
A26: Et pour Info, Landerneau sont sur les sites de Garnier et Celtic.
A27: Et la fromagerie est sur le Site de Hénansal ou je n'ai pas d'info non plus

Sheet S5
A1: Date du 25 Janvier | E1: Différence | F1: Nbre de places MAX | G1: Landerneau | H1: Différence | I1: Créhen/Yff | J1: Différence
A2: STOCKEUR | B2: DEPOT | C2: TOUR | D2: Nbre de pal | F2: Garnier | G2: Entrant | I2: Entrant
A3: GARNIER | B3: Z93 | C3: T2 | D3: 10676 | I3: 720
B4: Z97 | C4: T3 | D4: 424 | G4: Sortant | I4: Sortant
B5: YE2 | C5: YFF | D5: 815 | I5: =168+372+478 -> 1018
A6: TOTAL GLOBAL | D6: =SUM(D3:D5)+G6+H6+J6 -> 12277 | E6: =F6-D6 -> 723 | F6: 13000 | G6: 660 | H6: =G3-G5 -> 0 | J6: =I3-I5 -> -298
A7: GB | B7: Z81 | C7: T2 H | D7: 544 | F7: Gb vildé
B8: Z84 | C8: T2 V | D8: 649 | E8: =F8-D8-D9-D12+J11 -> 781 | F8: 2500 | I8: Entrant
B9: Z89 | C9: T3 | D9: 1076 | F9: Gb Hénansal | I9: 144
B10: Z98 | C10: T3 H | D10: 335 | I10: Sortant
B11: YE3 | C11: YFF H | D11: 68 | E11: =F11-D7-D11-D10+J15 -> 592 | F11: 1500 | I11: =2+6 -> 8 | J11: =I9-I11 -> 136
B12: YE4 | C12: YFF V | D12: 130 | I12: Entrant
A13: TOTAL GLOBAL | D13: =SUM(D7:D12) -> 2802 | I13: 234
I14: Sortant
I15: 195 | J15: =I13-I15 -> 39
A16: GELIN | B16: Z80 | C16: T2 | D16: 13 | E16: =F17-D18+J19 -> 804 | F16: Gélin | I16: Entrant
B17: Z90 | C17: T3 | D17: 1361 | F17: 2000 | I17: 216
A18: TOTAL GLOBAL | D18: =SUM(D16:D17) -> 1374 | I18: Sortant
I19: 38 | J19: =I17-I19 -> 178
A20: CELTIC | G20: Entrant | H20: Différence | I20: Entrant
D21: 835 | I21: =166+37+478 -> 681
B22: Z91 | C22: T2 | D22: 1868 | E22: =F23-D24+J24 -> 3850 | F22: Celtic | G22: Sortant | I22: Sortant
B23: YE5 | C23: YFF | F23: 6833 | I23: 102
A24: TOTAL GLOBAL | D24: =SUM(D22:D23)+G24+H24 -> 3562 | G24: 1694 | H24: =G21-G23 -> 0 | J24: =I21-I23 -> 579
A27: Et la fromagerie est sur le Site de Hénansal ou je n'ai pas d'info non plus

Sheet S6
A1: Date du 01 Février | E1: Prévision | F1: Différence | G1: Nbre de places MAX | H1: Landerneau | I1: Différence | J1: Créhen/Yff | K1: Différence
A2: STOCKEUR | B2: DEPOT | C2: TOUR | D2: Nbre de pal | G2: Garnier | H2: Entrant | J2: Entrant
A3: GARNIER | B3: Z93 | C3: T2 | D3: 10433 | J3: 1104
B4: Z97 | C4: T3 | D4: 421 | H4: Sortant | J4: Sortant
B5: YE2 | C5: YFF | D5: 719 | H5: =24+24+24+24+24 -> 120 | J5: =214+528 -> 742
A6: TOTAL GLOBAL | D6: =SUM(D3:D5) -> 11573 | E6: =D6+H6+I6+K6 -> 12476 | F6: =G6-D6 -> 1427 | G6: 13000 | H6: 661 | I6: =H3-H5 -> -120 | K6: =J3-J5 -> 362 | L6: =D6/G6 -> 0.89023077
A7: GB | B7: Z81 | C7: T2 H | D7: 684 | G7: Gb vildé
B8: Z84 | C8: T2 V | D8: 656 | F8: =G8-D8-D9-D12+K11 -> 551 | G8: 2500 | J8: Entrant
B9: Z89 | C9: T3 | D9: 1111 | G9: Gb Hénansal | J9: 408
B10: Z98 | C10: T3 H | D10: 338 | J10: Sortant
B11: YE3 | C11: YFF H | D11: 68 | F11: =G11-D7-D11-D10+K15 -> 321 | G11: 1500 | J11: 462 | K11: =J9-J11 -> -54
B12: YE4 | C12: YFF V | D12: 128 | J12: Entrant
A13: TOTAL GLOBAL | D13: =SUM(D7:D12) -> 2985 | E13: =D13+K11+K15 -> 2842 | L13: =D13/(G8+G11) -> 0.74625
J14: Sortant
J15: 89 | K15: =J13-J15 -> -89
A16: GELIN | B16: Z80 | C16: T2 | D16: 13 | F16: =G17-D18+K19 -> 347 | G16: Gélin | J16: Entrant
B17: Z90 | C17: T3 | D17: 1616 | G17: 2000 | J17: 24
A18: TOTAL GLOBAL | D18: =SUM(D16:D17) -> 1629 | E18: =D18+K19 -> 1605 | J18: Sortant
J19: 48 | K19: =J17-J19 -> -24 | L19: =D18/G17 -> 0.8145
A20: CELTIC | H20: Entrant | I20: Différence | J20: Entrant
H21: =72+78 -> 150 | J21: =600+264 -> 864
B22: Z91 | C22: T2 | D22: 2828 | F22: =G23-D24 -> 3051 | G22: Celtic | H22: Sortant | J22: Sortant
B23: YE5 | C23: YFF | D23: 954 | G23: 6833 | H23: =24+72+24+24 -> 144 | J23: 24
A24: TOTAL GLOBAL | D24: =SUM(D22:D23) -> 3782 | E24: =D24+H24+I24+K24 -> 6348 | H24: 1720 | I24: =H21-H23 -> 6 | K24: =J21-J23 -> 840 | L24: =D24/G23 -> 0.55349041
D25: =+D6+D13+D18+D24 -> 19969 | G25: =+G6+G8+G11+G17+G23 -> 25833 | K25: =+G25-D25 -> 5864
A27: Et la fromagerie est sur le Site de Hénansal ou je n'ai pas d'info non plus

Sheet S7
A1: Date du 11 Février | E1: Prévision | F1: Différence | G1: Nbre de places MAX | H1: Landerneau | I1: Différence | J1: Créhen/Yff | K1: Différence
A2: STOCKEUR | B2: DEPOT | C2: TOUR | D2: Nbre de pal | G2: Garnier | H2: Entrant | J2: Entrant
A3: GARNIER | B3: Z93 | C3: T2 | D3: 10099 | H3: 144 | J3: 1296
B4: Z97 | C4: T3 | D4: 534 | H4: Sortant | J4: Sortant
B5: YE2 | C5: YFF | D5: 647 | H5: 120 | J5: 961
A6: TOTAL GLOBAL | D6: =SUM(D3:D5) -> 11280 | E6: =D6+H6+I6+K6 -> 12204 | F6: =G6-D6 -> 1720 | G6: 13000 | H6: 565 | I6: =H3-H5 -> 24 | K6: =J3-J5 -> 335 | L6: =(D6+H6)/G6 -> 0.91115385
A7: GB | B7: Z81 | C7: T2 H | D7: 630 | G7: Gb vildé
B8: Z84 | C8: T2 V | D8: 623 | F8: =G8-D8-D9-D12+K11 -> 796 | G8: 2500 | J8: Entrant
B9: Z89 | C9: T3 | D9: 1136 | G9: Gb Hénansal | J9: 404
B10: Z98 | C10: T3 H | D10: 333 | J10: Sortant
B11: YE3 | C11: YFF H | D11: 68 | F11: =G11-D7-D11-D10+K15 -> 388 | G11: 1500 | J11: 293 | K11: =J9-J11 -> 111
B12: YE4 | C12: YFF V | D12: 56 | J12: Entrant
A13: TOTAL GLOBAL | D13: =SUM(D7:D12) -> 2846 | E13: =D13+K11+K15 -> 2876 | L13: =D13/(G8+G11) -> 0.7115
J14: Sortant
J15: 81 | K15: =J13-J15 -> -81
A16: GELIN | B16: Z80 | C16: T2 | D16: 13 | F16: =G17-D18+K19 -> 376 | G16: Gélin | J16: Entrant
B17: Z90 | C17: T3 | D17: 1587 | G17: 2000
A18: TOTAL GLOBAL | D18: =SUM(D16:D17) -> 1600 | E18: =D18+K19 -> 1576 | J18: Sortant
J19: 24 | K19: =J17-J19 -> -24 | L19: =D18/G17 -> 0.8
A20: CELTIC | H20: Entrant | I20: Différence | J20: Entrant
H21: 200
B22: Z91 | C22: T2 | D22: 3423 | F22: =G23-D24 -> 2481 | G22: Celtic | H22: Sortant | J22: Sortant
B23: YE5 | C23: YFF | D23: 1169 | G23: 7073 | H23: 346 | J23: 213
A24: TOTAL GLOBAL | D24: =SUM(D22:D23) -> 4592 | E24: =D24+H24+I24+K24 -> 6006 | H24: 1773 | I24: =H21-H23 -> -146 | K24: =J21-J23 -> -213 | L24: =(D24+H24)/G23 -> 0.89990103
D25: =+D6+D13+D18+D24 -> 20318 | G25: =+G6+G8+G11+G17+G23 -> 26073 | K25: =+G25-D25 -> 5755
A27: Et la fromagerie est sur le Site de Hénansal ou je n'ai pas d'info non plus

Sheet S8
A1: Date du 08 Février | E1: Prévision | F1: Différence | G1: Nbre de places MAX | H1: Landerneau | I1: Différence | J1: Créhen/Yff | K1: Différence
A2: STOCKEUR | B2: DEPOT | C2: TOUR | D2: Nbre de pal | G2: Garnier | H2: Entrant | J2: Entrant
A3: GARNIER | B3: Z93 | C3: T2 | D3: 10502 | I3: 150 | J3: 1080
B4: Z97 | C4: T3 | D4: 552 | H4: Sortant | J4: Sortant
B5: YE2 | C5: YFF | D5: 551 | I5: 96 | J5: =540+789 -> 1329
A6: TOTAL GLOBAL | D6: =SUM(D3:D5) -> 11605 | E6: =D6+H6+I6+K6 -> 12017 | F6: =G6-D6-H6-I6-K6 -> 983 | G6: 13000 | H6: 661 | I6: =H3-H5 -> 0 | K6: =J3-J5 -> -249 | L6: =D6/G6 -> 0.89269231
A7: GB | B7: Z81 | C7: T2 H | D7: 631 | G7: Gb vildé
B8: Z84 | C8: T2 V | D8: 756 | F8: =G8-D8-D9-D12+K11 -> 527 | G8: 2500 | J8: Entrant
B9: Z89 | C9: T3 | D9: 1185 | G9: Gb Hénansal | J9: 334
B10: Z98 | C10: T3 H | D10: 290 | J10: Sortant
B11: YE3 | C11: YFF H | D11: 44 | F11: =G11-D7-D11-D10+K15 -> 422 | G11: 1500 | J11: =300+10 -> 310 | K11: =J9-J11 -> 24
B12: YE4 | C12: YFF V | D12: 56 | J12: Entrant
A13: TOTAL GLOBAL | D13: =SUM(D7:D12) -> 2962 | E13: =D13+K11+K15 -> 2873 | J13: 48 | L13: =D13/(G8+G11) -> 0.7405
J14: Sortant
J15: =63+98 -> 161 | K15: =J13-J15 -> -113
A16: GELIN | B16: Z80 | C16: T2 | D16: 13 | F16: =G17-D18+K19 -> 414 | G16: Gélin | J16: Entrant
B17: Z90 | C17: T3 | D17: 1563 | G17: 2000 | J17: 48
A18: TOTAL GLOBAL | D18: =SUM(D16:D17) -> 1576 | E18: =D18+K19 -> 1566 | J18: Sortant
J19: =32+26 -> 58 | K19: =J17-J19 -> -10 | L19: =D18/G17 -> 0.788
A20: CELTIC | H20: Entrant | I20: Différence | J20: Entrant
I21: 260 | J21: 312
B22: Z91 | C22: T2 | D22: 3298 | F22: =G23-D24-H24-I24-K24 -> 70 | G22: Celtic | H22: Sortant | J22: Sortant
B23: YE5 | C23: YFF | D23: 1313 | G23: 6833 | I23: 76 | J23: 96
A24: TOTAL GLOBAL | D24: =SUM(D22:D23) -> 4611 | E24: =D24+H24+I24+K24 -> 6763 | H24: 1752 | I24: =+I21-I23 -> 184 | K24: =J21-J23 -> 216 | L24: =D24/G23 -> 0.67481341
D25: =+D6+D13+D18+D24 -> 20754 | G25: =+G6+G8+G11+G17+G23 -> 25833 | K25: =+G25-D25 -> 5079
A27: Et la fromagerie est sur le Site de Hénansal ou je n'ai pas d'info non plus

Sheet S9
A1: Date du 08 Février | E1: Prévision | F1: Différence | G1: Nbre de places MAX | H1: Landerneau | I1: Différence | J1: Créhen/Yff | K1: Différence
A2: STOCKEUR | B2: DEPOT | C2: TOUR | D2: Nbre de pal | G2: Garnier | H2: Entrant | J2: Entrant
A3: GARNIER | B3: Z93 | C3: T2 | D3: 10853 | J3: 1440
B4: Z97 | C4: T3 | D4: 624 | H4: Sortant | J4: Sortant
B5: YE2 | C5: YFF | D5: 81 | J5: 1163
A6: TOTAL GLOBAL | D6: =SUM(D3:D5) -> 11558 | E6: =D6+H6+I6+K6 -> 12496 | F6: =G6-D6-H6-I6-K6 -> 504 | G6: 13000 | H6: 661 | I6: =H3-H5 -> 0 | K6: =J3-J5 -> 277 | L6: =D6/G6 -> 0.88907692
A7: GB | B7: Z81 | C7: T2 H | D7: 489 | G7: Gb vildé
B8: Z84 | C8: T2 V | D8: 703 | F8: =G8-D8-D9-D12+K11 -> 459 | G8: 2500 | J8: Entrant
B9: Z89 | C9: T3 | D9: 1241 | G9: Gb Hénansal | J9: 286
B10: Z98 | C10: T3 H | D10: 275 | J10: Sortant
B11: YE3 | C11: YFF H | D11: 44 | F11: =G11-D7-D11-D10+K15 -> 667 | G11: 1500 | J11: 327 | K11: =J9-J11 -> -41
B12: YE4 | C12: YFF V | D12: 56 | J12: Entrant
A13: TOTAL GLOBAL | D13: =SUM(D7:D12) -> 2808 | E13: =D13+K11+K15 -> 2742 | J13: 0 | L13: =D13/(G8+G11) -> 0.702
J14: Sortant
J15: 25 | K15: =J13-J15 -> -25
A16: GELIN | B16: Z80 | C16: T2 | D16: 13 | F16: =G17-D18+K19 -> 481 | G16: Gélin | J16: Entrant
B17: Z90 | C17: T3 | D17: 1499 | G17: 2000 | J17: 48
A18: TOTAL GLOBAL | D18: =SUM(D16:D17) -> 1512 | E18: =D18+K19 -> 1505 | J18: Sortant
J19: 55 | K19: =J17-J19 -> -7 | L19: =D18/G17 -> 0.756
A20: CELTIC | H20: Entrant | I20: Différence | J20: Entrant
J21: 144
B22: Z91 | C22: T2 | D22: 3298 | F22: =G23-D24-H24-I24-K24 -> 372 | G22: Celtic | H22: Sortant | J22: Sortant
B23: YE5 | C23: YFF | D23: 1480 | G23: 6833 | J23: 213
A24: TOTAL GLOBAL | D24: =SUM(D22:D23) -> 4778 | E24: =D24+H24+I24+K24 -> 6461 | H24: 1752 | I24: =+I21-I23 -> 0 | K24: =J21-J23 -> -69 | L24: =D24/G23 -> 0.69925362
D25: =+D6+D13+D18+D24 -> 20656 | G25: =+G6+G8+G11+G17+G23 -> 25833 | K25: =+G25-D25 -> 5177
A27: Et la fromagerie est sur le Site de Hénansal ou je n'ai pas d'info non plus

Sheet S10
A1: Date du 08 Février | E1: Prévision | F1: Différence | G1: Nbre de places MAX | H1: Landerneau | I1: Différence | J1: Créhen/Yff | K1: Différence | L1: CREHEN | M1: CREHEN+LDO
A2: STOCKEUR | B2: DEPOT | C2: TOUR | D2: Nbre de pal | G2: Garnier | H2: Entrant | J2: Entrant
A3: GARNIER | B3: Z93 | C3: T2 | D3: 11081 | I3: 168 | J3: 1560
B4: Z97 | C4: T3 | D4: 528 | H4: Sortant | J4: Sortant
B5: YE2 | C5: YFF | D5: 41 | I5: 96 | J5: =256+967 -> 1223
A6: TOTAL GLOBAL | D6: =SUM(D3:D5) -> 11650 | E6: =D6+H6+I6+K6 -> 12649 | F6: =G6-D6-H6-I6-K6 -> 351 | G6: 13000 | H6: 590 | I6: =+I3-I5 -> 72 | K6: =J3-J5 -> 337 | L6: =D6/G6 -> 0.89615385 | M6: =+E6/G6 -> 0.973
A7: GB | B7: Z81 | C7: T2 H | D7: 469 | G7: Gb vildé
B8: Z84 | C8: T2 V | D8: 644 | F8: =G8-D8-D9-D12+K11 -> 464 | G8: 2500 | J8: Entrant
B9: Z89 | C9: T3 | D9: 1333 | G9: Gb Hénansal | J9: 0
B10: Z98 | C10: T3 H | D10: 275 | J10: Sortant
B11: YE3 | C11: YFF H | D11: 44 | F11: =G11-D7-D11-D10+K15 -> 754 | G11: 1500 | J11: 24 | K11: =J9-J11 -> -24
B12: YE4 | C12: YFF V | D12: 35 | J12: Entrant
A13: TOTAL GLOBAL | D13: =SUM(D7:D12) -> 2800 | E13: =D13+K11+K15 -> 2818 | J13: 260 | L13: =D13/(G8+G11) -> 0.7
J14: Sortant
J15: =208+10 -> 218 | K15: =J13-J15 -> 42
A16: GELIN | B16: Z80 | C16: T2 | D16: 13 | F16: =G17-D18+K19 -> 358 | G16: Gélin | J16: Entrant
B17: Z90 | C17: T3 | D17: 1543 | G17: 2000 | J17: 96
A18: TOTAL GLOBAL | D18: =SUM(D16:D17) -> 1556 | E18: =D18+K19 -> 1470 | J18: Sortant
J19: =130+52 -> 182 | K19: =J17-J19 -> -86 | L19: =D18/G17 -> 0.778
A20: CELTIC | H20: Entrant | I20: Différence | J20: Entrant
H21: 260 | J21: 360
B22: Z91 | C22: T2 | D22: 3343 | F22: =G23-D24-H24-I24-K24 -> 57 | G22: Celtic | H22: Sortant | J22: Sortant
B23: YE5 | C23: YFF | D23: 1591 | G23: 6833 | H23: =26+26+26+24+26+24+24+24+26 -> 226 | J23: =386+96 -> 482
A24: TOTAL GLOBAL | D24: =SUM(D22:D23) -> 4934 | E24: =D24+H24+I24+K24 -> 6776 | H24: 1930 | I24: =+H21-H23 -> 34 | K24: =+J21-J23 -> -122 | L24: =D24/G23 -> 0.722084 | M24: =+E24/G23 -> 0.99165813
A27: Et la fromagerie est sur le Site de Hénansal ou je n'ai pas d'info non plus

Sheet S11
A1: Date du 08 Février | E1: Prévision | F1: Différence | G1: Nbre de places MAX | H1: Landerneau | I1: Différence | J1: Créhen/Yff | K1: Différence | L1: CREHEN | M1: CREHEN+LDO
A2: STOCKEUR | B2: DEPOT | C2: TOUR | D2: Nbre de pal | G2: Garnier | H2: Entrant | J2: Entrant
A3: GARNIER | B3: Z93 | C3: T2 | D3: 11113 | I3: 120 | J3: 1368
B4: Z97 | C4: T3 | D4: 539 | H4: Sortant | J4: Sortant
B5: YE2 | C5: YFF | D5: 41 | I5: 72 | J5: =405+578 -> 983
A6: TOTAL GLOBAL | D6: =SUM(D3:D5) -> 11693 | E6: =D6+H6+I6+K6 -> 12620 | F6: =G6-D6-H6-I6-K6 -> 380 | G6: 13000 | H6: 494 | I6: =+I3-I5 -> 48 | K6: =J3-J5 -> 385 | L6: =D6/G6 -> 0.89946154 | M6: =+E6/G6 -> 0.97076923
A7: GB | B7: Z81 | C7: T2 H | D7: 483 | G7: Gb vildé
B8: Z84 | C8: T2 V | D8: 644 | F8: =G8-D8-D9-D12+K11 -> 744 | G8: 2500 | J8: Entrant
B9: Z89 | C9: T3 | D9: 1303 | G9: Gb Hénansal | J9: 464
B10: Z98 | C10: T3 H | D10: 282 | J10: Sortant
B11: YE3 | C11: YFF H | D11: 23 | F11: =G11-D7-D11-D10+K15 -> 702 | G11: 1500 | J11: =134+114 -> 248 | K11: =J9-J11 -> 216
B12: YE4 | C12: YFF V | D12: 25 | J12: Entrant
A13: TOTAL GLOBAL | D13: =SUM(D7:D12) -> 2760 | E13: =D13+K11+K15 -> 2966 | J13: 0 | L13: =D13/(G8+G11) -> 0.69
J14: Sortant
J15: 10 | K15: =J13-J15 -> -10
A16: GELIN | B16: Z80 | C16: T2 | D16: 13 | F16: =G17-D18+K19 -> 623 | G16: Gélin | J16: Entrant
B17: Z90 | C17: T3 | D17: 1438 | G17: 2000 | J17: 144
A18: TOTAL GLOBAL | D18: =SUM(D16:D17) -> 1451 | E18: =D18+K19 -> 1525 | J18: Sortant
J19: 70 | K19: =J17-J19 -> 74 | L19: =D18/G17 -> 0.7255
A20: CELTIC | H20: Entrant | I20: Différence | J20: Entrant
I21: 312 | J21: 216
B22: Z91 | C22: T2 | D22: 3073 | F22: =G23-D24-H24-I24-K24 -> 361 | G22: Celtic | H22: Sortant | J22: Sortant
B23: YE5 | C23: YFF | D23: 1777 | G23: 7333 | I23: 50 | J23: =271+93 -> 364
A24: TOTAL GLOBAL | D24: =SUM(D22:D23) -> 4850 | E24: =D24+H24+I24+K24 -> 6972 | H24: 2008 | I24: =I21-I23 -> 262 | K24: =+J21-J23 -> -148 | L24: =D24/G23 -> 0.6613937 | M24: =+E24/G23 -> 0.95077049
A27: Et la fromagerie est sur le Site de Hénansal ou je n'ai pas d'info non plus

Sheet S12
A1: Date du 08 Février | E1: Prévision | F1: Différence | G1: Nbre de places MAX | H1: Landerneau | I1: Différence | J1: Créhen/Yff | K1: Différence | L1: CREHEN | M1: CREHEN+LDO
A2: STOCKEUR | B2: DEPOT | C2: TOUR | D2: Nbre de pal | G2: Garnier | H2: Entrant | J2: Entrant
A3: GARNIER | B3: Z93 | C3: T2 | D3: 11224 | H3: =8*24 -> 192 | J3: 1392
B4: Z97 | C4: T3 | D4: 585 | H4: Sortant | J4: Sortant
B5: YE2 | C5: YFF | D5: 14 | H5: =24+24+24+24+24+24 -> 144 | J5: =768+91 -> 859
A6: TOTAL GLOBAL | D6: =SUM(D3:D5) -> 11823 | E6: =D6+H6+I6+K6 -> 12946 | F6: =G6-D6-H6-I6-K6 -> 554 | G6: 13500 | H6: 542 | I6: =H3-H5 -> 48 | K6: =J3-J5 -> 533 | L6: =D6/G6 -> 0.87577778 | M6: =+E6/G6 -> 0.95896296
A7: GB | B7: Z81 | C7: T2 H | D7: 477 | G7: Gb vildé
B8: Z84 | C8: T2 V | D8: 772 | F8: =G8-D8-D9-D12+K11 -> 456 | G8: 2500 | J8: Entrant
B9: Z89 | C9: T3 | D9: 1302 | G9: Gb Hénansal | J9: 434
B10: Z98 | C10: T3 H | D10: 261 | J10: Sortant
B11: YE3 | C11: YFF H | D11: 23 | F11: =G11-D7-D11-D10+K15 -> 721 | G11: 1500 | J11: =102+267 -> 369 | K11: =J9-J11 -> 65
B12: YE4 | C12: YFF V | D12: 35 | J12: Entrant
A13: TOTAL GLOBAL | D13: =SUM(D7:D12) -> 2870 | E13: =D13+K11+K15 -> 2917 | L13: =D13/(G8+G11) -> 0.7175
J14: Sortant
J15: 18 | K15: =J13-J15 -> -18
A16: GELIN | B16: Z80 | C16: T2 | D16: 13 | F16: =G17-D18+K19 -> 320 | G16: Gélin | J16: Entrant
B17: Z90 | C17: T3 | D17: 1496 | G17: 2000 | J17: 168
A18: TOTAL GLOBAL | D18: =SUM(D16:D17) -> 1509 | E18: =D18+K19 -> 1338 | J18: Sortant
J19: =145+194 -> 339 | K19: =J17-J19 -> -171 | L19: =D18/G17 -> 0.7545
A20: CELTIC | H20: Entrant | I20: Différence | J20: Entrant
H21: =52+208 -> 260 | J21: 240
B22: Z91 | C22: T2 | D22: 2734 | F22: =G23-D24-H24-I24-K24 -> 673 | G22: Celtic | H22: Sortant | J22: Sortant
B23: YE5 | C23: YFF | D23: 1870 | G23: 7333 | H23: =26+24+24+26+24+24+26 -> 174 | J23: =330+150 -> 480
A24: TOTAL GLOBAL | D24: =SUM(D22:D23) -> 4604 | E24: =D24+H24+I24+K24 -> 6660 | H24: 2210 | I24: =H21-H23 -> 86 | K24: =+J21-J23 -> -240 | L24: =D24/G23 -> 0.62784672 | M24: =+E24/G23 -> 0.9082231
A27: Et la fromagerie est sur le Site de Hénansal ou je n'ai pas d'info non plus

Sheet S13
A1: Date du 08 Février | E1: Prévision | F1: Différence | G1: Nbre de places MAX | H1: Landerneau | I1: Différence | J1: Créhen/Yff | K1: Différence | L1: CREHEN | M1: CREHEN+LDO
A2: STOCKEUR | B2: DEPOT | C2: TOUR | D2: Nbre de pal | G2: Garnier | H2: Entrant | J2: Entrant
A3: GARNIER | B3: Z93 | C3: T2 | D3: 11617 | H3: 72 | J3: =1008 -> 1008
B4: Z97 | C4: T3 | D4: 726 | H4: Sortant | J4: Sortant
B5: YE2 | C5: YFF | D5: 14 | H5: =24+24+24+24 -> 96 | J5: =205+1200 -> 1405
A6: TOTAL GLOBAL | D6: =SUM(D3:D5) -> 12357 | E6: =D6+H6+I6+K6 -> 12478 | F6: =G6-D6-H6-I6-K6 -> 1022 | G6: 13500 | H6: 542 | I6: =H3-H5 -> -24 | K6: =J3-J5 -> -397 | L6: =D6/G6 -> 0.91533333 | M6: =+E6/G6 -> 0.9242963
A7: GB | B7: Z81 | C7: T2 H | D7: 453 | G7: Gb vildé
B8: Z84 | C8: T2 V | D8: 799 | F8: =G8-D8-D9-D12+K11 -> 639 | G8: 2500 | J8: Entrant
B9: Z89 | C9: T3 | D9: 1419 | G9: Gb Hénansal | J9: =440 -> 440
B10: Z98 | C10: T3 H | D10: 251 | J10: Sortant
B11: YE3 | C11: YFF H | D11: 22 | F11: =G11-D7-D11-D10+K15 -> 756 | G11: 1500 | J11: =24+24 -> 48 | K11: =J9-J11 -> 392
B12: YE4 | C12: YFF V | D12: 35 | J12: Entrant
A13: TOTAL GLOBAL | D13: =SUM(D7:D12) -> 2979 | E13: =D13+K11+K15 -> 3353 | L13: =D13/(G8+G11) -> 0.74475
J14: Sortant
J15: 18 | K15: =J13-J15 -> -18
A16: GELIN | B16: Z80 | C16: T2 | D16: 13 | F16: =G17-D18+K19 -> 851 | G16: Gélin | J16: Entrant
B17: Z90 | C17: T3 | D17: 1318 | G17: 2000 | J17: 264
A18: TOTAL GLOBAL | D18: =SUM(D16:D17) -> 1331 | E18: =D18+K19 -> 1513 | J18: Sortant
J19: 82 | K19: =J17-J19 -> 182 | L19: =D18/G17 -> 0.6655
A20: CELTIC | H20: Entrant | I20: Différence | J20: Entrant
H21: 208 | J21: 216
B22: Z91 | C22: T2 | D22: 2553 | F22: =G23-D24-H24-I24-K24 -> 897 | G22: Celtic | H22: Sortant | J22: Sortant
B23: YE5 | C23: YFF | D23: 1855 | G23: 7333 | H23: 246 | J23: =354+94 -> 448
A24: TOTAL GLOBAL | D24: =SUM(D22:D23) -> 4408 | E24: =D24+H24+I24+K24 -> 6436 | H24: 2298 | I24: =H21-H23 -> -38 | K24: =+J21-J23 -> -232 | L24: =D24/G23 -> 0.60111823 | M24: =+E24/G23 -> 0.87767626
A27: Et la fromagerie est sur le Site de Hénansal ou je n'ai pas d'info non plus

Sheet S14
A1: Date du 08 Février | E1: Prévision | F1: Différence | G1: Nbre de places MAX | H1: Landerneau | I1: Différence | J1: Créhen/Yff | K1: Différence | L1: CREHEN | M1: CREHEN+LDO
A2: STOCKEUR | B2: DEPOT | C2: TOUR | D2: Nbre de pal | G2: Garnier | H2: Entrant | J2: Entrant
A3: GARNIER | B3: Z93 | C3: T2 | D3: 11363 | H3: 120 | J3: 1296
B4: Z97 | C4: T3 | D4: 684 | H4: Sortant | J4: Sortant
B5: YE2 | C5: YFF | D5: 14 | H5: =24+24+24+24 -> 96 | J5: =346+1047 -> 1393
A6: TOTAL GLOBAL | D6: =SUM(D3:D5) -> 12061 | E6: =D6+H6+I6+K6 -> 12458 | F6: =G6-D6-H6-I6-K6 -> 1042 | G6: 13500 | H6: 470 | I6: =H3-H5 -> 24 | K6: =J3-J5 -> -97 | L6: =D6/G6 -> 0.89340741 | M6: =+E6/G6 -> 0.92281481
A7: GB | B7: Z81 | C7: T2 H | D7: 435 | G7: Gb vildé
B8: Z84 | C8: T2 V | D8: 931 | F8: =G8-D8-D9-D12+K11 -> 277 | G8: 2500 | J8: Entrant
B9: Z89 | C9: T3 | D9: 1414 | G9: Gb Hénansal | J9: 288
B10: Z98 | C10: T3 H | D10: 251 | J10: Sortant
B11: YE3 | C11: YFF H | D11: 22 | F11: =G11-D7-D11-D10+K15 -> 744 | G11: 1500 | J11: 131 | K11: =J9-J11 -> 157
B12: YE4 | C12: YFF V | D12: 35 | J12: Entrant
A13: TOTAL GLOBAL | D13: =SUM(D7:D12) -> 3088 | E13: =D13+K11+K15 -> 3197 | L13: =D13/(G8+G11) -> 0.772
J14: Sortant
J15: 48 | K15: =J13-J15 -> -48
A16: GELIN | B16: Z80 | C16: T2 | D16: 13 | F16: =G17-D18+K19 -> 437 | G16: Gélin | J16: Entrant
B17: Z90 | C17: T3 | D17: 1496 | G17: 2000 | J17: 48
A18: TOTAL GLOBAL | D18: =SUM(D16:D17) -> 1509 | E18: =D18+K19 -> 1455 | J18: Sortant
J19: =78+24 -> 102 | K19: =J17-J19 -> -54 | L19: =D18/G17 -> 0.7545
A20: CELTIC | H20: Entrant | I20: Différence | J20: Entrant
H21: 144 | J21: 264
B22: Z91 | C22: T2 | D22: 2381 | F22: =G23-D24-H24-I24-K24 -> 792 | G22: Celtic | H22: Sortant | J22: Sortant
B23: YE5 | C23: YFF | D23: 1874 | G23: 7333 | H23: =24+24+24+26+26+26+26 -> 176 | J23: =168+72 -> 240
A24: TOTAL GLOBAL | D24: =SUM(D22:D23) -> 4255 | E24: =D24+H24+I24+K24 -> 6541 | H24: 2294 | I24: =H21-H23 -> -32 | K24: =+J21-J23 -> 24 | L24: =D24/G23 -> 0.58025365 | M24: =+E24/G23 -> 0.89199509
A27: Et la fromagerie est sur le Site de Hénansal ou je n'ai pas d'info non plus

Sheet S15
A1: Date du 12 avril | E1: Prévision | F1: Différence | G1: Nbre de places MAX | H1: Landerneau | I1: Différence | J1: Créhen/Yff | K1: Différence | L1: CREHEN | M1: CREHEN+LDO
A2: STOCKEUR | B2: DEPOT | C2: TOUR | D2: Nbre de pal | G2: Garnier | H2: Entrant | J2: Entrant
A3: GARNIER | B3: Z93 | C3: T2 | D3: 11326 | H3: 144 | J3: 1272
B4: Z97 | C4: T3 | D4: 697 | H4: Sortant | J4: Sortant
B5: YE2 | C5: YFF | D5: 14 | H5: 67 | J5: =652+301 -> 953
A6: TOTAL GLOBAL | D6: =SUM(D3:D5) -> 12037 | E6: =D6+H6+I6+K6 -> 12890 | F6: =G6-D6-H6-I6-K6 -> 610 | G6: 13500 | H6: 457 | I6: =H3-H5 -> 77 | K6: =J3-J5 -> 319 | L6: =D6/G6 -> 0.89162963 | M6: =+E6/G6 -> 0.95481481
A7: GB | B7: Z81 | C7: T2 H | D7: 399 | G7: Gb vildé
B8: Z84 | C8: T2 V | D8: 920 | F8: =G8-D8-D9-D12+K11 -> -71 | G8: 2500 | J8: Entrant
B9: Z89 | C9: T3 | D9: 1571 | G9: Gb Hénansal | J9: 312
B10: Z98 | C10: T3 H | D10: 251 | J10: Sortant
B11: YE3 | C11: YFF H | D11: 22 | F11: =G11-D7-D11-D10+K15 -> 793 | G11: 1500 | J11: 357 | K11: =J9-J11 -> -45
B12: YE4 | C12: YFF V | D12: 35 | J12: Entrant
A13: TOTAL GLOBAL | D13: =SUM(D7:D12) -> 3198 | E13: =D13+K11+K15 -> 3118 | L13: =D13/(G8+G11) -> 0.7995
J14: Sortant
J15: 35 | K15: =J13-J15 -> -35
A16: GELIN | B16: Z80 | C16: T2 | D16: 16 | F16: =G17-D18+K19 -> 658 | G16: Gélin | J16: Entrant
B17: Z90 | C17: T3 | D17: 1446 | G17: 2000 | J17: 168
A18: TOTAL GLOBAL | D18: =SUM(D16:D17) -> 1462 | E18: =D18+K19 -> 1582 | J18: Sortant
J19: 48 | K19: =J17-J19 -> 120 | L19: =D18/G17 -> 0.731
A20: CELTIC | H20: Entrant | I20: Différence | J20: Entrant
H21: 234 | J21: =48+62 -> 110
B22: Z91 | C22: T2 | D22: 2309 | F22: =G23-D24-H24-I24-K24 -> 1203 | G22: Celtic | H22: Sortant | J22: Sortant
B23: YE5 | C23: YFF | D23: 1848 | G23: 7333 | H23: 154 | J23: 624
A24: TOTAL GLOBAL | D24: =SUM(D22:D23) -> 4157 | E24: =D24+H24+I24+K24 -> 6130 | H24: 2407 | I24: =H21-H23 -> 80 | K24: =+J21-J23 -> -514 | L24: =D24/G23 -> 0.5668894 | M24: =+E24/G23 -> 0.83594709
A27: Et la fromagerie est sur le Site de Hénansal ou je n'ai pas d'info non plus

Sheet S16
A1: Date du 15 avril | E1: Prévision | F1: Différence | G1: Nbre de places MAX | H1: Landerneau | I1: Différence | J1: Créhen/Yff | K1: Différence | L1: CREHEN | M1: CREHEN+LDO
A2: STOCKEUR | B2: DEPOT | C2: TOUR | D2: Nbre de pal | G2: Garnier | H2: Entrant | J2: Entrant
A3: GARNIER | B3: Z93 | C3: T2 | D3: 11622 | H3: 120 | J3: 1440
B4: Z97 | C4: T3 | D4: 722 | H4: Sortant | J4: Sortant
B5: YE2 | C5: YFF | D5: 14 | H5: 48 | J5: =955+504 -> 1459
A6: TOTAL GLOBAL | D6: =SUM(D3:D5) -> 12358 | E6: =D6+H6+I6+K6 -> 12411 | F6: =G6-D6-H6-I6-K6 -> 1089 | G6: 13500 | I6: =H3-H5 -> 72 | K6: =J3-J5 -> -19 | L6: =D6/G6 -> 0.91540741 | M6: =+E6/G6 -> 0.91933333
A7: GB | B7: Z81 | C7: T2 H | D7: 369 | G7: Gb vildé
B8: Z84 | C8: T2 V | D8: 911 | F8: =G8-D8-D9-D12+K11 -> 127 | G8: 2500 | J8: Entrant
B9: Z89 | C9: T3 | D9: 1544 | G9: Gb Hénansal | J9: 423
B10: Z98 | C10: T3 H | D10: 229 | J10: Sortant
B11: YE3 | C11: YFF H | D11: 22 | F11: =G11-D7-D11-D10+K15 -> 910 | G11: 1500 | J11: 306 | K11: =J9-J11 -> 117
B12: YE4 | C12: YFF V | D12: 35 | J12: Entrant
A13: TOTAL GLOBAL | D13: =SUM(D7:D12) -> 3110 | E13: =D13+K11+K15 -> 3257 | J13: 30 | L13: =D13/(G8+G11) -> 0.7775
J14: Sortant
K15: =J13-J15 -> 30
A16: GELIN | B16: Z80 | C16: T2 | D16: 16 | F16: =G17-D18+K19 -> 503 | G16: Gélin | J16: Entrant
B17: Z90 | C17: T3 | D17: 1564 | G17: 2000 | J17: 155
A18: TOTAL GLOBAL | D18: =SUM(D16:D17) -> 1580 | E18: =D18+K19 -> 1663 | J18: Sortant
J19: 72 | K19: =J17-J19 -> 83 | L19: =D18/G17 -> 0.79
A20: CELTIC | H20: Entrant | I20: Différence | J20: Entrant
H21: 240 | J21: 240
B22: Z91 | C22: T2 | D22: 2309 | F22: =G23-D24-H24-I24-K24 -> 3539 | G22: Celtic | H22: Sortant | J22: Sortant
B23: YE5 | C23: YFF | D23: 1504 | G23: 7333 | H23: 360 | J23: 139
A24: TOTAL GLOBAL | D24: =SUM(D22:D23) -> 3813 | E24: =D24+H24+I24+K24 -> 3794 | I24: =H21-H23 -> -120 | K24: =+J21-J23 -> 101 | L24: =D24/G23 -> 0.51997818 | M24: =+E24/G23 -> 0.51738715
A27: Et la fromagerie est sur le Site de Hénansal ou je n'ai pas d'info non plus

Sheet S17
A1: Date du 08 Février | E1: Prévision | F1: Différence | G1: Nbre de places MAX | H1: Landerneau | I1: Différence | J1: Créhen/Yff | K1: Différence | L1: CREHEN | M1: CREHEN+LDO
A2: STOCKEUR | B2: DEPOT | C2: TOUR | D2: Nbre de pal | G2: Garnier | H2: Entrant | J2: Entrant
A3: GARNIER | B3: Z93 | C3: T2 | D3: 11648 | H3: 144 | J3: 48
B4: Z97 | C4: T3 | D4: 767 | H4: Sortant | J4: Sortant
B5: YE2 | C5: YFF | D5: 9 | H5: =24+24 -> 48 | J5: =453+805 -> 1258
A6: TOTAL GLOBAL | D6: =SUM(D3:D5) -> 12424 | E6: =D6+H6+I6+K6 -> 11917 | F6: =G6-D6-H6-I6-K6 -> 1583 | G6: 13500 | H6: 607 | I6: =H3-H5 -> 96 | K6: =J3-J5 -> -1210 | L6: =D6/G6 -> 0.9202963 | M6: =+E6/G6 -> 0.88274074
A7: GB | B7: Z81 | C7: T2 H | D7: 339 | G7: Gb vildé
B8: Z84 | C8: T2 V | D8: 912 | F8: =G8-D8-D9-D12+K11 -> 42 | G8: 2500 | J8: Entrant
B9: Z89 | C9: T3 | D9: 1561 | G9: Gb Hénansal | J9: 60
B10: Z98 | C10: T3 H | D10: 229 | J10: Sortant
B11: YE3 | C11: YFF H | D11: 20 | F11: =G11-D7-D11-D10+K15 -> 960 | G11: 1500 | J11: 11 | K11: =J9-J11 -> 49
B12: YE4 | C12: YFF V | D12: 34 | J12: Entrant
A13: TOTAL GLOBAL | D13: =SUM(D7:D12) -> 3095 | E13: =D13+K11+K15 -> 3192 | J13: 48 | L13: =D13/(G8+G11) -> 0.77375
J14: Sortant
K15: =J13-J15 -> 48
A16: GELIN | B16: Z80 | C16: T2 | D16: 13 | F16: =G17-D18+K19 -> 390 | G16: Gélin | J16: Entrant
B17: Z90 | C17: T3 | D17: 1624 | G17: 2000 | J17: 144
A18: TOTAL GLOBAL | D18: =SUM(D16:D17) -> 1637 | E18: =D18+K19 -> 1664 | J18: Sortant
J19: 117 | K19: =J17-J19 -> 27 | L19: =D18/G17 -> 0.8185
A20: CELTIC | H20: Entrant | I20: Différence | J20: Entrant
H21: 250 | J21: =144+240 -> 384
B22: Z91 | C22: T2 | D22: 2242 | F22: =G23-D24-H24-I24-K24 -> 872 | G22: Celtic | H22: Sortant | J22: Sortant
B23: YE5 | C23: YFF | D23: 1719 | G23: 7333 | H23: =26+24+26+24+24+24+26+24+24+24+24+26 -> 296 | J23: =49+112 -> 161
A24: TOTAL GLOBAL | D24: =SUM(D22:D23) -> 3961 | E24: =D24+H24+I24+K24 -> 6461 | H24: 2323 | I24: =H21-H23 -> -46 | K24: =+J21-J23 -> 223 | L24: =D24/G23 -> 0.54016092 | M24: =+E24/G23 -> 0.8810855
A27: Et la fromagerie est sur le Site de Hénansal ou je n'ai pas d'info non plus

Sheet S18
A1: Date du 08 Février | E1: Prévision | F1: Différence | G1: Nbre de places MAX | H1: Landerneau | I1: Différence | J1: Créhen/Yff | K1: Différence | L1: CREHEN | M1: CREHEN+LDO
A2: STOCKEUR | B2: DEPOT | C2: TOUR | D2: Nbre de pal | G2: Garnier | H2: Entrant | J2: Entrant
A3: GARNIER | B3: Z93 | C3: T2 | D3: 11634 | H3: 96 | J3: 1392
B4: Z97 | C4: T3 | D4: 912 | H4: Sortant | J4: Sortant
B5: YE2 | C5: YFF | D5: 9 | H5: =24+24 -> 48 | J5: =428+206 -> 634
A6: TOTAL GLOBAL | D6: =SUM(D3:D5) -> 12555 | E6: =D6+H6+I6+K6 -> 14040 | F6: =G6-D6-H6-I6-K6 -> -540 | G6: 13500 | H6: 679 | I6: =H3-H5 -> 48 | K6: =J3-J5 -> 758 | L6: =D6/G6 -> 0.93 | M6: =+E6/G6 -> 1.04
A7: GB | B7: Z81 | C7: T2 H | D7: 328 | G7: Gb vildé
B8: Z84 | C8: T2 V | D8: 936 | F8: =G8-D8-D9-D12+K11 -> -519 | G8: 2500 | J8: Entrant
B9: Z89 | C9: T3 | D9: 1764 | G9: Gb Hénansal | J9: 156
B10: Z98 | C10: T3 H | D10: 281 | J10: Sortant
B11: YE3 | C11: YFF H | D11: 20 | F11: =G11-D7-D11-D10+K15 -> 871 | G11: 1500 | J11: =306+135 -> 441 | K11: =J9-J11 -> -285
B12: YE4 | C12: YFF V | D12: 34 | J12: Entrant
A13: TOTAL GLOBAL | D13: =SUM(D7:D12) -> 3363 | E13: =D13+K11+K15 -> 3078 | L13: =D13/(G8+G11) -> 0.84075
J14: Sortant
K15: =J13-J15 -> 0
A16: GELIN | B16: Z80 | C16: T2 | D16: 13 | F16: =G17-D18+K19 -> 416 | G16: Gélin | J16: Entrant
B17: Z90 | C17: T3 | D17: 1624 | G17: 2000 | J17: 120
A18: TOTAL GLOBAL | D18: =SUM(D16:D17) -> 1637 | E18: =D18+K19 -> 1690 | J18: Sortant
J19: 67 | K19: =J17-J19 -> 53 | L19: =D18/G17 -> 0.8185
A20: CELTIC | H20: Entrant | I20: Différence | J20: Entrant
H21: =178 -> 178 | J21: 336
B22: Z91 | C22: T2 | D22: 2239 | F22: =G23-D24-H24-I24-K24 -> 817 | G22: Celtic | H22: Sortant | J22: Sortant
B23: YE5 | C23: YFF | D23: 1846 | G23: 7013 | H23: =48+26+26+26 -> 126 | J23: 453
A24: TOTAL GLOBAL | D24: =SUM(D22:D23) -> 4085 | E24: =D24+H24+I24+K24 -> 6196 | H24: 2176 | I24: =H21-H23 -> 52 | K24: =+J21-J23 -> -117 | L24: =D24/G23 -> 0.58248966 | M24: =+E24/G23 -> 0.88350207
A27: Et la fromagerie est sur le Site de Hénansal ou je n'ai pas d'info non plus

Sheet S19
A1: Date du 06 Mai | E1: Prévision | F1: Différence | G1: Nbre de places MAX | H1: Landerneau | I1: Différence | J1: Créhen/Yff | K1: Différence | L1: CREHEN | M1: CREHEN+LDO
A2: STOCKEUR | B2: DEPOT | C2: TOUR | D2: Nbre de pal | G2: Garnier | H2: Entrant | J2: Entrant
A3: GARNIER | B3: Z93 | C3: T2 | D3: 12063 | H3: =72+48 -> 120 | J3: 792
B4: Z97 | C4: T3 | D4: 1116 | H4: Sortant | J4: Sortant
B5: YE2 | C5: YFF | D5: 9 | H5: =24+24 -> 48 | J5: =811+509 -> 1320
A6: TOTAL GLOBAL | D6: =SUM(D3:D5) -> 13188 | E6: =D6+H6+I6+K6 -> 13461 | F6: =G6-D6-H6-I6-K6 -> 39 | G6: 13500 | H6: 729 | I6: =H3-H5 -> 72 | K6: =J3-J5 -> -528 | L6: =D6/G6 -> 0.97688889 | M6: =+E6/G6 -> 0.99711111
A7: GB | B7: Z81 | C7: T2 H | D7: 328 | G7: Gb vildé
B8: Z84 | C8: T2 V | D8: 801 | F8: =G8-D8-D9-D12+K11 -> 132 | G8: 2500 | J8: Entrant
B9: Z89 | C9: T3 | D9: 1627 | G9: Gb Hénansal | J9: 156
B10: Z98 | C10: T3 H | D10: 274 | J10: Sortant
B11: YE3 | C11: YFF H | D11: 20 | F11: =G11-D7-D11-D10+K15 -> 734 | G11: 1500 | J11: 62 | K11: =J9-J11 -> 94
B12: YE4 | C12: YFF V | D12: 34 | J12: Entrant
A13: TOTAL GLOBAL | D13: =SUM(D7:D12) -> 3084 | E13: =D13+K11+K15 -> 3034 | L13: =D13/(G8+G11) -> 0.771
J14: Sortant
J15: 144 | K15: =J13-J15 -> -144
A16: GELIN | B16: Z88 | C16: T2 | F16: =G17-D18+K20 -> 4000 | G16: Gélin St Sauveur | J16: Entrant
B17: Z96 | C17: T3 | G17: 4000 | J17: 216
A18: TOTAL GLOBAL | D18: =SUM(D16:D17) -> 0 | E18: =D18+K20 -> 0 | J18: Sortant
A20: GELIN | B20: Z80 | C20: T2 | D20: 13 | F20: =G21-D22+K23 -> 382 | G20: Gélin Fougeres | J20: Entrant
B21: Z90 | C21: T3 | D21: 1690 | G21: 2000 | J21: 192
A22: TOTAL GLOBAL | D22: =SUM(D20:D21) -> 1703 | E22: =D22+K23 -> 1788 | J22: Sortant
J23: 107 | K23: =J21-J23 -> 85 | L23: =D22/G21 -> 0.8515
A24: CELTIC | H24: Entrant | I24: Différence | J24: Entrant
H25: =156+104 -> 260 | J25: 792
B26: Z91 | C26: T2 | D26: 2242 | F26: =G27-D28-H28-I28-K28 -> -19 | G26: Celtic | H26: Sortant | J26: Sortant
B27: YE5 | C27: YFF | D27: 1799 | G27: 7013 | H27: =26+24+26+24+24+24+26+26+26+26+26+26 -> 304 | J27: =72+20 -> 92
A28: TOTAL GLOBAL | D28: =SUM(D26:D27) -> 4041 | E28: =D28+H28+I28+K28 -> 7032 | H28: 2335 | I28: =H25-H27 -> -44 | K28: =+J25-J27 -> 700 | L28: =D28/G27 -> 0.5762156 | M28: =+E28/G27 -> 1.0027093
A31: Et la fromagerie est sur le Site de Hénansal ou je n'ai pas d'info non plus

Sheet S20
A1: Date du 06 Mai | E1: Prévision | F1: Différence | G1: Nbre de places MAX | H1: Landerneau | I1: Différence | J1: Créhen/Yff | K1: Différence | L1: CREHEN | M1: CREHEN+LDO
A2: STOCKEUR | B2: DEPOT | C2: TOUR | D2: Nbre de pal | G2: Garnier | H2: Entrant | J2: Entrant
A3: GARNIER | B3: Z93 | C3: T2 | D3: 11320 | H3: =72+48 -> 120 | J3: 936
B4: Z97 | C4: T3 | D4: 1119 | H4: Sortant | J4: Sortant
B5: YE2 | C5: YFF | D5: 9 | H5: 72 | J5: =982+385 -> 1367
A6: TOTAL GLOBAL | D6: =SUM(D3:D5) -> 12448 | E6: =D6+H6+I6+K6 -> 12890 | F6: =G6-D6-H6-I6-K6 -> 610 | G6: 13500 | H6: 825 | I6: =H3-H5 -> 48 | K6: =J3-J5 -> -431 | L6: =D6/G6 -> 0.92207407 | M6: =+E6/G6 -> 0.95481481
A7: GB | B7: Z81 | C7: T2 H | D7: 424 | G7: Gb vildé
B8: Z84 | C8: T2 V | D8: 739 | F8: =G8-D8-D9-D12+K11 -> -45 | G8: 2500 | I8: =+D8+D9+D12 -> 2559 | J8: Entrant
B9: Z89 | C9: T3 | D9: 1786 | G9: Gb Hénansal | J9: 496 | L9: =+I8/G8 -> 1.0236
B10: Z98 | C10: T3 H | D10: 274 | J10: Sortant
B11: YE3 | C11: YFF H | D11: 20 | F11: =G11-D7-D11-D10+K15 -> 782 | G11: 1500 | J11: =357+125 -> 482 | K11: =J9-J11 -> 14
B12: YE4 | C12: YFF V | D12: 34 | I12: =+D7+D10+D11 -> 718 | J12: Entrant | L12: =+I12/G11 -> 0.47866667
A13: TOTAL GLOBAL | D13: =SUM(D7:D12) -> 3277 | E13: =D13+K11+K15 -> 3291
J14: Sortant
K15: =J13-J15 -> 0
A16: GELIN | B16: Z88 | C16: T2 | F16: =G17-D19+K21 -> 4000 | G16: Gélin St Sauveur | J16: Entrant
B17: Z96 | C17: T3 | G17: 4000 | J17: 216
B18: YE6 | C18: YFF
A19: TOTAL GLOBAL | D19: =SUM(D16:D17) -> 0 | E19: =D19+K21 -> 0 | J19: Sortant
J20: 0
A21: GELIN | B21: Z80 | C21: T2 | D21: 13 | F21: =G22-D23+K24 -> 384 | G21: Gélin Fougeres | J21: Entrant
B22: Z90 | C22: T3 | D22: 1596 | G22: 2000 | J22: 0
A23: TOTAL GLOBAL | D23: =SUM(D21:D22) -> 1609 | E23: =D23+K24 -> 1602 | J23: Sortant
J24: 7 | K24: =J22-J24 -> -7 | L24: =D23/G22 -> 0.8045
A25: CELTIC | H25: Entrant | I25: Différence | J25: Entrant
H26: =196+182 -> 378 | J26: =120+264 -> 384
B27: Z91 | C27: T2 | D27: 3016 | F27: =G28-D29-H29-I29-K29 -> -134 | G27: Celtic | H27: Sortant | J27: Sortant
B28: YE5 | C28: YFF | D28: 1775 | G28: 7013 | H28: 272 | J28: =96+312 -> 408
A29: TOTAL GLOBAL | D29: =SUM(D27:D28) -> 4791 | E29: =D29+H29+I29+K29 -> 7147 | H29: 2274 | I29: =H26-H28 -> 106 | K29: =+J26-J28 -> -24 | L29: =D29/G28 -> 0.68315985 | M29: =+E29/G28 -> 1.0191074
A32: Et la fromagerie est sur le Site de Hénansal ou je n'ai pas d'info non plus

Sheet S21
A1: Date du 06 Mai | E1: Prévision | F1: Différence | G1: Nbre de places MAX | H1: Landerneau | I1: Différence | J1: Créhen/Yff | K1: Différence | L1: CREHEN | M1: CREHEN+LDO
A2: STOCKEUR | B2: DEPOT | C2: TOUR | D2: Nbre de pal | G2: Garnier | H2: Entrant | J2: Entrant
A3: GARNIER | B3: Z93 | C3: T2 | D3: 10818 | J3: 960
B4: Z97 | C4: T3 | D4: 1119 | H4: Sortant | J4: Sortant
B5: YE2 | C5: YFF | D5: 9 | J5: =1020+432 -> 1452
A6: TOTAL GLOBAL | D6: =SUM(D3:D5) -> 11946 | E6: =D6+H6+I6+K6 -> 11454 | F6: =G6-D6-H6-I6-K6 -> 2046 | G6: 13500 | I6: =H3-H5 -> 0 | K6: =J3-J5 -> -492 | L6: =D6/G6 -> 0.88488889 | M6: =+E6/G6 -> 0.84844444
A7: GB | B7: Z81 | C7: T2 H | D7: 608 | G7: Gb vildé
B8: Z84 | C8: T2 V | D8: 957 | F8: =G8-D8-D9-D12+K11 -> -286 | G8: 2500 | I8: =+D8+D9+D12 -> 2513 | J8: Entrant
B9: Z89 | C9: T3 | D9: 1522 | G9: Gb Hénansal | J9: 336 | L9: =+I8/G8 -> 1.0052
B10: Z98 | C10: T3 H | D10: 311 | J10: Sortant
B11: YE3 | C11: YFF H | D11: 20 | F11: =G11-D7-D11-D10+K15 -> 555 | G11: 1500 | J11: =357+252 -> 609 | K11: =J9-J11 -> -273
B12: YE4 | C12: YFF V | D12: 34 | I12: =+D7+D10+D11 -> 939 | J12: Entrant | L12: =+I12/G11 -> 0.626
A13: TOTAL GLOBAL | D13: =SUM(D7:D12) -> 3452 | E13: =D13+K11+K15 -> 3173
J14: Sortant
J15: 6 | K15: =J13-J15 -> -6
A16: GELIN | B16: Z88 | C16: T2 | F16: =G17-D19+K21 -> 3536 | G16: Gélin St Sauveur | J16: Entrant
B17: Z96 | C17: T3 | D17: 464 | G17: 4000
B18: YE6 | C18: YFF | D18: 546
A19: TOTAL GLOBAL | D19: =SUM(D16:D17) -> 464 | E19: =D19+K21 -> 464 | J19: Sortant
J20: 0
A21: GELIN | B21: Z80 | C21: T2 | D21: 13 | F21: =G22-D23+K24 -> 696 | G21: Gélin Fougeres | J21: Entrant
B22: Z90 | C22: T3 | D22: 1691 | G22: 2000 | J22: =256+144 -> 400
A23: TOTAL GLOBAL | D23: =SUM(D21:D22) -> 1704 | E23: =D23+K24 -> 2104 | J23: Sortant
K24: =J22-J24 -> 400 | L24: =D23/G22 -> 0.852
A25: CELTIC | H25: Entrant | I25: Différence | J25: Entrant
J26: =24+120 -> 144
B27: Z91 | C27: T2 | D27: 3086 | F27: =G28-D29-H29-I29-K29 -> 2546 | G27: Celtic | H27: Sortant | J27: Sortant
B28: YE5 | C28: YFF | D28: 1432 | G28: 7013 | J28: =149+46 -> 195
A29: TOTAL GLOBAL | D29: =SUM(D27:D28) -> 4518 | E29: =D29+H29+I29+K29 -> 4467 | I29: =H26-H28 -> 0 | K29: =+J26-J28 -> -51 | L29: =D29/G28 -> 0.64423214 | M29: =+E29/G28 -> 0.63695993
A32: Et la fromagerie est sur le Site de Hénansal ou je n'ai pas d'info non plus

Sheet S22
A1: Date du 24/05 | E1: Prévision | F1: Différence | G1: Nbre de places MAX | H1: Landerneau | I1: Différence | J1: Créhen/Yff | K1: Différence | L1: CREHEN | M1: CREHEN+LDO
A2: STOCKEUR | B2: DEPOT | C2: TOUR | D2: Nbre de pal | G2: Garnier | H2: Entrant | J2: Entrant | K2: =1272+72 -> 1344
A3: GARNIER | B3: Z93 | C3: T2 | D3: 10527
B4: Z97 | C4: T3 | D4: 1072 | H4: Sortant | J4: Sortant | K4: =497+48 -> 545
B5: YE2 | C5: YFF | D5: 9
A6: TOTAL GLOBAL | D6: =SUM(D3:D5) -> 11608 | E6: =D6+H6+I6+K6 -> 11608 | F6: =G6-D6-H6-I6-K6 -> 1892 | G6: 13500 | I6: =H3-H5 -> 0 | K6: =J3-J5 -> 0 | L6: =D6/G6 -> 0.85985185 | M6: =+E6/G6 -> 0.85985185
A7: GB | B7: Z81 | C7: T2 H | D7: 602 | G7: Gb vildé
B8: Z84 | C8: T2 V | D8: 870 | F8: =G8-D8-D9-D12+K11 -> 520 | G8: 2500 | I8: =+D8+D9+D12 -> 1980 | J8: Entrant
B9: Z89 | C9: T3 | D9: 1076 | G9: Gb Hénansal | L9: =+I8/G8 -> 0.792
B10: Z98 | C10: T3 H | D10: 314 | J10: Sortant | K10: 17
B11: YE3 | C11: YFF H | D11: 20 | F11: =G11-D7-D11-D10+K15 -> 564 | G11: 1500 | K11: =J9-J11 -> 0
B12: YE4 | C12: YFF V | D12: 34 | I12: =+D7+D10+D11 -> 936 | J12: Entrant | K12: 168 | L12: =+I12/G11 -> 0.624
A13: TOTAL GLOBAL | D13: =SUM(D7:D12) -> 2916 | E13: =D13+K11+K15 -> 2916
J14: Sortant | K14: =34+23 -> 57
K15: =J13-J15 -> 0
A16: GELIN | B16: Z88 | C16: T2 | F16: =G17-D19+K21 -> 3365 | G16: Gélin St Sauveur | J16: Entrant | K16: 216
B17: Z96 | C17: T3 | D17: 635 | G17: 4000
B18: YE6 | C18: YFF | D18: 786
A19: TOTAL GLOBAL | D19: =SUM(D16:D17) -> 635 | E19: =D19+K21 -> 635 | J19: Sortant | K19: 28
J20: 0
A21: GELIN | B21: Z80 | C21: T2 | D21: 13 | F21: =G22-D23+K24 -> 72 | G21: Gélin Fougeres | J21: Entrant
B22: Z90 | C22: T3 | D22: 1915 | G22: 2000
A23: TOTAL GLOBAL | D23: =SUM(D21:D22) -> 1928 | E23: =D23+K24 -> 1928 | J23: Sortant
K24: =J22-J24 -> 0 | L24: =D23/G22 -> 0.964
A25: CELTIC | H25: Entrant | I25: Différence | J25: Entrant | K25: =96+360 -> 456
B27: Z91 | C27: T2 | D27: 3116 | F27: =G28-D29-H29-I29-K29 -> 2534 | G27: Celtic | H27: Sortant | J27: Sortant | K27: =216+81+213 -> 510
B28: YE5 | C28: YFF | D28: 1363 | G28: 7013
A29: TOTAL GLOBAL | D29: =SUM(D27:D28) -> 4479 | E29: =D29+H29+I29+K29 -> 4479 | I29: =H26-H28 -> 0 | K29: =+J26-J28 -> 0 | L29: =D29/G28 -> 0.63867104 | M29: =+E29/G28 -> 0.63867104
A32: Et la fromagerie est sur le Site de Hénansal ou je n'ai pas d'info non plus

Sheet s23
A1: Date du 24/05 | E1: Prévision | F1: Différence | G1: Nbre de places MAX | H1: Landerneau | I1: Différence | J1: Créhen/Yff | K1: Différence | L1: CREHEN | M1: CREHEN+LDO
A2: STOCKEUR | B2: DEPOT | C2: TOUR | D2: Nbre de pal | G2: Garnier | H2: Entrant | J2: Entrant
A3: GARNIER | B3: Z93 | C3: T2 | D3: 10890 | H3: 96 | J3: 1272
B4: Z97 | C4: T3 | D4: 993 | H4: Sortant | J4: Sortant
B5: YE2 | C5: YFF | D5: 9 | H5: 72 | J5: =389+939 -> 1328
A6: TOTAL GLOBAL | D6: =SUM(D3:D5) -> 11892 | E6: =D6+H6+I6+K6 -> 12668 | F6: =G6-D6-H6-I6-K6 -> 832 | G6: 13500 | H6: 808 | I6: =H3-H5 -> 24 | K6: =J3-J5 -> -56 | L6: =D6/G6 -> 0.88088889 | M6: =+E6/G6 -> 0.93837037
A7: GB | B7: Z81 | C7: T2 H | D7: 587 | G7: Gb vildé
B8: Z84 | C8: T2 V | D8: 946 | F8: =G8-D8-D9-D12+K11 -> 537 | G8: 2500 | I8: =+D8+D9+D12 -> 2067 | J8: Entrant
B9: Z89 | C9: T3 | D9: 1097 | G9: Gb Hénansal | J9: 224 | L9: =+I8/G8 -> 0.8268
B10: Z98 | C10: T3 H | D10: 314 | J10: Sortant
B11: YE3 | C11: YFF H | D11: 20 | F11: =G11-D7-D11-D10+K15 -> 554 | G11: 1500 | J11: 120 | K11: =J9-J11 -> 104
B12: YE4 | C12: YFF V | D12: 24 | I12: =+D7+D10+D11 -> 921 | J12: Entrant | L12: =+I12/G11 -> 0.614
A13: TOTAL GLOBAL | D13: =SUM(D7:D12) -> 2988 | E13: =D13+K11+K15 -> 3067
J14: Sortant
J15: 25 | K15: =J13-J15 -> -25
A16: GELIN | B16: Z88 | C16: T2 | F16: =G17-D19+K21 -> 2248 | G16: Gélin St Sauveur | J16: Entrant
B17: Z96 | C17: T3 | D17: 685 | G17: 4000 | J17: 336
B18: YE6 | C18: YFF | D18: 1067
A19: TOTAL GLOBAL | D19: =SUM(D17:D18) -> 1752 | E19: =D19+K21 -> 1752 | J19: Sortant | L19: =D19/G17 -> 0.438
J20: 24
A21: GELIN | B21: Z80 | C21: T2 | D21: 13 | F21: =G22-D23+K24 -> 28 | G21: Gélin Fougeres | J21: Entrant
B22: Z90 | C22: T3 | D22: 1887 | G22: 2000
A23: TOTAL GLOBAL | D23: =SUM(D21:D22) -> 1900 | E23: =D23+K24 -> 1828 | J23: Sortant
J24: 72 | K24: =J22-J24 -> -72 | L24: =D23/G22 -> 0.95
A25: CELTIC | H25: Entrant | I25: Différence | J25: Entrant
H26: 350 | J26: 0
B27: Z91 | C27: T2 | D27: 3080 | F27: =G28-D29-H29-I29-K29 -> 81 | G27: Celtic | H27: Sortant | J27: Sortant
B28: YE5 | C28: YFF | D28: 1100 | G28: 7013 | H28: 366 | J28: 281
A29: TOTAL GLOBAL | D29: =SUM(D27:D28) -> 4180 | E29: =D29+H29+I29+K29 -> 6932 | H29: 3049 | I29: =H26-H28 -> -16 | K29: =+J26-J28 -> -281 | L29: =D29/G28 -> 0.59603593 | M29: =+E29/G28 -> 0.98845002
A32: Et la fromagerie est sur le Site de Hénansal ou je n'ai pas d'info non plus

Sheet S24
A1: Date du 24/05 | E1: Prévision | F1: Différence | G1: Nbre de places MAX | H1: Landerneau | I1: Différence | J1: Créhen/Yff | K1: Différence | L1: CREHEN | M1: CREHEN+LDO
A2: STOCKEUR | B2: DEPOT | C2: TOUR | D2: Nbre de pal | G2: Garnier | H2: Entrant | J2: Entrant
A3: GARNIER | B3: Z93 | C3: T2 | D3: 10933 | H3: 150 | J3: 1248
B4: Z97 | C4: T3 | D4: 920 | H4: Sortant | J4: Sortant
B5: YE2 | C5: YFF | D5: 9 | H5: 72 | J5: =81+677 -> 758
A6: TOTAL GLOBAL | D6: =SUM(D3:D5) -> 11862 | E6: =D6+H6+I6+K6 -> 13278 | F6: =G6-D6-H6-I6-K6 -> 222 | G6: 13500 | H6: 848 | I6: =H3-H5 -> 78 | K6: =J3-J5 -> 490 | L6: =D6/G6 -> 0.87866667 | M6: =+E6/G6 -> 0.98355556
A7: GB | B7: Z81 | C7: T2 H | D7: 602 | G7: Gb vildé
B8: Z84 | C8: T2 V | D8: 959 | F8: =G8-D8-D9-D12+K11 -> 233 | G8: 2500 | I8: =+D8+D9+D12 -> 2132 | J8: Entrant
B9: Z89 | C9: T3 | D9: 1149 | G9: Gb Hénansal | J9: 240 | L9: =+I8/G8 -> 0.8528
B10: Z98 | C10: T3 H | D10: 313 | J10: Sortant
B11: YE3 | C11: YFF H | D11: 20 | F11: =G11-D7-D11-D10+K15 -> 516 | G11: 1500 | J11: =120+255 -> 375 | K11: =J9-J11 -> -135
B12: YE4 | C12: YFF V | D12: 24 | I12: =+D7+D10+D11 -> 935 | J12: Entrant | L12: =+I12/G11 -> 0.62333333
A13: TOTAL GLOBAL | D13: =SUM(D7:D12) -> 3067 | E13: =D13+K11+K15 -> 2883
J14: Sortant
J15: =25+24 -> 49 | K15: =J13-J15 -> -49
A16: GELIN | B16: Z88 | C16: T2 | F16: =G17-D19+K21 -> 1717 | G16: Gélin St Sauveur | J16: Entrant
B17: Z96 | C17: T3 | D17: 1008 | G17: 4000 | J17: =288+96 -> 384
B18: YE6 | C18: YFF | D18: 1275
A19: TOTAL GLOBAL | D19: =SUM(D17:D18) -> 2283 | E19: =D19+K21 -> 2283 | J19: Sortant | L19: =D19/G17 -> 0.57075
J20: 24
A21: GELIN | B21: Z80 | C21: T2 | D21: 13 | F21: =G22-D23+K24 -> -53 | G21: Gélin Fougeres | J21: Entrant
B22: Z90 | C22: T3 | D22: 1815 | G22: 2000
A23: TOTAL GLOBAL | D23: =SUM(D21:D22) -> 1828 | E23: =D23+K24 -> 1603 | J23: Sortant
J24: =120+105 -> 225 | K24: =J22-J24 -> -225 | L24: =D23/G22 -> 0.914
A25: CELTIC | H25: Entrant | I25: Différence | J25: Entrant
H26: 300 | J26: 0
B27: Z91 | C27: T2 | D27: 2808 | F27: =G28-D29-H29-I29-K29 -> 716 | G27: Celtic | H27: Sortant | J27: Sortant
B28: YE5 | C28: YFF | D28: 933 | G28: 7013 | H28: 298 | J28: =360+116 -> 476
A29: TOTAL GLOBAL | D29: =SUM(D27:D28) -> 3741 | E29: =D29+H29+I29+K29 -> 6297 | H29: 3030 | I29: =H26-H28 -> 2 | K29: =+J26-J28 -> -476 | L29: =D29/G28 -> 0.5334379 | M29: =+E29/G28 -> 0.89790389
A32: Et la fromagerie est sur le Site de Hénansal ou je n'ai pas d'info non plus

Sheet S25
A1: Date du 17/06 | E1: Prévision | F1: Différence | G1: Nbre de places MAX | H1: Landerneau | I1: Différence | J1: Créhen/Yff | K1: Différence | L1: CREHEN | M1: CREHEN+LDO
A2: STOCKEUR | B2: DEPOT | C2: TOUR | D2: Nbre de pal | G2: Garnier | H2: Entrant | J2: Entrant
A3: GARNIER | B3: Z93 | C3: T2 | D3: 11438 | H3: 48 | J3: 1152
B4: Z97 | C4: T3 | D4: 896 | H4: Sortant | J4: Sortant
B5: YE2 | C5: YFF | D5: 9 | H5: 96 | J5: =384+908 -> 1292
A6: TOTAL GLOBAL | D6: =SUM(D3:D5) -> 12343 | E6: =D6+H6+I6+K6 -> 13027 | F6: =G6-D6-H6-I6-K6 -> 473 | G6: 13500 | H6: 872 | I6: =H3-H5 -> -48 | K6: =J3-J5 -> -140 | L6: =D6/G6 -> 0.9142963 | M6: =+E6/G6 -> 0.96496296
A7: GB | B7: Z81 | C7: T2 H | D7: 577 | G7: Gb vildé
B8: Z84 | C8: T2 V | D8: 1000 | F8: =G8-D8-D9-D12+K11 -> 255 | G8: 2500 | I8: =+D8+D9+D12 -> 2031 | J8: Entrant
B9: Z89 | C9: T3 | D9: 1007 | G9: Gb Hénansal | J9: 240 | L9: =+I8/G8 -> 0.8124
B10: Z98 | C10: T3 H | D10: 313 | J10: Sortant
B11: YE3 | C11: YFF H | D11: 20 | F11: =G11-D7-D11-D10+K15 -> 638 | G11: 1500 | J11: 454 | K11: =J9-J11 -> -214
B12: YE4 | C12: YFF V | D12: 24 | I12: =+D7+D10+D11 -> 910 | J12: Entrant | L12: =+I12/G11 -> 0.60666667
A13: TOTAL GLOBAL | D13: =SUM(D7:D12) -> 2941 | E13: =D13+K11+K15 -> 2775 | J13: 48
J14: Sortant
K15: =J13-J15 -> 48
A16: GELIN | B16: Z88 | C16: T2 | F16: =G17-D19+K21 -> 1488 | G16: Gélin St Sauveur | J16: Entrant
B17: Z96 | C17: T3 | D17: 1117 | G17: 4000 | J17: 48
B18: YE6 | C18: YFF | D18: 1395
A19: TOTAL GLOBAL | D19: =SUM(D17:D18) -> 2512 | E19: =D19+K21 -> 2512 | J19: Sortant | L19: =D19/G17 -> 0.628
J20: 144
A21: GELIN | B21: Z80 | C21: T2 | D21: 13 | F21: =G22-D23+K24 -> 198 | G21: Gélin Fougeres | J21: Entrant
B22: Z90 | C22: T3 | D22: 1597 | G22: 2000
A23: TOTAL GLOBAL | D23: =SUM(D21:D22) -> 1610 | E23: =D23+K24 -> 1418 | J23: Sortant
J24: 192 | K24: =J22-J24 -> -192 | L24: =D23/G22 -> 0.805
A25: CELTIC | H25: Entrant | I25: Différence | J25: Entrant
H26: 490 | J26: 120
B27: Z91 | C27: T2 | D27: 2648 | F27: =G28-D29-H29-I29-K29 -> 800 | G27: Celtic | H27: Sortant | J27: Sortant
B28: YE5 | C28: YFF | D28: 573 | G28: 7013 | H28: 324 | J28: 430
A29: TOTAL GLOBAL | D29: =SUM(D27:D28) -> 3221 | E29: =D29+H29+I29+K29 -> 6213 | H29: 3136 | I29: =H26-H28 -> 166 | K29: =+J26-J28 -> -310 | L29: =D29/G28 -> 0.45928989 | M29: =+E29/G28 -> 0.88592614
A32: Et la fromagerie est sur le Site de Hénansal ou je n'ai pas d'info non plus

Sheet s26
A1: Date du 25/06 | E1: Prévision | F1: Différence | G1: Nbre de places MAX | H1: Landerneau | I1: Différence | J1: Créhen/Yff | K1: Différence | L1: CREHEN | M1: CREHEN+LDO
A2: STOCKEUR | B2: DEPOT | C2: TOUR | D2: Nbre de pal | G2: Garnier | H2: Entrant | J2: Entrant
A3: GARNIER | B3: Z93 | C3: T2 | D3: 11258 | H3: 120 | J3: 1152
B4: Z97 | C4: T3 | D4: 796 | H4: Sortant | J4: Sortant
B5: YE2 | C5: YFF | D5: 9 | H5: 72 | J5: =48+598 -> 646
A6: TOTAL GLOBAL | D6: =SUM(D3:D5) -> 12063 | E6: =D6+H6+I6+K6 -> 13465 | F6: =G6-D6-H6-I6-K6 -> 35 | G6: 13500 | H6: 848 | I6: =H3-H5 -> 48 | K6: =J3-J5 -> 506 | L6: =D6/G6 -> 0.89355556 | M6: =+E6/G6 -> 0.99740741
A7: GB | B7: Z81 | C7: T2 H | D7: 579 | G7: Gb vildé
B8: Z84 | C8: T2 V | D8: 1010 | F8: =G8-D8-D9-D12+K11 -> 352 | G8: 2500 | I8: =+D8+D9+D12 -> 1801 | J8: Entrant
B9: Z89 | C9: T3 | D9: 791 | G9: Gb Hénansal | J9: 240 | L9: =+I8/G8 -> 0.7204
B10: Z98 | C10: T3 H | D10: 355 | J10: Sortant
B11: YE3 | C11: YFF H | D11: 20 | F11: =G11-D7-D11-D10+K15 -> 518 | G11: 1500 | J11: =72+515 -> 587 | K11: =J9-J11 -> -347
B12: YE4 | C12: YFF V | I12: =+D7+D10+D11 -> 954 | J12: Entrant | L12: =+I12/G11 -> 0.636
A13: TOTAL GLOBAL | D13: =SUM(D7:D12) -> 2755 | E13: =D13+K11+K15 -> 2380
J14: Sortant
J15: 28 | K15: =J13-J15 -> -28
A16: GELIN | B16: Z88 | C16: T2 | F16: =G17-D19+K21 -> 1544 | G16: Gélin St Sauveur | J16: Entrant
B17: Z96 | C17: T3 | D17: 1109 | G17: 4000 | J17: 144
B18: YE6 | C18: YFF | D18: 1347
A19: TOTAL GLOBAL | D19: =SUM(D17:D18) -> 2456 | E19: =D19+K21 -> 2456 | J19: Sortant | L19: =D19/G17 -> 0.614
J20: =360+96 -> 456
A21: GELIN | B21: Z80 | C21: T2 | D21: 13 | F21: =G22-D23+K24 -> 550 | G21: Gélin Fougeres | J21: Entrant
B22: Z90 | C22: T3 | D22: 1365 | G22: 2000
A23: TOTAL GLOBAL | D23: =SUM(D21:D22) -> 1378 | E23: =D23+K24 -> 1306 | J23: Sortant
J24: 72 | K24: =J22-J24 -> -72 | L24: =D23/G22 -> 0.689
A25: CELTIC | H25: Entrant | I25: Différence | J25: Entrant
H26: =212+336 -> 548
B27: Z91 | C27: T2 | D27: 2493 | F27: =G28-D29-H29-I29-K29 -> 582 | G27: Celtic | H27: Sortant | J27: Sortant
B28: YE5 | C28: YFF | D28: 659 | G28: 7013 | H28: 124 | J28: =227+192 -> 419
A29: TOTAL GLOBAL | D29: =SUM(D27:D28) -> 3152 | E29: =D29+H29+I29+K29 -> 6431 | H29: 3274 | I29: =H26-H28 -> 424 | K29: =+J26-J28 -> -419 | L29: =D29/G28 -> 0.44945102 | M29: =+E29/G28 -> 0.91701126
A32: Et la fromagerie est sur le Site de Hénansal ou je n'ai pas d'info non plus

Sheet S27
A1: Date du 01/07 | E1: Prévision | F1: Différence | G1: Nbre de places MAX | H1: Landerneau | I1: Différence | J1: Créhen/Yff | K1: Différence | L1: CREHEN | M1: CREHEN+LDO
A2: STOCKEUR | B2: DEPOT | C2: TOUR | D2: Nbre de pal | G2: Garnier | H2: Entrant | J2: Entrant
A3: GARNIER | B3: Z93 | C3: T2 | D3: 11850 | H3: 72 | J3: 720
B4: Z97 | C4: T3 | D4: 750 | H4: Sortant | J4: Sortant
B5: YE2 | C5: YFF | D5: 9 | H5: 96 | J5: =777+266 -> 1043
A6: TOTAL GLOBAL | D6: =SUM(D3:D5) -> 12609 | E6: =D6+H6+I6+K6 -> 13110 | F6: =G6-D6-H6-I6-K6 -> 390 | G6: 13500 | H6: 848 | I6: =H3-H5 -> -24 | K6: =J3-J5 -> -323 | L6: =D6/G6 -> 0.934 | M6: =+E6/G6 -> 0.97111111
A7: GB | B7: Z81 | C7: T2 H | D7: 559 | G7: Gb vildé
B8: Z84 | C8: T2 V | D8: 783 | F8: =G8-D8-D9-D12+K11 -> 2048 | G8: 2500 | I8: =+D8+D9+D12 -> 1460 | J8: Entrant
B9: Z89 | C9: T3 | D9: 677 | G9: Gb Hénansal | J9: =912+144 -> 1056 | L9: =+I8/G8 -> 0.584
B10: Z98 | C10: T3 H | D10: 352 | J10: Sortant
B11: YE3 | C11: YFF H | D11: 20 | F11: =G11-D7-D11-D10+K15 -> 569 | G11: 1500 | J11: 48 | K11: =J9-J11 -> 1008
B12: YE4 | C12: YFF V | I12: =+D7+D10+D11 -> 931 | J12: Entrant | L12: =+I12/G11 -> 0.62066667
A13: TOTAL GLOBAL | D13: =SUM(D7:D12) -> 2391 | E13: =D13+K11+K15 -> 3399
J14: Sortant
K15: =J13-J15 -> 0
A16: GELIN | B16: Z88 | C16: T2 | F16: =G17-D19+K21 -> 1869 | G16: Gélin St Sauveur | J16: Entrant
B17: Z96 | C17: T3 | D17: 1192 | G17: 4000
B18: YE6 | C18: YFF | D18: 939
A19: TOTAL GLOBAL | D19: =SUM(D17:D18) -> 2131 | E19: =D19+K21 -> 2131 | J19: Sortant | L19: =D19/G17 -> 0.53275
J20: 86
A21: GELIN | B21: Z80 | C21: T2 | D21: 13 | F21: =G22-D23+K24 -> 644 | G21: Gélin Fougeres | J21: Entrant
B22: Z90 | C22: T3 | D22: 1293 | G22: 2000
A23: TOTAL GLOBAL | D23: =SUM(D21:D22) -> 1306 | E23: =D23+K24 -> 1256 | J23: Sortant
J24: =24+26 -> 50 | K24: =J22-J24 -> -50 | L24: =D23/G22 -> 0.653
A25: CELTIC | H25: Entrant | I25: Différence | J25: Entrant
H26: 430 | J26: 48
B27: Z91 | C27: T2 | D27: 2244 | F27: =G28-D29-H29-I29-K29 -> 622 | G27: Celtic | H27: Sortant | J27: Sortant
B28: YE5 | C28: YFF | D28: 780 | G28: 7013 | H28: 421 | J28: =45+113 -> 158
A29: TOTAL GLOBAL | D29: =SUM(D27:D28) -> 3024 | E29: =D29+H29+I29+K29 -> 6391 | H29: 3468 | I29: =H26-H28 -> 9 | K29: =+J26-J28 -> -110 | L29: =D29/G28 -> 0.4311992 | M29: =+E29/G28 -> 0.91130757
A32: Et la fromagerie est sur le Site de Hénansal ou je n'ai pas d'info non plus

Sheet s29
A1: Date du 15/07 | E1: Prévision | F1: Différence | G1: Nbre de places MAX | H1: Landerneau | I1: Différence | J1: Créhen/Yff | K1: Différence | L1: CREHEN | M1: CREHEN+LDO
A2: STOCKEUR | B2: DEPOT | C2: TOUR | D2: Nbre de pal | G2: Garnier | H2: Entrant | J2: Entrant
A3: GARNIER | B3: Z93 | C3: T2 | D3: 11167 | H3: 24 | J3: 1224
B4: Z97 | C4: T3 | D4: 724 | H4: Sortant | J4: Sortant
B5: YE2 | C5: YFF | D5: 9 | H5: 94 | J5: =635+552 -> 1187
A6: TOTAL GLOBAL | D6: =SUM(D3:D5) -> 11900 | E6: =D6+H6+I6+K6 -> 12621 | F6: =G6-D6-H6-I6-K6 -> 879 | G6: 13500 | H6: 754 | I6: =H3-H5 -> -70 | K6: =J3-J5 -> 37 | L6: =D6/G6 -> 0.88148148 | M6: =+E6/G6 -> 0.93488889
A7: GB | B7: Z81 | C7: T2 H | D7: 598 | G7: Gb vildé
B8: Z84 | C8: T2 V | D8: 1463 | F8: =G8-D8-D9-D12+K11 -> 192 | G8: 2500 | I8: =+D8+D9+D12 -> 2474 | J8: Entrant
B9: Z89 | C9: T3 | D9: 819 | G9: Gb Hénansal | J9: 168 | L9: =+I8/G8 -> 0.9896
B10: Z98 | C10: T3 H | D10: 375 | J10: Sortant
B11: YE3 | C11: YFF H | D11: 20 | F11: =G11-D7-D11-D10+K15 -> 513 | G11: 1500 | J11: 2 | K11: =J9-J11 -> 166
B12: YE4 | C12: YFF V | D12: 192 | I12: =+D7+D10+D11 -> 993 | J12: Entrant | L12: =+I12/G11 -> 0.662
A13: TOTAL GLOBAL | D13: =SUM(D7:D12) -> 3467 | E13: =D13+K11+K15 -> 3639 | J13: 24
J14: Sortant
J15: 18 | K15: =J13-J15 -> 6
A16: GELIN | B16: Z88 | C16: T2 | F16: =G17-D19+K21 -> 1779 | G16: Gélin St Sauveur | J16: Entrant
B17: Z96 | C17: T3 | D17: 1498 | G17: 4000 | J17: 120
B18: YE6 | C18: YFF | D18: 723
A19: TOTAL GLOBAL | D19: =SUM(D17:D18) -> 2221 | E19: =D19+K21 -> 2221 | J19: Sortant | L19: =D19/G17 -> 0.55525
J20: =216+172 -> 388
A21: GELIN | B21: Z80 | C21: T2 | D21: 13 | F21: =G22-D23+K24 -> 838 | G21: Gélin Fougeres | J21: Entrant
B22: Z90 | C22: T3 | D22: 1088 | G22: 2000
A23: TOTAL GLOBAL | D23: =SUM(D21:D22) -> 1101 | E23: =D23+K24 -> 1040 | J23: Sortant
J24: =24+37 -> 61 | K24: =J22-J24 -> -61 | L24: =D23/G22 -> 0.5505
A25: CELTIC | H25: Entrant | I25: Différence | J25: Entrant
H26: 335
B27: Z91 | C27: T2 | D27: 2067 | F27: =G28-D29-H29-I29-K29 -> 821 | G27: Celtic | H27: Sortant | J27: Sortant
B28: YE5 | C28: YFF | D28: 1005 | G28: 7013 | H28: 307 | J28: =109+192 -> 301
A29: TOTAL GLOBAL | D29: =SUM(D27:D28) -> 3072 | E29: =D29+H29+I29+K29 -> 6192 | H29: 3393 | I29: =H26-H28 -> 28 | K29: =+J26-J28 -> -301 | L29: =D29/G28 -> 0.43804363 | M29: =+E29/G28 -> 0.8829317
A32: Et la fromagerie est sur le Site de Hénansal ou je n'ai pas d'info non plus

Sheet S30
A1: Date du 22/07 | E1: Prévision | F1: Différence | G1: Nbre de places MAX | H1: Landerneau | I1: Différence | J1: Créhen/Yff | K1: Différence | L1: CREHEN | M1: CREHEN+LDO
A2: STOCKEUR | B2: DEPOT | C2: TOUR | D2: Nbre de pal | G2: Garnier | H2: Entrant | J2: Entrant
A3: GARNIER | B3: Z93 | C3: T2 | D3: 11488 | H3: 48 | J3: 936
B4: Z97 | C4: T3 | D4: 594 | H4: Sortant | J4: Sortant
B5: YE2 | C5: YFF | D5: 9 | H5: 96 | J5: =788+144 -> 932
A6: TOTAL GLOBAL | D6: =SUM(D3:D5) -> 12091 | E6: =D6+H6+I6+K6 -> 12801 | F6: =G6-D6-H6-I6-K6 -> 699 | G6: 13500 | H6: 754 | I6: =H3-H5 -> -48 | K6: =J3-J5 -> 4 | L6: =D6/G6 -> 0.89562963 | M6: =+E6/G6 -> 0.94822222
A7: GB | B7: Z81 | C7: T2 H | D7: 587 | G7: Gb vildé
B8: Z84 | C8: T2 V | D8: 1553 | F8: =G8-D8-D9-D12+K11 -> 148 | G8: 2500 | I8: =+D8+D9+D12 -> 2294 | J8: Entrant
B9: Z89 | C9: T3 | D9: 549 | G9: Gb Hénansal | J9: 168 | L9: =+I8/G8 -> 0.9176
B10: Z98 | C10: T3 H | D10: 379 | J10: Sortant
B11: YE3 | C11: YFF H | D11: 20 | F11: =G11-D7-D11-D10+K15 -> 469 | G11: 1500 | J11: 226 | K11: =J9-J11 -> -58
B12: YE4 | C12: YFF V | D12: 192 | I12: =+D7+D10+D11 -> 986 | J12: Entrant | L12: =+I12/G11 -> 0.65733333
A13: TOTAL GLOBAL | D13: =SUM(D7:D12) -> 3280 | E13: =D13+K11+K15 -> 3177
J14: Sortant
J15: =24+21 -> 45 | K15: =J13-J15 -> -45
A16: GELIN | B16: Z88 | C16: T2 | F16: =G17-D19+K21 -> 1898 | G16: Gélin St Sauveur | J16: Entrant
B17: Z96 | C17: T3 | D17: 1547 | G17: 4000 | J17: 144
B18: YE6 | C18: YFF | D18: 555
A19: TOTAL GLOBAL | D19: =SUM(D16:D18) -> 2102 | E19: =D19+K21 -> 2102 | J19: Sortant | L19: =D19/G17 -> 0.5255
J20: 309 | K20: =J17-J20 -> -165
A21: GELIN | B21: Z80 | C21: T2 | D21: 13 | F21: =G22-D23+K24 -> 947 | G21: Gélin Fougeres | J21: Entrant
B22: Z90 | C22: T3 | D22: 994 | G22: 2000
A23: TOTAL GLOBAL | D23: =SUM(D21:D22) -> 1007 | E23: =D23+K24 -> 961 | J23: Sortant
J24: 46 | K24: =J22-J24 -> -46 | L24: =D23/G22 -> 0.5035
A25: CELTIC | H25: Entrant | I25: Différence | J25: Entrant
H26: 200 | J26: 209
B27: Z91 | C27: T2 | D27: 1911 | F27: =G28-D29-H29-I29-K29 -> 646 | G27: Celtic | H27: Sortant | J27: Sortant
B28: YE5 | C28: YFF | D28: 1144 | G28: 7013 | H28: 214 | J28: =156+120 -> 276
A29: TOTAL GLOBAL | D29: =SUM(D27:D28) -> 3055 | E29: =D29+H29+I29+K29 -> 6367 | H29: 3393 | I29: =H26-H28 -> -14 | K29: =+J26-J28 -> -67 | L29: =D29/G28 -> 0.43561956 | M29: =+E29/G28 -> 0.90788536
A32: Et la fromagerie est sur le Site de Hénansal ou je n'ai pas d'info non plus

Sheet S31
A1: Date du 29/07 | E1: Prévision | F1: Différence | G1: Nbre de places MAX | H1: Landerneau | I1: Différence | J1: Créhen/Yff | K1: Différence | L1: CREHEN | M1: CREHEN+LDO
A2: STOCKEUR | B2: DEPOT | C2: TOUR | D2: Nbre de pal | G2: Garnier | H2: Entrant | J2: Entrant
A3: GARNIER | B3: Z93 | C3: T2 | D3: 11501 | H3: 48 | J3: 1008
B4: Z97 | C4: T3 | D4: 595 | H4: Sortant | J4: Sortant
B5: YE2 | C5: YFF | D5: 9 | H5: 72 | J5: =216+736 -> 952
A6: TOTAL GLOBAL | D6: =SUM(D3:D5) -> 12105 | E6: =D6+H6+I6+K6 -> 12843 | F6: =G6-D6-H6-I6-K6 -> 657 | G6: 13500 | H6: 706 | I6: =H3-H5 -> -24 | K6: =J3-J5 -> 56 | L6: =D6/G6 -> 0.89666667 | M6: =+E6/G6 -> 0.95133333
A7: GB | B7: Z81 | C7: T2 H | D7: 604 | G7: Gb vildé
B8: Z84 | C8: T2 V | D8: 1520 | F8: =G8-D8-D9-D12+K11 -> 174 | G8: 2500 | I8: =+D8+D9+D12 -> 2294 | J8: Entrant
B9: Z89 | C9: T3 | D9: 582 | G9: Gb Hénansal | J9: 240 | L9: =+I8/G8 -> 0.9176
B10: Z98 | C10: T3 H | D10: 378 | J10: Sortant
B11: YE3 | C11: YFF H | D11: 20 | F11: =G11-D7-D11-D10+K15 -> 483 | G11: 1500 | J11: =18+254 -> 272 | K11: =J9-J11 -> -32
B12: YE4 | C12: YFF V | D12: 192 | I12: =+D7+D10+D11 -> 1002 | J12: Entrant | L12: =+I12/G11 -> 0.668
A13: TOTAL GLOBAL | D13: =SUM(D7:D12) -> 3296 | E13: =D13+K11+K15 -> 3249 | J13: 24
J14: Sortant
J15: =15+24 -> 39 | K15: =J13-J15 -> -15
A16: GELIN | B16: Z88 | C16: T2 | F16: =G17-D19+K21 -> 2060 | G16: Gélin St Sauveur | J16: Entrant
B17: Z96 | C17: T3 | D17: 1625 | G17: 4000 | J17: 96
B18: YE6 | C18: YFF | D18: 315
A19: TOTAL GLOBAL | D19: =SUM(D16:D18) -> 1940 | E19: =D19+K21 -> 1940 | J19: Sortant | L19: =D19/G17 -> 0.485
J20: =168+168 -> 336 | K20: =J17-J20 -> -240
A21: GELIN | B21: Z80 | C21: T2 | D21: 13 | F21: =G22-D23+K24 -> 1065 | G21: Gélin Fougeres | J21: Entrant
B22: Z90 | C22: T3 | D22: 919 | G22: 2000 | J22: 24
A23: TOTAL GLOBAL | D23: =SUM(D21:D22) -> 932 | E23: =D23+K24 -> 929 | J23: Sortant
J24: 27 | K24: =J22-J24 -> -3 | L24: =D23/G22 -> 0.466
A25: CELTIC | H25: Entrant | I25: Différence | J25: Entrant
H26: 260 | J26: 240
B27: Z91 | C27: T2 | D27: 1838 | F27: =G28-D29-H29-I29-K29 -> 353 | G27: Celtic | H27: Sortant | J27: Sortant
B28: YE5 | C28: YFF | D28: 1242 | G28: 7013 | H28: 268 | J28: =35+72 -> 107
A29: TOTAL GLOBAL | D29: =SUM(D27:D28) -> 3080 | E29: =D29+H29+I29+K29 -> 6660 | H29: 3455 | I29: =H26-H28 -> -8 | K29: =+J26-J28 -> 133 | L29: =D29/G28 -> 0.43918437 | M29: =+E29/G28 -> 0.94966491
A32: Et la fromagerie est sur le Site de Hénansal ou je n'ai pas d'info non plus

Sheet S32
A1: Date du 05/08 | E1: Prévision | F1: Différence | G1: Nbre de places MAX | H1: Landerneau | I1: Différence | J1: Créhen/Yff | K1: Différence | L1: CREHEN | M1: CREHEN+LDO
A2: STOCKEUR | B2: DEPOT | C2: TOUR | D2: Nbre de pal | G2: Garnier | H2: Entrant | J2: Entrant
A3: GARNIER | B3: Z93 | C3: T2 | D3: 11416 | H3: 72 | J3: 864
B4: Z97 | C4: T3 | D4: 595 | H4: Sortant | J4: Sortant
B5: YE2 | C5: YFF | D5: 9 | H5: 144 | J5: =360+835 -> 1195
A6: TOTAL GLOBAL | D6: =SUM(D3:D5) -> 12020 | E6: =D6+H6+I6+K6 -> 12276 | F6: =G6-D6-H6-I6-K6 -> 1224 | G6: 13500 | H6: 659 | I6: =H3-H5 -> -72 | K6: =J3-J5 -> -331 | L6: =D6/G6 -> 0.89037037 | M6: =+E6/G6 -> 0.90933333
A7: GB | B7: Z81 | C7: T2 H | D7: 571 | G7: Gb vildé
B8: Z84 | C8: T2 V | D8: 1343 | F8: =G8-D8-D9-D12+K11 -> 422 | G8: 2500 | I8: =+D8+D9+D12 -> 2247 | J8: Entrant
B9: Z89 | C9: T3 | D9: 712 | G9: Gb Hénansal | J9: 240 | L9: =+I8/G8 -> 0.8988
B10: Z98 | C10: T3 H | D10: 397 | J10: Sortant
B11: YE3 | C11: YFF H | D11: 20 | F11: =G11-D7-D11-D10+K15 -> 510 | G11: 1500 | J11: =4+67 -> 71 | K11: =J9-J11 -> 169
B12: YE4 | C12: YFF V | D12: 192 | I12: =+D7+D10+D11 -> 988 | J12: Entrant | L12: =+I12/G11 -> 0.65866667
A13: TOTAL GLOBAL | D13: =SUM(D7:D12) -> 3235 | E13: =D13+K11+K15 -> 3402
J14: Sortant
J15: 2 | K15: =J13-J15 -> -2
A16: GELIN | B16: Z88 | C16: T2 | F16: =G17-D19+K21 -> 2077 | G16: Gélin St Sauveur | J16: Entrant
B17: Z96 | C17: T3 | D17: 1704 | G17: 4000 | J17: 240
B18: YE6 | C18: YFF | D18: 219
A19: TOTAL GLOBAL | D19: =SUM(D16:D18) -> 1923 | E19: =D19+K21 -> 1923 | J19: Sortant | L19: =D19/G17 -> 0.48075
J20: 32 | K20: =J17-J20 -> 208
A21: GELIN | B21: Z80 | C21: T2 | D21: 13 | F21: =G22-D23+K24 -> 1114 | G21: Gélin Fougeres | J21: Entrant
B22: Z90 | C22: T3 | D22: 873 | G22: 2000
A23: TOTAL GLOBAL | D23: =SUM(D21:D22) -> 886 | E23: =D23+K24 -> 886 | J23: Sortant
K24: =J22-J24 -> 0 | L24: =D23/G22 -> 0.443
A25: CELTIC | H25: Entrant | I25: Différence | J25: Entrant
H26: 487 | J26: 240
B27: Z91 | C27: T2 | D27: 1800 | F27: =G28-D29-H29-I29-K29 -> 50 | G27: Celtic | H27: Sortant | J27: Sortant
B28: YE5 | C28: YFF | D28: 1434 | G28: 7013 | H28: 222 | J28: =115+144 -> 259
A29: TOTAL GLOBAL | D29: =SUM(D27:D28) -> 3234 | E29: =D29+H29+I29+K29 -> 6963 | H29: 3483 | I29: =H26-H28 -> 265 | K29: =+J26-J28 -> -19 | L29: =D29/G28 -> 0.46114359 | M29: =+E29/G28 -> 0.99287038
A32: Et la fromagerie est sur le Site de Hénansal ou je n'ai pas d'info non plus

Sheet S33
A1: Date du 12/08 | E1: Prévision | F1: Différence | G1: Nbre de places MAX | H1: Landerneau | I1: Différence | J1: Créhen/Yff | K1: Différence | L1: CREHEN | M1: CREHEN+LDO
A2: STOCKEUR | B2: DEPOT | C2: TOUR | D2: Nbre de pal | G2: Garnier | H2: Entrant | J2: Entrant
A3: GARNIER | B3: Z93 | C3: T2 | D3: 11541 | H3: 48 | J3: 1008
B4: Z97 | C4: T3 | D4: 416 | H4: Sortant | J4: Sortant
B5: YE2 | C5: YFF | D5: 9 | H5: 48 | J5: =432+261 -> 693
A6: TOTAL GLOBAL | D6: =SUM(D3:D5) -> 11966 | E6: =D6+H6+I6+K6 -> 12845 | F6: =G6-D6-H6-I6-K6 -> 655 | G6: 13500 | H6: 564 | I6: =H3-H5 -> 0 | K6: =J3-J5 -> 315 | L6: =D6/G6 -> 0.88637037 | M6: =+E6/G6 -> 0.95148148
A7: GB | B7: Z81 | C7: T2 H | D7: 570 | G7: Gb vildé
B8: Z84 | C8: T2 V | D8: 1211 | F8: =G8-D8-D9-D12+K11 -> 295 | G8: 2500 | I8: =+D8+D9+D12 -> 2241 | J8: Entrant
B9: Z89 | C9: T3 | D9: 838 | G9: Gb Hénansal | J9: 168 | L9: =+I8/G8 -> 0.8964
B10: Z98 | C10: T3 H | D10: 421 | J10: Sortant
B11: YE3 | C11: YFF H | D11: 20 | F11: =G11-D7-D11-D10+K15 -> 478 | G11: 1500 | J11: =72+60 -> 132 | K11: =J9-J11 -> 36
B12: YE4 | C12: YFF V | D12: 192 | I12: =+D7+D10+D11 -> 1011 | J12: Entrant | L12: =+I12/G11 -> 0.674
A13: TOTAL GLOBAL | D13: =SUM(D7:D12) -> 3252 | E13: =D13+K11+K15 -> 3277
J14: Sortant
J15: 11 | K15: =J13-J15 -> -11
A16: GELIN | B16: Z88 | C16: T2 | F16: =G17-D19+K21 -> 1994 | G16: Gélin St Sauveur | J16: Entrant
B17: Z96 | C17: T3 | D17: 1790 | G17: 4000 | J17: 120
B18: YE6 | C18: YFF | D18: 216
A19: TOTAL GLOBAL | D19: =SUM(D16:D18) -> 2006 | E19: =D19+K21 -> 2006 | J19: Sortant | L19: =D19/G17 -> 0.5015
J20: =7+105 -> 112 | K20: =J17-J20 -> 8
A21: GELIN | B21: Z80 | C21: T2 | D21: 13 | F21: =G22-D23+K24 -> 1145 | G21: Gélin Fougeres | J21: Entrant
B22: Z90 | C22: T3 | D22: 873 | G22: 2000 | J22: 48
A23: TOTAL GLOBAL | D23: =SUM(D21:D22) -> 886 | E23: =D23+K24 -> 917 | J23: Sortant
J24: 17 | K24: =J22-J24 -> 31 | L24: =D23/G22 -> 0.443
A25: CELTIC | H25: Entrant | I25: Différence | J25: Entrant
H26: 250 | J26: 240
B27: Z91 | C27: T2 | D27: 1684 | F27: =G28-D29-H29-I29-K29 -> -28 | G27: Celtic | H27: Sortant | J27: Sortant
B28: YE5 | C28: YFF | D28: 1565 | G28: 7013 | H28: 196 | J28: =168+61 -> 229
A29: TOTAL GLOBAL | D29: =SUM(D27:D28) -> 3249 | E29: =D29+H29+I29+K29 -> 7041 | H29: 3727 | I29: =H26-H28 -> 54 | K29: =+J26-J28 -> 11 | L29: =D29/G28 -> 0.46328248 | M29: =+E29/G28 -> 1.0039926
A32: Et la fromagerie est sur le Site de Hénansal ou je n'ai pas d'info non plus

Sheet s34
A1: Date du 12/08 | E1: Prévision | F1: Différence | G1: Nbre de places MAX | H1: Landerneau | I1: Différence | J1: Créhen/Yff | K1: Différence | L1: CREHEN | M1: CREHEN+LDO
A2: STOCKEUR | B2: DEPOT | C2: TOUR | D2: Nbre de pal | G2: Garnier | H2: Entrant | J2: Entrant
A3: GARNIER | B3: Z93 | C3: T2 | D3: 11805 | H3: 72 | J3: 1152
B4: Z97 | C4: T3 | D4: 254 | H4: Sortant | J4: Sortant
B5: YE2 | C5: YFF | D5: 9 | H5: =192+657 -> 849 | J5: 240
A6: TOTAL GLOBAL | D6: =SUM(D3:D5) -> 12068 | E6: =D6+H6+I6+K6 -> 12839 | F6: =G6-D6-H6-I6-K6 -> 661 | G6: 13500 | H6: 636 | I6: =H3-H5 -> -777 | K6: =J3-J5 -> 912 | L6: =D6/G6 -> 0.89392593 | M6: =+E6/G6 -> 0.95103704
A7: GB | B7: Z81 | C7: T2 H | D7: 569 | G7: Gb vildé
B8: Z84 | C8: T2 V | D8: 1235 | F8: =G8-D8-D9-D12+K11 -> 293 | G8: 2500 | I8: =+D8+D9+D12 -> 2343 | J8: Entrant
B9: Z89 | C9: T3 | D9: 916 | G9: Gb Hénansal | J9: 216 | L9: =+I8/G8 -> 0.9372
B10: Z98 | C10: T3 H | D10: 434 | J10: Sortant
B11: YE3 | C11: YFF H | D11: 20 | F11: =G11-D7-D11-D10+K15 -> 477 | G11: 1500 | J11: 80 | K11: =J9-J11 -> 136
B12: YE4 | C12: YFF V | D12: 192 | I12: =+D7+D10+D11 -> 1023 | J12: Entrant | L12: =+I12/G11 -> 0.682
A13: TOTAL GLOBAL | D13: =SUM(D7:D12) -> 3366 | E13: =D13+K11+K15 -> 3502
J14: Sortant
K15: =J13-J15 -> 0
A16: GELIN | B16: Z88 | C16: T2 | F16: =G17-D19+K21 -> 1921 | G16: Gélin St Sauveur | J16: Entrant
B17: Z96 | C17: T3 | D17: 1860 | G17: 4000 | J17: 264
B18: YE6 | C18: YFF | D18: 219
A19: TOTAL GLOBAL | D19: =SUM(D16:D18) -> 2079 | E19: =D19+K21 -> 2079 | J19: Sortant | L19: =D19/G17 -> 0.51975
J20: 240 | K20: =J17-J20 -> 24
A21: GELIN | B21: Z80 | C21: T2 | D21: 13 | F21: =G22-D23+K24 -> 1161 | G21: Gélin Fougeres | J21: Entrant
B22: Z90 | C22: T3 | D22: 850 | G22: 2000 | J22: 24
A23: TOTAL GLOBAL | D23: =SUM(D21:D22) -> 863 | E23: =D23+K24 -> 887 | J23: Sortant
K24: =J22-J24 -> 24 | L24: =D23/G22 -> 0.4315
A25: CELTIC | H25: Entrant | I25: Différence | J25: Entrant
H26: 400 | J26: 264
B27: Z91 | C27: T2 | D27: 1429 | F27: =G28-D29-H29-I29-K29 -> 225 | G27: Celtic | H27: Sortant | J27: Sortant
B28: YE5 | C28: YFF | D28: 1818 | G28: 7013 | H28: 273 | J28: =240+360 -> 600
A29: TOTAL GLOBAL | D29: =SUM(D27:D28) -> 3247 | E29: =D29+H29+I29+K29 -> 6788 | H29: 3750 | I29: =H26-H28 -> 127 | K29: =+J26-J28 -> -336 | L29: =D29/G28 -> 0.46299729 | M29: =+E29/G28 -> 0.96791673
A32: Et la fromagerie est sur le Site de Hénansal ou je n'ai pas d'info non plus

Sheet S35
A1: Date du 12/08 | E1: Prévision | F1: Différence | G1: Nbre de places MAX | H1: Landerneau | I1: Différence | J1: Créhen/Yff | K1: Différence | L1: CREHEN | M1: CREHEN+LDO
A2: STOCKEUR | B2: DEPOT | C2: TOUR | D2: Nbre de pal | G2: Garnier | H2: Entrant | J2: Entrant
A3: GARNIER | B3: Z93 | C3: T2 | D3: 12012 | H3: 72 | J3: 888
B4: Z97 | C4: T3 | D4: 268 | H4: Sortant | J4: Sortant
B5: YE2 | C5: YFF | D5: 9 | H5: 144 | J5: =213+618 -> 831
A6: TOTAL GLOBAL | D6: =SUM(D3:D5) -> 12289 | E6: =D6+H6+I6+K6 -> 12754 | F6: =G6-D6-H6-I6-K6 -> 746 | G6: 13500 | H6: 480 | I6: =H3-H5 -> -72 | K6: =J3-J5 -> 57 | L6: =D6/G6 -> 0.9102963 | M6: =+E6/G6 -> 0.94474074
A7: GB | B7: Z81 | C7: T2 H | D7: 569 | G7: Gb vildé
B8: Z84 | C8: T2 V | D8: 1203 | F8: =G8-D8-D9-D12+K11 -> 126 | G8: 2500 | I8: =+D8+D9+D12 -> 2441 | J8: Entrant
B9: Z89 | C9: T3 | D9: 1046 | G9: Gb Hénansal | J9: 216 | L9: =+I8/G8 -> 0.9764
B10: Z98 | C10: T3 H | D10: 434 | J10: Sortant
B11: YE3 | C11: YFF H | D11: 20 | F11: =G11-D7-D11-D10+K15 -> 473 | G11: 1500 | J11: =53+96 -> 149 | K11: =J9-J11 -> 67
B12: YE4 | C12: YFF V | D12: 192 | I12: =+D7+D10+D11 -> 1023 | J12: Entrant | L12: =+I12/G11 -> 0.682
A13: TOTAL GLOBAL | D13: =SUM(D7:D12) -> 3464 | E13: =D13+K11+K15 -> 3527
J14: Sortant
J15: 4 | K15: =J13-J15 -> -4
A16: GELIN | B16: Z88 | C16: T2 | F16: =G17-D19+K21 -> 1985 | G16: Gélin St Sauveur | J16: Entrant
B17: Z96 | C17: T3 | D17: 1820 | G17: 4000 | J17: 120
B18: YE6 | C18: YFF | D18: 195
A19: TOTAL GLOBAL | D19: =SUM(D16:D18) -> 2015 | E19: =D19+K21 -> 2015 | J19: Sortant | L19: =D19/G17 -> 0.50375
J20: =86+96 -> 182 | K20: =J17-J20 -> -62
A21: GELIN | B21: Z80 | C21: T2 | D21: 13 | F21: =G22-D23+K24 -> 1209 | G21: Gélin Fougeres | J21: Entrant
B22: Z90 | C22: T3 | D22: 850 | G22: 2000 | J22: 72
A23: TOTAL GLOBAL | D23: =SUM(D21:D22) -> 863 | E23: =D23+K24 -> 935 | J23: Sortant
K24: =J22-J24 -> 72 | L24: =D23/G22 -> 0.4315
A25: CELTIC | H25: Entrant | I25: Différence | J25: Entrant
H26: 200
B27: Z91 | C27: T2 | D27: 1311 | F27: =G28-D29-H29-I29-K29 -> 189 | G27: Celtic | H27: Sortant | J27: Sortant
B28: YE5 | C28: YFF | D28: 1808 | G28: 7013 | H28: 243 | J28: =147+82 -> 229
A29: TOTAL GLOBAL | D29: =SUM(D27:D28) -> 3119 | E29: =D29+H29+I29+K29 -> 6824 | H29: 3977 | I29: =H26-H28 -> -43 | K29: =+J26-J28 -> -229 | L29: =D29/G28 -> 0.44474547 | M29: =+E29/G28 -> 0.97305005
A32: Et la fromagerie est sur le Site de Hénansal ou je n'ai pas d'info non plus

Sheet S36
A1: Date du 12/08 | E1: Prévision | F1: Différence | G1: Nbre de places MAX | H1: Landerneau | I1: Différence | J1: Créhen/Yff | K1: Différence | L1: CREHEN | M1: CREHEN+LDO
A2: STOCKEUR | B2: DEPOT | C2: TOUR | D2: Nbre de pal | G2: Garnier | H2: Entrant | J2: Entrant
A3: GARNIER | B3: Z93 | C3: T2 | D3: 12013 | H3: 72 | J3: 576
B4: Z97 | C4: T3 | D4: 268 | H4: Sortant | J4: Sortant
B5: YE2 | C5: YFF | D5: 9 | H5: 96 | J5: =933+24+24+24+24+16+24+24 -> 1093
A6: TOTAL GLOBAL | D6: =SUM(D3:D5) -> 12290 | E6: =D6+H6+I6+K6 -> 12157 | F6: =G6-D6-H6-I6-K6 -> 1343 | G6: 13500 | H6: 408 | I6: =H3-H5 -> -24 | K6: =J3-J5 -> -517 | L6: =D6/G6 -> 0.91037037 | M6: =+E6/G6 -> 0.90051852
A7: GB | B7: Z81 | C7: T2 H | D7: 569 | G7: Gb vildé
B8: Z84 | C8: T2 V | D8: 1137 | F8: =G8-D8-D9-D12+K11 -> 94 | G8: 2500 | I8: =+D8+D9+D12 -> 2510 | J8: Entrant
B9: Z89 | C9: T3 | D9: 1181 | G9: Gb Hénansal | J9: 200 | L9: =+I8/G8 -> 1.004
B10: Z98 | C10: T3 H | D10: 432 | J10: Sortant
B11: YE3 | C11: YFF H | D11: 20 | F11: =G11-D7-D11-D10+K15 -> 479 | G11: 1500 | J11: 96 | K11: =J9-J11 -> 104
B12: YE4 | C12: YFF V | D12: 192 | I12: =+D7+D10+D11 -> 1021 | J12: Entrant | L12: =+I12/G11 -> 0.68066667
A13: TOTAL GLOBAL | D13: =SUM(D7:D12) -> 3531 | E13: =D13+K11+K15 -> 3635 | J13: 24
J14: Sortant
J15: 24 | K15: =J13-J15 -> 0
A16: GELIN | B16: Z88 | C16: T2 | F16: =G17-D19+K21 -> 1885 | G16: Gélin St Sauveur | J16: Entrant
B17: Z96 | C17: T3 | D17: 1776 | G17: 4000 | J17: 288
B18: YE6 | C18: YFF | D18: 339
A19: TOTAL GLOBAL | D19: =SUM(D16:D18) -> 2115 | E19: =D19+K21 -> 2115 | J19: Sortant | L19: =D19/G17 -> 0.52875
J20: 120 | K20: =J17-J20 -> 168
A21: GELIN | B21: Z80 | C21: T2 | D21: 13 | F21: =G22-D23+K24 -> 1126 | G21: Gélin Fougeres | J21: Entrant
B22: Z90 | C22: T3 | D22: 794 | G22: 2000
A23: TOTAL GLOBAL | D23: =SUM(D21:D22) -> 807 | E23: =D23+K24 -> 740 | J23: Sortant
J24: 67 | K24: =J22-J24 -> -67 | L24: =D23/G22 -> 0.4035
A25: CELTIC | H25: Entrant | I25: Différence | J25: Entrant
H26: 360 | J26: 72
B27: Z91 | C27: T2 | D27: 1152 | F27: =G28-D29-H29-I29-K29 -> -118 | G27: Celtic | H27: Sortant | J27: Sortant
B28: YE5 | C28: YFF | D28: 1798 | G28: 7013 | H28: 213 | J28: =111+30 -> 141
A29: TOTAL GLOBAL | D29: =SUM(D27:D28) -> 2950 | E29: =D29+H29+I29+K29 -> 7131 | H29: 4103 | I29: =H26-H28 -> 147 | K29: =+J26-J28 -> -69 | L29: =D29/G28 -> 0.42064737 | M29: =+E29/G28 -> 1.0168259
A32: Et la fromagerie est sur le Site de Hénansal ou je n'ai pas d'info non plus

Sheet S37
A1: Date du 12/08 | E1: Prévision | F1: Différence | G1: Nbre de places MAX | H1: Landerneau | I1: Différence | J1: Créhen/Yff | K1: Différence | L1: CREHEN | M1: CREHEN+LDO
A2: STOCKEUR | B2: DEPOT | C2: TOUR | D2: Nbre de pal | G2: Garnier | H2: Entrant | J2: Entrant
A3: GARNIER | B3: Z93 | C3: T2 | D3: 11619 | H3: 24 | J3: 504
B4: Z97 | C4: T3 | D4: 268 | H4: Sortant | J4: Sortant
B5: YE2 | C5: YFF | D5: 9 | H5: 120 | J5: 567
A6: TOTAL GLOBAL | D6: =SUM(D3:D5) -> 11896 | E6: =D6+H6+I6+K6 -> 12122 | F6: =G6-D6-H6-I6-K6 -> 1378 | G6: 13500 | H6: 385 | I6: =H3-H5 -> -96 | K6: =J3-J5 -> -63 | L6: =D6/G6 -> 0.88118519 | M6: =+E6/G6 -> 0.89792593
A7: GB | B7: Z81 | C7: T2 H | D7: 546 | G7: Gb vildé
B8: Z84 | C8: T2 V | D8: 1238 | F8: =G8-D8-D9-D12+K11 -> -223 | G8: 2500 | I8: =+D8+D9+D12 -> 2741 | J8: Entrant
B9: Z89 | C9: T3 | D9: 1311 | G9: Gb Hénansal | J9: 78 | L9: =+I8/G8 -> 1.0964
B10: Z98 | C10: T3 H | D10: 456 | J10: Sortant
B11: YE3 | C11: YFF H | D11: 20 | F11: =G11-D7-D11-D10+K15 -> 478 | G11: 1500 | J11: 60 | K11: =J9-J11 -> 18
B12: YE4 | C12: YFF V | D12: 192 | I12: =+D7+D10+D11 -> 1022 | J12: Entrant | L12: =+I12/G11 -> 0.68133333
A13: TOTAL GLOBAL | D13: =SUM(D7:D12) -> 3763 | E13: =D13+K11+K15 -> 3781
J14: Sortant
K15: =J13-J15 -> 0
A16: GELIN | B16: Z88 | C16: T2 | F16: =G17-D19+K21 -> 1670 | G16: Gélin St Sauveur | J16: Entrant
B17: Z96 | C17: T3 | D17: 1872 | G17: 4000 | J17: 384
B18: YE6 | C18: YFF | D18: 458
A19: TOTAL GLOBAL | D19: =SUM(D16:D18) -> 2330 | E19: =D19+K21 -> 2330 | J19: Sortant | L19: =D19/G17 -> 0.5825
J20: 144 | K20: =J17-J20 -> 240
A21: GELIN | B21: Z80 | C21: T2 | D21: 13 | F21: =G22-D23+K24 -> 1255 | G21: Gélin Fougeres | J21: Entrant
B22: Z90 | C22: T3 | D22: 732 | G22: 2000
A23: TOTAL GLOBAL | D23: =SUM(D21:D22) -> 745 | E23: =D23+K24 -> 745 | J23: Sortant
K24: =J22-J24 -> 0 | L24: =D23/G22 -> 0.3725
A25: CELTIC | H25: Entrant | I25: Différence | J25: Entrant
H26: 240 | J26: 72
B27: Z91 | C27: T2 | D27: 1122 | F27: =G28-D29-H29-I29-K29 -> 192 | G27: Celtic | H27: Sortant | J27: Sortant
B28: YE5 | C28: YFF | D28: 1759 | G28: 7013 | H28: 246 | J28: 311
A29: TOTAL GLOBAL | D29: =SUM(D27:D28) -> 2881 | E29: =D29+H29+I29+K29 -> 6821 | H29: 4185 | I29: =H26-H28 -> -6 | K29: =+J26-J28 -> -239 | L29: =D29/G28 -> 0.4108085 | M29: =+E29/G28 -> 0.97262227
A32: Et la fromagerie est sur le Site de Hénansal ou je n'ai pas d'info non plus

Sheet S38
A1: Date du 16/9 | E1: Prévision | F1: Différence | G1: Nbre de places MAX | H1: Landerneau | I1: Différence | J1: Créhen/Yff | K1: Différence | L1: CREHEN | M1: CREHEN+LDO
A2: STOCKEUR | B2: DEPOT | C2: TOUR | D2: Nbre de pal | G2: Garnier | H2: Entrant | J2: Entrant
A3: GARNIER | B3: Z93 | C3: T2 | D3: 11487 | H3: 0 | J3: 1080
B4: Z97 | C4: T3 | D4: 268 | H4: Sortant | J4: Sortant
B5: YE2 | C5: YFF | D5: 9 | H5: 96 | J5: =382+568 -> 950
A6: TOTAL GLOBAL | D6: =SUM(D3:D5) -> 11764 | E6: =D6+H6+I6+K6 -> 12087 | F6: =G6-D6-H6-I6-K6 -> 1413 | G6: 13500 | H6: 289 | I6: =H3-H5 -> -96 | K6: =J3-J5 -> 130 | L6: =D6/G6 -> 0.87140741 | M6: =+E6/G6 -> 0.89533333
A7: GB | B7: Z81 | C7: T2 H | D7: 542 | G7: Gb vildé
B8: Z84 | C8: T2 V | D8: 1159 | F8: =G8-D8-D9-D12+K11 -> -411 | G8: 2500 | I8: =+D8+D9+D12 -> 2688 | J8: Entrant
B9: Z89 | C9: T3 | D9: 1337 | G9: Gb Hénansal | J9: 104 | L9: =+I8/G8 -> 1.0752
B10: Z98 | C10: T3 H | D10: 453 | J10: Sortant
B11: YE3 | C11: YFF H | D11: 20 | F11: =G11-D7-D11-D10+K15 -> 485 | G11: 1500 | J11: =72+255 -> 327 | K11: =J9-J11 -> -223
B12: YE4 | C12: YFF V | D12: 192 | I12: =+D7+D10+D11 -> 1015 | J12: Entrant | L12: =+I12/G11 -> 0.67666667
A13: TOTAL GLOBAL | D13: =SUM(D7:D12) -> 3703 | E13: =D13+K11+K15 -> 3480
J14: Sortant
K15: =J13-J15 -> 0
A16: GELIN | B16: Z88 | C16: T2 | F16: =G17-D19+K21 -> 1481 | G16: Gélin St Sauveur | J16: Entrant
B17: Z96 | C17: T3 | D17: 1900 | G17: 4000 | J17: =168+144 -> 312
B18: YE6 | C18: YFF | D18: 619
A19: TOTAL GLOBAL | D19: =SUM(D16:D18) -> 2519 | E19: =D19+K21 -> 2519 | J19: Sortant | L19: =D19/G17 -> 0.62975
J20: =103+72 -> 175 | K20: =J17-J20 -> 137
A21: GELIN | B21: Z80 | C21: T2 | D21: 13 | F21: =G22-D23+K24 -> 1249 | G21: Gélin Fougeres | J21: Entrant
B22: Z90 | C22: T3 | D22: 708 | G22: 2000
A23: TOTAL GLOBAL | D23: =SUM(D21:D22) -> 721 | E23: =D23+K24 -> 691 | J23: Sortant
J24: 30 | K24: =J22-J24 -> -30 | L24: =D23/G22 -> 0.3605
A25: CELTIC | H25: Entrant | I25: Différence | J25: Entrant
H26: 360 | J26: 72
B27: Z91 | C27: T2 | D27: 1075 | F27: =G28-D29-H29-I29-K29 -> 699 | G27: Celtic | H27: Sortant | J27: Sortant
B28: YE5 | C28: YFF | D28: 1534 | G28: 7013 | H28: 472 | J28: =336+71 -> 407
A29: TOTAL GLOBAL | D29: =SUM(D27:D28) -> 2609 | E29: =D29+H29+I29+K29 -> 6314 | H29: 4152 | I29: =H26-H28 -> -112 | K29: =+J26-J28 -> -335 | L29: =D29/G28 -> 0.37202339 | M29: =+E29/G28 -> 0.90032796
A32: Et la fromagerie est sur le Site de Hénansal ou je n'ai pas d'info non plus

Sheet S39
A1: Date du 23/09 | E1: Prévision | F1: Différence | G1: Nbre de places MAX | H1: Landerneau | I1: Différence | J1: Créhen/Yff | K1: Différence | L1: CREHEN | M1: CREHEN+LDO
A2: STOCKEUR | B2: DEPOT | C2: TOUR | D2: Nbre de pal | G2: Garnier | H2: Entrant | J2: Entrant
A3: GARNIER | B3: Z93 | C3: T2 | D3: 11570 | H3: 0 | J3: 1104
B4: Z97 | C4: T3 | D4: 268 | H4: Sortant | J4: Sortant
B5: YE2 | C5: YFF | D5: 9 | H5: 72 | J5: 1187
A6: TOTAL GLOBAL | D6: =SUM(D3:D5) -> 11847 | E6: =D6+H6+I6+K6 -> 11885 | F6: =G6-D6-H6-I6-K6 -> 1615 | G6: 13500 | H6: 193 | I6: =H3-H5 -> -72 | K6: =J3-J5 -> -83 | L6: =D6/G6 -> 0.87755556 | M6: =+E6/G6 -> 0.88037037
A7: GB | B7: Z81 | C7: T2 H | D7: 542 | G7: Gb vildé
B8: Z84 | C8: T2 V | D8: 1063 | F8: =G8-D8-D9-D12+K11 -> -260 | G8: 2500 | I8: =+D8+D9+D12 -> 2527 | J8: Entrant
B9: Z89 | C9: T3 | D9: 1272 | G9: Gb Hénansal | J9: 168 | L9: =+I8/G8 -> 1.0108
B10: Z98 | C10: T3 H | D10: 473 | J10: Sortant
B11: YE3 | C11: YFF H | D11: 20 | F11: =G11-D7-D11-D10+K15 -> 489 | G11: 1500 | J11: 401 | K11: =J9-J11 -> -233
B12: YE4 | C12: YFF V | D12: 192 | I12: =+D7+D10+D11 -> 1035 | J12: Entrant | L12: =+I12/G11 -> 0.69
A13: TOTAL GLOBAL | D13: =SUM(D7:D12) -> 3562 | E13: =D13+K11+K15 -> 3353 | J13: 24
J14: Sortant
K15: =J13-J15 -> 24
A16: GELIN | B16: Z88 | C16: T2 | D16: 0 | F16: =G17-D19+K21 -> 1380 | G16: Gélin St Sauveur | J16: Entrant
B17: Z96 | C17: T3 | D17: 1858 | G17: 4000 | J17: 360
B18: YE6 | C18: YFF | D18: 762
A19: TOTAL GLOBAL | D19: =SUM(D16:D18) -> 2620 | E19: =D19+K21 -> 2620 | J19: Sortant | L19: =D19/G17 -> 0.655
J20: 144 | K20: =J17-J20 -> 216
A21: GELIN | B21: Z80 | C21: T2 | D21: 13 | F21: =G22-D23+K24 -> 1315 | G21: Gélin Fougeres | J21: Entrant
B22: Z90 | C22: T3 | D22: 672 | G22: 2000
A23: TOTAL GLOBAL | D23: =SUM(D21:D22) -> 685 | E23: =D23+K24 -> 685 | J23: Sortant
K24: =J22-J24 -> 0 | L24: =D23/G22 -> 0.3425
A25: CELTIC | H25: Entrant | I25: Différence | J25: Entrant
H26: 260 | J26: 72
B27: Z91 | C27: T2 | D27: 935 | F27: =G28-D29-H29-I29-K29 -> 931 | G27: Celtic | H27: Sortant | J27: Sortant
B28: YE5 | C28: YFF | D28: 1390 | G28: 7013 | H28: 390 | J28: 236
A29: TOTAL GLOBAL | D29: =SUM(D27:D28) -> 2325 | E29: =D29+H29+I29+K29 -> 6082 | H29: 4051 | I29: =H26-H28 -> -130 | K29: =+J26-J28 -> -164 | L29: =D29/G28 -> 0.33152716 | M29: =+E29/G28 -> 0.86724654
A32: Et la fromagerie est sur le Site de Hénansal ou je n'ai pas d'info non plus

Sheet S40
A1: Date du 30/09 | E1: Prévision | F1: Différence | G1: Nbre de places MAX | H1: Landerneau | I1: Différence | J1: Créhen/Yff | K1: Différence | L1: CREHEN | M1: CREHEN+LDO
A2: STOCKEUR | B2: DEPOT | C2: TOUR | D2: Nbre de pal | G2: Garnier | H2: Entrant | J2: Entrant
A3: GARNIER | B3: Z93 | C3: T2 | D3: 11413 | J3: 1224
B4: Z97 | C4: T3 | D4: 210 | H4: Sortant | J4: Sortant
B5: YE2 | C5: YFF | D5: 9 | J5: 1153
A6: TOTAL GLOBAL | D6: =SUM(D3:D5) -> 11632 | E6: =D6+H6+I6+K6 -> 11896 | F6: =G6-D6-H6-I6-K6 -> 1604 | G6: 13500 | H6: 193 | I6: =H3-H5 -> 0 | K6: =J3-J5 -> 71 | L6: =D6/G6 -> 0.86162963 | M6: =+E6/G6 -> 0.88118519
A7: GB | B7: Z81 | C7: T2 H | D7: 569 | G7: Gb vildé
B8: Z84 | C8: T2 V | D8: 941 | F8: =G8-D8-D9-D12+K11 -> -10 | G8: 2500 | I8: =+D8+D9+D12 -> 2258 | J8: Entrant
B9: Z89 | C9: T3 | D9: 1125 | G9: Gb Hénansal | J9: 120 | L9: =+I8/G8 -> 0.9032
B10: Z98 | C10: T3 H | D10: 468 | J10: Sortant
B11: YE3 | C11: YFF H | D11: 20 | F11: =G11-D7-D11-D10+K15 -> 467 | G11: 1500 | J11: 372 | K11: =J9-J11 -> -252
B12: YE4 | C12: YFF V | D12: 192 | I12: =+D7+D10+D11 -> 1057 | J12: Entrant | L12: =+I12/G11 -> 0.70466667
A13: TOTAL GLOBAL | D13: =SUM(D7:D12) -> 3315 | E13: =D13+K11+K15 -> 3087 | J13: 24
J14: Sortant
K15: =J13-J15 -> 24
A16: GELIN | B16: Z88 | C16: T2 | F16: =G17-D19+K21 -> 1148 | G16: Gélin St Sauveur | J16: Entrant
B17: Z96 | C17: T3 | D17: 2018 | G17: 4000 | J17: 288
B18: YE6 | C18: YFF | D18: 834
A19: TOTAL GLOBAL | D19: =SUM(D16:D18) -> 2852 | E19: =D19+K21 -> 2852 | J19: Sortant | L19: =D19/G17 -> 0.713
J20: 261 | K20: =J17-J20 -> 27
A21: GELIN | B21: Z80 | C21: T2 | D21: 13 | F21: =G22-D23+K24 -> 1315 | G21: Gélin Fougeres | J21: Entrant
B22: Z90 | C22: T3 | D22: 672 | G22: 2000
A23: TOTAL GLOBAL | D23: =SUM(D21:D22) -> 685 | E23: =D23+K24 -> 685 | J23: Sortant
K24: =J22-J24 -> 0 | L24: =D23/G22 -> 0.3425
A25: CELTIC | H25: Entrant | I25: Différence | J25: Entrant
J26: 72
B27: Z91 | C27: T2 | D27: 817 | F27: =G28-D29-H29-I29-K29 -> 908 | G27: Celtic | H27: Sortant | J27: Sortant
B28: YE5 | C28: YFF | D28: 1285 | G28: 7013 | J28: 120
A29: TOTAL GLOBAL | D29: =SUM(D27:D28) -> 2102 | E29: =D29+H29+I29+K29 -> 6105 | H29: 4051 | I29: =H26-H28 -> 0 | K29: =+J26-J28 -> -48 | L29: =D29/G28 -> 0.29972907 | M29: =+E29/G28 -> 0.87052617
A32: Et la fromagerie est sur le Site de Hénansal ou je n'ai pas d'info non plus

Sheet S41
A1: Date du 07/10 | E1: Prévision | F1: Différence | G1: Nbre de places MAX | H1: Landerneau | I1: Différence | J1: Créhen/Yff | K1: Différence | L1: CREHEN | M1: CREHEN+LDO
A2: STOCKEUR | B2: DEPOT | C2: TOUR | D2: Nbre de pal | G2: Garnier | H2: Entrant | J2: Entrant
A3: GARNIER | B3: Z93 | C3: T2 | D3: 11646 | H3: 70 | J3: 1152
B4: Z97 | C4: T3 | D4: 200 | H4: Sortant | J4: Sortant
B5: YE2 | C5: YFF | D5: 9 | J5: 1211
A6: TOTAL GLOBAL | D6: =SUM(D3:D5) -> 11855 | E6: =D6+H6+I6+K6 -> 11987 | F6: =G6-D6-H6-I6-K6 -> 1513 | G6: 13500 | H6: 121 | I6: =H3-H5 -> 70 | K6: =J3-J5 -> -59 | L6: =D6/G6 -> 0.87814815 | M6: =+E6/G6 -> 0.88792593
A7: GB | B7: Z81 | C7: T2 H | D7: 570 | G7: Gb vildé
B8: Z84 | C8: T2 V | D8: 983 | F8: =G8-D8-D9-D12+K11 -> 183 | G8: 2500 | I8: =+D8+D9+D12 -> 2012 | J8: Entrant
B9: Z89 | C9: T3 | D9: 977 | G9: Gb Hénansal | J9: 126 | L9: =+I8/G8 -> 0.8048
B10: Z98 | C10: T3 H | D10: 468 | J10: Sortant
B11: YE3 | C11: YFF H | D11: 20 | F11: =G11-D7-D11-D10+K15 -> 441 | G11: 1500 | J11: 431 | K11: =J9-J11 -> -305
B12: YE4 | C12: YFF V | D12: 52 | I12: =+D7+D10+D11 -> 1058 | J12: Entrant | L12: =+I12/G11 -> 0.70533333
A13: TOTAL GLOBAL | D13: =SUM(D7:D12) -> 3070 | E13: =D13+K11+K15 -> 2764 | J13: 24
J14: Sortant
J15: 25 | K15: =J13-J15 -> -1
A16: GELIN | B16: Z88 | C16: T2 | F16: =G17-D19+K21 -> 1077 | G16: Gélin St Sauveur | J16: Entrant
B17: Z96 | C17: T3 | D17: 2002 | G17: 4000 | J17: 192
B18: YE6 | C18: YFF | D18: 921
A19: TOTAL GLOBAL | D19: =SUM(D16:D18) -> 2923 | E19: =D19+K21 -> 2923 | J19: Sortant | L19: =D19/G17 -> 0.73075
J20: 192 | K20: =J17-J20 -> 0
A21: GELIN | B21: Z80 | C21: T2 | D21: 13 | F21: =G22-D23+K24 -> 1307 | G21: Gélin Fougeres | J21: Entrant
B22: Z90 | C22: T3 | D22: 661 | G22: 2000
A23: TOTAL GLOBAL | D23: =SUM(D21:D22) -> 674 | E23: =D23+K24 -> 655 | J23: Sortant
J24: 19 | K24: =J22-J24 -> -19 | L24: =D23/G22 -> 0.337
A25: CELTIC | H25: Entrant | I25: Différence | J25: Entrant
H26: 456 | J26: 72
B27: Z91 | C27: T2 | D27: 722 | F27: =G28-D29-H29-I29-K29 -> 846 | G27: Celtic | H27: Sortant | J27: Sortant
B28: YE5 | C28: YFF | D28: 1332 | G28: 7013 | H28: 270 | J28: 222
A29: TOTAL GLOBAL | D29: =SUM(D27:D28) -> 2054 | E29: =D29+H29+I29+K29 -> 6167 | H29: 4077 | I29: =H26-H28 -> 186 | K29: =+J26-J28 -> -150 | L29: =D29/G28 -> 0.29288464 | M29: =+E29/G28 -> 0.87936689
A32: Et la fromagerie est sur le Site de Hénansal ou je n'ai pas d'info non plus

Sheet S42
A1: Date du 14/10 | E1: Prévision | F1: Différence | G1: Nbre de places MAX | H1: Landerneau | I1: Différence | J1: Créhen/Yff | K1: Différence | L1: CREHEN | M1: CREHEN+LDO
A2: STOCKEUR | B2: DEPOT | C2: TOUR | D2: Nbre de pal | G2: Garnier | H2: Entrant | J2: Entrant
A3: GARNIER | B3: Z93 | C3: T2 | D3: 11505 | H3: 0 | J3: 1224
B4: Z97 | C4: T3 | D4: 200 | H4: Sortant | J4: Sortant
B5: YE2 | C5: YFF | D5: 9 | H5: 48 | J5: 686
A6: TOTAL GLOBAL | D6: =SUM(D3:D5) -> 11714 | E6: =D6+H6+I6+K6 -> 12204 | F6: =G6-D6-H6-I6-K6 -> 1296 | G6: 13500 | I6: =H3-H5 -> -48 | K6: =J3-J5 -> 538 | L6: =D6/G6 -> 0.8677037 | M6: =+E6/G6 -> 0.904
A7: GB | B7: Z81 | C7: T2 H | D7: 565 | G7: Gb vildé
B8: Z84 | C8: T2 V | D8: 1000 | F8: =G8-D8-D9-D12+K11 -> 724 | G8: 2500 | I8: =+D8+D9+D12 -> 1818 | J8: Entrant
B9: Z89 | C9: T3 | D9: 766 | G9: Gb Hénansal | J9: 144 | L9: =+I8/G8 -> 0.7272
B10: Z98 | C10: T3 H | D10: 477 | J10: Sortant
B11: YE3 | C11: YFF H | D11: 20 | F11: =G11-D7-D11-D10+K15 -> 434 | G11: 1500 | J11: 102 | K11: =J9-J11 -> 42
B12: YE4 | C12: YFF V | D12: 52 | I12: =+D7+D10+D11 -> 1062 | J12: Entrant | L12: =+I12/G11 -> 0.708
A13: TOTAL GLOBAL | D13: =SUM(D7:D12) -> 2880 | E13: =D13+K11+K15 -> 2918 | J13: 24
J14: Sortant
J15: 28 | K15: =J13-J15 -> -4
A16: GELIN | B16: Z88 | C16: T2 | F16: =G17-D19+K21 -> 1089 | G16: Gélin St Sauveur | J16: Entrant
B17: Z96 | C17: T3 | D17: 2031 | G17: 4000 | J17: 169
B18: YE6 | C18: YFF | D18: 880
A19: TOTAL GLOBAL | D19: =SUM(D16:D18) -> 2911 | E19: =D19+K21 -> 2911 | J19: Sortant | L19: =D19/G17 -> 0.72775
J20: 343 | K20: =J17-J20 -> -174
A21: GELIN | B21: Z80 | C21: T2 | D21: 13 | F21: =G22-D23+K24 -> 1342 | G21: Gélin Fougeres | J21: Entrant
B22: Z90 | C22: T3 | D22: 645 | G22: 2000
A23: TOTAL GLOBAL | D23: =SUM(D21:D22) -> 658 | E23: =D23+K24 -> 658 | J23: Sortant
J24: 0 | K24: =J22-J24 -> 0 | L24: =D23/G22 -> 0.329
A25: CELTIC | H25: Entrant | I25: Différence | J25: Entrant
H26: 180 | J26: 36
B27: Z91 | C27: T2 | D27: 548 | F27: =G28-D29-H29-I29-K29 -> 1010 | G27: Celtic | H27: Sortant | J27: Sortant
B28: YE5 | C28: YFF | D28: 1341 | G28: 7013 | H28: 222
A29: TOTAL GLOBAL | D29: =SUM(D27:D28) -> 1889 | E29: =D29+H29+I29+K29 -> 6003 | H29: 4120 | I29: =H26-H28 -> -42 | J29: 200 | K29: =+J26-J28 -> 36 | L29: =D29/G28 -> 0.26935691 | M29: =+E29/G28 -> 0.85598175
A32: Et la fromagerie est sur le Site de Hénansal ou je n'ai pas d'info non plus

Sheet S43
A1: Date du 12/08 | E1: Prévision | F1: Différence | G1: Nbre de places MAX | H1: Landerneau | I1: Différence | J1: Créhen/Yff | K1: Différence | L1: CREHEN | M1: CREHEN+LDO
A2: STOCKEUR | B2: DEPOT | C2: TOUR | D2: Nbre de pal | G2: Garnier | H2: Entrant | J2: Entrant
A3: GARNIER | B3: Z93 | C3: T2 | D3: 11982 | J3: 1224
B4: Z97 | C4: T3 | D4: 202 | H4: Sortant | J4: Sortant
B5: YE2 | C5: YFF | D5: 9 | J5: =884+264 -> 1148
A6: TOTAL GLOBAL | D6: =SUM(D3:D5) -> 12193 | E6: =D6+H6+I6+K6 -> 12389 | F6: =G6-D6-H6-I6-K6 -> 1111 | G6: 13500 | H6: 120 | I6: =H3-H5 -> 0 | K6: =J3-J5 -> 76 | L6: =D6/G6 -> 0.90318519 | M6: =+E6/G6 -> 0.9177037
A7: GB | B7: Z81 | C7: T2 H | D7: 578 | G7: Gb vildé
B8: Z84 | C8: T2 V | D8: 712 | F8: =G8-D8-D9-D12+K11 -> 1025 | G8: 2500 | I8: =+D8+D9+D12 -> 1506 | J8: Entrant
B9: Z89 | C9: T3 | D9: 770 | G9: Gb Hénansal | J9: 216 | L9: =+I8/G8 -> 0.6024
B10: Z98 | C10: T3 H | D10: 485 | J10: Sortant
B11: YE3 | C11: YFF H | D11: 20 | F11: =G11-D7-D11-D10+K15 -> 371 | G11: 1500 | J11: =144+41 -> 185 | K11: =J9-J11 -> 31
B12: YE4 | C12: YFF V | D12: 24 | I12: =+D7+D10+D11 -> 1083 | J12: Entrant | L12: =+I12/G11 -> 0.722
A13: TOTAL GLOBAL | D13: =SUM(D7:D12) -> 2589 | E13: =D13+K11+K15 -> 2574 | J13: 24
J14: Sortant
J15: =46+24 -> 70 | K15: =J13-J15 -> -46
A16: GELIN | B16: Z88 | C16: T2 | F16: =G17-D19+K21 -> -145 | G16: Gélin St Sauveur | J16: Entrant
B17: Z96 | C17: T3 | D17: 1895 | G17: 2500 | J17: 288
B18: YE6 | C18: YFF | D18: 750
A19: TOTAL GLOBAL | D19: =SUM(D16:D18) -> 2645 | E19: =D19+K21 -> 2645 | J19: Sortant | L19: =D19/G17 -> 1.058
J20: =204+120 -> 324 | K20: =J17-J20 -> -36
A21: GELIN | B21: Z80 | C21: T2 | D21: 13 | F21: =G22-D23+K24 -> 1342 | G21: Gélin Fougeres | J21: Entrant
B22: Z90 | C22: T3 | D22: 645 | G22: 2000
A23: TOTAL GLOBAL | D23: =SUM(D21:D22) -> 658 | E23: =D23+K24 -> 658 | J23: Sortant
J24: 0 | K24: =J22-J24 -> 0 | L24: =D23/G22 -> 0.329
A25: CELTIC | H25: Entrant | I25: Différence | J25: Entrant
B27: Z91 | C27: T2 | D27: 457 | F27: =G28-D29-H29-I29-K29 -> 1373 | G27: Celtic | H27: Sortant | J27: Sortant
B28: YE5 | C28: YFF | D28: 1244 | G28: 7013 | J28: =168+13 -> 181
A29: TOTAL GLOBAL | D29: =SUM(D27:D28) -> 1701 | E29: =D29+H29+I29+K29 -> 5640 | H29: 4120 | I29: =H26-H28 -> 0 | K29: =+J26-J28 -> -181 | L29: =D29/G28 -> 0.24254955 | M29: =+E29/G28 -> 0.80422073
A32: Et la fromagerie est sur le Site de Hénansal ou je n'ai pas d'info non plus

Sheet s44
A1: Date du 12/08 | E1: Prévision | F1: Différence | G1: Nbre de places MAX | H1: Landerneau | I1: Différence | J1: Créhen/Yff | K1: Différence | L1: CREHEN | M1: CREHEN+LDO
A2: STOCKEUR | B2: DEPOT | C2: TOUR | D2: Nbre de pal | G2: Garnier | H2: Entrant | J2: Entrant
A3: GARNIER | B3: Z93 | C3: T2 | D3: 12159 | J3: 936
B4: Z97 | C4: T3 | D4: 200 | H4: Sortant | J4: Sortant
B5: YE2 | C5: YFF | D5: 9 | J5: =400+288 -> 688
A6: TOTAL GLOBAL | D6: =SUM(D3:D5) -> 12368 | E6: =D6+H6+I6+K6 -> 12616 | F6: =G6-D6-H6-I6-K6 -> 884 | G6: 13500 | I6: =H3-H5 -> 0 | K6: =J3-J5 -> 248 | L6: =D6/G6 -> 0.91614815 | M6: =+E6/G6 -> 0.93451852
A7: GB | B7: Z81 | C7: T2 H | D7: 536 | G7: Gb vildé
B8: Z84 | C8: T2 V | D8: 676 | F8: =G8-D8-D9-D12+K11 -> 685 | G8: 2500 | I8: 1506 | J8: Entrant
B9: Z89 | C9: T3 | D9: 953 | G9: Gb Hénansal | J9: 192 | L9: =+I8/G8 -> 0.6024
B10: Z98 | C10: T3 H | D10: 501 | J10: Sortant
B11: YE3 | C11: YFF H | D11: 20 | F11: =G11-D7-D11-D10+K15 -> 443 | G11: 1500 | J11: =306+48 -> 354 | K11: =J9-J11 -> -162
B12: YE4 | C12: YFF V | D12: 24 | I12: 1083 | J12: Entrant | L12: =+I12/G11 -> 0.722
A13: TOTAL GLOBAL | D13: =SUM(D7:D12) -> 2710 | E13: =D13+K11+K15 -> 2548
J14: Sortant
K15: =J13-J15 -> 0
A16: GELIN | B16: Z88 | C16: T2 | F16: =G17-D19+K21 -> 1373 | G16: Gélin St Sauveur | J16: Entrant
B17: Z96 | C17: T3 | D17: 1711 | G17: 4000 | J17: 0
B18: YE6 | C18: YFF | D18: 916
A19: TOTAL GLOBAL | D19: =SUM(D16:D18) -> 2627 | E19: =D19+K21 -> 2627 | J19: Sortant | L19: =D19/G17 -> 0.65675
J20: =48+48 -> 96 | K20: =J17-J20 -> -96
A21: GELIN | B21: Z80 | C21: T2 | D21: 13 | F21: =G22-D23+K24 -> 1371 | G21: Gélin Fougeres | J21: Entrant
B22: Z90 | C22: T3 | D22: 616 | G22: 2000 | J22: 0
A23: TOTAL GLOBAL | D23: =SUM(D21:D22) -> 629 | E23: =D23+K24 -> 629 | J23: Sortant
J24: 0 | K24: =J22-J24 -> 0 | L24: =D23/G22 -> 0.3145
A25: CELTIC | H25: Entrant | I25: Différence | J25: Entrant
J26: 0
B27: Z91 | C27: T2 | D27: 420 | F27: =G28-D29-H29-I29-K29 -> 5613 | G27: Celtic | H27: Sortant | J27: Sortant
B28: YE5 | C28: YFF | D28: 1076 | G28: 7013 | J28: 96
A29: TOTAL GLOBAL | D29: =SUM(D27:D28) -> 1496 | E29: =D29+H29+I29+K29 -> 1400 | I29: =H26-H28 -> 0 | K29: =+J26-J28 -> -96 | L29: =D29/G28 -> 0.21331812 | M29: =+E29/G28 -> 0.19962926
A32: Et la fromagerie est sur le Site de Hénansal ou je n'ai pas d'info non plus

Sheet S45
A1: Date du 04/11 | E1: Prévision | F1: Différence | G1: Nbre de places MAX | H1: Landerneau | I1: Différence | J1: Créhen/Yff | K1: Différence | L1: CREHEN | M1: CREHEN+LDO
A2: STOCKEUR | B2: DEPOT | C2: TOUR | D2: Nbre de pal | G2: Garnier | H2: Entrant | J2: Entrant
A3: GARNIER | B3: Z93 | C3: T2 | D3: 12247 | H3: 312 | J3: 1104
B4: Z97 | C4: T3 | D4: 199 | H4: Sortant | J4: Sortant
B5: YE2 | C5: YFF | D5: 9 | H5: 312 | J5: =425+633 -> 1058
A6: TOTAL GLOBAL | D6: =SUM(D3:D5) -> 12455 | E6: =D6+H6+I6+K6 -> 12731 | F6: =G6-D6-H6-I6-K6 -> 769 | G6: 13500 | H6: 230 | I6: =H3-H5 -> 0 | K6: =J3-J5 -> 46 | L6: =D6/G6 -> 0.92259259 | M6: =+E6/G6 -> 0.94303704
A7: GB | B7: Z81 | C7: T2 H | D7: 536 | G7: Gb vildé
B8: Z84 | C8: T2 V | D8: 748 | F8: =G8-D8-D9-D12+K11 -> 993 | G8: 2500 | I8: =+D8+D9+D12 -> 1508 | J8: Entrant
B9: Z89 | C9: T3 | D9: 760 | G9: Gb Hénansal | J9: 264 | L9: =+I8/G8 -> 0.6032
B10: Z98 | C10: T3 H | D10: 501 | J10: Sortant
B11: YE3 | C11: YFF H | D11: 20 | F11: =G11-D7-D11-D10+K15 -> 443 | G11: 1500 | J11: =43+220 -> 263 | K11: =J9-J11 -> 1
B12: YE4 | C12: YFF V | D12: 0 | I12: =+D7+D10+D11 -> 1057 | J12: Entrant | L12: =+I12/G11 -> 0.70466667
A13: TOTAL GLOBAL | D13: =SUM(D7:D12) -> 2565 | E13: =D13+K11+K15 -> 2566
J14: Sortant
K15: =J13-J15 -> 0
A16: GELIN | B16: Z88 | C16: T2 | F16: =G17-D19+K21 -> -262 | G16: Gélin St Sauveur | J16: Entrant
B17: Z96 | C17: T3 | D17: 1635 | G17: 2500 | J17: =144+240 -> 384
B18: YE6 | C18: YFF | D18: 1127
A19: TOTAL GLOBAL | D19: =SUM(D16:D18) -> 2762 | E19: =D19+K21 -> 2762 | J19: Sortant | L19: =D19/G17 -> 1.1048
J20: =57+144 -> 201 | K20: =J17-J20 -> 183
A21: GELIN | B21: Z80 | C21: T2 | D21: 13 | F21: =G22-D23+K24 -> 1371 | G21: Gélin Fougeres | J21: Entrant
B22: Z90 | C22: T3 | D22: 616 | G22: 2000
A23: TOTAL GLOBAL | D23: =SUM(D21:D22) -> 629 | E23: =D23+K24 -> 629 | J23: Sortant
K24: =J22-J24 -> 0 | L24: =D23/G22 -> 0.3145
A25: CELTIC | H25: Entrant | I25: Différence | J25: Entrant
H26: 96
B27: Z91 | C27: T2 | D27: 396 | F27: =G28-D29-H29-I29-K29 -> 1690 | G27: Celtic | H27: Sortant | J27: Sortant
B28: YE5 | C28: YFF | D28: 1127 | G28: 7013 | H28: 24 | J28: 96
A29: TOTAL GLOBAL | D29: =SUM(D27:D28) -> 1523 | E29: =D29+H29+I29+K29 -> 5323 | H29: 3824 | I29: =H26-H28 -> 72 | K29: =+J26-J28 -> -96 | L29: =D29/G28 -> 0.21716812 | M29: =+E29/G28 -> 0.75901896
A32: Et la fromagerie est sur le Site de Hénansal ou je n'ai pas d'info non plus

Sheet S46
A1: Date du 12/08 | E1: Prévision | F1: Différence | G1: Nbre de places MAX | H1: Landerneau | I1: Différence | J1: Créhen/Yff | K1: Différence | L1: CREHEN | M1: CREHEN+LDO
A2: STOCKEUR | B2: DEPOT | C2: TOUR | D2: Nbre de pal | G2: Garnier | H2: Entrant | J2: Entrant
A3: GARNIER | B3: Z93 | C3: T2 | D3: 12177 | J3: 864
B4: Z97 | C4: T3 | D4: 144 | H4: Sortant | J4: Sortant
B5: YE2 | C5: YFF | D5: 9 | J5: =176+896 -> 1072
A6: TOTAL GLOBAL | D6: =SUM(D3:D5) -> 12330 | E6: =D6+H6+I6+K6 -> 12352 | F6: =G6-D6-H6-I6-K6 -> 1148 | G6: 13500 | H6: 230 | I6: =H3-H5 -> 0 | K6: =J3-J5 -> -208 | L6: =D6/G6 -> 0.91333333 | M6: =+E6/G6 -> 0.91496296
A7: GB | B7: Z81 | C7: T2 H | D7: 577 | G7: Gb vildé
B8: Z84 | C8: T2 V | D8: 832 | F8: =G8-D8-D9-D12+K11 -> 1289 | G8: 2500 | I8: =+D8+D9+D12 -> 1499 | J8: Entrant
B9: Z89 | C9: T3 | D9: 643 | G9: Gb Hénansal | J9: =240+48 -> 288 | L9: =+I8/G8 -> 0.5996
B10: Z98 | C10: T3 H | D10: 500 | J10: Sortant
B11: YE3 | C11: YFF H | D11: 20 | F11: =G11-D7-D11-D10+K15 -> 379 | G11: 1500 | K11: =J9-J11 -> 288
B12: YE4 | C12: YFF V | D12: 24 | I12: =+D7+D10+D11 -> 1097 | J12: Entrant | L12: =+I12/G11 -> 0.73133333
A13: TOTAL GLOBAL | D13: =SUM(D7:D12) -> 2596 | E13: =D13+K11+K15 -> 2860
J14: Sortant
J15: 24 | K15: =J13-J15 -> -24
A16: GELIN | B16: Z88 | C16: T2 | D16: 0 | F16: =G17-D19+K21 -> -488 | G16: Gélin St Sauveur | J16: Entrant
B17: Z96 | C17: T3 | D17: 1669 | G17: 2500 | J17: 96
B18: YE6 | C18: YFF | D18: 1319
A19: TOTAL GLOBAL | D19: =SUM(D16:D18) -> 2988 | E19: =D19+K21 -> 2988 | J19: Sortant | L19: =D19/G17 -> 1.1952
J20: =194+384 -> 578 | K20: =J17-J20 -> -482
A21: GELIN | B21: Z80 | C21: T2 | D21: 13 | F21: =G22-D23+K24 -> 1371 | G21: Gélin Fougeres | J21: Entrant
B22: Z90 | C22: T3 | D22: 616 | G22: 2000
A23: TOTAL GLOBAL | D23: =SUM(D21:D22) -> 629 | E23: =D23+K24 -> 629 | J23: Sortant
K24: =J22-J24 -> 0 | L24: =D23/G22 -> 0.3145
A25: CELTIC | H25: Entrant | I25: Différence | J25: Entrant
J26: 168
B27: Z91 | C27: T2 | D27: 396 | F27: =G28-D29-H29-I29-K29 -> 1868 | G27: Celtic | H27: Sortant | J27: Sortant
B28: YE5 | C28: YFF | D28: 907 | G28: 7013 | J28: =120+6 -> 126
A29: TOTAL GLOBAL | D29: =SUM(D27:D28) -> 1303 | E29: =D29+H29+I29+K29 -> 5145 | H29: 3800 | I29: =H26-H28 -> 0 | K29: =+J26-J28 -> 42 | L29: =D29/G28 -> 0.1857978 | M29: =+E29/G28 -> 0.73363753
A32: Et la fromagerie est sur le Site de Hénansal ou je n'ai pas d'info non plus

Sheet S47
A1: Date du 18/11 | E1: Prévision | F1: Différence | G1: Nbre de places MAX | H1: Landerneau | I1: Différence | J1: Créhen/Yff | K1: Différence | L1: CREHEN | M1: CREHEN+LDO
A2: STOCKEUR | B2: DEPOT | C2: TOUR | D2: Nbre de pal | G2: Garnier | H2: Entrant | J2: Entrant
A3: GARNIER | B3: Z93 | C3: T2 | D3: 11724 | H3: 120 | J3: 648
B4: Z97 | C4: T3 | D4: 143 | H4: Sortant | J4: Sortant
B5: YE2 | C5: YFF | D5: 9 | H5: 96 | J5: =17+658 -> 675
A6: TOTAL GLOBAL | D6: =SUM(D3:D5) -> 11876 | E6: =D6+H6+I6+K6 -> 12206 | F6: =G6-D6-H6-I6-K6 -> 1294 | G6: 13500 | H6: 333 | I6: =H3-H5 -> 24 | K6: =J3-J5 -> -27 | L6: =D6/G6 -> 0.8797037 | M6: =+E6/G6 -> 0.90414815
A7: GB | B7: Z81 | C7: T2 H | D7: 553 | F7: =G8-E9 -> 421 | G7: Gb vildé
B8: Z84 | C8: T2 V | D8: 878 | G8: 2500 | I8: =+D8+D9+D12 -> 1719 | J8: Entrant
B9: Z89 | C9: T3 | D9: 721 | E9: =D8+D9+D12+K11 -> 2079 | G9: Gb Hénansal | J9: =144+216 -> 360 | L9: =+I8/G8 -> 0.6876
B10: Z98 | C10: T3 H | D10: 500 | J10: Sortant
B11: YE3 | C11: YFF H | D11: 20 | F11: =G11-E12 -> 403 | G11: 1500 | K11: =J9-J11 -> 360
B12: YE4 | C12: YFF V | D12: 120 | E12: =D7+D10+D11+K15 -> 1097 | I12: =+D7+D10+D11 -> 1073 | J12: Entrant | L12: =+I12/G11 -> 0.71533333
A13: TOTAL GLOBAL | D13: =SUM(D7:D12) -> 2792 | J13: 48
J14: Sortant
J15: 24 | K15: =J13-J15 -> 24
A16: GELIN | B16: Z88 | C16: T2 | F16: =G17-D19+K21 -> -247 | G16: Gélin St Sauveur | J16: Entrant
B17: Z96 | C17: T3 | D17: 1547 | G17: 2500 | J17: 120
B18: YE6 | C18: YFF | D18: 1200
A19: TOTAL GLOBAL | D19: =SUM(D16:D18) -> 2747 | E19: =D19+K21 -> 2747 | J19: Sortant | L19: =D19/G17 -> 1.0988
J20: =42+168 -> 210 | K20: =J17-J20 -> -90
A21: GELIN | B21: Z80 | C21: T2 | D21: 13 | F21: =G22-D23+K24 -> 1371 | G21: Gélin Fougeres | J21: Entrant
B22: Z90 | C22: T3 | D22: 616 | G22: 2000
A23: TOTAL GLOBAL | D23: =SUM(D21:D22) -> 629 | E23: =D23+K24 -> 629 | J23: Sortant
K24: =J22-J24 -> 0 | L24: =D23/G22 -> 0.3145
A25: CELTIC | H25: Entrant | I25: Différence | J25: Entrant
H26: 336 | J26: 72
B27: Z91 | C27: T2 | D27: 396 | F27: =G28-D29-H29-I29-K29 -> 1587 | G27: Celtic | H27: Sortant | J27: Sortant
B28: YE5 | C28: YFF | D28: 1051 | G28: 7013 | H28: 290 | J28: 24
A29: TOTAL GLOBAL | D29: =SUM(D27:D28) -> 1447 | E29: =D29+H29+I29+K29 -> 5426 | H29: 3885 | I29: =H26-H28 -> 46 | K29: =+J26-J28 -> 48 | L29: =D29/G28 -> 0.2063311 | M29: =+E29/G28 -> 0.77370597
F30: =SUM(F6:F27) -> 4829
F31: =F30-F21-F27 -> 1871
A32: Et la fromagerie est sur le Site de Hénansal ou je n'ai pas d'info non plus

Sheet S48
A1: Date du 12/08 | E1: Prévision | F1: Différence | G1: Nbre de places MAX | H1: Landerneau | I1: Différence | J1: Créhen/Yff | K1: Différence | L1: CREHEN | M1: CREHEN+LDO
A2: STOCKEUR | B2: DEPOT | C2: TOUR | D2: Nbre de pal | G2: Garnier | H2: Entrant | J2: Entrant
A3: GARNIER | B3: Z93 | C3: T2 | D3: 11716 | H3: 240 | J3: 1296
B4: Z97 | C4: T3 | D4: 143 | H4: Sortant | J4: Sortant
B5: YE2 | C5: YFF | D5: 9 | H5: 24 | J5: =514+726 -> 1240
A6: TOTAL GLOBAL | D6: =SUM(D3:D5) -> 11868 | E6: =D6+H6+I6+K6 -> 12476 | F6: =G6-D6-H6-I6-K6 -> 1024 | G6: 13500 | H6: 336 | I6: =H3-H5 -> 216 | K6: =J3-J5 -> 56 | L6: =D6/G6 -> 0.87911111 | M6: =+E6/G6 -> 0.92414815
A7: GB | B7: Z81 | C7: T2 H | D7: 530 | G7: Gb vildé
B8: Z84 | C8: T2 V | D8: 1022 | F8: =G8-D8-D9-D12+K11 -> 285 | G8: 2500 | I8: =+D8+D9+D12 -> 2082 | J8: Entrant
B9: Z89 | C9: T3 | D9: 825 | G9: Gb Hénansal | J9: 278 | L9: =+I8/G8 -> 0.8328
B10: Z98 | C10: T3 H | D10: 53 | J10: Sortant
B11: YE3 | C11: YFF H | D11: 20 | F11: =G11-D7-D11-D10+K15 -> 897 | G11: 1500 | J11: 411 | K11: =J9-J11 -> -133
B12: YE4 | C12: YFF V | D12: 235 | I12: =+D7+D10+D11 -> 603 | J12: Entrant | L12: =+I12/G11 -> 0.402
A13: TOTAL GLOBAL | D13: =SUM(D7:D12) -> 2685 | E13: =D13+K11+K15 -> 2552
J14: Sortant
K15: =J13-J15 -> 0
A16: GELIN | B16: Z88 | C16: T2 | F16: =G17-D19+K21 -> -119 | G16: Gélin St Sauveur | J16: Entrant
B17: Z96 | C17: T3 | D17: 1523 | G17: 2500 | J17: 168
B18: YE6 | C18: YFF | D18: 1096
A19: TOTAL GLOBAL | D19: =SUM(D16:D18) -> 2619 | E19: =D19+K21 -> 2619 | J19: Sortant | L19: =D19/G17 -> 1.0476
J20: 165 | K20: =J17-J20 -> 3
A21: GELIN | B21: Z80 | C21: T2 | D21: 13 | F21: =G22-D23+K24 -> 1371 | G21: Gélin Fougeres | J21: Entrant
B22: Z90 | C22: T3 | D22: 616 | G22: 2000
A23: TOTAL GLOBAL | D23: =SUM(D21:D22) -> 629 | E23: =D23+K24 -> 629 | J23: Sortant
K24: =J22-J24 -> 0 | L24: =D23/G22 -> 0.3145
A25: CELTIC | H25: Entrant | I25: Différence | J25: Entrant
H26: 234
B27: Z91 | C27: T2 | D27: 396 | F27: =G28-D29-H29-I29-K29 -> 2106 | G27: Celtic | H27: Sortant | J27: Sortant
B28: YE5 | C28: YFF | D28: 1125 | G28: 7013 | H28: 676 | J28: 48
A29: TOTAL GLOBAL | D29: =SUM(D27:D28) -> 1521 | E29: =D29+H29+I29+K29 -> 4907 | H29: 3876 | I29: =H26-H28 -> -442 | K29: =+J26-J28 -> -48 | L29: =D29/G28 -> 0.21688293 | M29: =+E29/G28 -> 0.69970056
A32: Et la fromagerie est sur le Site de Hénansal ou je n'ai pas d'info non plus

Sheet S49
A1: Date du 12/08 | E1: Prévision | F1: Différence | G1: Nbre de places MAX | H1: Landerneau | I1: Différence | J1: Créhen/Yff | K1: Différence | L1: CREHEN | M1: CREHEN+LDO
A2: STOCKEUR | B2: DEPOT | C2: TOUR | D2: Nbre de pal | G2: Garnier | H2: Entrant | J2: Entrant
A3: GARNIER | B3: Z93 | C3: T2
B4: Z97 | C4: T3 | H4: Sortant | J4: Sortant
B5: YE2 | C5: YFF
A6: TOTAL GLOBAL | D6: =SUM(D3:D5) -> 0 | E6: =D6+H6+I6+K6 -> 0 | F6: =G6-D6-H6-I6-K6 -> 13500 | G6: 13500 | I6: =H3-H5 -> 0 | K6: =J3-J5 -> 0 | L6: =D6/G6 -> 0 | M6: =+E6/G6 -> 0
A7: GB | B7: Z81 | C7: T2 H | G7: Gb vildé
B8: Z84 | C8: T2 V | F8: =G8-D8-D9-D12+K11 -> 2500 | G8: 2500 | I8: =+D8+D9+D12 -> 0 | J8: Entrant
B9: Z89 | C9: T3 | G9: Gb Hénansal | L9: =+I8/G8 -> 0
B10: Z98 | C10: T3 H | J10: Sortant
B11: YE3 | C11: YFF H | F11: =G11-D7-D11-D10+K15 -> 1500 | G11: 1500 | K11: =J9-J11 -> 0
B12: YE4 | C12: YFF V | I12: =+D7+D10+D11 -> 0 | J12: Entrant | L12: =+I12/G11 -> 0
A13: TOTAL GLOBAL | D13: =SUM(D7:D12) -> 0 | E13: =D13+K11+K15 -> 0
J14: Sortant
K15: =J13-J15 -> 0
A16: GELIN | B16: Z88 | C16: T2 | F16: =G17-D19+K21 -> 2500 | G16: Gélin St Sauveur | J16: Entrant
B17: Z96 | C17: T3 | G17: 2500
B18: YE6 | C18: YFF
A19: TOTAL GLOBAL | D19: =SUM(D16:D18) -> 0 | E19: =D19+K21 -> 0 | J19: Sortant | L19: =D19/G17 -> 0
K20: =J17-J20 -> 0
A21: GELIN | B21: Z80 | C21: T2 | F21: =G22-D23+K24 -> 2000 | G21: Gélin Fougeres | J21: Entrant
B22: Z90 | C22: T3 | G22: 2000
A23: TOTAL GLOBAL | D23: =SUM(D21:D22) -> 0 | E23: =D23+K24 -> 0 | J23: Sortant
K24: =J22-J24 -> 0 | L24: =D23/G22 -> 0
A25: CELTIC | H25: Entrant | I25: Différence | J25: Entrant
B27: Z91 | C27: T2 | F27: =G28-D29-H29-I29-K29 -> 7013 | G27: Celtic | H27: Sortant | J27: Sortant
B28: YE5 | C28: YFF | G28: 7013
A29: TOTAL GLOBAL | D29: =SUM(D27:D28) -> 0 | E29: =D29+H29+I29+K29 -> 0 | I29: =H26-H28 -> 0 | K29: =+J26-J28 -> 0 | L29: =D29/G28 -> 0 | M29: =+E29/G28 -> 0
A32: Et la fromagerie est sur le Site de Hénansal ou je n'ai pas d'info non plus

Sheet Feuil2

Sheet Feuil3

Sheet récap FP
C2: S3 | D2: S4 | E2: S5 | F2: S6 | G2: S7 | H2: S8 | I2: S9 | J2: S10 | K2: S11 | L2: S12 | M2: S13 | N2: S14 | O2: S15 | P2: S16 | Q2: S17 | R2: S18 | S2: S19 | T2: S20 | U2: S21 | V2: S22 | W2: S23 | X2: S24 | Y2: S25 | Z2: S26 | AA2: S27 | AB2: S29 | AC2: S30 | AD2: S31 | AE2: S32 | AF2: S33 | AG2: S34 | AH2: S35 | AI2: S36 | AJ2: S37 | AK2: S38 | AL2: S39 | AM2: S40 | AN2: S41 | AO2: S42 | AP2: S43 | AQ2: S44 | AR2: S45 | AS2: S46 | AT2: S47 | AU2: S48 | AV2: S49 | AW2: S50 | AX2: S51 | AY2: S52
A3: Garnier | C3: ='S3'!$D$6 -> 13598 | D3: ='S4'!$D$6 -> 13148 | E3: ='S5'!$D$6 -> 12277 | F3: ='S6'!$D$6 -> 11573 | G3: ='S7'!$D$6 -> 11280 | H3: ='S8'!$D$6 -> 11605 | I3: ='S9'!$D$6 -> 11558 | J3: ='S10'!$D$6 -> 11650 | K3: ='S11'!$D$6 -> 11693 | L3: ='S12'!$D$6 -> 11823 | M3: ='S13'!$D$6 -> 12357 | N3: ='S14'!$D$6 -> 12061 | O3: ='S15'!$D$6 -> 12037 | P3: ='S16'!$D$6 -> 12358 | Q3: ='S17'!$D$6 -> 12424 | R3: ='S18'!$D$6 -> 12555 | S3: ='S19'!$D$6 -> 13188 | T3: ='S20'!$D$6 -> 12448 | U3: ='S21'!$D$6 -> 11946 | V3: ='S22'!$D$6 -> 11608 | W3: ='s23'!$D$6 -> 11892 | X3: ='S24'!$D$6 -> 11862 | Y3: ='S25'!$D$6 -> 12343 | Z3: ='s26'!$D$6 -> 12063 | AA3: ='S27'!$D$6 -> 12609 | AB3: ='s29'!$D$6 -> 11900 | AC3: ='S30'!$D$6 -> 12091 | AD3: ='S31'!$D$6 -> 12105 | AE3: ='S32'!$D$6 -> 12020 | AF3: ='S33'!$D$6 -> 11966 | AG3: ='s34'!$D$6 -> 12068 | AH3: ='S35'!$D$6 -> 12289 | AI3: ='S36'!$D$6 -> 12290 | AJ3: ='S37'!$D$6 -> 11896 | AK3: ='S38'!$D$6 -> 11764 | AL3: ='S39'!$D$6 -> 11847 | AM3: ='S40'!$D$6 -> 11632 | AN3: ='S41'!$D$6 -> 11855 | AO3: ='S42'!$D$6 -> 11714 | AP3: ='S43'!$D$6 -> 12193 | AQ3: ='s44'!$D$6 -> 12368 | AR3: ='S45'!$D$6 -> 12455 | AS3: ='S46'!$D$6 -> 12330 | AT3: ='S47'!$D$6 -> 11876 | AU3: ='S48'!$D$6 -> 11868 | AV3: ='S49'!$D$6 -> 0
