Workbook

Sheet Dashboard
B4: Planfication du Jour
C5: =+'Base de Saisi'!A5 -> 44564
C6: Client | D6: Article | E6: Qté en Pcs | F6: Poids Unitaire | G6: Date de Livraison | H6: Temps de séjour | I6: Nombre d'ouvrier | J6: Poste | K6: Traverse | L6: Date de réalisation Prévus
H31: 5

Sheet Base de Saisi
A1: Base de Saisi de la planification
A2: Date | B2: Nombre D'ouvrier | C2: Client | D2: Article | E2: Quantité | F2: Poids Unitaire | G2: Poids total | H2: Charge Admissible d'une traverse | I2: Délais de livraison | J2: Statut de l'article
A3: 44563 | B3: 12 | C3: A | D3: X | E3: 10 | F3: 50 | G3: =Tableau1[[#This Row],[Quantité]]*Tableau1[[#This Row],[Poids Unitaire]] -> 500 | H3: =Paramétrage!$F$3 -> 8 Tonnes | I3: 44571 | J3: Réalisé
A4: 44563 | B4: 12 | C4: A | D4: X | E4: 20 | F4: 50 | G4: =Tableau1[[#This Row],[Quantité]]*Tableau1[[#This Row],[Poids Unitaire]] -> 1000 | H4: =Paramétrage!$F$3 -> 8 Tonnes | I4: 44571 | J4: Non Réalisé
A5: 44564 | B5: 12 | C5: A | D5: X | E5: 50 | F5: 50 | G5: =Tableau1[[#This Row],[Quantité]]*Tableau1[[#This Row],[Poids Unitaire]] -> 2500 | H5: =Paramétrage!$F$3 -> 8 Tonnes | I5: 44571 | J5: Non Réalisé
A6: 44564 | B6: 12 | C6: B | D6: Y | E6: 50 | F6: 100 | G6: =Tableau1[[#This Row],[Quantité]]*Tableau1[[#This Row],[Poids Unitaire]] -> 5000 | H6: =Paramétrage!$F$3 -> 8 Tonnes | I6: 44571 | J6: Non Réalisé
A7: 44564 | B7: 12 | C7: C | D7: Z | E7: 1000 | F7: 100 | G7: =Tableau1[[#This Row],[Quantité]]*Tableau1[[#This Row],[Poids Unitaire]] -> 100000 | H7: =Paramétrage!$F$3 -> 8 Tonnes | I7: 44567 | J7: Non Réalisé
A8: 44564 | B8: 12 | C8: A | D8: Y | E8: 100 | F8: 50 | G8: =Tableau1[[#This Row],[Quantité]]*Tableau1[[#This Row],[Poids Unitaire]] -> 5000 | H8: =Paramétrage!$F$3 -> 8 Tonnes | I8: 44571 | J8: Non Réalisé
A9: 44564 | B9: 12 | C9: B | D9: N | E9: 100 | F9: 50 | G9: =Tableau1[[#This Row],[Quantité]]*Tableau1[[#This Row],[Poids Unitaire]] -> 5000 | H9: =Paramétrage!$F$3 -> 8 Tonnes | I9: 44571 | J9: Non Réalisé
A10: 44564 | B10: 12 | C10: B | D10: P | E10: 200 | F10: 20 | G10: =Tableau1[[#This Row],[Quantité]]*Tableau1[[#This Row],[Poids Unitaire]] -> 4000 | H10: =Paramétrage!$F$3 -> 8 Tonnes | I10: 44572 | J10: Non Réalisé
A11: 44564 | B11: 12 | C11: E | D11: X | E11: 100 | F11: 50 | G11: =Tableau1[[#This Row],[Quantité]]*Tableau1[[#This Row],[Poids Unitaire]] -> 5000 | H11: =Paramétrage!$F$3 -> 8 Tonnes | I11: 44569 | J11: Non Réalisé
A12: 44564 | B12: 12 | C12: F | D12: V | E12: 80 | F12: 60 | G12: =Tableau1[[#This Row],[Quantité]]*Tableau1[[#This Row],[Poids Unitaire]] -> 4800 | H12: =Paramétrage!$F$3 -> 8 Tonnes | I12: 44567 | J12: Non Réalisé
A13: 44564 | B13: 12 | C13: G | D13: W | E13: 50 | F13: 50 | G13: =Tableau1[[#This Row],[Quantité]]*Tableau1[[#This Row],[Poids Unitaire]] -> 2500 | H13: =Paramétrage!$F$3 -> 8 Tonnes | I13: 44567 | J13: Non Réalisé
A14: 44565 | B14: 12 | C14: G | D14: W | E14: 50 | F14: 50 | G14: =Tableau1[[#This Row],[Quantité]]*Tableau1[[#This Row],[Poids Unitaire]] -> 2500 | H14: =Paramétrage!$F$3 -> 8 Tonnes | I14: 44567 | J14: Non Réalisé
A15: 44565 | G15: =Tableau1[[#This Row],[Quantité]]*Tableau1[[#This Row],[Poids Unitaire]] -> 0 | H15: =Paramétrage!$F$3 -> 8 Tonnes
A16: 44565 | G16: =Tableau1[[#This Row],[Quantité]]*Tableau1[[#This Row],[Poids Unitaire]] -> 0 | H16: =Paramétrage!$F$3 -> 8 Tonnes
A17: 44565 | G17: =Tableau1[[#This Row],[Quantité]]*Tableau1[[#This Row],[Poids Unitaire]] -> 0 | H17: =Paramétrage!$F$3 -> 8 Tonnes

Sheet Paramétrage
B2: Poste | D2: Traverse | F2: Charge Admissible | H2: Client | J2: Article
B3: Matin | D3: T1 | F3: 8 Tonnes | H3: A | J3: X
B4: Soir | D4: T2 | F4: 8 Tonnes | H4: B | J4: Y
B5: Nuit | D5: T3 | F5: 8 Tonnes | H5: C | J5: Z
D6: T4 | F6: 8 Tonnes | H6: D | J6: V
D7: T5 | F7: 8 Tonnes | H7: E | J7: W
D8: T6 | F8: 8 Tonnes | H8: F | J8: P
D9: T8 | F9: 8 Tonnes | H9: G | J9: N
D10: T9 | F10: 8 Tonnes
D11: T10 | F11: 8 Tonnes
