Workbook

Sheet Feuil1
A1: MISSIONS POINTS : | T1: MISSIONS POURCENTAGES: | AM1: PLACEMENT DES OPERATEURS
B2: COUVERTURE | C2: MISSION DE BASE | D2: BRECHE | E2: LOCAUX | F2: BAIONETTE | G2: BSS | H2: LOGISTIQUE | I2: COUTEAU | J2: MARTEAU | K2: HILDR | L2: FREQUENT UNIQUEMENT | M2: AFFRONTEMENT | N2: NETTOYAGE | O2: RECONNAISSANCE | P2: COMMUN UNIQUEMENT | Q2: RARE UNIQUEMENT | R2: TOTAUX | U2: COUVERTURE | V2: MISSION DE BASE | W2: BRECHE | X2: LOCAUX | Y2: BAIONETTE | Z2: BSS | AA2: LOGISTIQUE | AB2: COUTEAU | AC2: MARTEAU | AD2: HILDR | AE2: FREQUENT UNIQUEMENT | AF2: AFFRONTEMENT | AG2: NETTOYAGE | AH2: RECONNAISSANCE | AI2: COMMUN UNIQUEMENT | AJ2: RARE UNIQUEMENT | AK2: TOTAUX | AM2: SI MISSION 1 = 50 000 | AN2: SI MISSION 2 = 100 000 | AO2: SI MISSION 3 = 200 000 | AP2: SI MISSION 4 = 400 000 | AQ2: SI MISSION 5 = 700 000 | AR2: SI MISSION 6 = 1 300 000
A3: ROOKIE | B3: 0 | C3: 0 | D3: 0 | E3: 0 | F3: 0 | G3: 0 | H3: 0 | I3: 50 | J3: 50 | K3: 30 | L3: 55 | M3: 0 | N3: 0 | O3: 0 | P3: 0 | Q3: 30 | R3: =SUM(B3:Q3) -> 215 | T3: ROOKIE | U3: =(B3*100)/B$29 -> 0 | V3: =(C3*100)/C$29 -> 0 | W3: =(D3*100)/D$29 -> 0 | X3: =(E3*100)/E$29 -> 0 | Y3: =(F3*100)/F$29 -> 0 | Z3: =(G3*100)/G$29 -> 0 | AA3: =(H3*100)/H$29 -> 0 | AB3: =(I3*100)/I$29 -> 1.8050542 | ... AJ3: =(Q3*100)/Q$29 -> 1.0676157 | AK3: =SUM(U3:AJ3) -> 7.7661792 | AM3: =Feuil1!L2 -> FREQUENT UNIQUEMENT | AN3: =Feuil1!L2 -> FREQUENT UNIQUEMENT | AO3: =Feuil1!L2 -> FREQUENT UNIQUEMENT | AP3: =Feuil1!L2 -> FREQUENT UNIQUEMENT | AQ3: =Feuil1!L2 -> FREQUENT UNIQUEMENT | AR3: =Feuil1!L2 -> FREQUENT UNIQUEMENT
A4: HAWK | B4: 70 | C4: 100 | D4: 70 | E4: 140 | F4: 40 | G4: 50 | H4: 70 | I4: 50 | J4: 60 | K4: 60 | L4: 40 | M4: 70 | N4: 70 | O4: 150 | P4: 150 | Q4: 40 | R4: =SUM(B4:Q4) -> 1230 | T4: HAWK | U4: =(B4*100)/B$29 -> 2.5735294 | V4: =(C4*100)/C$29 -> 3.2467532 | W4: =(D4*100)/D$29 -> 2.5735294 | X4: =(E4*100)/E$29 -> 5.2532833 | Y4: =(F4*100)/F$29 -> 1.4084507 | Z4: =(G4*100)/G$29 -> 1.9920319 | AA4: =(H4*100)/H$29 -> 2.5735294 | AB4: =(I4*100)/I$29 -> 1.8050542 | ... AJ4: =(Q4*100)/Q$29 -> 1.4234875 | AK4: =SUM(U4:AJ4) -> 45.494187
A5: JASON | B5: 70 | C5: 100 | D5: 70 | E5: 50 | F5: 150 | G5: 200 | H5: 150 | I5: 50 | J5: 60 | K5: 60 | L5: 40 | M5: 70 | N5: 70 | O5: 70 | P5: 150 | Q5: 40 | R5: =SUM(B5:Q5) -> 1400 | T5: JASON | U5: =(B5*100)/B$29 -> 2.5735294 | V5: =(C5*100)/C$29 -> 3.2467532 | W5: =(D5*100)/D$29 -> 2.5735294 | X5: =(E5*100)/E$29 -> 1.8761726 | Y5: =(F5*100)/F$29 -> 5.2816901 | Z5: =(G5*100)/G$29 -> 7.9681275 | AA5: =(H5*100)/H$29 -> 5.5147059 | AB5: =(I5*100)/I$29 -> 1.8050542 | ... AJ5: =(Q5*100)/Q$29 -> 1.4234875 | AK5: =SUM(U5:AJ5) -> 51.966411 | AM5: OPERATEURS MISSION 1 | AN5: OPERATEURS MISSION 2 | AO5: OPERATEURS MISSION 3 | AP5: OPERATEURS MISSION 4 | AQ5: OPERATEURS MISSION 5 | AR5: OPERATEURS MISSION 6
A6: BORIS | B6: 70 | C6: 100 | D6: 150 | E6: 50 | F6: 150 | G6: 50 | H6: 70 | I6: 50 | J6: 200 | K6: 60 | L6: 40 | M6: 70 | N6: 70 | O6: 70 | P6: 150 | Q6: 40 | R6: =SUM(B6:Q6) -> 1390 | T6: BORIS | U6: =(B6*100)/B$29 -> 2.5735294 | V6: =(C6*100)/C$29 -> 3.2467532 | W6: =(D6*100)/D$29 -> 5.5147059 | X6: =(E6*100)/E$29 -> 1.8761726 | Y6: =(F6*100)/F$29 -> 5.2816901 | Z6: =(G6*100)/G$29 -> 1.9920319 | AA6: =(H6*100)/H$29 -> 2.5735294 | AB6: =(I6*100)/I$29 -> 1.8050542 | ... AJ6: =(Q6*100)/Q$29 -> 1.4234875 | AK6: =SUM(U6:AJ6) -> 50.720045
A7: THOR | B7: 70 | C7: 100 | D7: 70 | E7: 50 | F7: 150 | G7: 50 | H7: 70 | I7: 50 | J7: 60 | K7: 300 | L7: 40 | M7: 70 | N7: 150 | O7: 70 | P7: 150 | Q7: 40 | R7: =SUM(B7:Q7) -> 1490 | T7: THOR | U7: =(B7*100)/B$29 -> 2.5735294 | V7: =(C7*100)/C$29 -> 3.2467532 | W7: =(D7*100)/D$29 -> 2.5735294 | X7: =(E7*100)/E$29 -> 1.8761726 | Y7: =(F7*100)/F$29 -> 5.2816901 | Z7: =(G7*100)/G$29 -> 1.9920319 | AA7: =(H7*100)/H$29 -> 2.5735294 | AB7: =(I7*100)/I$29 -> 1.8050542 | ... AJ7: =(Q7*100)/Q$29 -> 1.4234875 | AK7: =SUM(U7:AJ7) -> 54.470881
A8: RICK | B8: 150 | C8: 100 | D8: 70 | E8: 50 | F8: 150 | G8: 50 | H8: 70 | I8: 50 | J8: 200 | K8: 60 | L8: 40 | M8: 70 | N8: 70 | O8: 70 | P8: 150 | Q8: 40 | R8: =SUM(B8:Q8) -> 1390 | T8: RICK | U8: =(B8*100)/B$29 -> 5.5147059 | V8: =(C8*100)/C$29 -> 3.2467532 | W8: =(D8*100)/D$29 -> 2.5735294 | X8: =(E8*100)/E$29 -> 1.8761726 | Y8: =(F8*100)/F$29 -> 5.2816901 | Z8: =(G8*100)/G$29 -> 1.9920319 | AA8: =(H8*100)/H$29 -> 2.5735294 | AB8: =(I8*100)/I$29 -> 1.8050542 | ... AJ8: =(Q8*100)/Q$29 -> 1.4234875 | AK8: =SUM(U8:AJ8) -> 50.720045
A9: MISHKA | B9: 70 | C9: 100 | D9: 70 | E9: 140 | F9: 40 | G9: 50 | H9: 70 | I9: 50 | J9: 200 | K9: 60 | L9: 40 | M9: 150 | N9: 70 | O9: 70 | P9: 150 | Q9: 40 | R9: =SUM(B9:Q9) -> 1370 | T9: MISHKA | U9: =(B9*100)/B$29 -> 2.5735294 | V9: =(C9*100)/C$29 -> 3.2467532 | W9: =(D9*100)/D$29 -> 2.5735294 | X9: =(E9*100)/E$29 -> 5.2532833 | Y9: =(F9*100)/F$29 -> 1.4084507 | Z9: =(G9*100)/G$29 -> 1.9920319 | AA9: =(H9*100)/H$29 -> 2.5735294 | AB9: =(I9*100)/I$29 -> 1.8050542 | ... AJ9: =(Q9*100)/Q$29 -> 1.4234875 | AK9: =SUM(U9:AJ9) -> 50.223917
A11: KLAUS | B11: 85 | C11: 120 | D11: 85 | E11: 60 | F11: 155 | G11: 60 | H11: 85 | I11: 60 | J11: 240 | K11: 70 | L11: 180 | M11: 85 | N11: 85 | O11: 180 | P11: 50 | Q11: 50 | R11: =SUM(B11:Q11) -> 1650 | T11: KLAUS | U11: =(B11*100)/B$29 -> 3.125 | V11: =(C11*100)/C$29 -> 3.8961039 | W11: =(D11*100)/D$29 -> 3.125 | X11: =(E11*100)/E$29 -> 2.2514071 | Y11: =(F11*100)/F$29 -> 5.4577465 | Z11: =(G11*100)/G$29 -> 2.3904382 | AA11: =(H11*100)/H$29 -> 3.125 | AB11: =(I11*100)/I$29 -> 2.166065 | ... AJ11: =(Q11*100)/Q$29 -> 1.7793594 | AK11: =SUM(U11:AJ11) -> 59.874968
A12: SHI | B12: 85 | C12: 120 | D12: 85 | E12: 60 | F12: 155 | G12: 60 | H12: 180 | I12: 240 | J12: 70 | K12: 70 | L12: 180 | M12: 85 | N12: 85 | O12: 85 | P12: 50 | Q12: 50 | R12: =SUM(B12:Q12) -> 1660 | T12: SHI | U12: =(B12*100)/B$29 -> 3.125 | V12: =(C12*100)/C$29 -> 3.8961039 | W12: =(D12*100)/D$29 -> 3.125 | X12: =(E12*100)/E$29 -> 2.2514071 | Y12: =(F12*100)/F$29 -> 5.4577465 | Z12: =(G12*100)/G$29 -> 2.3904382 | AA12: =(H12*100)/H$29 -> 6.6176471 | AB12: =(I12*100)/I$29 -> 8.6642599 | ... AJ12: =(Q12*100)/Q$29 -> 1.7793594 | AK12: =SUM(U12:AJ12) -> 60.629919
A13: VICTOR | B13: 85 | C13: 120 | D13: 180 | E13: 60 | F13: 155 | G13: 60 | H13: 85 | I13: 240 | J13: 70 | K13: 70 | L13: 180 | M13: 85 | N13: 85 | O13: 85 | P13: 50 | Q13: 50 | R13: =SUM(B13:Q13) -> 1660 | T13: VICTOR | U13: =(B13*100)/B$29 -> 3.125 | V13: =(C13*100)/C$29 -> 3.8961039 | W13: =(D13*100)/D$29 -> 6.6176471 | X13: =(E13*100)/E$29 -> 2.2514071 | Y13: =(F13*100)/F$29 -> 5.4577465 | Z13: =(G13*100)/G$29 -> 2.3904382 | AA13: =(H13*100)/H$29 -> 3.125 | AB13: =(I13*100)/I$29 -> 8.6642599 | ... AJ13: =(Q13*100)/Q$29 -> 1.7793594 | AK13: =SUM(U13:AJ13) -> 60.629919
A14: SPENCER | B14: 85 | C14: 120 | D14: 85 | E14: 60 | F14: 155 | G14: 240 | H14: 85 | I14: 60 | J14: 70 | K14: 70 | L14: 180 | M14: 85 | N14: 180 | O14: 85 | P14: 50 | Q14: 50 | R14: =SUM(B14:Q14) -> 1660 | T14: SPENCER | U14: =(B14*100)/B$29 -> 3.125 | V14: =(C14*100)/C$29 -> 3.8961039 | W14: =(D14*100)/D$29 -> 3.125 | X14: =(E14*100)/E$29 -> 2.2514071 | Y14: =(F14*100)/F$29 -> 5.4577465 | Z14: =(G14*100)/G$29 -> 9.561753 | AA14: =(H14*100)/H$29 -> 3.125 | AB14: =(I14*100)/I$29 -> 2.166065 | ... AJ14: =(Q14*100)/Q$29 -> 1.7793594 | AK14: =SUM(U14:AJ14) -> 61.303039
A15: TRAVIS | B15: 180 | C15: 120 | D15: 85 | E15: 60 | F15: 155 | G15: 60 | H15: 85 | I15: 240 | J15: 70 | K15: 70 | L15: 180 | M15: 85 | N15: 85 | O15: 85 | P15: 50 | Q15: 50 | R15: =SUM(B15:Q15) -> 1660 | T15: TRAVIS | U15: =(B15*100)/B$29 -> 6.6176471 | V15: =(C15*100)/C$29 -> 3.8961039 | W15: =(D15*100)/D$29 -> 3.125 | X15: =(E15*100)/E$29 -> 2.2514071 | Y15: =(F15*100)/F$29 -> 5.4577465 | Z15: =(G15*100)/G$29 -> 2.3904382 | AA15: =(H15*100)/H$29 -> 3.125 | AB15: =(I15*100)/I$29 -> 8.6642599 | ... AJ15: =(Q15*100)/Q$29 -> 1.7793594 | AK15: =SUM(U15:AJ15) -> 60.629919
A16: BATYA | B16: 85 | C16: 120 | D16: 85 | E16: 170 | F16: 50 | G16: 60 | H16: 85 | I16: 60 | J16: 240 | K16: 70 | L16: 180 | M16: 180 | N16: 85 | O16: 85 | P16: 50 | Q16: 50 | R16: =SUM(B16:Q16) -> 1655 | T16: BATYA | U16: =(B16*100)/B$29 -> 3.125 | V16: =(C16*100)/C$29 -> 3.8961039 | W16: =(D16*100)/D$29 -> 3.125 | X16: =(E16*100)/E$29 -> 6.3789869 | Y16: =(F16*100)/F$29 -> 1.7605634 | Z16: =(G16*100)/G$29 -> 2.3904382 | AA16: =(H16*100)/H$29 -> 3.125 | AB16: =(I16*100)/I$29 -> 2.166065 | ... AJ16: =(Q16*100)/Q$29 -> 1.7793594 | AK16: =SUM(U16:AJ16) -> 60.305364
A18: VARG | B18: 115 | C18: 160 | D18: 115 | E18: 80 | F18: 65 | G18: 80 | H18: 115 | I18: 80 | J18: 95 | K18: 480 | L18: 65 | M18: 115 | N18: 115 | O18: 240 | P18: 65 | Q18: 240 | R18: =SUM(B18:Q18) -> 2225 | T18: VARG | U18: =(B18*100)/B$29 -> 4.2279412 | V18: =(C18*100)/C$29 -> 5.1948052 | W18: =(D18*100)/D$29 -> 4.2279412 | X18: =(E18*100)/E$29 -> 3.0018762 | Y18: =(F18*100)/F$29 -> 2.2887324 | Z18: =(G18*100)/G$29 -> 3.187251 | AA18: =(H18*100)/H$29 -> 4.2279412 | AB18: =(I18*100)/I$29 -> 2.8880866 | ... AJ18: =(Q18*100)/Q$29 -> 8.5409253 | AK18: =SUM(U18:AJ18) -> 80.48928
A19: DAVID | B19: 115 | C19: 160 | D19: 115 | E19: 80 | F19: 210 | G19: 320 | H19: 240 | I19: 80 | J19: 95 | K19: 100 | L19: 65 | M19: 115 | N19: 115 | O19: 115 | P19: 65 | Q19: 240 | R19: =SUM(B19:Q19) -> 2230 | T19: DAVID | U19: =(B19*100)/B$29 -> 4.2279412 | V19: =(C19*100)/C$29 -> 5.1948052 | W19: =(D19*100)/D$29 -> 4.2279412 | X19: =(E19*100)/E$29 -> 3.0018762 | Y19: =(F19*100)/F$29 -> 7.3943662 | Z19: =(G19*100)/G$29 -> 12.749004 | AA19: =(H19*100)/H$29 -> 8.8235294 | AB19: =(I19*100)/I$29 -> 2.8880866 | ... AJ19: =(Q19*100)/Q$29 -> 8.5409253 | AK19: =SUM(U19:AJ19) -> 81.729105
... A28: DIANA | B28: 200 | C28: 200 | D28: 200 | E28: 200 | F28: 200 | G28: 200 | H28: 200 | I28: 200 | J28: 200 | K28: 200 | L28: 200 | M28: 200 | N28: 200 | O28: 200 | P28: 200 | Q28: 200 | R28: =SUM(B28:Q28) -> 3200 | T28: DIANA | U28: =(B28*100)/B$29 -> 7.3529412 | V28: =(C28*100)/C$29 -> 6.4935065 | W28: =(D28*100)/D$29 -> 7.3529412 | X28: =(E28*100)/E$29 -> 7.5046904 | Y28: =(F28*100)/F$29 -> 7.0422535 | Z28: =(G28*100)/G$29 -> 7.9681275 | AA28: =(H28*100)/H$29 -> 7.3529412 | AB28: =(I28*100)/I$29 -> 7.2202166 | ... AJ28: =(Q28*100)/Q$29 -> 7.1174377 | AK28: =SUM(U28:AJ28) -> 117.45325
A29: TOTAUX | B29: =SUM(B3:B28) -> 2720 | C29: =SUM(C3:C28) -> 3080 | D29: =SUM(D3:D28) -> 2720 | E29: =SUM(E3:E28) -> 2665 | F29: =SUM(F3:F28) -> 2840 | G29: =SUM(G3:G28) -> 2510 | H29: =SUM(H3:H28) -> 2720 | I29: =SUM(I3:I28) -> 2770 | ... Q29: =SUM(Q3:Q28) -> 2810 | T29: TOTAUX | U29: =SUM(U3:U28) -> 100 | V29: =SUM(V3:V28) -> 100 | W29: =SUM(W3:W28) -> 100 | X29: =SUM(X3:X28) -> 100 | Y29: =SUM(Y3:Y28) -> 100 | Z29: =SUM(Z3:Z28) -> 100 | AA29: =SUM(AA3:AA28) -> 100 | AB29: =SUM(AB3:AB28) -> 100 | ... AJ29: =SUM(AJ3:AJ28) -> 100

Sheet Feuil2
