Workbook

Sheet Feuil1
A1: Jalon | B1: Nom ressource | C1: Role | D1: Type | E1: Janv | F1: Fev | G1: Mars | H1: Total | J1: Jalon | K1: Ressource identifiée avec budget | L1: Ressource identifiée sans budget | M1: Ressource non identifiée avec budget | N1: Ressource non identifiée sans budget
A2: J1 | B2: Jean | C2: Chef | D2: budget ref | E2: 10 | F2: 50 | G2: 20 | H2: =SUM(E2:G2) -> 80 | J2: J1 | K2: 1 (Jean a du budget ref) | L2: 1 (David travaille mais le budget ref n'était pas prévu) | M2: 1 (un ingé doit travailler mais le nom de la personne n'est pas identifié mais le budget ref est décidé) | N2: 0
A3: J1 | C3: Chef | D3: budget dépensé | E3: 5 | F3: 0 | G3: 0 | H3: =SUM(E3:G3) -> 5 | J3: J2 | K3: 1 | L3: 0 | M3: 0 | N3: 0 (un technicien est prévu mais le budget n'est pas décidé)
A4: J1 | C4: Chef | D4: prévision | E4: 10 | F4: 50 | G4: 20 | H4: =SUM(E4:G4) -> 80
A5: J1 | B5: David | C5: adjoint | D5: budget ref | E5: 0 | F5: 0 | G5: 0 | H5: =SUM(E5:G5) -> 0
A6: J1 | C6: adjoint | D6: budget dépensé | E6: 20 | F6: 0 | G6: 0 | H6: =SUM(E6:G6) -> 20
A7: J1 | C7: adjoint | D7: prévision | E7: 70 | F7: 40 | G7: 40 | H7: =SUM(E7:G7) -> 150
A8: J1 | C8: ingé | D8: budget ref | E8: 10 | F8: 10 | G8: 10 | H8: =SUM(E8:G8) -> 30
A9: J1 | C9: ingé | D9: budget dépensé | E9: 0 | F9: 0 | G9: 0 | H9: =SUM(E9:G9) -> 0
A10: J1 | C10: ingé | D10: prévision | E10: 10 | F10: 10 | G10: 10 | H10: =SUM(E10:G10) -> 30
A11: J2 | B11: Julien | C11: Technicien | D11: budget ref | E11: 100 | F11: 100 | G11: 100 | H11: =SUM(E11:G11) -> 300
A12: J2 | C12: Technicien | D12: budget dépensé | E12: 0 | F12: 0 | G12: 0 | H12: =SUM(E12:G12) -> 0
A13: J2 | C13: Technicien | D13: prévision | E13: 0 | F13: 0 | G13: 0 | H13: =SUM(E13:G13) -> 0
A14: J2 | C14: Technicien | D14: budget ref | E14: 0 | F14: 0 | G14: 0 | H14: 0
A15: J2 | C15: Technicien | D15: budget dépensé | E15: 0 | F15: 0 | G15: 0 | H15: =SUM(E15:G15) -> 0
A16: J2 | C16: Technicien | D16: prévision | E16: 0 | F16: 0 | G16: 0 | H16: =SUM(E16:G16) -> 0

Sheet Feuil2
C1: Janv | F1: Fev | I1: Mars | L1: Total
A2: J1 | B2: Role | C2: budget ref | D2: budget dépensé | E2: prévision | F2: budget ref | G2: budget dépensé | H2: prévision | I2: budget ref | J2: budget dépensé | K2: prévision | L2: budget ref | M2: budget dépensé | N2: prévision
B3: Chef | C3: =SUMPRODUCT((Feuil1!$A$2:$A$16=$A$2)*(Feuil1!$C$2:$C$16=$B$3)*(Feuil1!$D$2:$D$16=C$2)*(Feuil1!$E$1:$H$1=$C$1)*(Feuil1!$E$2:$H$16)) -> 10 | D3: =SUMPRODUCT((Feuil1!$A$2:$A$16=$A$2)*(Feuil1!$C$2:$C$16=$B3)*(Feuil1!$D$2:$D$16=$D$2)*(Feuil1!$E$1:$H$1=$C$1)*(Feuil1!$E$2:$H$16)) -> 5 | E3: =SUMPRODUCT((Feuil1!$A$2:$A$16=$A$2)*(Feuil1!$C$2:$C$16=$B3)*(Feuil1!$D$2:$D$16=$E$2)*(Feuil1!$E$1:$H$1=$C$1)*(Feuil1!$E$2:$H$16)) -> 10
B4: adjoint | C4: =SUMPRODUCT((Feuil1!$A$2:$A$16=$A$2)*(Feuil1!$C$2:$C$16=B4)*(Feuil1!$D$2:$D$16=$C$2)*(Feuil1!$E$1:$H$1=$C$1)*(Feuil1!$E$2:$H$16)) -> 0 | D4: =SUMPRODUCT((Feuil1!$A$2:$A$16=$A$2)*(Feuil1!$C$2:$C$16=$B4)*(Feuil1!$D$2:$D$16=$D$2)*(Feuil1!$E$1:$H$1=$C$1)*(Feuil1!$E$2:$H$16)) -> 20 | E4: =SUMPRODUCT((Feuil1!$A$2:$A$16=$A$2)*(Feuil1!$C$2:$C$16=$B4)*(Feuil1!$D$2:$D$16=$E$2)*(Feuil1!$E$1:$H$1=$C$1)*(Feuil1!$E$2:$H$16)) -> 70
B5: Ingé | C5: =SUMPRODUCT((Feuil1!$A$2:$A$16=$A$2)*(Feuil1!$C$2:$C$16=B5)*(Feuil1!$D$2:$D$16=$C$2)*(Feuil1!$E$1:$H$1=$C$1)*(Feuil1!$E$2:$H$16)) -> 10 | D5: =SUMPRODUCT((Feuil1!$A$2:$A$16=$A$2)*(Feuil1!$C$2:$C$16=$B5)*(Feuil1!$D$2:$D$16=$D$2)*(Feuil1!$E$1:$H$1=$C$1)*(Feuil1!$E$2:$H$16)) -> 0 | E5: =SUMPRODUCT((Feuil1!$A$2:$A$16=$A$2)*(Feuil1!$C$2:$C$16=$B5)*(Feuil1!$D$2:$D$16=$E$2)*(Feuil1!$E$1:$H$1=$C$1)*(Feuil1!$E$2:$H$16)) -> 10
A8: J2 | B8: Role
B9: Role rempli automatiquement
