Workbook

Sheet Infos
A1: Informations Personnelles
A2: ID | B2: Prénom | C2: Nom | D2: Ville | E2: Département | F2: Date de Naissance
A3: 1000 | B3: Marcel | C3: Aymé | D3: Paris | E3: 75 | F3: 32534
A4: =1001 -> 1001 | B4: Elizabeth | C4: Badinter | D4: Argenteuil | E4: 95 | F4: 33116
A5: 1002 | B5: Nicolas | C5: Bedos | D5: Courbevoie | E5: 92 | F5: 31624
A6: 1003 | B6: Frédéric | C6: Beigdeber | D6: =INDEX(Controle!A$3:A$21,RANDBETWEEN(1,19),1) -> Argenteuil | E6: =VLOOKUP(D6,Controle!A$3:B$21,2,0) -> 95 | F6: =RANDBETWEEN(DATE(1985,1,1),DATE(1995,12,31)) -> 34435
A7: 1004 | B7: Alphonse | C7: Daudet | D7: =INDEX(Controle!A$3:A$21,RANDBETWEEN(1,19),1) -> Asnière-sur-Seine | E7: =VLOOKUP(D7,Controle!A$3:B$21,2,0) -> 92 | F7: =RANDBETWEEN(DATE(1985,1,1),DATE(1995,12,31)) -> 33940
A8: 1005 | B8: Antoine | C8: De Saint-Exupéry | D8: =INDEX(Controle!A$3:A$21,RANDBETWEEN(1,19),1) -> Meaux | E8: =VLOOKUP(D8,Controle!A$3:B$21,2,0) -> 77 | F8: =RANDBETWEEN(DATE(1985,1,1),DATE(1995,12,31)) -> 34236
A9: 1006 | B9: Alphonse | C9: De Lamartine | D9: =INDEX(Controle!A$3:A$21,RANDBETWEEN(1,19),1) -> Paris | E9: =VLOOKUP(D9,Controle!A$3:B$21,2,0) -> 75 | F9: =RANDBETWEEN(DATE(1985,1,1),DATE(1995,12,31)) -> 34566
A10: 1007 | B10: Alexandre | C10: Dumas | D10: =INDEX(Controle!A$3:A$21,RANDBETWEEN(1,19),1) -> Épinay-sur-Seine | E10: =VLOOKUP(D10,Controle!A$3:B$21,2,0) -> 93 | F10: =RANDBETWEEN(DATE(1985,1,1),DATE(1995,12,31)) -> 32673
A11: 1008 | B11: Gustave | C11: Flaubert | D11: =INDEX(Controle!A$3:A$21,RANDBETWEEN(1,19),1) -> Évry | E11: =VLOOKUP(D11,Controle!A$3:B$21,2,0) -> 91 | F11: =RANDBETWEEN(DATE(1985,1,1),DATE(1995,12,31)) -> 33913
A12: 1009 | B12: Théophile | C12: Gautier | D12: =INDEX(Controle!A$3:A$21,RANDBETWEEN(1,19),1) -> Chelles | E12: =VLOOKUP(D12,Controle!A$3:B$21,2,0) -> 77 | F12: =RANDBETWEEN(DATE(1985,1,1),DATE(1995,12,31)) -> 34417
A13: 1010 | B13: Anna | C13: Gavalda | D13: =INDEX(Controle!A$3:A$21,RANDBETWEEN(1,19),1) -> Créteil | E13: =VLOOKUP(D13,Controle!A$3:B$21,2,0) -> 94 | F13: =RANDBETWEEN(DATE(1985,1,1),DATE(1995,12,31)) -> 31335
A14: 1011 | B14: André | C14: Gide | D14: =INDEX(Controle!A$3:A$21,RANDBETWEEN(1,19),1) -> Rueil-Malmaison | E14: =VLOOKUP(D14,Controle!A$3:B$21,2,0) -> 92 | F14: =RANDBETWEEN(DATE(1985,1,1),DATE(1995,12,31)) -> 33401
A15: 1012 | B15: Victor | C15: Hugo | D15: =INDEX(Controle!A$3:A$21,RANDBETWEEN(1,19),1) -> Argenteuil | E15: =VLOOKUP(D15,Controle!A$3:B$21,2,0) -> 95 | F15: =RANDBETWEEN(DATE(1985,1,1),DATE(1995,12,31)) -> 35000
A16: 1013 | B16: Bernard henry | C16: Levy | D16: =INDEX(Controle!A$3:A$21,RANDBETWEEN(1,19),1) -> Créteil | E16: =VLOOKUP(D16,Controle!A$3:B$21,2,0) -> 94 | F16: =RANDBETWEEN(DATE(1985,1,1),DATE(1995,12,31)) -> 34149
A17: 1014 | B17: Katherine | C17: Pancol | D17: =INDEX(Controle!A$3:A$21,RANDBETWEEN(1,19),1) -> Créteil | E17: =VLOOKUP(D17,Controle!A$3:B$21,2,0) -> 94 | F17: =RANDBETWEEN(DATE(1985,1,1),DATE(1995,12,31)) -> 32380
... A21: 1018 | B21: Jules | C21: Vernes | D21: =INDEX(Controle!A$3:A$21,RANDBETWEEN(1,19),1) -> Rueil-Malmaison | E21: =VLOOKUP(D21,Controle!A$3:B$21,2,0) -> 92 | F21: =RANDBETWEEN(DATE(1985,1,1),DATE(1995,12,31)) -> 32663

Sheet Notes
A1: Relevé de notes
A2: ID | B2: Interro 1 | C2: Interro 2 | D2: Partiel | E2: Note | F2: Rang
A3: =Infos!A3 -> 1000 | B3: 19.25 | C3: 18.5 | D3: 17 | E3: 17.94 | F3: =_xlfn.RANK.EQ(E3,E$3:E$21,0) -> 1
A4: =Infos!A4 -> 1001 | B4: 7.5 | C4: 6.75 | D4: 10.5 | E4: 8.81 | F4: =_xlfn.RANK.EQ(E4,E$3:E$21,0) -> 17
A5: =Infos!A5 -> 1002 | B5: 16.5 | C5: 13.5 | D5: 17.5 | E5: 16.25 | F5: =_xlfn.RANK.EQ(E5,E$3:E$21,0) -> 3
A6: =Infos!A6 -> 1003 | B6: =RANDBETWEEN(0,80)*0.25 -> 19.75 | C6: =RANDBETWEEN(0,80)*0.25 -> 16.75 | D6: =RANDBETWEEN(0,80)*0.25 -> 1.75 | E6: =SUMPRODUCT(B6:D6,$B$23:$D$23) -> 10 | F6: =_xlfn.RANK.EQ(E6,E$3:E$21,0) -> 12
A7: =Infos!A7 -> 1004 | B7: =RANDBETWEEN(0,80)*0.25 -> 5.5 | C7: =RANDBETWEEN(0,80)*0.25 -> 11.25 | D7: =RANDBETWEEN(0,80)*0.25 -> 18.25 | E7: =SUMPRODUCT(B7:D7,$B$23:$D$23) -> 13.3125 | F7: =_xlfn.RANK.EQ(E7,E$3:E$21,0) -> 6
A8: =Infos!A8 -> 1005 | B8: =RANDBETWEEN(0,80)*0.25 -> 1.5 | C8: =RANDBETWEEN(0,80)*0.25 -> 13 | D8: =RANDBETWEEN(0,80)*0.25 -> 20 | E8: =SUMPRODUCT(B8:D8,$B$23:$D$23) -> 13.625 | F8: =_xlfn.RANK.EQ(E8,E$3:E$21,0) -> 5
A9: =Infos!A9 -> 1006 | B9: =RANDBETWEEN(0,80)*0.25 -> 9 | C9: =RANDBETWEEN(0,80)*0.25 -> 6.5 | D9: =RANDBETWEEN(0,80)*0.25 -> 14.5 | E9: =SUMPRODUCT(B9:D9,$B$23:$D$23) -> 11.125 | F9: =_xlfn.RANK.EQ(E9,E$3:E$21,0) -> 9
A10: =Infos!A10 -> 1007 | B10: =RANDBETWEEN(0,80)*0.25 -> 12.25 | C10: =RANDBETWEEN(0,80)*0.25 -> 9.25 | D10: =RANDBETWEEN(0,80)*0.25 -> 11 | E10: =SUMPRODUCT(B10:D10,$B$23:$D$23) -> 10.875 | F10: =_xlfn.RANK.EQ(E10,E$3:E$21,0) -> 10
A11: =Infos!A11 -> 1008 | B11: =RANDBETWEEN(0,80)*0.25 -> 5 | C11: =RANDBETWEEN(0,80)*0.25 -> 7.75 | D11: =RANDBETWEEN(0,80)*0.25 -> 14 | E11: =SUMPRODUCT(B11:D11,$B$23:$D$23) -> 10.1875 | F11: =_xlfn.RANK.EQ(E11,E$3:E$21,0) -> 11
A12: =Infos!A12 -> 1009 | B12: =RANDBETWEEN(0,80)*0.25 -> 11.5 | C12: =RANDBETWEEN(0,80)*0.25 -> 9.25 | D12: =RANDBETWEEN(0,80)*0.25 -> 13 | E12: =SUMPRODUCT(B12:D12,$B$23:$D$23) -> 11.6875 | F12: =_xlfn.RANK.EQ(E12,E$3:E$21,0) -> 7
A13: =Infos!A13 -> 1010 | B13: =RANDBETWEEN(0,80)*0.25 -> 14.25 | C13: =RANDBETWEEN(0,80)*0.25 -> 8.5 | D13: =RANDBETWEEN(0,80)*0.25 -> 17.5 | E13: =SUMPRODUCT(B13:D13,$B$23:$D$23) -> 14.4375 | F13: =_xlfn.RANK.EQ(E13,E$3:E$21,0) -> 4
A14: =Infos!A14 -> 1011 | B14: =RANDBETWEEN(0,80)*0.25 -> 8.5 | C14: =RANDBETWEEN(0,80)*0.25 -> 16.5 | D14: =RANDBETWEEN(0,80)*0.25 -> 1.5 | E14: =SUMPRODUCT(B14:D14,$B$23:$D$23) -> 7 | F14: =_xlfn.RANK.EQ(E14,E$3:E$21,0) -> 18
A15: =Infos!A15 -> 1012 | B15: =RANDBETWEEN(0,80)*0.25 -> 10 | C15: =RANDBETWEEN(0,80)*0.25 -> 5 | D15: =RANDBETWEEN(0,80)*0.25 -> 10.5 | E15: =SUMPRODUCT(B15:D15,$B$23:$D$23) -> 9 | F15: =_xlfn.RANK.EQ(E15,E$3:E$21,0) -> 14
A16: =Infos!A16 -> 1013 | B16: =RANDBETWEEN(0,80)*0.25 -> 17 | C16: =RANDBETWEEN(0,80)*0.25 -> 16.25 | D16: =RANDBETWEEN(0,80)*0.25 -> 2.75 | E16: =SUMPRODUCT(B16:D16,$B$23:$D$23) -> 9.6875 | F16: =_xlfn.RANK.EQ(E16,E$3:E$21,0) -> 13
A17: =Infos!A17 -> 1014 | B17: =RANDBETWEEN(0,80)*0.25 -> 15.5 | C17: =RANDBETWEEN(0,80)*0.25 -> 3.5 | D17: =RANDBETWEEN(0,80)*0.25 -> 8.5 | E17: =SUMPRODUCT(B17:D17,$B$23:$D$23) -> 9 | F17: =_xlfn.RANK.EQ(E17,E$3:E$21,0) -> 14
... A21: =Infos!A21 -> 1018 | B21: =RANDBETWEEN(0,80)*0.25 -> 19 | C21: =RANDBETWEEN(0,80)*0.25 -> 16.5 | D21: =RANDBETWEEN(0,80)*0.25 -> 0 | E21: =SUMPRODUCT(B21:D21,$B$23:$D$23) -> 8.875 | F21: =_xlfn.RANK.EQ(E21,E$3:E$21,0) -> 16
B23: 0.25 | C23: 0.25 | D23: 0.5

Sheet Resultat
A1: Resultat
A2: ID | B2: Admis | C2: Prime de réussite | D2: Aide du transport | E2: Total de Bourse
A3: =Infos!A3 -> 1000 | B3: =IF(Notes!E3>=10,"OUI","NON") -> OUI | C3: =IF(AND(Notes!E3>=10,(Controle!$E$2-Infos!$F$3)<(26*365)),Controle!$D$17,Controle!$E$17) -> 300 | D3: =VLOOKUP(Infos!E3,Controle!$D$6:$E$12,2,0) -> 50 | E3: 350
A4: =Infos!A4 -> 1001 | B4: =IF(Notes!E4>=10,"OUI","NON") -> NON | C4: =IF(AND(Notes!E4>=10,(Controle!$E$2-Infos!$F$3)<(26*365)),Controle!$D$17,Controle!$E$17) -> 0 | D4: =VLOOKUP(Infos!E4,Controle!$D$6:$E$12,2,0) -> 100 | E4: 100
A5: =Infos!A5 -> 1002 | B5: =IF(Notes!E5>=10,"OUI","NON") -> OUI | C5: =IF(AND(Notes!E5>=10,(Controle!$E$2-Infos!$F$3)<(26*365)),Controle!$D$17,Controle!$E$17) -> 300 | D5: =VLOOKUP(Infos!E5,Controle!$D$6:$E$12,2,0) -> 75 | E5: 50
A6: =Infos!A6 -> 1003 | B6: =IF(Notes!E6>=10,"OUI","NON") -> OUI | C6: =IF(AND(Notes!E6>=10,(Controle!$E$2-Infos!$F$3)<(26*365)),Controle!$D$17,Controle!$E$17) -> 300 | D6: =VLOOKUP(Infos!E6,Controle!$D$6:$E$12,2,0) -> 100
A7: =Infos!A7 -> 1004 | B7: =IF(Notes!E7>=10,"OUI","NON") -> OUI | C7: =IF(AND(Notes!E7>=10,(Controle!$E$2-Infos!$F$3)<(26*365)),Controle!$D$17,Controle!$E$17) -> 300 | D7: =VLOOKUP(Infos!E7,Controle!$D$6:$E$12,2,0) -> 75
A8: =Infos!A8 -> 1005 | B8: =IF(Notes!E8>=10,"OUI","NON") -> OUI | C8: =IF(AND(Notes!E8>=10,(Controle!$E$2-Infos!$F$3)<(26*365)),Controle!$D$17,Controle!$E$17) -> 300 | D8: =VLOOKUP(Infos!E8,Controle!$D$6:$E$12,2,0) -> 100
A9: =Infos!A9 -> 1006 | B9: =IF(Notes!E9>=10,"OUI","NON") -> OUI | C9: =IF(AND(Notes!E9>=10,(Controle!$E$2-Infos!$F$3)<(26*365)),Controle!$D$17,Controle!$E$17) -> 300 | D9: =VLOOKUP(Infos!E9,Controle!$D$6:$E$12,2,0) -> 50
A10: =Infos!A10 -> 1007 | B10: =IF(Notes!E10>=10,"OUI","NON") -> OUI | C10: =IF(AND(Notes!E10>=10,(Controle!$E$2-Infos!$F$3)<(26*365)),Controle!$D$17,Controle!$E$17) -> 300 | D10: =VLOOKUP(Infos!E10,Controle!$D$6:$E$12,2,0) -> 75
A11: =Infos!A11 -> 1008 | B11: =IF(Notes!E11>=10,"OUI","NON") -> OUI | C11: =IF(AND(Notes!E11>=10,(Controle!$E$2-Infos!$F$3)<(26*365)),Controle!$D$17,Controle!$E$17) -> 300 | D11: =VLOOKUP(Infos!E11,Controle!$D$6:$E$12,2,0) -> #N/A
A12: =Infos!A12 -> 1009 | B12: =IF(Notes!E12>=10,"OUI","NON") -> OUI | C12: =IF(AND(Notes!E12>=10,(Controle!$E$2-Infos!$F$3)<(26*365)),Controle!$D$17,Controle!$E$17) -> 300 | D12: =VLOOKUP(Infos!E12,Controle!$D$6:$E$12,2,0) -> 100
A13: =Infos!A13 -> 1010 | B13: =IF(Notes!E13>=10,"OUI","NON") -> OUI | C13: =IF(AND(Notes!E13>=10,(Controle!$E$2-Infos!$F$3)<(26*365)),Controle!$D$17,Controle!$E$17) -> 300 | D13: =VLOOKUP(Infos!E13,Controle!$D$6:$E$12,2,0) -> 75
A14: =Infos!A14 -> 1011 | B14: =IF(Notes!E14>=10,"OUI","NON") -> NON | C14: =IF(AND(Notes!E14>=10,(Controle!$E$2-Infos!$F$3)<(26*365)),Controle!$D$17,Controle!$E$17) -> 0 | D14: =VLOOKUP(Infos!E14,Controle!$D$6:$E$12,2,0) -> 75
A15: =Infos!A15 -> 1012 | B15: =IF(Notes!E15>=10,"OUI","NON") -> NON | C15: =IF(AND(Notes!E15>=10,(Controle!$E$2-Infos!$F$3)<(26*365)),Controle!$D$17,Controle!$E$17) -> 0 | D15: =VLOOKUP(Infos!E15,Controle!$D$6:$E$12,2,0) -> 100
A16: =Infos!A16 -> 1013 | B16: =IF(Notes!E16>=10,"OUI","NON") -> NON | C16: =IF(AND(Notes!E16>=10,(Controle!$E$2-Infos!$F$3)<(26*365)),Controle!$D$17,Controle!$E$17) -> 0 | D16: =VLOOKUP(Infos!E16,Controle!$D$6:$E$12,2,0) -> 75
A17: =Infos!A17 -> 1014 | B17: =IF(Notes!E17>=10,"OUI","NON") -> NON | C17: =IF(AND(Notes!E17>=10,(Controle!$E$2-Infos!$F$3)<(26*365)),Controle!$D$17,Controle!$E$17) -> 0 | D17: =VLOOKUP(Infos!E17,Controle!$D$6:$E$12,2,0) -> 75
... A21: =Infos!A21 -> 1018 | B21: =IF(Notes!E21>=10,"OUI","NON") -> NON | C21: =IF(AND(Notes!E21>=10,(Controle!$E$2-Infos!$F$3)<(26*365)),Controle!$D$17,Controle!$E$17) -> 0 | D21: =VLOOKUP(Infos!E21,Controle!$D$6:$E$12,2,0) -> 75

Sheet Controle
A1: Données de Contrôle
A2: Ville | B2: Département | D2: Date | E2: 41205
A3: Paris | B3: 75
A4: Boulogne-Billancourt | B4: 92 | D4: Aide du transport
A5: Argenteuil | B5: 95 | D5: Département | E5: Frais
A6: Montreuil | B6: 93 | D6: 75 | E6: 50
A7: Saint-Denis | B7: 93 | D7: 92 | E7: 75
A8: Versailles | B8: 78 | D8: 93 | E8: 75
A9: Nanterre | B9: 92 | D9: 94 | E9: 75
A10: Créteil | B10: 94 | D10: 95 | E10: 100
A11: Aulnay-sous-Bois | B11: 93 | D11: 77 | E11: 100
A12: Vitry-sur-Seine | B12: 94 | D12: 78 | E12: 100
A13: Colombes | B13: 92
A14: Asnière-sur-Seine | B14: 92
A15: Champigny-sur-Marne | B15: 94 | D15: Prime de réussite
A16: Rueil-Malmaison | B16: 92 | D16: Admis | E16: Non Admis
A17: Courbevoie | B17: 92 | D17: 300 | E17: 0
A18: Évry | B18: 91
A19: Meaux | B19: 77 | D19: Effectif
A20: Épinay-sur-Seine | B20: 93 | D20: Boursiers | E20: Admis
A21: Chelles | B21: 77 | D21: 1 | E21: 2
