Workbook

Sheet Synthèse
H2: emp1
B20: Total | C20: Année | E20: % France | F20: Limite
D21: 520000
B22: 1111756 | C22: 2006 | D22: 455625 | E22: =D22/B22 -> 0.40982464 | F22: 520000
B23: 712342 | C23: 2007 | D23: 446114 | E23: =D23/B23 -> 0.62626379 | F23: 520000
B24: 571906 | C24: 2008 | D24: 282968 | E24: =D24/B24 -> 0.49478061 | F24: 520000
B25: 702553 | C25: 2009 | D25: 303317 | E25: =D25/B25 -> 0.4317354 | F25: 520000
B26: 718536 | C26: 2010 | D26: 48534 | E26: =D26/B26 -> 0.067545676 | F26: 520000
B27: 627961 | C27: 2011 | D27: 105701 | E27: =D27/B27 -> 0.16832415 | F27: 520000
B28: 637016 | C28: 2012 | D28: 53548 | E28: =D28/B28 -> 0.084060683 | F28: 520000
B29: 486637 | C29: 2013 | D29: 84419 | E29: =D29/B29 -> 0.17347427 | F29: 520000
B30: 654442 | C30: 2014 | D30: 83413 | E30: =D30/B30 -> 0.12745667 | F30: 520000
B31: 575092.5 | C31: 2015 | D31: 66047 | E31: =D31/B31 -> 0.11484587 | F31: 520000
B32: 463152 | C32: 2016 | D32: 46664 | E32: =D32/B32 -> 0.1007531 | F32: 520000
B33: 493820 | C33: 2017 | D33: 34420 | E33: =D33/B33 -> 0.069701511 | F33: 520000
B34: 617511 | C34: 2018 | D34: 23218 | E34: =D34/B34 -> 0.03759933 | F34: 520000

Sheet Année en cours
F2: Synthèse année actuelle
A5: CONSO
A6: Annuelle | B6: =SUM(Détail!C9:C373) -> 0 | C6: =SUM(Détail!E9:E373) -> 141 | D6: =SUM(Détail!G9:G373) -> 14 | E6: =SUM(Détail!I9:I373) -> 85 | F6: =SUM(Détail!K9:K373) -> 0 | G6: =SUM(Détail!M9:M373) -> 1 | H6: =SUM(Détail!O9:O373) -> 0 | I6: =SUM(Détail!Q9:Q373) -> 0 | J6: =SUM(Détail!S9:S373) -> 0 | K6: =SUM(Détail!U9:U373) -> 21223 | L6: =SUM(Détail!W9:W373) -> 88 | M6: =SUM(Détail!Y9:Y373) -> 31
A7: Journaliere | B7: =B6/365 -> 0 | C7: =C6/365 -> 0.38630137 | D7: =D6/365 -> 0.038356164 | E7: =E6/365 -> 0.23287671 | F7: =F6/365 -> 0 | G7: =G6/365 -> 0.002739726 | H7: =H6/365 -> 0 | I7: =I6/365 -> 0 | ... M7: =M6/365 -> 0.084931507
A8: Hebdomadaire | B8: =B7*7 -> 0 | C8: =C7*7 -> 2.7041096 | D8: =D7*7 -> 0.26849315 | E8: =E7*7 -> 1.630137 | F8: =F7*7 -> 0 | G8: =G7*7 -> 0.019178082 | H8: =H7*7 -> 0 | I8: =I7*7 -> 0 | ... M8: =M7*7 -> 0.59452055
A10: Conso totale (limite=520 000) | B10: =B6+C6+D6+E6+F6+G6+H6+I6+J6+K6+L6+M6 -> 21583

Sheet Prévisions
A1: DATE | B1: Consommation réelle | C1: Prévisions selon tendance | D1: Prévisions à la hausse (95% de confiance)
A2: 43466 | B2: 0
A3: 43467 | B3: 0
A4: 43468 | B4: 0
A5: 43469 | B5: 0
A6: 43470 | B6: 83
A7: 43471 | B7: 83
A8: 43472 | B8: 83
A9: 43473 | B9: 83
A10: 43474 | B10: 83
A11: 43475 | B11: 83
A12: 43476 | B12: 83
A13: 43477 | B13: 83
... A299: 43763 | B299: 21120
A300: 43764 | B300: 21583 | C300: 21583 | D300: 21583
A301: 43765 | C301: =IF(Tableau1[[#This Row],[Consommation réelle]]<>0,Tableau1[[#This Row],[Consommation réelle]],IF(C300=B300,_xlfn.FORECAST.ETS(A301,$B$2:$B300,$A$2:$A300,1,1),_xlfn.FORECAST.ETS(A301,$B$2:$B300,$A$2:$A300,1,1))) -> 21615.275 | D301: =IF(Tableau1[[#This Row],[Consommation réelle]]=Tableau1[[#This Row],[Prévisions selon tendance]],Tableau1[[#This Row],[Consommation réelle]],C301+_xlfn.FORECAST.ETS.CONFINT(A301,$B$2:$B300,$A$2:$A300,0.95,1,1)) -> 22078.729
A302: 43766 | C302: =IF(Tableau1[[#This Row],[Consommation réelle]]<>0,Tableau1[[#This Row],[Consommation réelle]],IF(C301=B301,_xlfn.FORECAST.ETS(A302,$B$2:$B301,$A$2:$A301,1,1),_xlfn.FORECAST.ETS(A302,$B$2:$B301,$A$2:$A301,1,1))) -> 21686.03 | D302: =IF(Tableau1[[#This Row],[Consommation réelle]]=Tableau1[[#This Row],[Prévisions selon tendance]],Tableau1[[#This Row],[Consommation réelle]],C302+_xlfn.FORECAST.ETS.CONFINT(A302,$B$2:$B301,$A$2:$A301,0.95,1,1)) -> 22309.853
A303: 43767 | C303: =IF(Tableau1[[#This Row],[Consommation réelle]]<>0,Tableau1[[#This Row],[Consommation réelle]],IF(C302=B302,_xlfn.FORECAST.ETS(A303,$B$2:$B302,$A$2:$A302,1,1),_xlfn.FORECAST.ETS(A303,$B$2:$B302,$A$2:$A302,1,1))) -> 21756.785 | D303: =IF(Tableau1[[#This Row],[Consommation réelle]]=Tableau1[[#This Row],[Prévisions selon tendance]],Tableau1[[#This Row],[Consommation réelle]],C303+_xlfn.FORECAST.ETS.CONFINT(A303,$B$2:$B302,$A$2:$A302,0.95,1,1)) -> 22507.724
A304: 43768 | C304: =IF(Tableau1[[#This Row],[Consommation réelle]]<>0,Tableau1[[#This Row],[Consommation réelle]],IF(C303=B303,_xlfn.FORECAST.ETS(A304,$B$2:$B303,$A$2:$A303,1,1),_xlfn.FORECAST.ETS(A304,$B$2:$B303,$A$2:$A303,1,1))) -> 21827.541 | D304: =IF(Tableau1[[#This Row],[Consommation réelle]]=Tableau1[[#This Row],[Prévisions selon tendance]],Tableau1[[#This Row],[Consommation réelle]],C304+_xlfn.FORECAST.ETS.CONFINT(A304,$B$2:$B303,$A$2:$A303,0.95,1,1)) -> 22687.221
A305: 43769 | C305: =IF(Tableau1[[#This Row],[Consommation réelle]]<>0,Tableau1[[#This Row],[Consommation réelle]],IF(C304=B304,_xlfn.FORECAST.ETS(A305,$B$2:$B304,$A$2:$A304,1,1),_xlfn.FORECAST.ETS(A305,$B$2:$B304,$A$2:$A304,1,1))) -> 21898.296 | D305: =IF(Tableau1[[#This Row],[Consommation réelle]]=Tableau1[[#This Row],[Prévisions selon tendance]],Tableau1[[#This Row],[Consommation réelle]],C305+_xlfn.FORECAST.ETS.CONFINT(A305,$B$2:$B304,$A$2:$A304,0.95,1,1)) -> 22854.632
A306: 43770 | C306: =IF(Tableau1[[#This Row],[Consommation réelle]]<>0,Tableau1[[#This Row],[Consommation réelle]],IF(C305=B305,_xlfn.FORECAST.ETS(A306,$B$2:$B305,$A$2:$A305,1,1),_xlfn.FORECAST.ETS(A306,$B$2:$B305,$A$2:$A305,1,1))) -> 21969.051 | D306: =IF(Tableau1[[#This Row],[Consommation réelle]]=Tableau1[[#This Row],[Prévisions selon tendance]],Tableau1[[#This Row],[Consommation réelle]],C306+_xlfn.FORECAST.ETS.CONFINT(A306,$B$2:$B305,$A$2:$A305,0.95,1,1)) -> 23013.319
A307: 43771 | C307: =IF(Tableau1[[#This Row],[Consommation réelle]]<>0,Tableau1[[#This Row],[Consommation réelle]],IF(C306=B306,_xlfn.FORECAST.ETS(A307,$B$2:$B306,$A$2:$A306,1,1),_xlfn.FORECAST.ETS(A307,$B$2:$B306,$A$2:$A306,1,1))) -> 22039.806 | D307: =IF(Tableau1[[#This Row],[Consommation réelle]]=Tableau1[[#This Row],[Prévisions selon tendance]],Tableau1[[#This Row],[Consommation réelle]],C307+_xlfn.FORECAST.ETS.CONFINT(A307,$B$2:$B306,$A$2:$A306,0.95,1,1)) -> 23165.33
A308: 43772 | C308: =IF(Tableau1[[#This Row],[Consommation réelle]]<>0,Tableau1[[#This Row],[Consommation réelle]],IF(C307=B307,_xlfn.FORECAST.ETS(A308,$B$2:$B307,$A$2:$A307,1,1),_xlfn.FORECAST.ETS(A308,$B$2:$B307,$A$2:$A307,1,1))) -> 22110.561 | D308: =IF(Tableau1[[#This Row],[Consommation réelle]]=Tableau1[[#This Row],[Prévisions selon tendance]],Tableau1[[#This Row],[Consommation réelle]],C308+_xlfn.FORECAST.ETS.CONFINT(A308,$B$2:$B307,$A$2:$A307,0.95,1,1)) -> 23312.019
A309: 43773 | C309: =IF(Tableau1[[#This Row],[Consommation réelle]]<>0,Tableau1[[#This Row],[Consommation réelle]],IF(C308=B308,_xlfn.FORECAST.ETS(A309,$B$2:$B308,$A$2:$A308,1,1),_xlfn.FORECAST.ETS(A309,$B$2:$B308,$A$2:$A308,1,1))) -> 22181.317 | D309: =IF(Tableau1[[#This Row],[Consommation réelle]]=Tableau1[[#This Row],[Prévisions selon tendance]],Tableau1[[#This Row],[Consommation réelle]],C309+_xlfn.FORECAST.ETS.CONFINT(A309,$B$2:$B308,$A$2:$A308,0.95,1,1)) -> 23454.339
A310: 43774 | C310: =IF(Tableau1[[#This Row],[Consommation réelle]]<>0,Tableau1[[#This Row],[Consommation réelle]],IF(C309=B309,_xlfn.FORECAST.ETS(A310,$B$2:$B309,$A$2:$A309,1,1),_xlfn.FORECAST.ETS(A310,$B$2:$B309,$A$2:$A309,1,1))) -> 22252.072 | D310: =IF(Tableau1[[#This Row],[Consommation réelle]]=Tableau1[[#This Row],[Prévisions selon tendance]],Tableau1[[#This Row],[Consommation réelle]],C310+_xlfn.FORECAST.ETS.CONFINT(A310,$B$2:$B309,$A$2:$A309,0.95,1,1)) -> 23592.99
A311: 43775 | C311: =IF(Tableau1[[#This Row],[Consommation réelle]]<>0,Tableau1[[#This Row],[Consommation réelle]],IF(C310=B310,_xlfn.FORECAST.ETS(A311,$B$2:$B310,$A$2:$A310,1,1),_xlfn.FORECAST.ETS(A311,$B$2:$B310,$A$2:$A310,1,1))) -> 22322.827 | D311: =IF(Tableau1[[#This Row],[Consommation réelle]]=Tableau1[[#This Row],[Prévisions selon tendance]],Tableau1[[#This Row],[Consommation réelle]],C311+_xlfn.FORECAST.ETS.CONFINT(A311,$B$2:$B310,$A$2:$A310,0.95,1,1)) -> 23728.504
A312: 43776 | C312: =IF(Tableau1[[#This Row],[Consommation réelle]]<>0,Tableau1[[#This Row],[Consommation réelle]],IF(C311=B311,_xlfn.FORECAST.ETS(A312,$B$2:$B311,$A$2:$A311,1,1),_xlfn.FORECAST.ETS(A312,$B$2:$B311,$A$2:$A311,1,1))) -> 22393.582 | D312: =IF(Tableau1[[#This Row],[Consommation réelle]]=Tableau1[[#This Row],[Prévisions selon tendance]],Tableau1[[#This Row],[Consommation réelle]],C312+_xlfn.FORECAST.ETS.CONFINT(A312,$B$2:$B311,$A$2:$A311,0.95,1,1)) -> 23861.297
... A367: 43831 | C367: =IF(Tableau1[[#This Row],[Consommation réelle]]<>0,Tableau1[[#This Row],[Consommation réelle]],IF(C366=B366,_xlfn.FORECAST.ETS(A367,$B$2:$B366,$A$2:$A366,1,1),_xlfn.FORECAST.ETS(A367,$B$2:$B366,$A$2:$A366,1,1))) -> 26285.117 | D367: =IF(Tableau1[[#This Row],[Consommation réelle]]=Tableau1[[#This Row],[Prévisions selon tendance]],Tableau1[[#This Row],[Consommation réelle]],C367+_xlfn.FORECAST.ETS.CONFINT(A367,$B$2:$B366,$A$2:$A366,0.95,1,1)) -> 29831.001

Sheet Détail
AA5: =SUMPRODUCT((YEAR(A9:A5000)=2019)*(U9:U5000)) -> 21223
A6: "
A8: DATE | AA8: Total | AB8: Cumul
A9: 43466 | B9: 5 | D9: 495 | F9: 15 | H9: 368 | J9: 4 | L9: 643 | N9: 327 | P9: 349 | R9: 6 | T9: 112477 | V9: 75 | X9: 494 | AA9: =SUM(C9+E9+G9+I9+K9+M9+O9+Q9+S9+U9+W9+Y9) -> 0 | AB9: 0
A10: 43467 | B10: 5 | D10: 495 | F10: 15 | H10: 368 | J10: 4 | L10: 643 | N10: 327 | P10: 349 | R10: 6 | T10: 112477 | V10: 75 | X10: 494 | AA10: =SUM(C10+E10+G10+I10+K10+M10+O10+Q10+S10+U10+W10+Y10) -> 0 | AB10: =AB9+AA10 -> 0
A11: 43468 | B11: 5 | D11: 495 | F11: 15 | H11: 368 | J11: 4 | L11: 643 | N11: 327 | P11: 349 | R11: 6 | T11: 112477 | V11: 75 | X11: 494 | AA11: =SUM(C11+E11+G11+I11+K11+M11+O11+Q11+S11+U11+W11+Y11) -> 0 | AB11: =AB10+AA11 -> 0
A12: 43469 | B12: 5 | D12: 495 | F12: 15 | H12: 368 | J12: 4 | L12: 643 | N12: 327 | P12: 349 | R12: 6 | T12: 112477 | V12: 75 | X12: 494 | AA12: =SUM(C12+E12+G12+I12+K12+M12+O12+Q12+S12+U12+W12+Y12) -> 0 | AB12: =AB11+AA12 -> 0
A13: 43470 | B13: 5 | C13: =B13-B12 -> 0 | D13: 495 | E13: =D13-D12 -> 0 | F13: 15 | G13: =F13-F12 -> 0 | H13: 368 | I13: =H13-H12 -> 0 | J13: 4 | K13: =J13-J12 -> 0 | L13: 643 | M13: =L13-L12 -> 0 | N13: 327 | O13: =N13-N12 -> 0 | P13: 349 | Q13: =P13-P12 -> 0 | R13: 6 | S13: =R13-R12 -> 0 | T13: 112560 | U13: =T13-T12 -> 83 | V13: 75 | W13: =V13-V12 -> 0 | X13: 494 | Y13: =X13-X12 -> 0 | AA13: =SUM(C13+E13+G13+I13+K13+M13+O13+Q13+S13+U13+W13+Y13) -> 83 | AB13: =AB12+AA13 -> 83
A14: 43471 | B14: 5 | C14: =B14-B13 -> 0 | D14: 495 | E14: =D14-D13 -> 0 | F14: 15 | G14: =F14-F13 -> 0 | H14: 368 | I14: =H14-H13 -> 0 | J14: 4 | K14: =J14-J13 -> 0 | L14: 643 | M14: =L14-L13 -> 0 | N14: 327 | O14: =N14-N13 -> 0 | P14: 349 | Q14: =P14-P13 -> 0 | R14: 6 | S14: =R14-R13 -> 0 | T14: 112560 | U14: =T14-T13 -> 0 | V14: 75 | W14: =V14-V13 -> 0 | X14: 494 | Y14: =X14-X13 -> 0 | AA14: =SUM(C14+E14+G14+I14+K14+M14+O14+Q14+S14+U14+W14+Y14) -> 0 | AB14: =AB13+AA14 -> 83
A15: 43472 | B15: 5 | C15: =B15-B14 -> 0 | D15: 495 | E15: =D15-D14 -> 0 | F15: 15 | G15: =F15-F14 -> 0 | H15: 368 | I15: =H15-H14 -> 0 | J15: 4 | K15: =J15-J14 -> 0 | L15: 643 | M15: =L15-L14 -> 0 | N15: 327 | O15: =N15-N14 -> 0 | P15: 349 | Q15: =P15-P14 -> 0 | R15: 6 | S15: =R15-R14 -> 0 | T15: 112560 | U15: =T15-T14 -> 0 | V15: 75 | W15: =V15-V14 -> 0 | X15: 494 | Y15: =X15-X14 -> 0 | AA15: =SUM(C15+E15+G15+I15+K15+M15+O15+Q15+S15+U15+W15+Y15) -> 0 | AB15: =AB14+AA15 -> 83
A16: 43473 | B16: 5 | C16: =B16-B15 -> 0 | D16: 495 | E16: =D16-D15 -> 0 | F16: 15 | G16: =F16-F15 -> 0 | H16: 368 | I16: =H16-H15 -> 0 | J16: 4 | K16: =J16-J15 -> 0 | L16: 643 | M16: =L16-L15 -> 0 | N16: 327 | O16: =N16-N15 -> 0 | P16: 349 | Q16: =P16-P15 -> 0 | R16: 6 | S16: =R16-R15 -> 0 | T16: 112560 | U16: =T16-T15 -> 0 | V16: 75 | W16: =V16-V15 -> 0 | X16: 494 | Y16: =X16-X15 -> 0 | AA16: =SUM(C16+E16+G16+I16+K16+M16+O16+Q16+S16+U16+W16+Y16) -> 0 | AB16: =AB15+AA16 -> 83
A17: 43474 | B17: 5 | C17: =B17-B16 -> 0 | D17: 495 | E17: =D17-D16 -> 0 | F17: 15 | G17: =F17-F16 -> 0 | H17: 368 | I17: =H17-H16 -> 0 | J17: 4 | K17: =J17-J16 -> 0 | L17: 643 | M17: =L17-L16 -> 0 | N17: 327 | O17: =N17-N16 -> 0 | P17: 349 | Q17: =P17-P16 -> 0 | R17: 6 | S17: =R17-R16 -> 0 | T17: 112560 | U17: =T17-T16 -> 0 | V17: 75 | W17: =V17-V16 -> 0 | X17: 494 | Y17: =X17-X16 -> 0 | AA17: =SUM(C17+E17+G17+I17+K17+M17+O17+Q17+S17+U17+W17+Y17) -> 0 | AB17: =AB16+AA17 -> 83
A18: 43475 | B18: 5 | C18: =B18-B17 -> 0 | D18: 495 | E18: =D18-D17 -> 0 | F18: 15 | G18: =F18-F17 -> 0 | H18: 368 | I18: =H18-H17 -> 0 | J18: 4 | K18: =J18-J17 -> 0 | L18: 643 | M18: =L18-L17 -> 0 | N18: 327 | O18: =N18-N17 -> 0 | P18: 349 | Q18: =P18-P17 -> 0 | R18: 6 | S18: =R18-R17 -> 0 | T18: 112560 | U18: =T18-T17 -> 0 | V18: 75 | W18: =V18-V17 -> 0 | X18: 494 | Y18: =X18-X17 -> 0 | AA18: =SUM(C18+E18+G18+I18+K18+M18+O18+Q18+S18+U18+W18+Y18) -> 0 | AB18: =AB17+AA18 -> 83
A19: 43476 | B19: 5 | C19: =B19-B18 -> 0 | D19: 495 | E19: =D19-D18 -> 0 | F19: 15 | G19: =F19-F18 -> 0 | H19: 368 | I19: =H19-H18 -> 0 | J19: 4 | K19: =J19-J18 -> 0 | L19: 643 | M19: =L19-L18 -> 0 | N19: 327 | O19: =N19-N18 -> 0 | P19: 349 | Q19: =P19-P18 -> 0 | R19: 6 | S19: =R19-R18 -> 0 | T19: 112560 | U19: =T19-T18 -> 0 | V19: 75 | W19: =V19-V18 -> 0 | X19: 494 | Y19: =X19-X18 -> 0 | AA19: =SUM(C19+E19+G19+I19+K19+M19+O19+Q19+S19+U19+W19+Y19) -> 0 | AB19: =AB18+AA19 -> 83
A20: 43477 | B20: 5 | C20: =B20-B19 -> 0 | D20: 495 | E20: =D20-D19 -> 0 | F20: 15 | G20: =F20-F19 -> 0 | H20: 368 | I20: =H20-H19 -> 0 | J20: 4 | K20: =J20-J19 -> 0 | L20: 643 | M20: =L20-L19 -> 0 | N20: 327 | O20: =N20-N19 -> 0 | P20: 349 | Q20: =P20-P19 -> 0 | R20: 6 | S20: =R20-R19 -> 0 | T20: 112560 | U20: =T20-T19 -> 0 | V20: 75 | W20: =V20-V19 -> 0 | X20: 494 | Y20: =X20-X19 -> 0 | AA20: =SUM(C20+E20+G20+I20+K20+M20+O20+Q20+S20+U20+W20+Y20) -> 0 | AB20: =AB19+AA20 -> 83
A21: 43478 | B21: 5 | C21: =B21-B20 -> 0 | D21: 495 | E21: =D21-D20 -> 0 | F21: 15 | G21: =F21-F20 -> 0 | H21: 370 | I21: =H21-H20 -> 2 | J21: 4 | K21: =J21-J20 -> 0 | L21: 643 | M21: =L21-L20 -> 0 | N21: 327 | O21: =N21-N20 -> 0 | P21: 349 | Q21: =P21-P20 -> 0 | R21: 6 | S21: =R21-R20 -> 0 | T21: 113133 | U21: =T21-T20 -> 573 | V21: 75 | W21: =V21-V20 -> 0 | X21: 506 | Y21: =X21-X20 -> 12 | AA21: =SUM(C21+E21+G21+I21+K21+M21+O21+Q21+S21+U21+W21+Y21) -> 587 | AB21: =AB20+AA21 -> 670
A22: 43479 | B22: 5 | C22: =B22-B21 -> 0 | D22: 495 | E22: =D22-D21 -> 0 | F22: 15 | G22: =F22-F21 -> 0 | H22: 370 | I22: =H22-H21 -> 0 | J22: 4 | K22: =J22-J21 -> 0 | L22: 643 | M22: =L22-L21 -> 0 | N22: 327 | O22: =N22-N21 -> 0 | P22: 349 | Q22: =P22-P21 -> 0 | R22: 6 | S22: =R22-R21 -> 0 | T22: 113133 | U22: =T22-T21 -> 0 | V22: 75 | W22: =V22-V21 -> 0 | X22: 506 | Y22: =X22-X21 -> 0 | AA22: =SUM(C22+E22+G22+I22+K22+M22+O22+Q22+S22+U22+W22+Y22) -> 0 | AB22: =AB21+AA22 -> 670
A23: 43480 | B23: 5 | C23: =B23-B22 -> 0 | D23: 495 | E23: =D23-D22 -> 0 | F23: 15 | G23: =F23-F22 -> 0 | H23: 370 | I23: =H23-H22 -> 0 | J23: 4 | K23: =J23-J22 -> 0 | L23: 643 | M23: =L23-L22 -> 0 | N23: 327 | O23: =N23-N22 -> 0 | P23: 349 | Q23: =P23-P22 -> 0 | R23: 6 | S23: =R23-R22 -> 0 | T23: 113133 | U23: =T23-T22 -> 0 | V23: 75 | W23: =V23-V22 -> 0 | X23: 506 | Y23: =X23-X22 -> 0 | AA23: =SUM(C23+E23+G23+I23+K23+M23+O23+Q23+S23+U23+W23+Y23) -> 0 | AB23: =AB22+AA23 -> 670
A24: 43481 | B24: 5 | C24: =B24-B23 -> 0 | D24: 495 | E24: =D24-D23 -> 0 | F24: 15 | G24: =F24-F23 -> 0 | H24: 370 | I24: =H24-H23 -> 0 | J24: 4 | K24: =J24-J23 -> 0 | L24: 643 | M24: =L24-L23 -> 0 | N24: 327 | O24: =N24-N23 -> 0 | P24: 349 | Q24: =P24-P23 -> 0 | R24: 6 | S24: =R24-R23 -> 0 | T24: 113133 | U24: =T24-T23 -> 0 | V24: 75 | W24: =V24-V23 -> 0 | X24: 506 | Y24: =X24-X23 -> 0 | AA24: =SUM(C24+E24+G24+I24+K24+M24+O24+Q24+S24+U24+W24+Y24) -> 0 | AB24: =AB23+AA24 -> 670
... A34: 43491 | B34: 5 | C34: =B34-B33 -> 0 | D34: 553 | E34: =D34-D33 -> 0 | F34: 15 | G34: =F34-F33 -> 0 | H34: 370 | I34: =H34-H33 -> 0 | J34: 4 | K34: =J34-J33 -> 0 | L34: 643 | M34: =L34-L33 -> 0 | N34: 327 | O34: =N34-N33 -> 0 | P34: 349 | Q34: =P34-P33 -> 0 | R34: 6 | S34: =R34-R33 -> 0 | T34: 113133 | U34: =T34-T33 -> 0 | V34: 75 | W34: =V34-V33 -> 0 | X34: 506 | Y34: =X34-X33 -> 0 | AA34: =SUM(C34+E34+G34+I34+K34+M34+O34+Q34+S34+U34+W34+Y34) -> 0 | AB34: =AB33+AA34 -> 728
A35: 43492 | B35: 5 | C35: =B35-B34 -> 0 | D35: 553 | E35: 0 | F35: 15 | G35: =F35-F34 -> 0 | H35: 370 | I35: =H35-H34 -> 0 | J35: 4 | K35: =J35-J34 -> 0 | L35: 643 | M35: =L35-L34 -> 0 | N35: 327 | O35: =N35-N34 -> 0 | P35: 349 | Q35: =P35-P34 -> 0 | R35: 6 | S35: =R35-R34 -> 0 | T35: 114053 | U35: =T35-T34 -> 920 | V35: 75 | W35: =V35-V34 -> 0 | X35: 506 | Y35: =X35-X34 -> 0 | AA35: =SUM(C35+E35+G35+I35+K35+M35+O35+Q35+S35+U35+W35+Y35) -> 920 | AB35: =AB34+AA35 -> 1648
A36: 43493 | B36: 5 | C36: =B36-B35 -> 0 | D36: 553 | E36: 0 | F36: 15 | G36: =F36-F35 -> 0 | H36: 370 | I36: =H36-H35 -> 0 | J36: 4 | K36: =J36-J35 -> 0 | L36: 643 | M36: =L36-L35 -> 0 | N36: 327 | O36: =N36-N35 -> 0 | P36: 349 | Q36: =P36-P35 -> 0 | R36: 6 | S36: =R36-R35 -> 0 | T36: 114053 | U36: =T36-T35 -> 0 | V36: 75 | W36: =V36-V35 -> 0 | X36: 506 | Y36: =X36-X35 -> 0 | AA36: =SUM(C36+E36+G36+I36+K36+M36+O36+Q36+S36+U36+W36+Y36) -> 0 | AB36: =AB35+AA36 -> 1648
A37: 43494 | B37: 5 | C37: =B37-B36 -> 0 | D37: 553 | E37: 0 | F37: 15 | G37: =F37-F36 -> 0 | H37: 370 | I37: =H37-H36 -> 0 | J37: 4 | K37: =J37-J36 -> 0 | L37: 643 | M37: =L37-L36 -> 0 | N37: 327 | O37: =N37-N36 -> 0 | P37: 349 | Q37: =P37-P36 -> 0 | R37: 6 | S37: =R37-R36 -> 0 | T37: 114053 | U37: =T37-T36 -> 0 | V37: 75 | W37: =V37-V36 -> 0 | X37: 506 | Y37: =X37-X36 -> 0 | AA37: =SUM(C37+E37+G37+I37+K37+M37+O37+Q37+S37+U37+W37+Y37) -> 0 | AB37: =AB36+AA37 -> 1648
A38: 43495 | B38: 5 | C38: =B38-B37 -> 0 | D38: 553 | E38: 0 | F38: 15 | G38: =F38-F37 -> 0 | H38: 370 | I38: =H38-H37 -> 0 | J38: 4 | K38: =J38-J37 -> 0 | L38: 643 | M38: =L38-L37 -> 0 | N38: 327 | O38: =N38-N37 -> 0 | P38: 349 | Q38: =P38-P37 -> 0 | R38: 6 | S38: =R38-R37 -> 0 | T38: 114053 | U38: =T38-T37 -> 0 | V38: 75 | W38: =V38-V37 -> 0 | X38: 506 | Y38: =X38-X37 -> 0 | AA38: =SUM(C38+E38+G38+I38+K38+M38+O38+Q38+S38+U38+W38+Y38) -> 0 | AB38: =AB37+AA38 -> 1648
A39: 43496 | B39: 5 | C39: =B39-B38 -> 0 | D39: 553 | E39: 0 | F39: 15 | G39: =F39-F38 -> 0 | H39: 370 | I39: =H39-H38 -> 0 | J39: 4 | K39: =J39-J38 -> 0 | L39: 643 | M39: =L39-L38 -> 0 | N39: 327 | O39: =N39-N38 -> 0 | P39: 349 | Q39: =P39-P38 -> 0 | R39: 6 | S39: =R39-R38 -> 0 | T39: 114053 | U39: =T39-T38 -> 0 | V39: 75 | W39: =V39-V38 -> 0 | X39: 506 | Y39: =X39-X38 -> 0 | AA39: =SUM(C39+E39+G39+I39+K39+M39+O39+Q39+S39+U39+W39+Y39) -> 0 | AB39: =AB38+AA39 -> 1648
A40: 43497 | B40: 5 | C40: =B40-B39 -> 0 | D40: 553 | E40: 0 | F40: 15 | G40: =F40-F39 -> 0 | H40: 370 | I40: =H40-H39 -> 0 | J40: 4 | K40: =J40-J39 -> 0 | L40: 643 | M40: =L40-L39 -> 0 | N40: 327 | O40: =N40-N39 -> 0 | P40: 349 | Q40: =P40-P39 -> 0 | R40: 6 | S40: =R40-R39 -> 0 | T40: 114053 | U40: =T40-T39 -> 0 | V40: 75 | W40: =V40-V39 -> 0 | X40: 506 | Y40: =X40-X39 -> 0 | AA40: =SUM(C40+E40+G40+I40+K40+M40+O40+Q40+S40+U40+W40+Y40) -> 0 | AB40: =AB39+AA40 -> 1648
A41: 43498 | B41: 5 | C41: =B41-B40 -> 0 | D41: 553 | E41: 0 | F41: 15 | G41: =F41-F40 -> 0 | H41: 370 | I41: =H41-H40 -> 0 | J41: 4 | K41: =J41-J40 -> 0 | L41: 643 | M41: =L41-L40 -> 0 | N41: 327 | O41: =N41-N40 -> 0 | P41: 349 | Q41: =P41-P40 -> 0 | R41: 6 | S41: =R41-R40 -> 0 | T41: 114053 | U41: =T41-T40 -> 0 | V41: 75 | W41: =V41-V40 -> 0 | X41: 506 | Y41: =X41-X40 -> 0 | AA41: =SUM(C41+E41+G41+I41+K41+M41+O41+Q41+S41+U41+W41+Y41) -> 0 | AB41: =AB40+AA41 -> 1648
A42: 43499 | B42: 5 | C42: =B42-B41 -> 0 | D42: 582 | E42: =D42-D40 -> 29 | F42: 15 | G42: =F42-F41 -> 0 | H42: 370 | I42: =H42-H41 -> 0 | J42: 4 | K42: =J42-J41 -> 0 | L42: 643 | M42: =L42-L41 -> 0 | N42: 327 | O42: =N42-N41 -> 0 | P42: 349 | Q42: =P42-P41 -> 0 | R42: 6 | S42: =R42-R41 -> 0 | T42: 114554 | U42: =T42-T41 -> 501 | V42: 75 | W42: =V42-V41 -> 0 | X42: 506 | Y42: =X42-X41 -> 0 | AA42: =SUM(C42+E42+G42+I42+K42+M42+O42+Q42+S42+U42+W42+Y42) -> 530 | AB42: =AB41+AA42 -> 2178
A43: 43500 | B43: 5 | C43: =B43-B42 -> 0 | D43: 582 | E43: 0 | F43: 15 | G43: =F43-F42 -> 0 | H43: 370 | I43: =H43-H42 -> 0 | J43: 4 | K43: =J43-J42 -> 0 | L43: 643 | M43: =L43-L42 -> 0 | N43: 327 | O43: =N43-N42 -> 0 | P43: 349 | Q43: =P43-P42 -> 0 | R43: 6 | S43: =R43-R42 -> 0 | T43: 114554 | U43: =T43-T42 -> 0 | V43: 75 | W43: =V43-V42 -> 0 | X43: 506 | Y43: =X43-X42 -> 0 | AA43: =SUM(C43+E43+G43+I43+K43+M43+O43+Q43+S43+U43+W43+Y43) -> 0 | AB43: =AB42+AA43 -> 2178
A44: 43501 | B44: 5 | C44: =B44-B43 -> 0 | D44: 582 | E44: =D44-D42 -> 0 | F44: 15 | G44: =F44-F43 -> 0 | H44: 370 | I44: =H44-H43 -> 0 | J44: 4 | K44: =J44-J43 -> 0 | L44: 643 | M44: =L44-L43 -> 0 | N44: 327 | O44: =N44-N43 -> 0 | P44: 349 | Q44: =P44-P43 -> 0 | R44: 6 | S44: =R44-R43 -> 0 | T44: 114554 | U44: =T44-T43 -> 0 | V44: 75 | W44: =V44-V43 -> 0 | X44: 506 | Y44: =X44-X43 -> 0 | AA44: =SUM(C44+E44+G44+I44+K44+M44+O44+Q44+S44+U44+W44+Y44) -> 0 | AB44: =AB43+AA44 -> 2178
A45: 43502 | B45: 5 | C45: =B45-B44 -> 0 | D45: 582 | E45: =D45-D43 -> 0 | F45: 15 | G45: =F45-F44 -> 0 | H45: 370 | I45: =H45-H44 -> 0 | J45: 4 | K45: =J45-J44 -> 0 | L45: 643 | M45: =L45-L44 -> 0 | N45: 327 | O45: =N45-N44 -> 0 | P45: 349 | Q45: =P45-P44 -> 0 | R45: 6 | S45: =R45-R44 -> 0 | T45: 114554 | U45: =T45-T44 -> 0 | V45: 75 | W45: =V45-V44 -> 0 | X45: 506 | Y45: =X45-X44 -> 0 | AA45: =SUM(C45+E45+G45+I45+K45+M45+O45+Q45+S45+U45+W45+Y45) -> 0 | AB45: =AB44+AA45 -> 2178
A46: 43503 | B46: 5 | C46: =B46-B45 -> 0 | D46: 582 | E46: =D46-D44 -> 0 | F46: 15 | G46: =F46-F45 -> 0 | H46: 370 | I46: =H46-H45 -> 0 | J46: 4 | K46: =J46-J45 -> 0 | L46: 643 | M46: =L46-L45 -> 0 | N46: 327 | O46: =N46-N45 -> 0 | P46: 349 | Q46: =P46-P45 -> 0 | R46: 6 | S46: =R46-R45 -> 0 | T46: 114554 | U46: =T46-T45 -> 0 | V46: 75 | W46: =V46-V45 -> 0 | X46: 506 | Y46: =X46-X45 -> 0 | AA46: =SUM(C46+E46+G46+I46+K46+M46+O46+Q46+S46+U46+W46+Y46) -> 0 | AB46: =AB45+AA46 -> 2178
A47: 43504 | B47: 5 | C47: =B47-B46 -> 0 | D47: 582 | E47: =D47-D45 -> 0 | F47: 15 | G47: =F47-F46 -> 0 | H47: 370 | I47: =H47-H46 -> 0 | J47: 4 | K47: =J47-J46 -> 0 | L47: 643 | M47: =L47-L46 -> 0 | N47: 327 | O47: =N47-N46 -> 0 | P47: 349 | Q47: =P47-P46 -> 0 | R47: 6 | S47: =R47-R46 -> 0 | T47: 114554 | U47: =T47-T46 -> 0 | V47: 75 | W47: =V47-V46 -> 0 | X47: 506 | Y47: =X47-X46 -> 0 | AA47: =SUM(C47+E47+G47+I47+K47+M47+O47+Q47+S47+U47+W47+Y47) -> 0 | AB47: =AB46+AA47 -> 2178
A48: 43505 | B48: 5 | C48: =B48-B47 -> 0 | D48: 582 | E48: =D48-D46 -> 0 | F48: 15 | G48: =F48-F47 -> 0 | H48: 370 | I48: =H48-H47 -> 0 | J48: 4 | K48: =J48-J47 -> 0 | L48: 643 | M48: =L48-L47 -> 0 | N48: 327 | O48: =N48-N47 -> 0 | P48: 349 | Q48: =P48-P47 -> 0 | R48: 6 | S48: =R48-R47 -> 0 | T48: 114554 | U48: =T48-T47 -> 0 | V48: 75 | W48: =V48-V47 -> 0 | X48: 506 | Y48: =X48-X47 -> 0 | AA48: =SUM(C48+E48+G48+I48+K48+M48+O48+Q48+S48+U48+W48+Y48) -> 0 | AB48: =AB47+AA48 -> 2178
A49: 43506 | B49: 5 | C49: =B49-B48 -> 0 | D49: 582 | E49: =D49-D48 -> 0 | F49: 15 | G49: =F49-F48 -> 0 | H49: 370 | I49: =H49-H48 -> 0 | J49: 4 | K49: =J49-J48 -> 0 | L49: 643 | M49: =L49-L48 -> 0 | N49: 327 | O49: =N49-N48 -> 0 | P49: 349 | Q49: =P49-P48 -> 0 | R49: 6 | S49: =R49-R48 -> 0 | T49: 115536 | U49: =T49-T48 -> 982 | V49: 75 | W49: =V49-V48 -> 0 | X49: 506 | Y49: =X49-X48 -> 0 | AA49: =SUM(C49+E49+G49+I49+K49+M49+O49+Q49+S49+U49+W49+Y49) -> 982 | AB49: =AB48+AA49 -> 3160
A50: 43507 | B50: 5 | C50: =B50-B49 -> 0 | D50: 582 | E50: =D50-D49 -> 0 | F50: 15 | G50: =F50-F49 -> 0 | H50: 370 | I50: =H50-H49 -> 0 | J50: 4 | K50: =J50-J49 -> 0 | L50: 643 | M50: =L50-L49 -> 0 | N50: 327 | O50: =N50-N49 -> 0 | P50: 349 | Q50: =P50-P49 -> 0 | R50: 6 | S50: =R50-R49 -> 0 | T50: 115536 | U50: =T50-T49 -> 0 | V50: 75 | W50: =V50-V49 -> 0 | X50: 506 | Y50: =X50-X49 -> 0 | AA50: =SUM(C50+E50+G50+I50+K50+M50+O50+Q50+S50+U50+W50+Y50) -> 0 | AB50: =AB49+AA50 -> 3160
A51: 43508 | B51: 5 | C51: =B51-B50 -> 0 | D51: 582 | E51: =D51-D50 -> 0 | F51: 15 | G51: =F51-F50 -> 0 | H51: 370 | I51: =H51-H50 -> 0 | J51: 4 | K51: =J51-J50 -> 0 | L51: 643 | M51: =L51-L50 -> 0 | N51: 327 | O51: =N51-N50 -> 0 | P51: 349 | Q51: =P51-P50 -> 0 | R51: 6 | S51: =R51-R50 -> 0 | T51: 115536 | U51: =T51-T50 -> 0 | V51: 75 | W51: =V51-V50 -> 0 | X51: 506 | Y51: =X51-X50 -> 0 | AA51: =SUM(C51+E51+G51+I51+K51+M51+O51+Q51+S51+U51+W51+Y51) -> 0 | AB51: =AB50+AA51 -> 3160
A52: 43509 | B52: 5 | C52: =B52-B51 -> 0 | D52: 582 | E52: =D52-D51 -> 0 | F52: 15 | G52: =F52-F51 -> 0 | H52: 370 | I52: =H52-H51 -> 0 | J52: 4 | K52: =J52-J51 -> 0 | L52: 643 | M52: =L52-L51 -> 0 | N52: 327 | O52: =N52-N51 -> 0 | P52: 349 | Q52: =P52-P51 -> 0 | R52: 6 | S52: =R52-R51 -> 0 | T52: 115536 | U52: =T52-T51 -> 0 | V52: 75 | W52: =V52-V51 -> 0 | X52: 506 | Y52: =X52-X51 -> 0 | AA52: =SUM(C52+E52+G52+I52+K52+M52+O52+Q52+S52+U52+W52+Y52) -> 0 | AB52: =AB51+AA52 -> 3160
A53: 43510 | B53: 5 | C53: =B53-B52 -> 0 | D53: 582 | E53: =D53-D52 -> 0 | F53: 15 | G53: =F53-F52 -> 0 | H53: 370 | I53: =H53-H52 -> 0 | J53: 4 | K53: =J53-J52 -> 0 | L53: 643 | M53: =L53-L52 -> 0 | N53: 327 | O53: =N53-N52 -> 0 | P53: 349 | Q53: =P53-P52 -> 0 | R53: 6 | S53: =R53-R52 -> 0 | T53: 115536 | U53: =T53-T52 -> 0 | V53: 75 | W53: =V53-V52 -> 0 | X53: 506 | Y53: =X53-X52 -> 0 | AA53: =SUM(C53+E53+G53+I53+K53+M53+O53+Q53+S53+U53+W53+Y53) -> 0 | AB53: =AB52+AA53 -> 3160
A54: 43511 | B54: 5 | C54: =B54-B53 -> 0 | D54: 582 | E54: =D54-D53 -> 0 | F54: 15 | G54: =F54-F53 -> 0 | H54: 370 | I54: =H54-H53 -> 0 | J54: 4 | K54: =J54-J53 -> 0 | L54: 643 | M54: =L54-L53 -> 0 | N54: 327 | O54: =N54-N53 -> 0 | P54: 349 | Q54: =P54-P53 -> 0 | R54: 6 | S54: =R54-R53 -> 0 | T54: 115536 | U54: =T54-T53 -> 0 | V54: 75 | W54: =V54-V53 -> 0 | X54: 506 | Y54: =X54-X53 -> 0 | AA54: =SUM(C54+E54+G54+I54+K54+M54+O54+Q54+S54+U54+W54+Y54) -> 0 | AB54: =AB53+AA54 -> 3160
...
