Workbook

Sheet Synthèse
H2: emp1
B20: Total | C20: Année | E20: % France | F20: Limite
D21: 520000
B22: 1111756 | C22: 2006 | D22: 455625 | E22: =D22/B22 -> 0.40982464 | F22: 520000
B23: 712342 | C23: 2007 | D23: 446114 | E23: =D23/B23 -> 0.62626379 | F23: 520000
B24: 571906 | C24: 2008 | D24: 282968 | E24: =D24/B24 -> 0.49478061 | F24: 520000
B25: 702553 | C25: 2009 | D25: 303317 | E25: =D25/B25 -> 0.4317354 | F25: 520000
B26: 718536 | C26: 2010 | D26: 48534 | E26: =D26/B26 -> 0.067545676 | F26: 520000
B27: 627961 | C27: 2011 | D27: 105701 | E27: =D27/B27 -> 0.16832415 | F27: 520000
B28: 637016 | C28: 2012 | D28: 53548 | E28: =D28/B28 -> 0.084060683 | F28: 520000
B29: 486637 | C29: 2013 | D29: 84419 | E29: =D29/B29 -> 0.17347427 | F29: 520000
B30: 654442 | C30: 2014 | D30: 83413 | E30: =D30/B30 -> 0.12745667 | F30: 520000
B31: 575092.5 | C31: 2015 | D31: 66047 | E31: =D31/B31 -> 0.11484587 | F31: 520000
B32: 463152 | C32: 2016 | D32: 46664 | E32: =D32/B32 -> 0.1007531 | F32: 520000
B33: 493820 | C33: 2017 | D33: 34420 | E33: =D33/B33 -> 0.069701511 | F33: 520000
B34: 617511 | C34: 2018 | D34: 23218 | E34: =D34/B34 -> 0.03759933 | F34: 520000

Sheet Année en cours
F2: Synthèse année actuelle
A5: CONSO
A6: Annuelle | B6: =SUM(Détail!C9:C373) -> 0 | C6: =SUM(Détail!E9:E373) -> 141 | D6: =SUM(Détail!G9:G373) -> 14 | E6: =SUM(Détail!I9:I373) -> 85 | F6: =SUM(Détail!K9:K373) -> 0 | G6: =SUM(Détail!M9:M373) -> 1 | H6: =SUM(Détail!O9:O373) -> 0 | I6: =SUM(Détail!Q9:Q373) -> 0 | J6: =SUM(Détail!S9:S373) -> 0 | K6: =SUM(Détail!U9:U373) -> 21223 | L6: =SUM(Détail!W9:W373) -> 88 | M6: =SUM(Détail!Y9:Y373) -> 31
A7: Journaliere | B7: =B6/365 -> 0 | C7: =C6/365 -> 0.38630137 | D7: =D6/365 -> 0.038356164 | E7: =E6/365 -> 0.23287671 | F7: =F6/365 -> 0 | G7: =G6/365 -> 0.002739726 | H7: =H6/365 -> 0 | I7: =I6/365 -> 0 | ... M7: =M6/365 -> 0.084931507
A8: Hebdomadaire | B8: =B7*7 -> 0 | C8: =C7*7 -> 2.7041096 | D8: =D7*7 -> 0.26849315 | E8: =E7*7 -> 1.630137 | F8: =F7*7 -> 0 | G8: =G7*7 -> 0.019178082 | H8: =H7*7 -> 0 | I8: =I7*7 -> 0 | ... M8: =M7*7 -> 0.59452055
A10: Conso totale (limite=520 000) | B10: =B6+C6+D6+E6+F6+G6+H6+I6+J6+K6+L6+M6 -> 21583

Sheet Prévisions
A1: DATE | B1: Consommation réelle | C1: Prévisions selon tendance | D1: Prévisions à la hausse (95% de confiance)
A2: 43466 | B2: 0
A3: 43467 | B3: 0
A4: 43468 | B4: 0
A5: 43469 | B5: 0
A6: 43470 | B6: 83
A7: 43471 | B7: 83
A8: 43472 | B8: 83
A9: 43473 | B9: 83
A10: 43474 | B10: 83
A11: 43475 | B11: 83
A12: 43476 | B12: 83
A13: 43477 | B13: 83
... A299: 43763 | B299: 21120
A300: 43764 | B300: 21583 | C300: 21583 | D300: 21583
A301: 43765 | C301: =IF(Tableau1[[#This Row],[Consommation réelle]]<>0,Tableau1[[#This Row],[Consommation réelle]],IF(C300=B300,_xlfn.FORECAST.ETS(A301,$B$2:$B300,$A$2:$A300,1,1),_xlfn.FORECAST.ETS(A301,$B$2:$B300,$A$2:$A300,1,1))) -> 21615.275 | D301: =IF(Tableau1[[#This Row],[Consommation réelle]]=Tableau1[[#This Row],[Prévisions selon tendance]],Tableau1[[#This Row],[Consommation réelle]],C301+_xlfn.FORECAST.ETS.CONFINT(A301,$B$2:$B300,$A$2:$A300,0.95,1,1)) -> 22078.729
A302: 43766 | C302: =IF(Tableau1[[#This Row],[Consommation réelle]]<>0,Tableau1[[#This Row],[Consommation réelle]],IF(C301=B301,_xlfn.FORECAST.ETS(A302,$B$2:$B301,$A$2:$A301,1,1),_xlfn.FORECAST.ETS(A302,$B$2:$B301,$A$2:$A301,1,1))) -> 21686.03 | D302: =IF(Tableau1[[#This Row],[Consommation réelle]]=Tableau1[[#This Row],[Prévisions selon tendance]],Tableau1[[#This Row],[Consommation réelle]],C302+_xlfn.FORECAST.ETS.CONFINT(A302,$B$2:$B301,$A$2:$A301,0.95,1,1)) -> 22309.853
A303: 43767 | C303: =IF(Tableau1[[#This Row],[Consommation réelle]]<>0,Tableau1[[#This Row],[Consommation réelle]],IF(C302=B302,_xlfn.FORECAST.ETS(A303,$B$2:$B302,$A$2:$A302,1,1),_xlfn.FORECAST.ETS(A303,$B$2:$B302,$A$2:$A302,1,1))) -> 21756.785 | D303: =IF(Tableau1[[#This Row],[Consommation réelle]]=Tableau1[[#This Row],[Prévisions selon tendance]],Tableau1[[#This Row],[Consommation réelle]],C303+_xlfn.FORECAST.ETS.CONFINT(A303,$B$2:$B302,$A$2:$A302,0.95,1,1)) -> 22507.724
A304: 43768 | C304: =IF(Tableau1[[#This Row],[Consommation réelle]]<>0,Tableau1[[#This Row],[Consommation réelle]],IF(C303=B303,_xlfn.FORECAST.ETS(A304,$B$2:$B303,$A$2:$A303,1,1),_xlfn.FORECAST.ETS(A304,$B$2:$B303,$A$2:$A303,1,1))) -> 21827.541 | D304: =IF(Tableau1[[#This Row],[Consommation réelle]]=Tableau1[[#This Row],[Prévisions selon tendance]],Tableau1[[#This Row],[Consommation réelle]],C304+_xlfn.FORECAST.ETS.CONFINT(A304,$B$2:$B303,$A$2:$A303,0.95,1,1)) -> 22687.221
A305: 43769 | C305: =IF(Tableau1[[#This Row],[Consommation réelle]]<>0,Tableau1[[#This Row],[Consommation réelle]],IF(C304=B304,_xlfn.FORECAST.ETS(A305,$B$2:$B304,$A$2:$A304,1,1),_xlfn.FORECAST.ETS(A305,$B$2:$B304,$A$2:$A304,1,1))) -> 21898.296 | D305: =IF(Tableau1[[#This Row],[Consommation réelle]]=Tableau1[[#This Row],[Prévisions selon tendance]],Tableau1[[#This Row],[Consommation réelle]],C305+_xlfn.FORECAST.ETS.CONFINT(A305,$B$2:$B304,$A$2:$A304,0.95,1,1)) -> 22854.632
A306: 43770 | C306: =IF(Tableau1[[#This Row],[Consommation réelle]]<>0,Tableau1[[#This Row],[Consommation réelle]],IF(C305=B305,_xlfn.FORECAST.ETS(A306,$B$2:$B305,$A$2:$A305,1,1),_xlfn.FORECAST.ETS(A306,$B$2:$B305,$A$2:$A305,1,1))) -> 21969.051 | D306: =IF(Tableau1[[#This Row],[Consommation réelle]]=Tableau1[[#This Row],[Prévisions selon tendance]],Tableau1[[#This Row],[Consommation réelle]],C306+_xlfn.FORECAST.ETS.CONFINT(A306,$B$2:$B305,$A$2:$A305,0.95,1,1)) -> 23013.319
A307: 43771 | C307: =IF(Tableau1[[#This Row],[Consommation réelle]]<>0,Tableau1[[#This Row],[Consommation réelle]],IF(C306=B306,_xlfn.FORECAST.ETS(A307,$B$2:$B306,$A$2:$A306,1,1),_xlfn.FORECAST.ETS(A307,$B$2:$B306,$A$2:$A306,1,1))) -> 22039.806 | D307: =IF(Tableau1[[#This Row],[Consommation réelle]]=Tableau1[[#This Row],[Prévisions selon tendance]],Tableau1[[#This Row],[Consommation réelle]],C307+_xlfn.FORECAST.ETS.CONFINT(A307,$B$2:$B306,$A$2:$A306,0.95,1,1)) -> 23165.33
A308: 43772 | C308: =IF(Tableau1[[#This Row],[Consommation réelle]]<>0,Tableau1[[#This Row],[Consommation réelle]],IF(C307=B307,_xlfn.FORECAST.ETS(A308,$B$2:$B307,$A$2:$A307,1,1),_xlfn.FORECAST.ETS(A308,$B$2:$B307,$A$2:$A307,1,1))) -> 22110.561 | D308: =IF(Tableau1[[#This Row],[Consommation réelle]]=Tableau1[[#This Row],[Prévisions selon tendance]],Tableau1[[#This Row],[Consommation réelle]],C308+_xlfn.FORECAST.ETS.CONFINT(A308,$B$2:$B307,$A$2:$A307,0.95,1,1)) -> 23312.019
A309: 43773 | C309: =IF(Tableau1[[#This Row],[Consommation réelle]]<>0,Tableau1[[#This Row],[Consommation réelle]],IF(C308=B308,_xlfn.FORECAST.ETS(A309,$B$2:$B308,$A$2:$A308,1,1),_xlfn.FORECAST.ETS(A309,$B$2:$B308,$A$2:$A308,1,1))) -> 22181.317 | D309: =IF(Tableau1[[#This Row],[Consommation réelle]]=Tableau1[[#This Row],[Prévisions selon tendance]],Tableau1[[#This Row],[Consommation réelle]],C309+_xlfn.FORECAST.ETS.CONFINT(A309,$B$2:$B308,$A$2:$A308,0.95,1,1)) -> 23454.339
A310: 43774 | C310: =IF(Tableau1[[#This Row],[Consommation réelle]]<>0,Tableau1[[#This Row],[Consommation réelle]],IF(C309=B309,_xlfn.FORECAST.ETS(A310,$B$2:$B309,$A$2:$A309,1,1),_xlfn.FORECAST.ETS(A310,$B$2:$B309,$A$2:$A309,1,1))) -> 22252.072 | D310: =IF(Tableau1[[#This Row],[Consommation réelle]]=Tableau1[[#This Row],[Prévisions selon tendance]],Tableau1[[#This Row],[Consommation réelle]],C310+_xlfn.FORECAST.ETS.CONFINT(A310,$B$2:$B309,$A$2:$A309,0.95,1,1)) -> 23592.99
A311: 43775 | C311: =IF(Tableau1[[#This Row],[Consommation réelle]]<>0,Tableau1[[#This Row],[Consommation réelle]],IF(C310=B310,_xlfn.FORECAST.ETS(A311,$B$2:$B310,$A$2:$A310,1,1),_xlfn.FORECAST.ETS(A311,$B$2:$B310,$A$2:$A310,1,1))) -> 22322.827 | D311: =IF(Tableau1[[#This Row],[Consommation réelle]]=Tableau1[[#This Row],[Prévisions selon tendance]],Tableau1[[#This Row],[Consommation réelle]],C311+_xlfn.FORECAST.ETS.CONFINT(A311,$B$2:$B310,$A$2:$A310,0.95,1,1)) -> 23728.504
A312: 43776 | C312: =IF(Tableau1[[#This Row],[Consommation réelle]]<>0,Tableau1[[#This Row],[Consommation réelle]],IF(C311=B311,_xlfn.FORECAST.ETS(A312,$B$2:$B311,$A$2:$A311,1,1),_xlfn.FORECAST.ETS(A312,$B$2:$B311,$A$2:$A311,1,1))) -> 22393.582 | D312: =IF(Tableau1[[#This Row],[Consommation réelle]]=Tableau1[[#This Row],[Prévisions selon tendance]],Tableau1[[#This Row],[Consommation réelle]],C312+_xlfn.FORECAST.ETS.CONFINT(A312,$B$2:$B311,$A$2:$A311,0.95,1,1)) -> 23861.297
... A367: 43831 | C367: =IF(Tableau1[[#This Row],[Consommation réelle]]<>0,Tableau1[[#This Row],[Consommation réelle]],IF(C366=B366,_xlfn.FORECAST.ETS(A367,$B$2:$B366,$A$2:$A366,1,1),_xlfn.FORECAST.ETS(A367,$B$2:$B366,$A$2:$A366,1,1))) -> 26285.117 | D367: =IF(Tableau1[[#This Row],[Consommation réelle]]=Tableau1[[#This Row],[Prévisions selon tendance]],Tableau1[[#This Row],[Consommation réelle]],C367+_xlfn.FORECAST.ETS.CONFINT(A367,$B$2:$B366,$A$2:$A366,0.95,1,1)) -> 29831.001

Sheet Détail
AA5: =SUMPRODUCT((YEAR(A9:A5000)=2019)*(U9:U5000)) -> 21223
A6: "
A8: DATE | AA8: Total | AB8: Cumul
A9: 43466 | B9: 5 | D9: 495 | F9: 15 | H9: 368 | J9: 4 | L9: 643 | N9: 327 | P9: 349 | R9: 6 | T9: 112477 | V9: 75 | X9: 494 | AA9: =SUM(C9+E9+G9+I9+K9+M9+O9+Q9+S9+U9+W9+Y9) -> 0 | AB9: 0
A10: 43467 | B10: 5 | D10: 495 | F10: 15 | H10: 368 | J10: 4 | L10: 643 | N10: 327 | P10: 349 | R10: 6 | T10: 112477 | V10: 75 | X10: 494 | AA10: =SUM(C10+E10+G10+I10+K10+M10+O10+Q10+S10+U10+W10+Y10) -> 0 | AB10: =AB9+AA10 -> 0
A11: 43468 | B11: 5 | D11: 495 | F11: 15 | H11: 368 | J11: 4 | L11: 643 | N11: 327 | P11: 349 | R11: 6 | T11: 112477 | V11: 75 | X11: 494 | AA11: =SUM(C11+E11+G11+I11+K11+M11+O11+Q11+S11+U11+W11+Y11) -> 0 | AB11: =AB10+AA11 -> 0
A12: 43469 | B12: 5 | D12: 495 | F12: 15 | H12: 368 | J12: 4 | L12: 643 | N12: 327 | P12: 349 | R12: 6 | T12: 112477 | V12: 75 | X12: 494 | AA12: =SUM(C12+E12+G12+I12+K12+M12+O12+Q12+S12+U12+W12+Y12) -> 0 | AB12: =AB11+AA12 -> 0
A13: 43470 | B13: 5 | C13: =B13-B12 -> 0 | D13: 495 | E13: =D13-D12 -> 0 | F13: 15 | G13: =F13-F12 -> 0 | H13: 368 | I13: =H13-H12 -> 0 | J13: 4 | K13: =J13-J12 -> 0 | L13: 643 | M13: =L13-L12 -> 0 | N13: 327 | O13: =N13-N12 -> 0 | P13: 349 | Q13: =P13-P12 -> 0 | R13: 6 | S13: =R13-R12 -> 0 | T13: 112560 | U13: =T13-T12 -> 83 | V13: 75 | W13: =V13-V12 -> 0 | X13: 494 | Y13: =X13-X12 -> 0 | AA13: =SUM(C13+E13+G13+I13+K13+M13+O13+Q13+S13+U13+W13+Y13) -> 83 | AB13: =AB12+AA13 -> 83
A14: 43471 | B14: 5 | C14: =B14-B13 -> 0 | D14: 495 | E14: =D14-D13 -> 0 | F14: 15 | G14: =F14-F13 -> 0 | H14: 368 | I14: =H14-H13 -> 0 | J14: 4 | K14: =J14-J13 -> 0 | L14: 643 | M14: =L14-L13 -> 0 | N14: 327 | O14: =N14-N13 -> 0 | P14: 349 | Q14: =P14-P13 -> 0 | R14: 6 | S14: =R14-R13 -> 0 | T14: 112560 | U14: =T14-T13 -> 0 | V14: 75 | W14: =V14-V13 -> 0 | X14: 494 | Y14: =X14-X13 -> 0 | AA14: =SUM(C14+E14+G14+I14+K14+M14+O14+Q14+S14+U14+W14+Y14) -> 0 | AB14: =AB13+AA14 -> 83
A15: 43472 | B15: 5 | C15: =B15-B14 -> 0 | D15: 495 | E15: =D15-D14 -> 0 | F15: 15 | G15: =F15-F14 -> 0 | H15: 368 | I15: =H15-H14 -> 0 | J15: 4 | K15: =J15-J14 -> 0 | L15: 643 | M15: =L15-L14 -> 0 | N15: 327 | O15: =N15-N14 -> 0 | P15: 349 | Q15: =P15-P14 -> 0 | R15: 6 | S15: =R15-R14 -> 0 | T15: 112560 | U15: =T15-T14 -> 0 | V15: 75 | W15: =V15-V14 -> 0 | X15: 494 | Y15: =X15-X14 -> 0 | AA15: =SUM(C15+E15+G15+I15+K15+M15+O15+Q15+S15+U15+W15+Y15) -> 0 | AB15: =AB14+AA15 -> 83
A16: 43473 | B16: 5 | C16: =B16-B15 -> 0 | D16: 495 | E16: =D16-D15 -> 0 | F16: 15 | G16: =F16-F15 -> 0 | H16: 368 | I16: =H16-H15 -> 0 | J16: 4 | K16: =J16-J15 -> 0 | L16: 643 | M16: =L16-L15 -> 0 | N16: 327 | O16: =N16-N15 -> 0 | P16: 349 | Q16: =P16-P15 -> 0 | R16: 6 | S16: =R16-R15 -> 0 | T16: 112560 | U16: =T16-T15 -> 0 | V16: 75 | W16: =V16-V15 -> 0 | X16: 494 | Y16: =X16-X15 -> 0 | AA16: =SUM(C16+E16+G16+I16+K16+M16+O16+Q16+S16+U16+W16+Y16) -> 0 | AB16: =AB15+AA16 -> 83
A17: 43474 | B17: 5 | C17: =B17-B16 -> 0 | D17: 495 | E17: =D17-D16 -> 0 | F17: 15 | G17: =F17-F16 -> 0 | H17: 368 | I17: =H17-H16 -> 0 | J17: 4 | K17: =J17-J16 -> 0 | L17: 643 | M17: =L17-L16 -> 0 | N17: 327 | O17: =N17-N16 -> 0 | P17: 349 | Q17: =P17-P16 -> 0 | R17: 6 | S17: =R17-R16 -> 0 | T17: 112560 | U17: =T17-T16 -> 0 | V17: 75 | W17: =V17-V16 -> 0 | X17: 494 | Y17: =X17-X16 -> 0 | AA17: =SUM(C17+E17+G17+I17+K17+M17+O17+Q17+S17+U17+W17+Y17) -> 0 | AB17: =AB16+AA17 -> 83
A18: 43475 | B18: 5 | C18: =B18-B17 -> 0 | D18: 495 | E18: =D18-D17 -> 0 | F18: 15 | G18: =F18-F17 -> 0 | H18: 368 | I18: =H18-H17 -> 0 | J18: 4 | K18: =J18-J17 -> 0 | L18: 643 | M18: =L18-L17 -> 0 | N18: 327 | O18: =N18-N17 -> 0 | P18: 349 | Q18: =P18-P17 -> 0 | R18: 6 | S18: =R18-R17 -> 0 | T18: 112560 | U18: =T18-T17 -> 0 | V18: 75 | W18: =V18-V17 -> 0 | X18: 494 | Y18: =X18-X17 -> 0 | AA18: =SUM(C18+E18+G18+I18+K18+M18+O18+Q18+S18+U18+W18+Y18) -> 0 | AB18: =AB17+AA18 -> 83
A19: 43476 | B19: 5 | C19: =B19-B18 -> 0 | D19: 495 | E19: =D19-D18 -> 0 | F19: 15 | G19: =F19-F18 -> 0 | H19: 368 | I19: =H19-H18 -> 0 | J19: 4 | K19: =J19-J18 -> 0 | L19: 643 | M19: =L19-L18 -> 0 | N19: 327 | O19: =N19-N18 -> 0 | P19: 349 | Q19: =P19-P18 -> 0 | R19: 6 | S19: =R19-R18 -> 0 | T19: 112560 | U19: =T19-T18 -> 0 | V19: 75 | W19: =V19-V18 -> 0 | X19: 494 | Y19: =X19-X18 -> 0 | AA19: =SUM(C19+E19+G19+I19+K19+M19+O19+Q19+S19+U19+W19+Y19) -> 0 | AB19: =AB18+AA19 -> 83
A20: 43477 | B20: 5 | C20: =B20-B19 -> 0 | D20: 495 | E20: =D20-D19 -> 0 | F20: 15 | G20: =F20-F19 -> 0 | H20: 368 | I20: =H20-H19 -> 0 | J20: 4 | K20: =J20-J19 -> 0 | L20: 643 | M20: =L20-L19 -> 0 | N20: 327 | O20: =N20-N19 -> 0 | P20: 349 | Q20: =P20-P19 -> 0 | R20: 6 | S20: =R20-R19 -> 0 | T20: 112560 | U20: =T20-T19 -> 0 | V20: 75 | W20: =V20-V19 -> 0 | X20: 494 | Y20: =X20-X19 -> 0 | AA20: =SUM(C20+E20+G20+I20+K20+M20+O20+Q20+S20+U20+W20+Y20) -> 0 | AB20: =AB19+AA20 -> 83
A21: 43478 | B21: 5 | C21: =B21-B20 -> 0 | D21: 495 | E21: =D21-D20 -> 0 | F21: 15 | G21: =F21-F20 -> 0 | H21: 370 | I21: =H21-H20 -> 2 | J21: 4 | K21: =J21-J20 -> 0 | L21: 643 | M21: =L21-L20 -> 0 | N21: 327 | O21: =N21-N20 -> 0 | P21: 349 | Q21: =P21-P20 -> 0 | R21: 6 | S21: =R21-R20 -> 0 | T21: 113133 | U21: =T21-T20 -> 573 | V21: 75 | W21: =V21-V20 -> 0 | X21: 506 | Y21: =X21-X20 -> 12 | AA21: =SUM(C21+E21+G21+I21+K21+M21+O21+Q21+S21+U21+W21+Y21) -> 587 | AB21: =AB20+AA21 -> 670
A22: 43479 | B22: 5 | C22: =B22-B21 -> 0 | D22: 495 | E22: =D22-D21 -> 0 | F22: 15 | G22: =F22-F21 -> 0 | H22: 370 | I22: =H22-H21 -> 0 | J22: 4 | K22: =J22-J21 -> 0 | L22: 643 | M22: =L22-L21 -> 0 | N22: 327 | O22: =N22-N21 -> 0 | P22: 349 | Q22: =P22-P21 -> 0 | R22: 6 | S22: =R22-R21 -> 0 | T22: 113133 | U22: =T22-T21 -> 0 | V22: 75 | W22: =V22-V21 -> 0 | X22: 506 | Y22: =X22-X21 -> 0 | AA22: =SUM(C22+E22+G22+I22+K22+M22+O22+Q22+S22+U22+W22+Y22) -> 0 | AB22: =AB21+AA22 -> 670
A23: 43480 | B23: 5 | C23: =B23-B22 -> 0 | D23: 495 | E23: =D23-D22 -> 0 | F23: 15 | G23: =F23-F22 -> 0 | H23: 370 | I23: =H23-H22 -> 0 | J23: 4 | K23: =J23-J22 -> 0 | L23: 643 | M23: =L23-L22 -> 0 | N23: 327 | O23: =N23-N22 -> 0 | P23: 349 | Q23: =P23-P22 -> 0 | R23: 6 | S23: =R23-R22 -> 0 | T23: 113133 | U23: =T23-T22 -> 0 | V23: 75 | W23: =V23-V22 -> 0 | X23: 506 | Y23: =X23-X22 -> 0 | AA23: =SUM(C23+E23+G23+I23+K23+M23+O23+Q23+S23+U23+W23+Y23) -> 0 | AB23: =AB22+AA23 -> 670
A24: 43481 | B24: 5 | C24: =B24-B23 -> 0 | D24: 495 | E24: =D24-D23 -> 0 | F24: 15 | G24: =F24-F23 -> 0 | H24: 370 | I24: =H24-H23 -> 0 | J24: 4 | K24: =J24-J23 -> 0 | L24: 643 | M24: =L24-L23 -> 0 | N24: 327 | O24: =N24-N23 -> 0 | P24: 349 | Q24: =P24-P23 -> 0 | R24: 6 | S24: =R24-R23 -> 0 | T24: 113133 | U24: =T24-T23 -> 0 | V24: 75 | W24: =V24-V23 -> 0 | X24: 506 | Y24: =X24-X23 -> 0 | AA24: =SUM(C24+E24+G24+I24+K24+M24+O24+Q24+S24+U24+W24+Y24) -> 0 | AB24: =AB23+AA24 -> 670
... A34: 43491 | B34: 5 | C34: =B34-B33 -> 0 | D34: 553 | E34: =D34-D33 -> 0 | F34: 15 | G34: =F34-F33 -> 0 | H34: 370 | I34: =H34-H33 -> 0 | J34: 4 | K34: =J34-J33 -> 0 | L34: 643 | M34: =L34-L33 -> 0 | N34: 327 | O34: =N34-N33 -> 0 | P34: 349 | Q34: =P34-P33 -> 0 | R34: 6 | S34: =R34-R33 -> 0 | T34: 113133 | U34: =T34-T33 -> 0 | V34: 75 | W34: =V34-V33 -> 0 | X34: 506 | Y34: =X34-X33 -> 0 | AA34: =SUM(C34+E34+G34+I34+K34+M34+O34+Q34+S34+U34+W34+Y34) -> 0 | AB34: =AB33+AA34 -> 728
A35: 43492 | B35: 5 | C35: =B35-B34 -> 0 | D35: 553 | E35: 0 | F35: 15 | G35: =F35-F34 -> 0 | H35: 370 | I35: =H35-H34 -> 0 | J35: 4 | K35: =J35-J34 -> 0 | L35: 643 | M35: =L35-L34 -> 0 | N35: 327 | O35: =N35-N34 -> 0 | P35: 349 | Q35: =P35-P34 -> 0 | R35: 6 | S35: =R35-R34 -> 0 | T35: 114053 | U35: =T35-T34 -> 920 | V35: 75 | W35: =V35-V34 -> 0 | X35: 506 | Y35: =X35-X34 -> 0 | AA35: =SUM(C35+E35+G35+I35+K35+M35+O35+Q35+S35+U35+W35+Y35) -> 920 | AB35: =AB34+AA35 -> 1648
A36: 43493 | B36: 5 | C36: =B36-B35 -> 0 | D36: 553 | E36: 0 | F36: 15 | G36: =F36-F35 -> 0 | H36: 370 | I36: =H36-H35 -> 0 | J36: 4 | K36: =J36-J35 -> 0 | L36: 643 | M36: =L36-L35 -> 0 | N36: 327 | O36: =N36-N35 -> 0 | P36: 349 | Q36: =P36-P35 -> 0 | R36: 6 | S36: =R36-R35 -> 0 | T36: 114053 | U36: =T36-T35 -> 0 | V36: 75 | W36: =V36-V35 -> 0 | X36: 506 | Y36: =X36-X35 -> 0 | AA36: =SUM(C36+E36+G36+I36+K36+M36+O36+Q36+S36+U36+W36+Y36) -> 0 | AB36: =AB35+AA36 -> 1648
A37: 43494 | B37: 5 | C37: =B37-B36 -> 0 | D37: 553 | E37: 0 | F37: 15 | G37: =F37-F36 -> 0 | H37: 370 | I37: =H37-H36 -> 0 | J37: 4 | K37: =J37-J36 -> 0 | L37: 643 | M37: =L37-L36 -> 0 | N37: 327 | O37: =N37-N36 -> 0 | P37: 349 | Q37: =P37-P36 -> 0 | R37: 6 | S37: =R37-R36 -> 0 | T37: 114053 | U37: =T37-T36 -> 0 | V37: 75 | W37: =V37-V36 -> 0 | X37: 506 | Y37: =X37-X36 -> 0 | AA37: =SUM(C37+E37+G37+I37+K37+M37+O37+Q37+S37+U37+W37+Y37) -> 0 | AB37: =AB36+AA37 -> 1648
A38: 43495 | B38: 5 | C38: =B38-B37 -> 0 | D38: 553 | E38: 0 | F38: 15 | G38: =F38-F37 -> 0 | H38: 370 | I38: =H38-H37 -> 0 | J38: 4 | K38: =J38-J37 -> 0 | L38: 643 | M38: =L38-L37 -> 0 | N38: 327 | O38: =N38-N37 -> 0 | P38: 349 | Q38: =P38-P37 -> 0 | R38: 6 | S38: =R38-R37 -> 0 | T38: 114053 | U38: =T38-T37 -> 0 | V38: 75 | W38: =V38-V37 -> 0 | X38: 506 | Y38: =X38-X37 -> 0 | AA38: =SUM(C38+E38+G38+I38+K38+M38+O38+Q38+S38+U38+W38+Y38) -> 0 | AB38: =AB37+AA38 -> 1648
A39: 43496 | B39: 5 | C39: =B39-B38 -> 0 | D39: 553 | E39: 0 | F39: 15 | G39: =F39-F38 -> 0 | H39: 370 | I39: =H39-H38 -> 0 | J39: 4 | K39: =J39-J38 -> 0 | L39: 643 | M39: =L39-L38 -> 0 | N39: 327 | O39: =N39-N38 -> 0 | P39: 349 | Q39: =P39-P38 -> 0 | R39: 6 | S39: =R39-R38 -> 0 | T39: 114053 | U39: =T39-T38 -> 0 | V39: 75 | W39: =V39-V38 -> 0 | X39: 506 | Y39: =X39-X38 -> 0 | AA39: =SUM(C39+E39+G39+I39+K39+M39+O39+Q39+S39+U39+W39+Y39) -> 0 | AB39: =AB38+AA39 -> 1648
A40: 43497 | B40: 5 | C40: =B40-B39 -> 0 | D40: 553 | E40: 0 | F40: 15 | G40: =F40-F39 -> 0 | H40: 370 | I40: =H40-H39 -> 0 | J40: 4 | K40: =J40-J39 -> 0 | L40: 643 | M40: =L40-L39 -> 0 | N40: 327 | O40: =N40-N39 -> 0 | P40: 349 | Q40: =P40-P39 -> 0 | R40: 6 | S40: =R40-R39 -> 0 | T40: 114053 | U40: =T40-T39 -> 0 | V40: 75 | W40: =V40-V39 -> 0 | X40: 506 | Y40: =X40-X39 -> 0 | AA40: =SUM(C40+E40+G40+I40+K40+M40+O40+Q40+S40+U40+W40+Y40) -> 0 | AB40: =AB39+AA40 -> 1648
A41: 43498 | B41: 5 | C41: =B41-B40 -> 0 | D41: 553 | E41: 0 | F41: 15 | G41: =F41-F40 -> 0 | H41: 370 | I41: =H41-H40 -> 0 | J41: 4 | K41: =J41-J40 -> 0 | L41: 643 | M41: =L41-L40 -> 0 | N41: 327 | O41: =N41-N40 -> 0 | P41: 349 | Q41: =P41-P40 -> 0 | R41: 6 | S41: =R41-R40 -> 0 | T41: 114053 | U41: =T41-T40 -> 0 | V41: 75 | W41: =V41-V40 -> 0 | X41: 506 | Y41: =X41-X40 -> 0 | AA41: =SUM(C41+E41+G41+I41+K41+M41+O41+Q41+S41+U41+W41+Y41) -> 0 | AB41: =AB40+AA41 -> 1648
A42: 43499 | B42: 5 | C42: =B42-B41 -> 0 | D42: 582 | E42: =D42-D40 -> 29 | F42: 15 | G42: =F42-F41 -> 0 | H42: 370 | I42: =H42-H41 -> 0 | J42: 4 | K42: =J42-J41 -> 0 | L42: 643 | M42: =L42-L41 -> 0 | N42: 327 | O42: =N42-N41 -> 0 | P42: 349 | Q42: =P42-P41 -> 0 | R42: 6 | S42: =R42-R41 -> 0 | T42: 114554 | U42: =T42-T41 -> 501 | V42: 75 | W42: =V42-V41 -> 0 | X42: 506 | Y42: =X42-X41 -> 0 | AA42: =SUM(C42+E42+G42+I42+K42+M42+O42+Q42+S42+U42+W42+Y42) -> 530 | AB42: =AB41+AA42 -> 2178
A43: 43500 | B43: 5 | C43: =B43-B42 -> 0 | D43: 582 | E43: 0 | F43: 15 | G43: =F43-F42 -> 0 | H43: 370 | I43: =H43-H42 -> 0 | J43: 4 | K43: =J43-J42 -> 0 | L43: 643 | M43: =L43-L42 -> 0 | N43: 327 | O43: =N43-N42 -> 0 | P43: 349 | Q43: =P43-P42 -> 0 | R43: 6 | S43: =R43-R42 -> 0 | T43: 114554 | U43: =T43-T42 -> 0 | V43: 75 | W43: =V43-V42 -> 0 | X43: 506 | Y43: =X43-X42 -> 0 | AA43: =SUM(C43+E43+G43+I43+K43+M43+O43+Q43+S43+U43+W43+Y43) -> 0 | AB43: =AB42+AA43 -> 2178
A44: 43501 | B44: 5 | C44: =B44-B43 -> 0 | D44: 582 | E44: =D44-D42 -> 0 | F44: 15 | G44: =F44-F43 -> 0 | H44: 370 | I44: =H44-H43 -> 0 | J44: 4 | K44: =J44-J43 -> 0 | L44: 643 | M44: =L44-L43 -> 0 | N44: 327 | O44: =N44-N43 -> 0 | P44: 349 | Q44: =P44-P43 -> 0 | R44: 6 | S44: =R44-R43 -> 0 | T44: 114554 | U44: =T44-T43 -> 0 | V44: 75 | W44: =V44-V43 -> 0 | X44: 506 | Y44: =X44-X43 -> 0 | AA44: =SUM(C44+E44+G44+I44+K44+M44+O44+Q44+S44+U44+W44+Y44) -> 0 | AB44: =AB43+AA44 -> 2178
A45: 43502 | B45: 5 | C45: =B45-B44 -> 0 | D45: 582 | E45: =D45-D43 -> 0 | F45: 15 | G45: =F45-F44 -> 0 | H45: 370 | I45: =H45-H44 -> 0 | J45: 4 | K45: =J45-J44 -> 0 | L45: 643 | M45: =L45-L44 -> 0 | N45: 327 | O45: =N45-N44 -> 0 | P45: 349 | Q45: =P45-P44 -> 0 | R45: 6 | S45: =R45-R44 -> 0 | T45: 114554 | U45: =T45-T44 -> 0 | V45: 75 | W45: =V45-V44 -> 0 | X45: 506 | Y45: =X45-X44 -> 0 | AA45: =SUM(C45+E45+G45+I45+K45+M45+O45+Q45+S45+U45+W45+Y45) -> 0 | AB45: =AB44+AA45 -> 2178
A46: 43503 | B46: 5 | C46: =B46-B45 -> 0 | D46: 582 | E46: =D46-D44 -> 0 | F46: 15 | G46: =F46-F45 -> 0 | H46: 370 | I46: =H46-H45 -> 0 | J46: 4 | K46: =J46-J45 -> 0 | L46: 643 | M46: =L46-L45 -> 0 | N46: 327 | O46: =N46-N45 -> 0 | P46: 349 | Q46: =P46-P45 -> 0 | R46: 6 | S46: =R46-R45 -> 0 | T46: 114554 | U46: =T46-T45 -> 0 | V46: 75 | W46: =V46-V45 -> 0 | X46: 506 | Y46: =X46-X45 -> 0 | AA46: =SUM(C46+E46+G46+I46+K46+M46+O46+Q46+S46+U46+W46+Y46) -> 0 | AB46: =AB45+AA46 -> 2178
A47: 43504 | B47: 5 | C47: =B47-B46 -> 0 | D47: 582 | E47: =D47-D45 -> 0 | F47: 15 | G47: =F47-F46 -> 0 | H47: 370 | I47: =H47-H46 -> 0 | J47: 4 | K47: =J47-J46 -> 0 | L47: 643 | M47: =L47-L46 -> 0 | N47: 327 | O47: =N47-N46 -> 0 | P47: 349 | Q47: =P47-P46 -> 0 | R47: 6 | S47: =R47-R46 -> 0 | T47: 114554 | U47: =T47-T46 -> 0 | V47: 75 | W47: =V47-V46 -> 0 | X47: 506 | Y47: =X47-X46 -> 0 | AA47: =SUM(C47+E47+G47+I47+K47+M47+O47+Q47+S47+U47+W47+Y47) -> 0 | AB47: =AB46+AA47 -> 2178
A48: 43505 | B48: 5 | C48: =B48-B47 -> 0 | D48: 582 | E48: =D48-D46 -> 0 | F48: 15 | G48: =F48-F47 -> 0 | H48: 370 | I48: =H48-H47 -> 0 | J48: 4 | K48: =J48-J47 -> 0 | L48: 643 | M48: =L48-L47 -> 0 | N48: 327 | O48: =N48-N47 -> 0 | P48: 349 | Q48: =P48-P47 -> 0 | R48: 6 | S48: =R48-R47 -> 0 | T48: 114554 | U48: =T48-T47 -> 0 | V48: 75 | W48: =V48-V47 -> 0 | X48: 506 | Y48: =X48-X47 -> 0 | AA48: =SUM(C48+E48+G48+I48+K48+M48+O48+Q48+S48+U48+W48+Y48) -> 0 | AB48: =AB47+AA48 -> 2178
A49: 43506 | B49: 5 | C49: =B49-B48 -> 0 | D49: 582 | E49: =D49-D48 -> 0 | F49: 15 | G49: =F49-F48 -> 0 | H49: 370 | I49: =H49-H48 -> 0 | J49: 4 | K49: =J49-J48 -> 0 | L49: 643 | M49: =L49-L48 -> 0 | N49: 327 | O49: =N49-N48 -> 0 | P49: 349 | Q49: =P49-P48 -> 0 | R49: 6 | S49: =R49-R48 -> 0 | T49: 115536 | U49: =T49-T48 -> 982 | V49: 75 | W49: =V49-V48 -> 0 | X49: 506 | Y49: =X49-X48 -> 0 | AA49: =SUM(C49+E49+G49+I49+K49+M49+O49+Q49+S49+U49+W49+Y49) -> 982 | AB49: =AB48+AA49 -> 3160
A50: 43507 | B50: 5 | C50: =B50-B49 -> 0 | D50: 582 | E50: =D50-D49 -> 0 | F50: 15 | G50: =F50-F49 -> 0 | H50: 370 | I50: =H50-H49 -> 0 | J50: 4 | K50: =J50-J49 -> 0 | L50: 643 | M50: =L50-L49 -> 0 | N50: 327 | O50: =N50-N49 -> 0 | P50: 349 | Q50: =P50-P49 -> 0 | R50: 6 | S50: =R50-R49 -> 0 | T50: 115536 | U50: =T50-T49 -> 0 | V50: 75 | W50: =V50-V49 -> 0 | X50: 506 | Y50: =X50-X49 -> 0 | AA50: =SUM(C50+E50+G50+I50+K50+M50+O50+Q50+S50+U50+W50+Y50) -> 0 | AB50: =AB49+AA50 -> 3160
A51: 43508 | B51: 5 | C51: =B51-B50 -> 0 | D51: 582 | E51: =D51-D50 -> 0 | F51: 15 | G51: =F51-F50 -> 0 | H51: 370 | I51: =H51-H50 -> 0 | J51: 4 | K51: =J51-J50 -> 0 | L51: 643 | M51: =L51-L50 -> 0 | N51: 327 | O51: =N51-N50 -> 0 | P51: 349 | Q51: =P51-P50 -> 0 | R51: 6 | S51: =R51-R50 -> 0 | T51: 115536 | U51: =T51-T50 -> 0 | V51: 75 | W51: =V51-V50 -> 0 | X51: 506 | Y51: =X51-X50 -> 0 | AA51: =SUM(C51+E51+G51+I51+K51+M51+O51+Q51+S51+U51+W51+Y51) -> 0 | AB51: =AB50+AA51 -> 3160
A52: 43509 | B52: 5 | C52: =B52-B51 -> 0 | D52: 582 | E52: =D52-D51 -> 0 | F52: 15 | G52: =F52-F51 -> 0 | H52: 370 | I52: =H52-H51 -> 0 | J52: 4 | K52: =J52-J51 -> 0 | L52: 643 | M52: =L52-L51 -> 0 | N52: 327 | O52: =N52-N51 -> 0 | P52: 349 | Q52: =P52-P51 -> 0 | R52: 6 | S52: =R52-R51 -> 0 | T52: 115536 | U52: =T52-T51 -> 0 | V52: 75 | W52: =V52-V51 -> 0 | X52: 506 | Y52: =X52-X51 -> 0 | AA52: =SUM(C52+E52+G52+I52+K52+M52+O52+Q52+S52+U52+W52+Y52) -> 0 | AB52: =AB51+AA52 -> 3160
A53: 43510 | B53: 5 | C53: =B53-B52 -> 0 | D53: 582 | E53: =D53-D52 -> 0 | F53: 15 | G53: =F53-F52 -> 0 | H53: 370 | I53: =H53-H52 -> 0 | J53: 4 | K53: =J53-J52 -> 0 | L53: 643 | M53: =L53-L52 -> 0 | N53: 327 | O53: =N53-N52 -> 0 | P53: 349 | Q53: =P53-P52 -> 0 | R53: 6 | S53: =R53-R52 -> 0 | T53: 115536 | U53: =T53-T52 -> 0 | V53: 75 | W53: =V53-V52 -> 0 | X53: 506 | Y53: =X53-X52 -> 0 | AA53: =SUM(C53+E53+G53+I53+K53+M53+O53+Q53+S53+U53+W53+Y53) -> 0 | AB53: =AB52+AA53 -> 3160
A54: 43511 | B54: 5 | C54: =B54-B53 -> 0 | D54: 582 | E54: =D54-D53 -> 0 | F54: 15 | G54: =F54-F53 -> 0 | H54: 370 | I54: =H54-H53 -> 0 | J54: 4 | K54: =J54-J53 -> 0 | L54: 643 | M54: =L54-L53 -> 0 | N54: 327 | O54: =N54-N53 -> 0 | P54: 349 | Q54: =P54-P53 -> 0 | R54: 6 | S54: =R54-R53 -> 0 | T54: 115536 | U54: =T54-T53 -> 0 | V54: 75 | W54: =V54-V53 -> 0 | X54: 506 | Y54: =X54-X53 -> 0 | AA54: =SUM(C54+E54+G54+I54+K54+M54+O54+Q54+S54+U54+W54+Y54) -> 0 | AB54: =AB53+AA54 -> 3160
A55: 43512 | B55: 5 | C55: =B55-B54 -> 0 | D55: 582 | E55: =D55-D54 -> 0 | F55: 15 | G55: =F55-F54 -> 0 | H55: 370 | I55: =H55-H54 -> 0 | J55: 4 | K55: =J55-J54 -> 0 | L55: 643 | M55: =L55-L54 -> 0 | N55: 327 | O55: =N55-N54 -> 0 | P55: 349 | Q55: =P55-P54 -> 0 | R55: 6 | S55: =R55-R54 -> 0 | T55: 115536 | U55: =T55-T54 -> 0 | V55: 75 | W55: =V55-V54 -> 0 | X55: 506 | Y55: =X55-X54 -> 0 | AA55: =SUM(C55+E55+G55+I55+K55+M55+O55+Q55+S55+U55+W55+Y55) -> 0 | AB55: =AB54+AA55 -> 3160
A56: 43513 | B56: 5 | C56: =B56-B55 -> 0 | D56: 582 | E56: =D56-D55 -> 0 | F56: 15 | G56: =F56-F55 -> 0 | H56: 370 | I56: =H56-H55 -> 0 | J56: 4 | K56: =J56-J55 -> 0 | L56: 643 | M56: =L56-L55 -> 0 | N56: 327 | O56: =N56-N55 -> 0 | P56: 349 | Q56: =P56-P55 -> 0 | R56: 6 | S56: =R56-R55 -> 0 | T56: 115633 | U56: =T56-T55 -> 97 | V56: 75 | W56: =V56-V55 -> 0 | X56: 506 | Y56: =X56-X55 -> 0 | AA56: =SUM(C56+E56+G56+I56+K56+M56+O56+Q56+S56+U56+W56+Y56) -> 97 | AB56: =AB55+AA56 -> 3257
A57: 43514 | B57: 5 | C57: =B57-B56 -> 0 | D57: 582 | E57: =D57-D56 -> 0 | F57: 15 | G57: =F57-F56 -> 0 | H57: 370 | I57: =H57-H56 -> 0 | J57: 4 | K57: =J57-J56 -> 0 | L57: 643 | M57: =L57-L56 -> 0 | N57: 327 | O57: =N57-N56 -> 0 | P57: 349 | Q57: =P57-P56 -> 0 | R57: 6 | S57: =R57-R56 -> 0 | T57: 115633 | U57: =T57-T56 -> 0 | V57: 75 | W57: =V57-V56 -> 0 | X57: 506 | Y57: =X57-X56 -> 0 | AA57: =SUM(C57+E57+G57+I57+K57+M57+O57+Q57+S57+U57+W57+Y57) -> 0 | AB57: =AB56+AA57 -> 3257
A58: 43515 | B58: 5 | C58: =B58-B57 -> 0 | D58: 582 | E58: =D58-D57 -> 0 | F58: 15 | G58: =F58-F57 -> 0 | H58: 370 | I58: =H58-H57 -> 0 | J58: 4 | K58: =J58-J57 -> 0 | L58: 643 | M58: =L58-L57 -> 0 | N58: 327 | O58: =N58-N57 -> 0 | P58: 349 | Q58: =P58-P57 -> 0 | R58: 6 | S58: =R58-R57 -> 0 | T58: 115633 | U58: =T58-T57 -> 0 | V58: 75 | W58: =V58-V57 -> 0 | X58: 506 | Y58: =X58-X57 -> 0 | AA58: =SUM(C58+E58+G58+I58+K58+M58+O58+Q58+S58+U58+W58+Y58) -> 0 | AB58: =AB57+AA58 -> 3257
A59: 43516 | B59: 5 | C59: =B59-B58 -> 0 | D59: 582 | E59: =D59-D58 -> 0 | F59: 15 | G59: =F59-F58 -> 0 | H59: 370 | I59: =H59-H58 -> 0 | J59: 4 | K59: =J59-J58 -> 0 | L59: 643 | M59: =L59-L58 -> 0 | N59: 327 | O59: =N59-N58 -> 0 | P59: 349 | Q59: =P59-P58 -> 0 | R59: 6 | S59: =R59-R58 -> 0 | T59: 115633 | U59: =T59-T58 -> 0 | V59: 75 | W59: =V59-V58 -> 0 | X59: 506 | Y59: =X59-X58 -> 0 | AA59: =SUM(C59+E59+G59+I59+K59+M59+O59+Q59+S59+U59+W59+Y59) -> 0 | AB59: =AB58+AA59 -> 3257
A60: 43517 | B60: 5 | C60: =B60-B59 -> 0 | D60: 582 | E60: =D60-D59 -> 0 | F60: 15 | G60: =F60-F59 -> 0 | H60: 370 | I60: =H60-H59 -> 0 | J60: 4 | K60: =J60-J59 -> 0 | L60: 643 | M60: =L60-L59 -> 0 | N60: 327 | O60: =N60-N59 -> 0 | P60: 349 | Q60: =P60-P59 -> 0 | R60: 6 | S60: =R60-R59 -> 0 | T60: 115633 | U60: =T60-T59 -> 0 | V60: 75 | W60: =V60-V59 -> 0 | X60: 506 | Y60: =X60-X59 -> 0 | AA60: =SUM(C60+E60+G60+I60+K60+M60+O60+Q60+S60+U60+W60+Y60) -> 0 | AB60: =AB59+AA60 -> 3257
... A166: 43623 | B166: 5 | C166: =B166-B165 -> 0 | D166: 583 | E166: =D166-D165 -> 0 | F166: 29 | G166: =F166-F165 -> 0 | H166: 416 | I166: =H166-H165 -> 0 | J166: 4 | K166: =J166-J165 -> 0 | L166: 644 | M166: =L166-L165 -> 0 | N166: 327 | O166: =N166-N165 -> 0 | P166: 349 | Q166: =P166-P165 -> 0 | R166: 6 | S166: =R166-R165 -> 0 | T166: 123508 | U166: =T166-T165 -> 0 | V166: 75 | W166: =V166-V165 -> 0 | X166: 525 | Y166: =X166-X165 -> 0 | AA166: =SUM(C166+E166+G166+I166+K166+M166+O166+Q166+S166+U166+W166+Y166) -> 0 | AB166: =AB165+AA166 -> 11213
A167: 43624 | B167: 5 | C167: 0 | D167: 583 | E167: =D167-D166 -> 0 | F167: 29 | G167: =F167-F166 -> 0 | H167: 450 | I167: =H167-H166 -> 34 | J167: 4 | K167: =J167-J166 -> 0 | L167: 644 | M167: =L167-L166 -> 0 | N167: 327 | O167: =N167-N166 -> 0 | P167: 349 | Q167: =P167-P166 -> 0 | R167: 6 | S167: =R167-R166 -> 0 | T167: 123786 | U167: =T167-T166 -> 278 | V167: 75 | W167: =V167-V166 -> 0 | X167: 525 | Y167: =X167-X166 -> 0 | AA167: =SUM(C167+E167+G167+I167+K167+M167+O167+Q167+S167+U167+W167+Y167) -> 312 | AB167: =AB166+AA167 -> 11525
A168: 43625 | B168: 5 | C168: 0 | D168: 583 | E168: =D168-D167 -> 0 | F168: 29 | G168: =F168-F167 -> 0 | H168: 450 | I168: =H168-H167 -> 0 | J168: 4 | K168: =J168-J167 -> 0 | L168: 644 | M168: =L168-L167 -> 0 | N168: 327 | O168: =N168-N167 -> 0 | P168: 349 | Q168: =P168-P167 -> 0 | R168: 6 | S168: =R168-R167 -> 0 | T168: 123786 | U168: =T168-T167 -> 0 | V168: 75 | W168: =V168-V167 -> 0 | X168: 525 | Y168: =X168-X167 -> 0 | AA168: =SUM(C168+E168+G168+I168+K168+M168+O168+Q168+S168+U168+W168+Y168) -> 0 | AB168: =AB167+AA168 -> 11525
A169: 43626 | B169: 5 | C169: 0 | D169: 583 | E169: =D169-D168 -> 0 | F169: 29 | G169: =F169-F168 -> 0 | H169: 450 | I169: =H169-H168 -> 0 | J169: 4 | K169: =J169-J168 -> 0 | L169: 644 | M169: =L169-L168 -> 0 | N169: 327 | O169: =N169-N168 -> 0 | P169: 349 | Q169: =P169-P168 -> 0 | R169: 6 | S169: =R169-R168 -> 0 | T169: 123786 | U169: =T169-T168 -> 0 | V169: 75 | W169: =V169-V168 -> 0 | X169: 525 | Y169: =X169-X168 -> 0 | AA169: =SUM(C169+E169+G169+I169+K169+M169+O169+Q169+S169+U169+W169+Y169) -> 0 | AB169: =AB168+AA169 -> 11525
A170: 43627 | B170: 5 | C170: 0 | D170: 583 | E170: =D170-D169 -> 0 | F170: 29 | G170: =F170-F169 -> 0 | H170: 450 | I170: =H170-H169 -> 0 | J170: 4 | K170: =J170-J169 -> 0 | L170: 644 | M170: =L170-L169 -> 0 | N170: 327 | O170: =N170-N169 -> 0 | P170: 349 | Q170: =P170-P169 -> 0 | R170: 6 | S170: =R170-R169 -> 0 | T170: 123786 | U170: =T170-T169 -> 0 | V170: 75 | W170: =V170-V169 -> 0 | X170: 525 | Y170: =X170-X169 -> 0 | AA170: =SUM(C170+E170+G170+I170+K170+M170+O170+Q170+S170+U170+W170+Y170) -> 0 | AB170: =AB169+AA170 -> 11525
A171: 43628 | B171: 5 | C171: 0 | D171: 583 | E171: =D171-D170 -> 0 | F171: 29 | G171: =F171-F170 -> 0 | H171: 450 | I171: =H171-H170 -> 0 | J171: 4 | K171: =J171-J170 -> 0 | L171: 644 | M171: =L171-L170 -> 0 | N171: 327 | O171: =N171-N170 -> 0 | P171: 349 | Q171: =P171-P170 -> 0 | R171: 6 | S171: =R171-R170 -> 0 | T171: 123786 | U171: =T171-T170 -> 0 | V171: 75 | W171: =V171-V170 -> 0 | X171: 525 | Y171: =X171-X170 -> 0 | AA171: =SUM(C171+E171+G171+I171+K171+M171+O171+Q171+S171+U171+W171+Y171) -> 0 | AB171: =AB170+AA171 -> 11525
A172: 43629 | B172: 5 | C172: 0 | D172: 583 | E172: =D172-D171 -> 0 | F172: 29 | G172: =F172-F171 -> 0 | H172: 450 | I172: =H172-H171 -> 0 | J172: 4 | K172: =J172-J171 -> 0 | L172: 644 | M172: =L172-L171 -> 0 | N172: 327 | O172: =N172-N171 -> 0 | P172: 349 | Q172: =P172-P171 -> 0 | R172: 6 | S172: =R172-R171 -> 0 | T172: 123786 | U172: =T172-T171 -> 0 | V172: 75 | W172: =V172-V171 -> 0 | X172: 525 | Y172: =X172-X171 -> 0 | AA172: =SUM(C172+E172+G172+I172+K172+M172+O172+Q172+S172+U172+W172+Y172) -> 0 | AB172: =AB171+AA172 -> 11525
A173: 43630 | B173: 5 | C173: 0 | D173: 583 | E173: =D173-D172 -> 0 | F173: 29 | G173: =F173-F172 -> 0 | H173: 450 | I173: =H173-H172 -> 0 | J173: 4 | K173: =J173-J172 -> 0 | L173: 644 | M173: =L173-L172 -> 0 | N173: 327 | O173: =N173-N172 -> 0 | P173: 349 | Q173: =P173-P172 -> 0 | R173: 6 | S173: =R173-R172 -> 0 | T173: 123786 | U173: =T173-T172 -> 0 | V173: 75 | W173: =V173-V172 -> 0 | X173: 525 | Y173: =X173-X172 -> 0 | AA173: =SUM(C173+E173+G173+I173+K173+M173+O173+Q173+S173+U173+W173+Y173) -> 0 | AB173: =AB172+AA173 -> 11525
A174: 43631 | B174: 5 | C174: 0 | D174: 583 | E174: =D174-D173 -> 0 | F174: 29 | G174: =F174-F173 -> 0 | H174: 450 | I174: =H174-H173 -> 0 | J174: 4 | K174: =J174-J173 -> 0 | L174: 644 | M174: =L174-L173 -> 0 | N174: 327 | O174: =N174-N173 -> 0 | P174: 349 | Q174: =P174-P173 -> 0 | R174: 6 | S174: =R174-R173 -> 0 | T174: 124330 | U174: =T174-T173 -> 544 | V174: 75 | W174: =V174-V173 -> 0 | X174: 525 | Y174: =X174-X173 -> 0 | AA174: =SUM(C174+E174+G174+I174+K174+M174+O174+Q174+S174+U174+W174+Y174) -> 544 | AB174: =AB173+AA174 -> 12069
A175: 43632 | B175: 5 | C175: 0 | D175: 583 | E175: =D175-D174 -> 0 | F175: 29 | G175: =F175-F174 -> 0 | H175: 450 | I175: =H175-H174 -> 0 | J175: 4 | K175: =J175-J174 -> 0 | L175: 644 | M175: =L175-L174 -> 0 | N175: 327 | O175: =N175-N174 -> 0 | P175: 349 | Q175: =P175-P174 -> 0 | R175: 6 | S175: =R175-R174 -> 0 | T175: 124330 | U175: =T175-T174 -> 0 | V175: 75 | W175: =V175-V174 -> 0 | X175: 525 | Y175: =X175-X174 -> 0 | AA175: =SUM(C175+E175+G175+I175+K175+M175+O175+Q175+S175+U175+W175+Y175) -> 0 | AB175: =AB174+AA175 -> 12069
A176: 43633 | B176: 5 | C176: 0 | D176: 583 | E176: =D176-D175 -> 0 | F176: 29 | G176: =F176-F175 -> 0 | H176: 450 | I176: =H176-H175 -> 0 | J176: 4 | K176: =J176-J175 -> 0 | L176: 644 | M176: =L176-L175 -> 0 | N176: 327 | O176: =N176-N175 -> 0 | P176: 349 | Q176: =P176-P175 -> 0 | R176: 6 | S176: =R176-R175 -> 0 | T176: 124330 | U176: =T176-T175 -> 0 | V176: 75 | W176: =V176-V175 -> 0 | X176: 525 | Y176: =X176-X175 -> 0 | AA176: =SUM(C176+E176+G176+I176+K176+M176+O176+Q176+S176+U176+W176+Y176) -> 0 | AB176: =AB175+AA176 -> 12069
A177: 43634 | B177: 5 | C177: 0 | D177: 583 | E177: =D177-D176 -> 0 | F177: 29 | G177: =F177-F176 -> 0 | H177: 450 | I177: =H177-H176 -> 0 | J177: 4 | K177: =J177-J176 -> 0 | L177: 644 | M177: =L177-L176 -> 0 | N177: 327 | O177: =N177-N176 -> 0 | P177: 349 | Q177: =P177-P176 -> 0 | R177: 6 | S177: =R177-R176 -> 0 | T177: 124330 | U177: =T177-T176 -> 0 | V177: 75 | W177: =V177-V176 -> 0 | X177: 525 | Y177: =X177-X176 -> 0 | AA177: =SUM(C177+E177+G177+I177+K177+M177+O177+Q177+S177+U177+W177+Y177) -> 0 | AB177: =AB176+AA177 -> 12069
A178: 43635 | B178: 5 | C178: 0 | D178: 583 | E178: =D178-D177 -> 0 | F178: 29 | G178: =F178-F177 -> 0 | H178: 450 | I178: =H178-H177 -> 0 | J178: 4 | K178: =J178-J177 -> 0 | L178: 644 | M178: =L178-L177 -> 0 | N178: 327 | O178: =N178-N177 -> 0 | P178: 349 | Q178: =P178-P177 -> 0 | R178: 6 | S178: =R178-R177 -> 0 | T178: 124330 | U178: =T178-T177 -> 0 | V178: 75 | W178: =V178-V177 -> 0 | X178: 525 | Y178: =X178-X177 -> 0 | AA178: =SUM(C178+E178+G178+I178+K178+M178+O178+Q178+S178+U178+W178+Y178) -> 0 | AB178: =AB177+AA178 -> 12069
... A250: 43707 | B250: 5 | C250: 0 | D250: 583 | E250: =D250-D249 -> 0 | F250: 29 | G250: =F250-F249 -> 0 | H250: 450 | I250: =H250-H249 -> 0 | J250: 4 | K250: =J250-J249 -> 0 | L250: 644 | M250: =L250-L249 -> 0 | N250: 327 | O250: =N250-N249 -> 0 | P250: 349 | Q250: =P250-P249 -> 0 | R250: 6 | S250: =R250-R249 -> 0 | T250: 128507 | U250: =T250-T249 -> 0 | V250: 75 | W250: =V250-V249 -> 0 | X250: 525 | Y250: =X250-X249 -> 0 | AA250: =SUM(C250+E250+G250+I250+K250+M250+O250+Q250+S250+U250+W250+Y250) -> 0 | AB250: =AB249+AA250 -> 16246
A251: 43708 | B251: 5 | C251: =B251-B250 -> 0 | D251: 636 | E251: =D251-D250 -> 53 | F251: 29 | G251: =F251-F250 -> 0 | H251: 450 | I251: =H251-H250 -> 0 | J251: 4 | K251: =J251-J250 -> 0 | L251: 644 | M251: =L251-L250 -> 0 | N251: 327 | O251: =N251-N250 -> 0 | P251: 349 | Q251: =P251-P250 -> 0 | R251: 6 | S251: =R251-R250 -> 0 | T251: 129071 | U251: =T251-T250 -> 564 | V251: 75 | W251: =V251-V250 -> 0 | X251: 525 | Y251: =X251-X250 -> 0 | AA251: =SUM(C251+E251+G251+I251+K251+M251+O251+Q251+S251+U251+W251+Y251) -> 617 | AB251: =AB250+AA251 -> 16863
A252: 43709 | B252: 5 | C252: =B252-B251 -> 0 | D252: 636 | E252: =D252-D251 -> 0 | F252: 29 | G252: =F252-F251 -> 0 | H252: 450 | I252: =H252-H251 -> 0 | J252: 4 | K252: =J252-J251 -> 0 | L252: 644 | M252: =L252-L251 -> 0 | N252: 327 | O252: =N252-N251 -> 0 | P252: 349 | Q252: =P252-P251 -> 0 | R252: 6 | S252: =R252-R251 -> 0 | T252: 129071 | U252: =T252-T251 -> 0 | V252: 75 | W252: =V252-V251 -> 0 | X252: 525 | Y252: =X252-X251 -> 0 | AA252: =SUM(C252+E252+G252+I252+K252+M252+O252+Q252+S252+U252+W252+Y252) -> 0 | AB252: =AB251+AA252 -> 16863
A253: 43710 | B253: 5 | C253: =B253-B252 -> 0 | D253: 636 | E253: =D253-D252 -> 0 | F253: 29 | G253: =F253-F252 -> 0 | H253: 450 | I253: =H253-H252 -> 0 | J253: 4 | K253: =J253-J252 -> 0 | L253: 644 | M253: =L253-L252 -> 0 | N253: 327 | O253: =N253-N252 -> 0 | P253: 349 | Q253: =P253-P252 -> 0 | R253: 6 | S253: =R253-R252 -> 0 | T253: 129071 | U253: =T253-T252 -> 0 | V253: 75 | W253: =V253-V252 -> 0 | X253: 525 | Y253: =X253-X252 -> 0 | AA253: =SUM(C253+E253+G253+I253+K253+M253+O253+Q253+S253+U253+W253+Y253) -> 0 | AB253: =AB252+AA253 -> 16863
A254: 43711 | B254: 5 | C254: =B254-B253 -> 0 | D254: 636 | E254: =D254-D253 -> 0 | F254: 29 | G254: =F254-F253 -> 0 | H254: 450 | I254: =H254-H253 -> 0 | J254: 4 | K254: =J254-J253 -> 0 | L254: 644 | M254: =L254-L253 -> 0 | N254: 327 | O254: =N254-N253 -> 0 | P254: 349 | Q254: =P254-P253 -> 0 | R254: 6 | S254: =R254-R253 -> 0 | T254: 129071 | U254: =T254-T253 -> 0 | V254: 75 | W254: =V254-V253 -> 0 | X254: 525 | Y254: =X254-X253 -> 0 | AA254: =SUM(C254+E254+G254+I254+K254+M254+O254+Q254+S254+U254+W254+Y254) -> 0 | AB254: =AB253+AA254 -> 16863
A255: 43712 | B255: 5 | C255: =B255-B254 -> 0 | D255: 636 | E255: =D255-D254 -> 0 | F255: 29 | G255: =F255-F254 -> 0 | H255: 450 | I255: =H255-H254 -> 0 | J255: 4 | K255: =J255-J254 -> 0 | L255: 644 | M255: =L255-L254 -> 0 | N255: 327 | O255: =N255-N254 -> 0 | P255: 349 | Q255: =P255-P254 -> 0 | R255: 6 | S255: =R255-R254 -> 0 | T255: 129071 | U255: =T255-T254 -> 0 | V255: 75 | W255: =V255-V254 -> 0 | X255: 525 | Y255: =X255-X254 -> 0 | AA255: =SUM(C255+E255+G255+I255+K255+M255+O255+Q255+S255+U255+W255+Y255) -> 0 | AB255: =AB254+AA255 -> 16863
A256: 43713 | B256: 5 | C256: =B256-B255 -> 0 | D256: 636 | E256: =D256-D255 -> 0 | F256: 29 | G256: =F256-F255 -> 0 | H256: 450 | I256: =H256-H255 -> 0 | J256: 4 | K256: =J256-J255 -> 0 | L256: 644 | M256: =L256-L255 -> 0 | N256: 327 | O256: =N256-N255 -> 0 | P256: 349 | Q256: =P256-P255 -> 0 | R256: 6 | S256: =R256-R255 -> 0 | T256: 129071 | U256: =T256-T255 -> 0 | V256: 75 | W256: =V256-V255 -> 0 | X256: 525 | Y256: =X256-X255 -> 0 | AA256: =SUM(C256+E256+G256+I256+K256+M256+O256+Q256+S256+U256+W256+Y256) -> 0 | AB256: =AB255+AA256 -> 16863
A257: 43714 | B257: 5 | C257: =B257-B256 -> 0 | D257: 636 | E257: =D257-D256 -> 0 | F257: 29 | G257: =F257-F256 -> 0 | H257: 450 | I257: =H257-H256 -> 0 | J257: 4 | K257: =J257-J256 -> 0 | L257: 644 | M257: =L257-L256 -> 0 | N257: 327 | O257: =N257-N256 -> 0 | P257: 349 | Q257: =P257-P256 -> 0 | R257: 6 | S257: =R257-R256 -> 0 | T257: 129071 | U257: =T257-T256 -> 0 | V257: 75 | W257: =V257-V256 -> 0 | X257: 525 | Y257: =X257-X256 -> 0 | AA257: =SUM(C257+E257+G257+I257+K257+M257+O257+Q257+S257+U257+W257+Y257) -> 0 | AB257: =AB256+AA257 -> 16863
A258: 43715 | B258: 5 | C258: =B258-B257 -> 0 | D258: 636 | E258: =D258-D257 -> 0 | F258: 29 | G258: =F258-F257 -> 0 | H258: 450 | I258: =H258-H257 -> 0 | J258: 4 | K258: =J258-J257 -> 0 | L258: 644 | M258: =L258-L257 -> 0 | N258: 327 | O258: =N258-N257 -> 0 | P258: 349 | Q258: =P258-P257 -> 0 | R258: 6 | S258: =R258-R257 -> 0 | T258: 129071 | U258: =T258-T257 -> 0 | V258: 75 | W258: =V258-V257 -> 0 | X258: 525 | Y258: =X258-X257 -> 0 | AA258: =SUM(C258+E258+G258+I258+K258+M258+O258+Q258+S258+U258+W258+Y258) -> 0 | AB258: =AB257+AA258 -> 16863
A259: 43716 | B259: 5 | C259: =B259-B258 -> 0 | D259: 636 | E259: =D259-D258 -> 0 | F259: 29 | G259: =F259-F258 -> 0 | H259: 450 | I259: =H259-H258 -> 0 | J259: 4 | K259: =J259-J258 -> 0 | L259: 644 | M259: =L259-L258 -> 0 | N259: 327 | O259: =N259-N258 -> 0 | P259: 349 | Q259: =P259-P258 -> 0 | R259: 6 | S259: =R259-R258 -> 0 | T259: 129752 | U259: =T259-T258 -> 681 | V259: 75 | W259: =V259-V258 -> 0 | X259: 525 | Y259: =X259-X258 -> 0 | AA259: =SUM(C259+E259+G259+I259+K259+M259+O259+Q259+S259+U259+W259+Y259) -> 681 | AB259: =AB258+AA259 -> 17544
A260: 43717 | B260: 5 | C260: =B260-B259 -> 0 | D260: 636 | E260: =D260-D259 -> 0 | F260: 29 | G260: =F260-F259 -> 0 | H260: 450 | I260: =H260-H259 -> 0 | J260: 4 | K260: =J260-J259 -> 0 | L260: 644 | M260: =L260-L259 -> 0 | N260: 327 | O260: =N260-N259 -> 0 | P260: 349 | Q260: =P260-P259 -> 0 | R260: 6 | S260: =R260-R259 -> 0 | T260: 129752 | U260: =T260-T259 -> 0 | V260: 75 | W260: =V260-V259 -> 0 | X260: 525 | Y260: =X260-X259 -> 0 | AA260: =SUM(C260+E260+G260+I260+K260+M260+O260+Q260+S260+U260+W260+Y260) -> 0 | AB260: =AB259+AA260 -> 17544
A261: 43718 | B261: 5 | C261: =B261-B260 -> 0 | D261: 636 | E261: =D261-D260 -> 0 | F261: 29 | G261: =F261-F260 -> 0 | H261: 450 | I261: =H261-H260 -> 0 | J261: 4 | K261: =J261-J260 -> 0 | L261: 644 | M261: =L261-L260 -> 0 | N261: 327 | O261: =N261-N260 -> 0 | P261: 349 | Q261: =P261-P260 -> 0 | R261: 6 | S261: =R261-R260 -> 0 | T261: 129752 | U261: =T261-T260 -> 0 | V261: 75 | W261: =V261-V260 -> 0 | X261: 525 | Y261: =X261-X260 -> 0 | AA261: =SUM(C261+E261+G261+I261+K261+M261+O261+Q261+S261+U261+W261+Y261) -> 0 | AB261: =AB260+AA261 -> 17544
A262: 43719 | B262: 5 | C262: =B262-B261 -> 0 | D262: 636 | E262: =D262-D261 -> 0 | F262: 29 | G262: =F262-F261 -> 0 | H262: 450 | I262: =H262-H261 -> 0 | J262: 4 | K262: =J262-J261 -> 0 | L262: 644 | M262: =L262-L261 -> 0 | N262: 327 | O262: =N262-N261 -> 0 | P262: 349 | Q262: =P262-P261 -> 0 | R262: 6 | S262: =R262-R261 -> 0 | T262: 129752 | U262: =T262-T261 -> 0 | V262: 75 | W262: =V262-V261 -> 0 | X262: 525 | Y262: =X262-X261 -> 0 | AA262: =SUM(C262+E262+G262+I262+K262+M262+O262+Q262+S262+U262+W262+Y262) -> 0 | AB262: =AB261+AA262 -> 17544
... A307: 43764 | B307: 5 | C307: =B307-B306 -> 0 | D307: 636 | E307: =D307-D306 -> 0 | F307: 29 | G307: =F307-F306 -> 0 | H307: 453 | I307: =H307-H306 -> 3 | J307: 4 | K307: =J307-J306 -> 0 | L307: 644 | M307: =L307-L306 -> 0 | N307: 327 | O307: =N307-N306 -> 0 | P307: 349 | Q307: =P307-P306 -> 0 | R307: 6 | S307: =R307-R306 -> 0 | T307: 133700 | U307: =T307-T306 -> 460 | V307: 163 | W307: =V307-V306 -> 0 | X307: 525 | Y307: =X307-X306 -> 0 | AA307: =SUM(C307+E307+G307+I307+K307+M307+O307+Q307+S307+U307+W307+Y307) -> 463 | AB307: =AB306+AA307 -> 21583
A308: 43765 | AA308: =SUM(C308+E308+G308+I308+K308+M308+O308+Q308+S308+U308+W308+Y308) -> 0 | AB308: =AB307+AA308 -> 21583
A309: 43766 | AA309: =SUM(C309+E309+G309+I309+K309+M309+O309+Q309+S309+U309+W309+Y309) -> 0 | AB309: =AB308+AA309 -> 21583
A310: 43767 | AA310: =SUM(C310+E310+G310+I310+K310+M310+O310+Q310+S310+U310+W310+Y310) -> 0 | AB310: =AB309+AA310 -> 21583
A311: 43768 | AA311: =SUM(C311+E311+G311+I311+K311+M311+O311+Q311+S311+U311+W311+Y311) -> 0 | AB311: =AB310+AA311 -> 21583
A312: 43769 | AA312: =SUM(C312+E312+G312+I312+K312+M312+O312+Q312+S312+U312+W312+Y312) -> 0 | AB312: =AB311+AA312 -> 21583
A313: 43770 | AA313: =SUM(C313+E313+G313+I313+K313+M313+O313+Q313+S313+U313+W313+Y313) -> 0 | AB313: =AB312+AA313 -> 21583
A314: 43771 | AA314: =SUM(C314+E314+G314+I314+K314+M314+O314+Q314+S314+U314+W314+Y314) -> 0 | AB314: =AB313+AA314 -> 21583
A315: 43772 | AA315: =SUM(C315+E315+G315+I315+K315+M315+O315+Q315+S315+U315+W315+Y315) -> 0 | AB315: =AB314+AA315 -> 21583
A316: 43773 | AA316: =SUM(C316+E316+G316+I316+K316+M316+O316+Q316+S316+U316+W316+Y316) -> 0 | AB316: =AB315+AA316 -> 21583
A317: 43774 | AA317: =SUM(C317+E317+G317+I317+K317+M317+O317+Q317+S317+U317+W317+Y317) -> 0 | AB317: =AB316+AA317 -> 21583
A318: 43775 | AA318: =SUM(C318+E318+G318+I318+K318+M318+O318+Q318+S318+U318+W318+Y318) -> 0 | AB318: =AB317+AA318 -> 21583
A319: 43776 | AA319: =SUM(C319+E319+G319+I319+K319+M319+O319+Q319+S319+U319+W319+Y319) -> 0 | AB319: =AB318+AA319 -> 21583
... A373: 43830 | AA373: =SUM(C373+E373+G373+I373+K373+M373+O373+Q373+S373+U373+W373+Y373) -> 0 | AB373: =AB372+AA373 -> 21583
A374: 43831
A375: 43832
A376: 43833
A377: 43834
A378: 43835
A379: 43836
A380: 43837
A381: 43838
A382: 43839
A383: 43840
A384: 43841
A385: 43842
... A7679: 51136
