Workbook

Sheet Feuil1
B1: Budget | C1: Budget | I1: 2019 | J1: 2020 | K1: 2021 | L1: 2019 | M1: 2019 | N1: 2019 | O1: 2019 | P1: 2019 | Q1: 2019 | R1: 2019 | S1: 2019 | T1: 2019 | U1: 2019 | V1: 2019 | W1: 2019 | X1: 2020 | Y1: 2020 | Z1: 2020 | AA1: 2020 | AB1: 2020 | AC1: 2020 | AD1: 2020 | AE1: 2020 | AF1: 2020 | AG1: 2020 | AH1: 2020 | AI1: 2020 | AJ1: 2021 | AK1: 2021 | AL1: 2021 | AM1: 2021 | AN1: 2021 | AO1: 2021 | AP1: 2021 | AQ1: 2021 | AR1: 2021 | AS1: 2021 | AT1: 2021 | AU1: 2021
A2: Fonction | B2: Date d'entrée budgétée | C2: Date de sortie budgétée | D2: Calc budget | E2: Calc budget 2 | F2: Taux travaillé N | G2: Taux travaillé N+1 | H2: Taux travaillé N+2 | I2: Estimé budget N | J2: Effectif budget N+1 | K2: Effectif Budget N+2 | L2: Janvier | M2: Février | N2: Mars | O2: Avr | P2: Mai | Q2: Juin | R2: Juil | S2: Août | T2: Sept | U2: Oct | V2: Nov | W2: Déc | X2: Janvier | Y2: Février | Z2: Mars | AA2: Avr | AB2: Mai | AC2: Juin | AD2: Juil | AE2: Août | AF2: Sept | AG2: Oct | AH2: Nov | AI2: Déc | AJ2: Janvier | AK2: Février | AL2: Mars | AM2: Avr | AN2: Mai | AO2: Juin | AP2: Juil | AQ2: Août | AR2: Sept | AS2: Oct | AT2: Nov | AU2: Déc
A3: Chargée de mission | B3: 43647 | D3: =IF(ISBLANK(B3),[1]Paramètres!$D$2,B3) -> 43647 | E3: =IF(ISBLANK(C3),[1]Paramètres!$F$4,C3) -> 44561 | F3: 1 | G3: 1 | H3: 1 | I3: =IF(AND($D3>0,YEAR(MAX($D3,DATE(I$1,1,1)))=I$1,YEAR(MIN($E3,DATE(I$1,12,31)))=I$1), NETWORKDAYS(MAX($D3,DATE(I$1,1,1)),MIN($E3,DATE(I$1,12,31)))/(NETWORKDAYS(MAX(DATE(I$1,1,1)),MIN(DATE(I$1,12,31))))*F3,0) -> 0.50574713 | J3: =IF(AND($D3>0,YEAR(MAX($D3,DATE(J$1,1,1)))=J$1,YEAR(MIN($E3,DATE(J$1,12,31)))=J$1), NETWORKDAYS(MAX($D3,DATE(J$1,1,1)),MIN($E3,DATE(J$1,12,31)))/(NETWORKDAYS(MAX(DATE(J$1,1,1)),MIN(DATE(J$1,12,31))))*G3,0) -> 1 | K3: =IF(AND($D3>0,YEAR(MAX($D3,DATE(K$1,1,1)))=K$1,YEAR(MIN($E3,DATE(K$1,12,31)))=K$1), NETWORKDAYS(MAX($D3,DATE(K$1,1,1)),MIN($E3,DATE(K$1,12,31)))/(NETWORKDAYS(MAX(DATE(K$1,1,1)),MIN(DATE(K$1,12,31))))*H3,0) -> 1
A4: Directeur | B4: 43850 | D4: =IF(ISBLANK(B4),[1]Paramètres!$D$2,B4) -> 43850 | E4: =IF(ISBLANK(C4),[1]Paramètres!$F$4,C4) -> 44561 | F4: 0.3 | G4: 0.3 | H4: 0.3 | I4: =IF(AND($D4>0,YEAR(MAX($D4,DATE(I$1,1,1)))=I$1,YEAR(MIN($E4,DATE(I$1,12,31)))=I$1), NETWORKDAYS(MAX($D4,DATE(I$1,1,1)),MIN($E4,DATE(I$1,12,31)))/(NETWORKDAYS(MAX(DATE(I$1,1,1)),MIN(DATE(I$1,12,31))))*F4,0) -> 0 | J4: =IF(AND($D4>0,YEAR(MAX($D4,DATE(J$1,1,1)))=J$1,YEAR(MIN($E4,DATE(J$1,12,31)))=J$1), NETWORKDAYS(MAX($D4,DATE(J$1,1,1)),MIN($E4,DATE(J$1,12,31)))/(NETWORKDAYS(MAX(DATE(J$1,1,1)),MIN(DATE(J$1,12,31))))*G4,0) -> 0.2851145 | K4: =IF(AND($D4>0,YEAR(MAX($D4,DATE(K$1,1,1)))=K$1,YEAR(MIN($E4,DATE(K$1,12,31)))=K$1), NETWORKDAYS(MAX($D4,DATE(K$1,1,1)),MIN($E4,DATE(K$1,12,31)))/(NETWORKDAYS(MAX(DATE(K$1,1,1)),MIN(DATE(K$1,12,31))))*H4,0) -> 0.3
A5: Expert | B5: 43800 | D5: =IF(ISBLANK(B5),[1]Paramètres!$D$2,B5) -> 43800 | E5: =IF(ISBLANK(C5),[1]Paramètres!$F$4,C5) -> 44561 | F5: 1 | G5: 1 | H5: 1 | I5: =IF(AND($D5>0,YEAR(MAX($D5,DATE(I$1,1,1)))=I$1,YEAR(MIN($E5,DATE(I$1,12,31)))=I$1), NETWORKDAYS(MAX($D5,DATE(I$1,1,1)),MIN($E5,DATE(I$1,12,31)))/(NETWORKDAYS(MAX(DATE(I$1,1,1)),MIN(DATE(I$1,12,31))))*F5,0) -> 0.084291188 | J5: =IF(AND($D5>0,YEAR(MAX($D5,DATE(J$1,1,1)))=J$1,YEAR(MIN($E5,DATE(J$1,12,31)))=J$1), NETWORKDAYS(MAX($D5,DATE(J$1,1,1)),MIN($E5,DATE(J$1,12,31)))/(NETWORKDAYS(MAX(DATE(J$1,1,1)),MIN(DATE(J$1,12,31))))*G5,0) -> 1 | K5: =IF(AND($D5>0,YEAR(MAX($D5,DATE(K$1,1,1)))=K$1,YEAR(MIN($E5,DATE(K$1,12,31)))=K$1), NETWORKDAYS(MAX($D5,DATE(K$1,1,1)),MIN($E5,DATE(K$1,12,31)))/(NETWORKDAYS(MAX(DATE(K$1,1,1)),MIN(DATE(K$1,12,31))))*H5,0) -> 1
A6: Consultant 1 | B6: 43678 | C6: 43830 | D6: =IF(ISBLANK(B6),[1]Paramètres!$D$2,B6) -> 43678 | E6: =IF(ISBLANK(C6),[1]Paramètres!$F$4,C6) -> 43830 | F6: 1 | G6: 1 | H6: 1 | I6: =IF(AND($D6>0,YEAR(MAX($D6,DATE(I$1,1,1)))=I$1,YEAR(MIN($E6,DATE(I$1,12,31)))=I$1), NETWORKDAYS(MAX($D6,DATE(I$1,1,1)),MIN($E6,DATE(I$1,12,31)))/(NETWORKDAYS(MAX(DATE(I$1,1,1)),MIN(DATE(I$1,12,31))))*F6,0) -> 0.41762452 | J6: =IF(AND($D6>0,YEAR(MAX($D6,DATE(J$1,1,1)))=J$1,YEAR(MIN($E6,DATE(J$1,12,31)))=J$1), NETWORKDAYS(MAX($D6,DATE(J$1,1,1)),MIN($E6,DATE(J$1,12,31)))/(NETWORKDAYS(MAX(DATE(J$1,1,1)),MIN(DATE(J$1,12,31))))*G6,0) -> 0 | K6: =IF(AND($D6>0,YEAR(MAX($D6,DATE(K$1,1,1)))=K$1,YEAR(MIN($E6,DATE(K$1,12,31)))=K$1), NETWORKDAYS(MAX($D6,DATE(K$1,1,1)),MIN($E6,DATE(K$1,12,31)))/(NETWORKDAYS(MAX(DATE(K$1,1,1)),MIN(DATE(K$1,12,31))))*H6,0) -> 0
A7: Consultant 2 | B7: 43647 | D7: =IF(ISBLANK(B7),[1]Paramètres!$D$2,B7) -> 43647 | E7: =IF(ISBLANK(C7),[1]Paramètres!$F$4,C7) -> 44561 | F7: 1 | G7: 1 | H7: 1 | I7: =IF(AND($D7>0,YEAR(MAX($D7,DATE(I$1,1,1)))=I$1,YEAR(MIN($E7,DATE(I$1,12,31)))=I$1), NETWORKDAYS(MAX($D7,DATE(I$1,1,1)),MIN($E7,DATE(I$1,12,31)))/(NETWORKDAYS(MAX(DATE(I$1,1,1)),MIN(DATE(I$1,12,31))))*F7,0) -> 0.50574713 | J7: =IF(AND($D7>0,YEAR(MAX($D7,DATE(J$1,1,1)))=J$1,YEAR(MIN($E7,DATE(J$1,12,31)))=J$1), NETWORKDAYS(MAX($D7,DATE(J$1,1,1)),MIN($E7,DATE(J$1,12,31)))/(NETWORKDAYS(MAX(DATE(J$1,1,1)),MIN(DATE(J$1,12,31))))*G7,0) -> 1 | K7: =IF(AND($D7>0,YEAR(MAX($D7,DATE(K$1,1,1)))=K$1,YEAR(MIN($E7,DATE(K$1,12,31)))=K$1), NETWORKDAYS(MAX($D7,DATE(K$1,1,1)),MIN($E7,DATE(K$1,12,31)))/(NETWORKDAYS(MAX(DATE(K$1,1,1)),MIN(DATE(K$1,12,31))))*H7,0) -> 1
