Workbook
Name tInstruments: Tableau1[#Headers]

Sheet Voeux élèves
A1: VŒUX | B1: flute traversière | C1: hautbois | D1: clarinette | E1: basson | F1: saxo | G1: violon | H1: alto | I1: violoncelle | J1: contrebasse | K1: trompette | L1: cor | M1: trombone | N1: tuba | O1: percus | P1: guitare | Q1: harpe | R1: piano
A2: élève 1 | S2: =COUNTA(B2:B53) -> 0
A3: élève 2 | S3: =COUNTA(B3:R3) -> 0
A4: élève 3 | S4: =COUNTA(B4:R4) -> 0
A5: etc… | S5: =COUNTA(B5:R5) -> 0
S6: =COUNTA(B6:R6) -> 0
S7: =COUNTA(B7:R7) -> 0
S8: =COUNTA(B8:R8) -> 0
S9: =COUNTA(B9:R9) -> 0
S10: =COUNTA(B10:R10) -> 0
S11: =COUNTA(B11:R11) -> 0
S12: =COUNTA(B12:R12) -> 0
S13: =COUNTA(B13:R13) -> 0
S14: =COUNTA(B14:R14) -> 0
S15: =COUNTA(B15:R15) -> 0
S16: =COUNTA(B16:R16) -> 0
S17: =COUNTA(B17:R17) -> 0
... S53: =COUNTA(B53:R53) -> 0
B54: =COUNTA(B2:B53) -> 0 | C54: =COUNTA(C2:C49) -> 0 | D54: =COUNTA(D2:D49) -> 0 | E54: =COUNTA(E2:E49) -> 0 | F54: =COUNTA(F2:F49) -> 0 | G54: =COUNTA(G2:G49) -> 0 | H54: =COUNTA(H2:H49) -> 0 | I54: =COUNTA(I2:I49) -> 0 | J54: =COUNTA(J2:J49) -> 0 | ... R54: =COUNTA(R2:R49) -> 0

Sheet répartition périodes
A1: Nom et prénom / instrument | B1: flûte traversière | C1: hautbois | D1: clarinette | E1: basson | F1: saxo | G1: violon | H1: alto | I1: violoncelle | J1: contrebasse | K1: trompette | L1: cor | M1: trombone | N1: tuba | O1: percus | P1: guitare | Q1: harpe | R1: piano | T1: p1 | U1: p2 | V1: p3 | W1: p4
A2: ='Voeux élèves'!A2 -> élève 1 | B2: P1 | S2: =COUNTA(B2:R2) -> 1 | T2: =COUNTIF(B2:R2, "p1") -> 1 | U2: =COUNTIF(B2:R2, "p2") -> 0 | V2: =COUNTIF(B2:R2, "p3") -> 0 | W2: =COUNTIF(B2:R2, "p4") -> 0
A3: ='Voeux élèves'!A3 -> élève 2 | B3: P2 | C3: p1 | S3: =COUNTA(B3:R3) -> 2 | T3: =COUNTIF(B3:R3, "p1") -> 1 | U3: =COUNTIF(B3:R3, "p2") -> 1 | V3: =COUNTIF(B3:R3, "p3") -> 0 | W3: =COUNTIF(B3:R3, "p4") -> 0
A4: ='Voeux élèves'!A4 -> élève 3 | B4: P3 | S4: =COUNTA(B4:R4) -> 1 | T4: =COUNTIF(B4:R4, "p1") -> 0 | U4: =COUNTIF(B4:R4, "p2") -> 0 | V4: =COUNTIF(B4:R4, "p3") -> 1 | W4: =COUNTIF(B4:R4, "p4") -> 0
A5: ='Voeux élèves'!A5 -> etc… | B5: P4 | S5: =COUNTA(B5:R5) -> 1 | T5: =COUNTIF(B5:R5, "p1") -> 0 | U5: =COUNTIF(B5:R5, "p2") -> 0 | V5: =COUNTIF(B5:R5, "p3") -> 0 | W5: =COUNTIF(B5:R5, "p4") -> 1
A6: ='Voeux élèves'!A6 -> 0 | S6: =COUNTA(B6:R6) -> 0 | T6: =COUNTIF(B6:R6, "p1") -> 0 | U6: =COUNTIF(B6:R6, "p2") -> 0 | V6: =COUNTIF(B6:R6, "p3") -> 0 | W6: =COUNTIF(B6:R6, "p4") -> 0
A7: ='Voeux élèves'!A7 -> 0 | S7: =COUNTA(B7:R7) -> 0 | T7: =COUNTIF(B7:R7, "p1") -> 0 | U7: =COUNTIF(B7:R7, "p2") -> 0 | V7: =COUNTIF(B7:R7, "p3") -> 0 | W7: =COUNTIF(B7:R7, "p4") -> 0
A8: ='Voeux élèves'!A8 -> 0 | S8: =COUNTA(B8:R8) -> 0 | T8: =COUNTIF(B8:R8, "p1") -> 0 | U8: =COUNTIF(B8:R8, "p2") -> 0 | V8: =COUNTIF(B8:R8, "p3") -> 0 | W8: =COUNTIF(B8:R8, "p4") -> 0
A9: ='Voeux élèves'!A9 -> 0 | S9: =COUNTA(B9:R9) -> 0 | T9: =COUNTIF(B9:R9, "p1") -> 0 | U9: =COUNTIF(B9:R9, "p2") -> 0 | V9: =COUNTIF(B9:R9, "p3") -> 0 | W9: =COUNTIF(B9:R9, "p4") -> 0
A10: ='Voeux élèves'!A10 -> 0 | S10: =COUNTA(B10:R10) -> 0 | T10: =COUNTIF(B10:R10, "p1") -> 0 | U10: =COUNTIF(B10:R10, "p2") -> 0 | V10: =COUNTIF(B10:R10, "p3") -> 0 | W10: =COUNTIF(B10:R10, "p4") -> 0
A11: ='Voeux élèves'!A11 -> 0 | S11: =COUNTA(B11:R11) -> 0 | T11: =COUNTIF(B11:R11, "p1") -> 0 | U11: =COUNTIF(B11:R11, "p2") -> 0 | V11: =COUNTIF(B11:R11, "p3") -> 0 | W11: =COUNTIF(B11:R11, "p4") -> 0
A12: ='Voeux élèves'!A12 -> 0 | S12: =COUNTA(B12:R12) -> 0 | T12: =COUNTIF(B12:R12, "p1") -> 0 | U12: =COUNTIF(B12:R12, "p2") -> 0 | V12: =COUNTIF(B12:R12, "p3") -> 0 | W12: =COUNTIF(B12:R12, "p4") -> 0
A13: ='Voeux élèves'!A13 -> 0 | S13: =COUNTA(B13:R13) -> 0 | T13: =COUNTIF(B13:R13, "p1") -> 0 | U13: =COUNTIF(B13:R13, "p2") -> 0 | V13: =COUNTIF(B13:R13, "p3") -> 0 | W13: =COUNTIF(B13:R13, "p4") -> 0
A14: ='Voeux élèves'!A14 -> 0 | S14: =COUNTA(B14:R14) -> 0 | T14: =COUNTIF(B14:R14, "p1") -> 0 | U14: =COUNTIF(B14:R14, "p2") -> 0 | V14: =COUNTIF(B14:R14, "p3") -> 0 | W14: =COUNTIF(B14:R14, "p4") -> 0
A15: ='Voeux élèves'!A15 -> 0 | S15: =COUNTA(B15:R15) -> 0 | T15: =COUNTIF(B15:R15, "p1") -> 0 | U15: =COUNTIF(B15:R15, "p2") -> 0 | V15: =COUNTIF(B15:R15, "p3") -> 0 | W15: =COUNTIF(B15:R15, "p4") -> 0
A16: ='Voeux élèves'!A16 -> 0 | S16: =COUNTA(B16:R16) -> 0 | T16: =COUNTIF(B16:R16, "p1") -> 0 | U16: =COUNTIF(B16:R16, "p2") -> 0 | V16: =COUNTIF(B16:R16, "p3") -> 0 | W16: =COUNTIF(B16:R16, "p4") -> 0
A17: ='Voeux élèves'!A17 -> 0 | S17: =COUNTA(B17:R17) -> 0 | T17: =COUNTIF(B17:R17, "p1") -> 0 | U17: =COUNTIF(B17:R17, "p2") -> 0 | V17: =COUNTIF(B17:R17, "p3") -> 0 | W17: =COUNTIF(B17:R17, "p4") -> 0
... A49: ='Voeux élèves'!A49 -> 0 | S49: =COUNTA(B49:R49) -> 0 | T49: =COUNTIF(B49:R49, "p1") -> 0 | U49: =COUNTIF(B49:R49, "p2") -> 0 | V49: =COUNTIF(B49:R49, "p3") -> 0 | W49: =COUNTIF(B49:R49, "p4") -> 0
A50: =COUNTA(A2:A49) -> 48 | B50: =COUNTA(B2:B49) -> 4 | C50: =COUNTA(C2:C49) -> 1 | D50: =COUNTA(D2:D49) -> 0 | E50: =COUNTA(E2:E49) -> 0 | F50: =COUNTA(F2:F49) -> 0 | G50: =COUNTA(G2:G49) -> 0 | H50: =COUNTA(H2:H49) -> 0 | ... R50: =COUNTA(R2:R49) -> 0
A51: P1 du 21/01 au 16/02 | B51: =COUNTIF(B2:B50,"P1") -> 1 | C51: =COUNTIF(C2:C50,"P1") -> 1 | D51: =COUNTIF(D2:D50,"P1") -> 0 | E51: =COUNTIF(E2:E50,"P1") -> 0 | F51: =COUNTIF(F2:F50,"P1") -> 0 | G51: =COUNTIF(G2:G50,"P1") -> 0 | H51: =COUNTIF(H2:H50,"P1") -> 0 | I51: =COUNTIF(I2:I50,"P1") -> 0 | ... R51: =COUNTIF(R2:R50,"P1") -> 0
A52: P2 du 4/03 au 30/03 | B52: =COUNTIF(B2:B50,"P2") -> 1 | C52: =COUNTIF(C2:C50,"P2") -> 0 | D52: =COUNTIF(D2:D50,"P2") -> 0 | E52: =COUNTIF(E2:E50,"P2") -> 0 | F52: =COUNTIF(F2:F50,"P2") -> 0 | G52: =COUNTIF(G2:G50,"P2") -> 0 | H52: =COUNTIF(H2:H50,"P2") -> 0 | I52: =COUNTIF(I2:I50,"P2") -> 0 | ... R52: =COUNTIF(R2:R50,"P2") -> 0
A53: P3 du 1er/04 au 11/05 | B53: =COUNTIF(B2:B50,"P3") -> 1 | C53: =COUNTIF(C2:C50,"P3") -> 0 | D53: =COUNTIF(D2:D50,"P3") -> 0 | E53: =COUNTIF(E2:E50,"P3") -> 0 | F53: =COUNTIF(F2:F50,"P3") -> 0 | G53: =COUNTIF(G2:G50,"P3") -> 0 | H53: =COUNTIF(H2:H50,"P3") -> 0 | I53: =COUNTIF(I2:I50,"P3") -> 0 | ... R53: =COUNTIF(R2:R50,"P3") -> 0
A54: P4 du 13/05 au 8/06 | B54: =COUNTIF(B2:B50,"P4") -> 1 | C54: =COUNTIF(C2:C50,"P4") -> 0 | D54: =COUNTIF(D2:D50,"P4") -> 0 | E54: =COUNTIF(E2:E50,"P4") -> 0 | F54: =COUNTIF(F2:F50,"P4") -> 0 | G54: =COUNTIF(G2:G50,"P4") -> 0 | H54: =COUNTIF(H2:H50,"P4") -> 0 | I54: =COUNTIF(I2:I50,"P4") -> 0 | ... R54: =COUNTIF(R2:R50,"P4") -> 0
G57: minimum 1 séance par instrument obligatoire - libre à chacun de faire plus de séances

Sheet pour les élèves 
A1: Nom et prénom / instrument | B1: P1 du 21/01 au 16/02 | C1: P2 du 4/03 au 30/03 | D1: P3 du 1er/04 au 11/05 | E1: P4 du 13/05 au 8/06
A2: ='Voeux élèves'!A2 -> élève 1 | B2: =INDEX(tInstruments,1,MATCH("p1",Tableau1[#This Row],0)) -> flûte traversière | C2: =INDEX(tInstruments,1,MATCH("p2",Tableau1[#This Row],0)) -> #N/A | D2: =INDEX(tInstruments,1,MATCH("p3",Tableau1[#This Row],0)) -> #N/A | E2: =INDEX(tInstruments,1,MATCH("p4",Tableau1[#This Row],0)) -> #N/A
A3: ='Voeux élèves'!A3 -> élève 2 | B3: =INDEX(tInstruments,1,MATCH("p1",Tableau1[#This Row],0)) -> hautbois | C3: =INDEX(tInstruments,1,MATCH("p2",Tableau1[#This Row],0)) -> flûte traversière | D3: =INDEX(tInstruments,1,MATCH("p3",Tableau1[#This Row],0)) -> #N/A | E3: =INDEX(tInstruments,1,MATCH("p4",Tableau1[#This Row],0)) -> #N/A
A4: ='Voeux élèves'!A4 -> élève 3 | B4: =INDEX(tInstruments,1,MATCH("p1",Tableau1[#This Row],0)) -> #N/A | C4: =INDEX(tInstruments,1,MATCH("p2",Tableau1[#This Row],0)) -> #N/A | D4: =INDEX(tInstruments,1,MATCH("p3",Tableau1[#This Row],0)) -> flûte traversière | E4: =INDEX(tInstruments,1,MATCH("p4",Tableau1[#This Row],0)) -> #N/A
A5: ='Voeux élèves'!A5 -> etc… | B5: =INDEX(tInstruments,1,MATCH("p1",Tableau1[#This Row],0)) -> #N/A | C5: =INDEX(tInstruments,1,MATCH("p2",Tableau1[#This Row],0)) -> #N/A | D5: =INDEX(tInstruments,1,MATCH("p3",Tableau1[#This Row],0)) -> #N/A | E5: =INDEX(tInstruments,1,MATCH("p4",Tableau1[#This Row],0)) -> flûte traversière
A6: ='Voeux élèves'!A6 -> 0 | B6: =INDEX(tInstruments,1,MATCH("p1",Tableau1[#This Row],0)) -> #N/A | C6: =INDEX(tInstruments,1,MATCH("p2",Tableau1[#This Row],0)) -> #N/A | D6: =INDEX(tInstruments,1,MATCH("p3",Tableau1[#This Row],0)) -> #N/A | E6: =INDEX(tInstruments,1,MATCH("p4",Tableau1[#This Row],0)) -> #N/A
A7: ='Voeux élèves'!A7 -> 0 | B7: =INDEX(tInstruments,1,MATCH("p1",Tableau1[#This Row],0)) -> #N/A | C7: =INDEX(tInstruments,1,MATCH("p2",Tableau1[#This Row],0)) -> #N/A | D7: =INDEX(tInstruments,1,MATCH("p3",Tableau1[#This Row],0)) -> #N/A | E7: =INDEX(tInstruments,1,MATCH("p4",Tableau1[#This Row],0)) -> #N/A
A8: ='Voeux élèves'!A8 -> 0 | B8: =INDEX(tInstruments,1,MATCH("p1",Tableau1[#This Row],0)) -> #N/A | C8: =INDEX(tInstruments,1,MATCH("p2",Tableau1[#This Row],0)) -> #N/A | D8: =INDEX(tInstruments,1,MATCH("p3",Tableau1[#This Row],0)) -> #N/A | E8: =INDEX(tInstruments,1,MATCH("p4",Tableau1[#This Row],0)) -> #N/A
A9: ='Voeux élèves'!A9 -> 0 | B9: =INDEX(tInstruments,1,MATCH("p1",Tableau1[#This Row],0)) -> #N/A | C9: =INDEX(tInstruments,1,MATCH("p2",Tableau1[#This Row],0)) -> #N/A | D9: =INDEX(tInstruments,1,MATCH("p3",Tableau1[#This Row],0)) -> #N/A | E9: =INDEX(tInstruments,1,MATCH("p4",Tableau1[#This Row],0)) -> #N/A
A10: ='Voeux élèves'!A10 -> 0 | B10: =INDEX(tInstruments,1,MATCH("p1",Tableau1[#This Row],0)) -> #N/A | C10: =INDEX(tInstruments,1,MATCH("p2",Tableau1[#This Row],0)) -> #N/A | D10: =INDEX(tInstruments,1,MATCH("p3",Tableau1[#This Row],0)) -> #N/A | E10: =INDEX(tInstruments,1,MATCH("p4",Tableau1[#This Row],0)) -> #N/A
A11: ='Voeux élèves'!A11 -> 0 | B11: =INDEX(tInstruments,1,MATCH("p1",Tableau1[#This Row],0)) -> #N/A | C11: =INDEX(tInstruments,1,MATCH("p2",Tableau1[#This Row],0)) -> #N/A | D11: =INDEX(tInstruments,1,MATCH("p3",Tableau1[#This Row],0)) -> #N/A | E11: =INDEX(tInstruments,1,MATCH("p4",Tableau1[#This Row],0)) -> #N/A
A12: ='Voeux élèves'!A12 -> 0 | B12: =INDEX(tInstruments,1,MATCH("p1",Tableau1[#This Row],0)) -> #N/A | C12: =INDEX(tInstruments,1,MATCH("p2",Tableau1[#This Row],0)) -> #N/A | D12: =INDEX(tInstruments,1,MATCH("p3",Tableau1[#This Row],0)) -> #N/A | E12: =INDEX(tInstruments,1,MATCH("p4",Tableau1[#This Row],0)) -> #N/A
A13: ='Voeux élèves'!A13 -> 0 | B13: =INDEX(tInstruments,1,MATCH("p1",Tableau1[#This Row],0)) -> #N/A | C13: =INDEX(tInstruments,1,MATCH("p2",Tableau1[#This Row],0)) -> #N/A | D13: =INDEX(tInstruments,1,MATCH("p3",Tableau1[#This Row],0)) -> #N/A | E13: =INDEX(tInstruments,1,MATCH("p4",Tableau1[#This Row],0)) -> #N/A
... A49: ='Voeux élèves'!A49 -> 0 | B49: =INDEX(tInstruments,1,MATCH("p1",Tableau1[#This Row],0)) -> #N/A | C49: =INDEX(tInstruments,1,MATCH("p2",Tableau1[#This Row],0)) -> #N/A | D49: =INDEX(tInstruments,1,MATCH("p3",Tableau1[#This Row],0)) -> #N/A | E49: =INDEX(tInstruments,1,MATCH("p4",Tableau1[#This Row],0)) -> #N/A

Sheet liste pour les profs
A2: Flûte traversière | B2: Hautbois | C2: Clarinette | D2: Basson | E2: Saxo | F2: violon | G2: alto | H2: violoncelle | I2: contrebasse | J2: trompette | K2: cor | L2: trombone | M2: tuba | N2: percussions | O2: guitare | P2: harpe | Q2: piano

Sheet répartition - bis
A1: Nom et prénom / instrument | B1: flute traversière | C1: hautbois | D1: clarinette | E1: basson | F1: saxo | G1: violon | H1: alto | I1: violoncelle | J1: contrebasse | K1: trompette | L1: cor | M1: trombone | N1: tuba | O1: percus | P1: guitare | Q1: harpe | R1: piano | T1: p1 | U1: p2 | V1: p3 | W1: p4 | Y1: Colonne1 | Z1: ALBANO-FABLET Ninon | AA1: BARONNET Charlotte | AB1: BERANGER Liam | AC1: BERNET Cécile | AD1: BERTELLE Jeremy | AE1: BOUFFAY BALAGUIER Georgia | AF1: BUIRON Justine | AG1: BUIRON-ROUVIER Juliette | AH1: BUN Lucas | AI1: CARRON Arthur | AJ1: CATALAO PACHECO Mercedes | AK1: CHAMPAGNAT Clément | AL1: CUI Elina | AM1: DAVID DE SAUZEA Gaël | AN1: DE LA POMMERAYE Loïc | AO1: DE SELLE Elouan | AP1: DE SOLA - BOUILLO Manon | AQ1: DONETTI Thomas | AR1: DOUZIECH Manon | AS1: FONDRETON Arthur | AT1: GARRIGUES Rémi | AU1: GENEVOIS Loan | AV1: GEORGEL Bastien | AW1: GONZALEZ Eva | AX1: GREMILLON Charlotte | AY1: GUYOT Natacha | AZ1: HACHICHI Hillele | BA1: IPATOVA Alisa | BB1: JAUSSAUD FURMANSKI Tristan | BC1: KARAGIANNIS Clervie | BD1: KOHLER Nils | BE1: LEGENDRE Arthur | BF1: LUCAS CAMILLETTI Luna | BG1: MACCARY Camille | BH1: MARMORET Khémis | BI1: MAZLOUM Naya | BJ1: PAYELLE Mélinée | BK1: PEJOAN Louise | BL1: PERDRIEU Romy | BM1: PERRONE Victoire | BN1: RAHMANI Sarah | BO1: RAJAONA YAELLE | BP1: REINQUIN Camille | BQ1: RICHARD Léonard | BR1: ROCA Martin | BS1: ROSALES Pénélope | BT1: SCREMIN Joanie | BU1: THAUNAT Eugene
A2: ALBANO-FABLET Ninon | B2: p1 | I2: P2 | M2: p3 | P2: p4 | S2: =COUNTA(B2:R2) -> 4 | T2: =COUNTIF(B2:R2, "p1") -> 1 | U2: =COUNTIF(B2:R2, "p2") -> 1 | V2: =COUNTIF(B2:R2, "p3") -> 1 | W2: =COUNTIF(B2:R2, "p4") -> 1 | Y2: alto | AE2: P2 | AF2: p3 | AI2: P2 | AT2: p3 | AU2: p4 | BA2: P2 | BG2: p4 | BH2: p1 | BI2: p4 | BM2: p1 | BN2: p3 | BT2: p1
A3: BARONNET Charlotte | B3: p4 | I3: P2 | L3: p3 | R3: p1 | S3: =COUNTA(B3:R3) -> 4 | T3: =COUNTIF(B3:R3, "p1") -> 1 | U3: =COUNTIF(B3:R3, "p2") -> 1 | V3: =COUNTIF(B3:R3, "p3") -> 1 | W3: =COUNTIF(B3:R3, "p4") -> 1 | Y3: basson | AC3: P2 | AG3: p1 | AO3: p1 | AT3: P2 | AU3: P2 | BA3: p3 | BC3: p4 | BI3: p3 | BL3: p4 | BP3: p4
A4: BERANGER Liam | F4: p4 | J4: P2 | N4: p1 | P4: p3 | S4: =COUNTA(B4:R4) -> 4 | T4: =COUNTIF(B4:R4, "p1") -> 1 | U4: =COUNTIF(B4:R4, "p2") -> 1 | V4: =COUNTIF(B4:R4, "p3") -> 1 | W4: =COUNTIF(B4:R4, "p4") -> 1 | Y4: clarinette | AD4: p1 | AH4: p4 | AM4: p1 | AQ4: P2 | AS4: P2 | AX4: p3 | BE4: p3 | BH4: p4 | BO4: p4 | BQ4: P2
A5: BERNET Cécile | E5: P2 | I5: p1 | N5: p3 | P5: p4 | S5: =COUNTA(B5:R5) -> 4 | T5: =COUNTIF(B5:R5, "p1") -> 1 | U5: =COUNTIF(B5:R5, "p2") -> 1 | V5: =COUNTIF(B5:R5, "p3") -> 1 | W5: =COUNTIF(B5:R5, "p4") -> 1 | Y5: contrebasse | AB5: P2 | AK5: P2 | AM5: P2 | AN5: p4 | AP5: p1 | AZ5: p4 | BD5: p4 | BE5: p1 | BL5: p3 | BP5: p3 | BQ5: p3 | BR5: p1
A6: BERTELLE Jeremy | D6: p1 | I6: p3 | L6: p4 | O6: P2 | S6: =COUNTA(B6:R6) -> 4 | T6: =COUNTIF(B6:R6, "p1") -> 1 | U6: =COUNTIF(B6:R6, "p2") -> 1 | V6: =COUNTIF(B6:R6, "p3") -> 1 | W6: =COUNTIF(B6:R6, "p4") -> 1 | Y6: cor | AA6: p3 | AD6: p4 | AF6: p1 | AI6: p3 | AL6: p4 | AR6: p3 | AT6: p1 | AY6: p1 | BB6: p4 | BF6: P2 | BK6: P2 | BT6: P2
A7: BOUFFAY BALAGUIER Georgia | B7: p1 | H7: P2 | K7: p4 | Q7: p3 | S7: =COUNTA(B7:R7) -> 4 | T7: =COUNTIF(B7:R7, "p1") -> 1 | U7: =COUNTIF(B7:R7, "p2") -> 1 | V7: =COUNTIF(B7:R7, "p3") -> 1 | W7: =COUNTIF(B7:R7, "p4") -> 1 | Y7: flute traversière | Z7: p1 | AA7: p4 | AE7: p1 | AF7: P2 | AJ7: P2 | AW7: p3 | BG7: p3 | BN7: p1 | BS7: p4
A8: BUIRON Justine | B8: P2 | H8: p3 | L8: p1 | R8: p4 | S8: =COUNTA(B8:R8) -> 4 | T8: =COUNTIF(B8:R8, "p1") -> 1 | U8: =COUNTIF(B8:R8, "p2") -> 1 | V8: =COUNTIF(B8:R8, "p3") -> 1 | W8: =COUNTIF(B8:R8, "p4") -> 1 | Y8: guitare | Z8: p4 | AB8: p3 | AC8: p4 | AH8: p1 | AM8: p3 | AQ8: p1 | AX8: P2 | BB8: p1 | BC8: p3 | BF8: p1 | BH8: P2 | BI8: P2
A9: BUIRON-ROUVIER Juliette | E9: p1 | G9: P2 | K9: p3 | R9: p4 | S9: =COUNTA(B9:R9) -> 4 | T9: =COUNTIF(B9:R9, "p1") -> 1 | U9: =COUNTIF(B9:R9, "p2") -> 1 | V9: =COUNTIF(B9:R9, "p3") -> 1 | W9: =COUNTIF(B9:R9, "p4") -> 1 | Y9: harpe | AE9: p3 | AI9: p4 | AS9: p1 | AU9: p3 | AV9: p3 | AW9: p1 | AZ9: P2 | BG9: P2 | BJ9: P2 | BM9: p4 | BN9: p4 | BP9: p1
A10: BUN Lucas | D10: p4 | G10: P2 | M10: p3 | P10: p1 | S10: =COUNTA(B10:R10) -> 4 | T10: =COUNTIF(B10:R10, "p1") -> 1 | U10: =COUNTIF(B10:R10, "p2") -> 1 | V10: =COUNTIF(B10:R10, "p3") -> 1 | W10: =COUNTIF(B10:R10, "p4") -> 1 | Y10: hautbois | AI10: p1 | AL10: P2 | AN10: p1 | AP10: P2 | AY10: p4 | AZ10: p3 | BJ10: p3 | BK10: p4 | BM10: p3
A11: CARRON Arthur | C11: p1 | H11: P2 | L11: p3 | Q11: p4 | S11: =COUNTA(B11:R11) -> 4 | T11: =COUNTIF(B11:R11, "p1") -> 1 | U11: =COUNTIF(B11:R11, "p2") -> 1 | V11: =COUNTIF(B11:R11, "p3") -> 1 | W11: =COUNTIF(B11:R11, "p4") -> 1 | Y11: percus | AD11: P2 | AJ11: p1 | AK11: p4 | AN11: P2 | AT11: p4 | BD11: p1 | BE11: P2 | BQ11: p1 | BR11: p4 | BS11: p3 | BT11: p3 | BU11: p3
A12: CATALAO PACHECO Mercedes | B12: P2 | G12: p3 | M12: p4 | O12: p1 | S12: =COUNTA(B12:R12) -> 4 | T12: =COUNTIF(B12:R12, "p1") -> 1 | U12: =COUNTIF(B12:R12, "p2") -> 1 | V12: =COUNTIF(B12:R12, "p3") -> 1 | W12: =COUNTIF(B12:R12, "p4") -> 1 | Y12: piano | AA12: p1 | AF12: p4 | AG12: p4 | AL12: p1 | AO12: P2 | AP12: p3 | AR12: p4 | AY12: P2 | BA12: p1 | BK12: p3 | BL12: P2 | BO12: p3
A13: CHAMPAGNAT Clément | F13: p1 | J13: P2 | N13: p3 | O13: p4 | S13: =COUNTA(B13:R13) -> 4 | T13: =COUNTIF(B13:R13, "p1") -> 1 | U13: =COUNTIF(B13:R13, "p2") -> 1 | V13: =COUNTIF(B13:R13, "p3") -> 1 | W13: =COUNTIF(B13:R13, "p4") -> 1 | Y13: saxo | AB13: p4 | AK13: p1 | AR13: p1 | AV13: P2 | BB13: P2 | BD13: p3 | BF13: p3 | BR13: p3 | BT13: p4 | BU13: p4
A14: CUI Elina | C14: P2 | I14: p3 | L14: p4 | R14: p1 | S14: =COUNTA(B14:R14) -> 4 | T14: =COUNTIF(B14:R14, "p1") -> 1 | U14: =COUNTIF(B14:R14, "p2") -> 1 | V14: =COUNTIF(B14:R14, "p3") -> 1 | W14: =COUNTIF(B14:R14, "p4") -> 1 | Y14: trombone | Z14: p3 | AH14: p3 | AJ14: p4 | AN14: p3 | AP14: p4 | AV14: p1 | AZ14: p1 | BA14: p4 | BC14: p1 | BD14: P2 | BO14: P2 | BU14: P2
A15: DAVID DE SAUZEA Gaël | D15: p1 | J15: P2 | N15: p4 | P15: p3 | S15: =COUNTA(B15:R15) -> 4 | T15: =COUNTIF(B15:R15, "p1") -> 1 | U15: =COUNTIF(B15:R15, "p2") -> 1 | V15: =COUNTIF(B15:R15, "p3") -> 1 | W15: =COUNTIF(B15:R15, "p4") -> 1 | Y15: trompette | AE15: p4 | AG15: p3 | AO15: p4 | AQ15: p3 | AS15: p3 | AU15: p1 | AX15: p1 | BI15: p1 | BJ15: p4 | BM15: P2 | BN15: P2 | BS15: P2
A16: DE LA POMMERAYE Loïc | C16: p1 | J16: p4 | M16: p3 | O16: P2 | S16: =COUNTA(B16:R16) -> 4 | T16: =COUNTIF(B16:R16, "p1") -> 1 | U16: =COUNTIF(B16:R16, "p2") -> 1 | V16: =COUNTIF(B16:R16, "p3") -> 1 | W16: =COUNTIF(B16:R16, "p4") -> 1 | Y16: tuba | AB16: p1 | AC16: p3 | AK16: p3 | AM16: p4 | AW16: P2 | BE16: p4 | BG16: p1 | BH16: p3 | BL16: p1 | BP16: P2 | BQ16: p4 | BR16: P2
A17: DE SELLE Elouan | E17: p1 | I17: p3 | K17: p4 | R17: P2 | S17: =COUNTA(B17:R17) -> 4 | T17: =COUNTIF(B17:R17, "p1") -> 1 | U17: =COUNTIF(B17:R17, "p2") -> 1 | V17: =COUNTIF(B17:R17, "p3") -> 1 | W17: =COUNTIF(B17:R17, "p4") -> 1 | Y17: violon | AG17: P2 | AH17: P2 | AJ17: p3 | AR17: P2 | AW17: p4 | AX17: p4 | AY17: p3 | BB17: p3 | BF17: p4 | BK17: p1 | BS17: p1 | BU17: p1
A18: DE SOLA - BOUILLO Manon | C18: P2 | J18: p1 | M18: p4 | R18: p3 | S18: =COUNTA(B18:R18) -> 4 | T18: =COUNTIF(B18:R18, "p1") -> 1 | U18: =COUNTIF(B18:R18, "p2") -> 1 | V18: =COUNTIF(B18:R18, "p3") -> 1 | W18: =COUNTIF(B18:R18, "p4") -> 1 | Y18: violoncelle | Z18: P2 | AA18: P2 | AC18: p1 | AD18: p3 | AL18: p3 | AO18: p3 | AQ18: p4 | AS18: p4 | AV18: p4 | BC18: P2 | BJ18: p1 | BO18: p1
A19: DONETTI Thomas | D19: P2 | I19: p4 | K19: p3 | P19: p1 | S19: =COUNTA(B19:R19) -> 4 | T19: =COUNTIF(B19:R19, "p1") -> 1 | U19: =COUNTIF(B19:R19, "p2") -> 1 | V19: =COUNTIF(B19:R19, "p3") -> 1 | W19: =COUNTIF(B19:R19, "p4") -> 1
A20: DOUZIECH Manon | F20: p1 | G20: P2 | L20: p3 | R20: p4 | S20: =COUNTA(B20:R20) -> 4 | T20: =COUNTIF(B20:R20, "p1") -> 1 | U20: =COUNTIF(B20:R20, "p2") -> 1 | V20: =COUNTIF(B20:R20, "p3") -> 1 | W20: =COUNTIF(B20:R20, "p4") -> 1
A21: FONDRETON Arthur | D21: P2 | I21: p4 | K21: p3 | Q21: p1 | S21: =COUNTA(B21:R21) -> 4 | T21: =COUNTIF(B21:R21, "p1") -> 1 | U21: =COUNTIF(B21:R21, "p2") -> 1 | V21: =COUNTIF(B21:R21, "p3") -> 1 | W21: =COUNTIF(B21:R21, "p4") -> 1
A22: GARRIGUES Rémi | E22: P2 | H22: p3 | L22: p1 | O22: p4 | S22: =COUNTA(B22:R22) -> 4 | T22: =COUNTIF(B22:R22, "p1") -> 1 | U22: =COUNTIF(B22:R22, "p2") -> 1 | V22: =COUNTIF(B22:R22, "p3") -> 1 | W22: =COUNTIF(B22:R22, "p4") -> 1
A23: GENEVOIS Loan | E23: P2 | H23: p4 | K23: p1 | Q23: p3 | S23: =COUNTA(B23:R23) -> 4 | T23: =COUNTIF(B23:R23, "p1") -> 1 | U23: =COUNTIF(B23:R23, "p2") -> 1 | V23: =COUNTIF(B23:R23, "p3") -> 1 | W23: =COUNTIF(B23:R23, "p4") -> 1
A24: GEORGEL Bastien | F24: P2 | I24: p4 | M24: p1 | Q24: p3 | S24: =COUNTA(B24:R24) -> 4 | T24: =COUNTIF(B24:R24, "p1") -> 1 | U24: =COUNTIF(B24:R24, "p2") -> 1 | V24: =COUNTIF(B24:R24, "p3") -> 1 | W24: =COUNTIF(B24:R24, "p4") -> 1
A25: GONZALEZ Eva | B25: p3 | G25: p4 | N25: P2 | Q25: p1 | S25: =COUNTA(B25:R25) -> 4 | T25: =COUNTIF(B25:R25, "p1") -> 1 | U25: =COUNTIF(B25:R25, "p2") -> 1 | V25: =COUNTIF(B25:R25, "p3") -> 1 | W25: =COUNTIF(B25:R25, "p4") -> 1
A26: GREMILLON Charlotte | D26: p3 | G26: p4 | K26: p1 | P26: P2 | S26: =COUNTA(B26:R26) -> 4 | T26: =COUNTIF(B26:R26, "p1") -> 1 | U26: =COUNTIF(B26:R26, "p2") -> 1 | V26: =COUNTIF(B26:R26, "p3") -> 1 | W26: =COUNTIF(B26:R26, "p4") -> 1
A27: GUYOT Natacha | C27: p4 | G27: p3 | L27: p1 | R27: P2 | S27: =COUNTA(B27:R27) -> 4 | T27: =COUNTIF(B27:R27, "p1") -> 1 | U27: =COUNTIF(B27:R27, "p2") -> 1 | V27: =COUNTIF(B27:R27, "p3") -> 1 | W27: =COUNTIF(B27:R27, "p4") -> 1
A28: HACHICHI Hillele | C28: p3 | J28: p4 | M28: p1 | Q28: P2 | S28: =COUNTA(B28:R28) -> 4 | T28: =COUNTIF(B28:R28, "p1") -> 1 | U28: =COUNTIF(B28:R28, "p2") -> 1 | V28: =COUNTIF(B28:R28, "p3") -> 1 | W28: =COUNTIF(B28:R28, "p4") -> 1
A29: IPATOVA Alisa | E29: p3 | H29: P2 | M29: p4 | R29: p1 | S29: =COUNTA(B29:R29) -> 4 | T29: =COUNTIF(B29:R29, "p1") -> 1 | U29: =COUNTIF(B29:R29, "p2") -> 1 | V29: =COUNTIF(B29:R29, "p3") -> 1 | W29: =COUNTIF(B29:R29, "p4") -> 1
A30: JAUSSAUD FURMANSKI Tristan | F30: P2 | G30: p3 | L30: p4 | P30: p1 | S30: =COUNTA(B30:R30) -> 4 | T30: =COUNTIF(B30:R30, "p1") -> 1 | U30: =COUNTIF(B30:R30, "p2") -> 1 | V30: =COUNTIF(B30:R30, "p3") -> 1 | W30: =COUNTIF(B30:R30, "p4") -> 1
A31: KARAGIANNIS Clervie | E31: p4 | I31: P2 | M31: p1 | P31: p3 | S31: =COUNTA(B31:R31) -> 4 | T31: =COUNTIF(B31:R31, "p1") -> 1 | U31: =COUNTIF(B31:R31, "p2") -> 1 | V31: =COUNTIF(B31:R31, "p3") -> 1 | W31: =COUNTIF(B31:R31, "p4") -> 1
A32: KOHLER Nils | F32: p3 | J32: p4 | M32: P2 | O32: p1 | S32: =COUNTA(B32:R32) -> 4 | T32: =COUNTIF(B32:R32, "p1") -> 1 | U32: =COUNTIF(B32:R32, "p2") -> 1 | V32: =COUNTIF(B32:R32, "p3") -> 1 | W32: =COUNTIF(B32:R32, "p4") -> 1
A33: LEGENDRE Arthur | D33: p3 | J33: p1 | N33: p4 | O33: P2 | S33: =COUNTA(B33:R33) -> 4 | T33: =COUNTIF(B33:R33, "p1") -> 1 | U33: =COUNTIF(B33:R33, "p2") -> 1 | V33: =COUNTIF(B33:R33, "p3") -> 1 | W33: =COUNTIF(B33:R33, "p4") -> 1
A34: LUCAS CAMILLETTI Luna | F34: p3 | G34: p4 | L34: P2 | P34: p1 | S34: =COUNTA(B34:R34) -> 4 | T34: =COUNTIF(B34:R34, "p1") -> 1 | U34: =COUNTIF(B34:R34, "p2") -> 1 | V34: =COUNTIF(B34:R34, "p3") -> 1 | W34: =COUNTIF(B34:R34, "p4") -> 1
A35: MACCARY Camille | B35: p3 | H35: p4 | N35: p1 | Q35: P2 | S35: =COUNTA(B35:R35) -> 4 | T35: =COUNTIF(B35:R35, "p1") -> 1 | U35: =COUNTIF(B35:R35, "p2") -> 1 | V35: =COUNTIF(B35:R35, "p3") -> 1 | W35: =COUNTIF(B35:R35, "p4") -> 1
A36: MARMORET Khémis | D36: p4 | H36: p1 | N36: p3 | P36: P2 | S36: =COUNTA(B36:R36) -> 4 | T36: =COUNTIF(B36:R36, "p1") -> 1 | U36: =COUNTIF(B36:R36, "p2") -> 1 | V36: =COUNTIF(B36:R36, "p3") -> 1 | W36: =COUNTIF(B36:R36, "p4") -> 1
A37: MAZLOUM Naya | E37: p3 | H37: p4 | K37: p1 | P37: P2 | S37: =COUNTA(B37:R37) -> 4 | T37: =COUNTIF(B37:R37, "p1") -> 1 | U37: =COUNTIF(B37:R37, "p2") -> 1 | V37: =COUNTIF(B37:R37, "p3") -> 1 | W37: =COUNTIF(B37:R37, "p4") -> 1
A38: PAYELLE Mélinée | C38: p3 | I38: p1 | K38: p4 | Q38: P2 | S38: =COUNTA(B38:R38) -> 4 | T38: =COUNTIF(B38:R38, "p1") -> 1 | U38: =COUNTIF(B38:R38, "p2") -> 1 | V38: =COUNTIF(B38:R38, "p3") -> 1 | W38: =COUNTIF(B38:R38, "p4") -> 1
A39: PEJOAN Louise | C39: p4 | G39: p1 | L39: P2 | R39: p3 | S39: =COUNTA(B39:R39) -> 4 | T39: =COUNTIF(B39:R39, "p1") -> 1 | U39: =COUNTIF(B39:R39, "p2") -> 1 | V39: =COUNTIF(B39:R39, "p3") -> 1 | W39: =COUNTIF(B39:R39, "p4") -> 1
A40: PERDRIEU Romy | E40: p4 | J40: p3 | N40: p1 | R40: P2 | S40: =COUNTA(B40:R40) -> 4 | T40: =COUNTIF(B40:R40, "p1") -> 1 | U40: =COUNTIF(B40:R40, "p2") -> 1 | V40: =COUNTIF(B40:R40, "p3") -> 1 | W40: =COUNTIF(B40:R40, "p4") -> 1
A41: PERRONE Victoire | C41: p3 | H41: p1 | K41: P2 | Q41: p4 | S41: =COUNTA(B41:R41) -> 4 | T41: =COUNTIF(B41:R41, "p1") -> 1 | U41: =COUNTIF(B41:R41, "p2") -> 1 | V41: =COUNTIF(B41:R41, "p3") -> 1 | W41: =COUNTIF(B41:R41, "p4") -> 1
A42: RAHMANI Sarah | B42: p1 | H42: p3 | K42: P2 | Q42: p4 | S42: =COUNTA(B42:R42) -> 4 | T42: =COUNTIF(B42:R42, "p1") -> 1 | U42: =COUNTIF(B42:R42, "p2") -> 1 | V42: =COUNTIF(B42:R42, "p3") -> 1 | W42: =COUNTIF(B42:R42, "p4") -> 1
A43: RAJAONA YAELLE | D43: p4 | I43: p1 | M43: P2 | R43: p3 | S43: =COUNTA(B43:R43) -> 4 | T43: =COUNTIF(B43:R43, "p1") -> 1 | U43: =COUNTIF(B43:R43, "p2") -> 1 | V43: =COUNTIF(B43:R43, "p3") -> 1 | W43: =COUNTIF(B43:R43, "p4") -> 1
A44: REINQUIN Camille | E44: p4 | J44: p3 | N44: P2 | Q44: p1 | S44: =COUNTA(B44:R44) -> 4 | T44: =COUNTIF(B44:R44, "p1") -> 1 | U44: =COUNTIF(B44:R44, "p2") -> 1 | V44: =COUNTIF(B44:R44, "p3") -> 1 | W44: =COUNTIF(B44:R44, "p4") -> 1
A45: RICHARD Léonard | D45: P2 | J45: p3 | N45: p4 | O45: p1 | S45: =COUNTA(B45:R45) -> 4 | T45: =COUNTIF(B45:R45, "p1") -> 1 | U45: =COUNTIF(B45:R45, "p2") -> 1 | V45: =COUNTIF(B45:R45, "p3") -> 1 | W45: =COUNTIF(B45:R45, "p4") -> 1
A46: ROCA Martin | F46: p3 | J46: p1 | N46: P2 | O46: p4 | S46: =COUNTA(B46:R46) -> 4 | T46: =COUNTIF(B46:R46, "p1") -> 1 | U46: =COUNTIF(B46:R46, "p2") -> 1 | V46: =COUNTIF(B46:R46, "p3") -> 1 | W46: =COUNTIF(B46:R46, "p4") -> 1
A47: ROSALES Pénélope | B47: p4 | G47: p1 | K47: P2 | O47: p3 | S47: =COUNTA(B47:R47) -> 4 | T47: =COUNTIF(B47:R47, "p1") -> 1 | U47: =COUNTIF(B47:R47, "p2") -> 1 | V47: =COUNTIF(B47:R47, "p3") -> 1 | W47: =COUNTIF(B47:R47, "p4") -> 1
A48: SCREMIN Joanie | F48: p4 | H48: p1 | L48: P2 | O48: p3 | S48: =COUNTA(B48:R48) -> 4 | T48: =COUNTIF(B48:R48, "p1") -> 1 | U48: =COUNTIF(B48:R48, "p2") -> 1 | V48: =COUNTIF(B48:R48, "p3") -> 1 | W48: =COUNTIF(B48:R48, "p4") -> 1
A49: THAUNAT Eugene | F49: p4 | G49: p1 | M49: P2 | O49: p3 | S49: =COUNTA(B49:R49) -> 4 | T49: =COUNTIF(B49:R49, "p1") -> 1 | U49: =COUNTIF(B49:R49, "p2") -> 1 | V49: =COUNTIF(B49:R49, "p3") -> 1 | W49: =COUNTIF(B49:R49, "p4") -> 1
A50: =COUNTA(A2:A49) -> 48 | B50: =COUNTA(B2:B49) -> 9 | C50: =COUNTA(C2:C49) -> 9 | D50: =COUNTA(D2:D49) -> 10 | E50: =COUNTA(E2:E49) -> 10 | F50: =COUNTA(F2:F49) -> 10 | G50: =COUNTA(G2:G49) -> 12 | H50: =COUNTA(H2:H49) -> 12 | ... R50: =COUNTA(R2:R49) -> 12
A51: P1 du 21/01 au 16/02 | B51: =COUNTIF(B2:B50,"P1") -> 3 | C51: =COUNTIF(C2:C50,"P1") -> 2 | D51: =COUNTIF(D2:D50,"P1") -> 2 | E51: =COUNTIF(E2:E50,"P1") -> 2 | F51: =COUNTIF(F2:F50,"P1") -> 2 | G51: =COUNTIF(G2:G50,"P1") -> 3 | H51: =COUNTIF(H2:H50,"P1") -> 3 | I51: =COUNTIF(I2:I50,"P1") -> 3 | ... R51: =COUNTIF(R2:R50,"P1") -> 3
A52: P2 du 4/03 au 30/03 | B52: =COUNTIF(B2:B50,"P2") -> 2 | C52: =COUNTIF(C2:C50,"P2") -> 2 | D52: =COUNTIF(D2:D50,"P2") -> 3 | E52: =COUNTIF(E2:E50,"P2") -> 3 | F52: =COUNTIF(F2:F50,"P2") -> 2 | G52: =COUNTIF(G2:G50,"P2") -> 3 | H52: =COUNTIF(H2:H50,"P2") -> 3 | I52: =COUNTIF(I2:I50,"P2") -> 3 | ... R52: =COUNTIF(R2:R50,"P2") -> 3
A53: P3 du 1er/04 au 11/05 | B53: =COUNTIF(B2:B50,"P3") -> 2 | C53: =COUNTIF(C2:C50,"P3") -> 3 | D53: =COUNTIF(D2:D50,"P3") -> 2 | E53: =COUNTIF(E2:E50,"P3") -> 2 | F53: =COUNTIF(F2:F50,"P3") -> 3 | G53: =COUNTIF(G2:G50,"P3") -> 3 | H53: =COUNTIF(H2:H50,"P3") -> 3 | I53: =COUNTIF(I2:I50,"P3") -> 3 | ... R53: =COUNTIF(R2:R50,"P3") -> 3
A54: P4 du 13/05 au 8/06 | B54: =COUNTIF(B2:B50,"P4") -> 2 | C54: =COUNTIF(C2:C50,"P4") -> 2 | D54: =COUNTIF(D2:D50,"P4") -> 3 | E54: =COUNTIF(E2:E50,"P4") -> 3 | F54: =COUNTIF(F2:F50,"P4") -> 3 | G54: =COUNTIF(G2:G50,"P4") -> 3 | H54: =COUNTIF(H2:H50,"P4") -> 3 | I54: =COUNTIF(I2:I50,"P4") -> 3 | ... R54: =COUNTIF(R2:R50,"P4") -> 3

Sheet fl tr
A1: Flûte traversière | B1: période
A2: ALBANO-FABLET Ninon | B2: p1
A3: BARONNET Charlotte | B3: p4
A4: BOUFFAY BALAGUIER Georgia | B4: p1
A5: BUIRON Justine | B5: P2
A6: CATALAO PACHECO Mercedes | B6: P2
A7: GONZALEZ Eva | B7: p3
A8: MACCARY Camille | B8: p3
A9: RAHMANI Sarah | B9: p1
A10: ROSALES Pénélope | B10: p4
A16: 1 séance = 30 minutes | B16: P1 du 21/01 au 16/02
A17: minimum 1 séance par élève | B17: P2 du 4/03 au 30/03
B18: P3 du 1er/04 au 11/05
B19: P4 du 13/05 au 8/06
B25: =COUNTIF(B2:B24,1) -> 0
B26: =COUNTIF(B2:B24,2) -> 0
B27: =COUNTIF(B2:B24,3) -> 0
B28: =COUNTIF(B2:B24,4) -> 0

Sheet htb
A1: Hautbois | B1: période
A2: CARRON Arthur | B2: p1
A3: CUI Elina | B3: P2
A4: DE LA POMMERAYE Loïc | B4: p1
A5: DE SOLA - BOUILLO Manon | B5: P2
A6: GUYOT Natacha | B6: p4
A7: HACHICHI Hillele | B7: p3
A8: PAYELLE Mélinée | B8: p3
A9: PEJOAN Louise | B9: p4
A10: PERRONE Victoire | B10: p3
A17: 1 séance = 30 minutes | B17: P1 du 21/01 au 16/02
A18: minimum 1 séance par élève | B18: P2 du 4/03 au 30/03
B19: P3 du 1er/04 au 11/05
B20: P4 du 13/05 au 8/06
B25: =COUNTIF(B2:B24,1) -> 0
B26: =COUNTIF(B2:B24,2) -> 0
B27: =COUNTIF(B2:B24,3) -> 0
B28: =COUNTIF(B2:B24,4) -> 0

Sheet cl
A1: Clarinette | B1: période
A2: BERTELLE Jeremy | B2: p1
A3: BUN Lucas | B3: p4
A4: DAVID DE SAUZEA Gaël | B4: p1
A5: DONETTI Thomas | B5: P2
A6: FONDRETON Arthur | B6: P2
A7: GREMILLON Charlotte | B7: p3
A8: LEGENDRE Arthur | B8: p3
A9: MARMORET Khémis | B9: p4
A10: RAJAONA YAELLE | B10: p4
A11: RICHARD Léonard | B11: P2
A17: 1 séance = 30 minutes | C17: P1 du 21/01 au 16/02
A18: minimum 1 séance par élève | C18: P2 du 4/03 au 30/03
C19: P3 du 1er/04 au 11/05
C20: P4 du 13/05 au 8/06
B25: =COUNTIF(B2:B24,1) -> 0
B26: =COUNTIF(B2:B24,2) -> 0
B27: =COUNTIF(B2:B24,3) -> 0
B28: =COUNTIF(B2:B24,4) -> 0

Sheet basson
A1: Basson | B1: période
A2: BERNET Cécile | B2: P2
A3: BUIRON-ROUVIER Juliette | B3: p1
A4: DE SELLE Elouan | B4: p1
A5: GARRIGUES Rémi | B5: P2
A6: GENEVOIS Loan | B6: P2
A7: IPATOVA Alisa | B7: p3
A8: KARAGIANNIS Clervie | B8: p4
A9: MAZLOUM Naya | B9: p3
A10: PERDRIEU Romy | B10: p4
A11: REINQUIN Camille | B11: p4
A18: 1 séance = 30 minutes | B18: P1 du 21/01 au 16/02
A19: minimum 1 séance par élève | B19: P2 du 4/03 au 30/03
B20: P3 du 1er/04 au 11/05
B21: P4 du 13/05 au 8/06
B25: =COUNTIF(B2:B24,1) -> 0
B26: =COUNTIF(B2:B24,2) -> 0
B27: =COUNTIF(B2:B24,3) -> 0
B28: =COUNTIF(B2:B24,4) -> 0

Sheet saxo
A1: Saxo | B1: période
A2: BERANGER Liam | B2: p4
A3: CHAMPAGNAT Clément | B3: p1
A4: DOUZIECH Manon | B4: p1
A5: GEORGEL Bastien | B5: P2
A6: JAUSSAUD FURMANSKI Tristan | B6: P2
A7: KOHLER Nils | B7: p3
A8: LUCAS CAMILLETTI Luna | B8: p3
A9: ROCA Martin | B9: p3
A10: SCREMIN Joanie | B10: p4
A11: THAUNAT Eugene | B11: p4
A17: 1 séance = 30 minutes | B17: P1 du 21/01 au 16/02
A18: minimum 1 séance par élève | B18: P2 du 4/03 au 30/03
B19: P3 du 1er/04 au 11/05
B20: P4 du 13/05 au 8/06
B25: =COUNTIF(B2:B24,1) -> 0
B26: =COUNTIF(B2:B24,2) -> 0
B27: =COUNTIF(B2:B24,3) -> 0
B28: =COUNTIF(B2:B24,4) -> 0

Sheet violon
A1: violon | B1: période
A2: BUIRON-ROUVIER Juliette | B2: P2
A3: BUN Lucas | B3: P2
A4: CATALAO PACHECO Mercedes | B4: p3
A5: DOUZIECH Manon | B5: P2
A6: GONZALEZ Eva | B6: p4
A7: GREMILLON Charlotte | B7: p4
A8: GUYOT Natacha | B8: p3
A9: JAUSSAUD FURMANSKI Tristan | B9: p3
A10: LUCAS CAMILLETTI Luna | B10: p4
A11: PEJOAN Louise | B11: p1
A12: ROSALES Pénélope | B12: p1
... A22: minimum 1 séance par élève | B22: P2 du 4/03 au 30/03
B23: P3 du 1er/04 au 11/05
B24: P4 du 13/05 au 8/06
B25: =COUNTIF(B2:B24,1) -> 0
B26: =COUNTIF(B2:B24,2) -> 0
B27: =COUNTIF(B2:B24,3) -> 0
B28: =COUNTIF(B2:B24,4) -> 0

Sheet alto
A1: alto | B1: période
A2: BOUFFAY BALAGUIER Georgia | B2: P2
A3: BUIRON Justine | B3: p3
A4: CARRON Arthur | B4: P2
A5: GARRIGUES Rémi | B5: p3
A6: GENEVOIS Loan | B6: p4
A7: IPATOVA Alisa | B7: P2
A8: MACCARY Camille | B8: p4
A9: MARMORET Khémis | B9: p1
A10: MAZLOUM Naya | B10: p4
A11: PERRONE Victoire | B11: p1
A12: RAHMANI Sarah | B12: p3
A13: SCREMIN Joanie | B13: p1
B20: P1 du 21/01 au 16/02
B21: P2 du 4/03 au 30/03
A22: 1 séance = 30 minutes | B22: P3 du 1er/04 au 11/05
A23: minimum 1 séance par élève | B23: P4 du 13/05 au 8/06
B27: =COUNTIF(B2:B24,3) -> 0
B28: =COUNTIF(B2:B24,4) -> 0

Sheet vlc
A1: violoncelle | B1: période
A2: ALBANO-FABLET Ninon | B2: P2
A3: BARONNET Charlotte | B3: P2
A4: BERNET Cécile | B4: p1
A5: BERTELLE Jeremy | B5: p3
A6: CUI Elina | B6: p3
A7: DE SELLE Elouan | B7: p3
A8: DONETTI Thomas | B8: p4
A9: FONDRETON Arthur | B9: p4
A10: GEORGEL Bastien | B10: p4
A11: KARAGIANNIS Clervie | B11: P2
A12: PAYELLE Mélinée | B12: p1
... A23: minimum 1 séance par élève | B23: P2 du 4/03 au 30/03
B24: P3 du 1er/04 au 11/05
B25: P4 du 13/05 au 8/06
B26: =COUNTIF(B2:B24,2) -> 0
B27: =COUNTIF(B2:B24,3) -> 0
B28: =COUNTIF(B2:B24,4) -> 0

Sheet cb
A1: contrebasse | B1: période
A2: BERANGER Liam | B2: P2
A3: CHAMPAGNAT Clément | B3: P2
A4: DAVID DE SAUZEA Gaël | B4: P2
A5: DE LA POMMERAYE Loïc | B5: p4
A6: DE SOLA - BOUILLO Manon | B6: p1
A7: HACHICHI Hillele | B7: p4
A8: KOHLER Nils | B8: p4
A9: LEGENDRE Arthur | B9: p1
A10: PERDRIEU Romy | B10: p3
A11: REINQUIN Camille | B11: p3
A12: RICHARD Léonard | B12: p3
A13: ROCA Martin | B13: p1
A21: 1 séance = 30 minutes | C21: P1 du 21/01 au 16/02
A22: minimum 1 séance par élève | C22: P2 du 4/03 au 30/03
C23: P3 du 1er/04 au 11/05
C24: P4 du 13/05 au 8/06
B25: =COUNTIF(B2:B24,1) -> 0
B26: =COUNTIF(B2:B24,2) -> 0
B27: =COUNTIF(B2:B24,3) -> 0
B28: =COUNTIF(B2:B24,4) -> 0

Sheet tromp
A1: trompette | B1: période
A2: BOUFFAY BALAGUIER Georgia | B2: p4
A3: BUIRON-ROUVIER Juliette | B3: p3
A4: DE SELLE Elouan | B4: p4
A5: DONETTI Thomas | B5: p3
A6: FONDRETON Arthur | B6: p3
A7: GENEVOIS Loan | B7: p1
A8: GREMILLON Charlotte | B8: p1
A9: MAZLOUM Naya | B9: p1
A10: PAYELLE Mélinée | B10: p4
A11: PERRONE Victoire | B11: P2
A12: RAHMANI Sarah | B12: P2
A13: ROSALES Pénélope | B13: P2
A21: 1 séance = 30 minutes | C21: P1 du 21/01 au 16/02
A22: minimum 1 séance par élève | C22: P2 du 4/03 au 30/03
C23: P3 du 1er/04 au 11/05
C24: P4 du 13/05 au 8/06
B25: =COUNTIF(B2:B24,1) -> 0
B26: =COUNTIF(B2:B24,2) -> 0
B27: =COUNTIF(B2:B24,3) -> 0
B28: =COUNTIF(B2:B24,4) -> 0

Sheet cor
A1: cor | B1: période
A2: BARONNET Charlotte | B2: p3
A3: BERTELLE Jeremy | B3: p4
A4: BUIRON Justine | B4: p1
A5: CARRON Arthur | B5: p3
A6: CUI Elina | B6: p4
A7: DOUZIECH Manon | B7: p3
A8: GARRIGUES Rémi | B8: p1
A9: GUYOT Natacha | B9: p1
A10: JAUSSAUD FURMANSKI Tristan | B10: p4
A11: LUCAS CAMILLETTI Luna | B11: P2
A12: PEJOAN Louise | B12: P2
A13: SCREMIN Joanie | B13: P2
C21: P1 du 21/01 au 16/02
A22: 1 séance = 30 minutes | C22: P2 du 4/03 au 30/03
A23: minimum 1 séance par élève | C23: P3 du 1er/04 au 11/05
C24: P4 du 13/05 au 8/06
B25: =COUNTIF(B2:B24,1) -> 0
B26: =COUNTIF(B2:B24,2) -> 0
B27: =COUNTIF(B2:B24,3) -> 0
B28: =COUNTIF(B2:B24,4) -> 0

Sheet trombone
A1: trombone | B1: période
A2: ALBANO-FABLET Ninon | B2: p3
A3: BUN Lucas | B3: p3
A4: CATALAO PACHECO Mercedes | B4: p4
A5: DE LA POMMERAYE Loïc | B5: p3
A6: DE SOLA - BOUILLO Manon | B6: p4
A7: GEORGEL Bastien | B7: p1
A8: HACHICHI Hillele | B8: p1
A9: IPATOVA Alisa | B9: p4
A10: KARAGIANNIS Clervie | B10: p1
A11: KOHLER Nils | B11: P2
A12: RAJAONA YAELLE | B12: P2
A13: THAUNAT Eugene | B13: P2
C20: P1 du 21/01 au 16/02
A21: 1 séance = 30 minutes | C21: P2 du 4/03 au 30/03
A22: minimum 1 séance par élève | C22: P3 du 1er/04 au 11/05
C23: P4 du 13/05 au 8/06
B25: =COUNTIF(B2:B24,1) -> 0
B26: =COUNTIF(B2:B24,2) -> 0
B27: =COUNTIF(B2:B24,3) -> 0
B28: =COUNTIF(B2:B24,4) -> 0

Sheet tuba
A1: tuba | B1: période
A2: BERANGER Liam | B2: p1
A3: BERNET Cécile | B3: p3
A4: CHAMPAGNAT Clément | B4: p3
A5: DAVID DE SAUZEA Gaël | B5: p4
A6: GONZALEZ Eva | B6: P2
A7: LEGENDRE Arthur | B7: p4
A8: MACCARY Camille | B8: p1
A9: MARMORET Khémis | B9: p3
A10: PERDRIEU Romy | B10: p1
A11: REINQUIN Camille | B11: P2
A12: RICHARD Léonard | B12: p4
A13: ROCA Martin | B13: P2
C21: P1 du 21/01 au 16/02
A22: 1 séance = 30 minutes | C22: P2 du 4/03 au 30/03
A23: minimum 1 séance par élève | C23: P3 du 1er/04 au 11/05
C24: P4 du 13/05 au 8/06
B25: =COUNTIF(B2:B24,1) -> 0
B26: =COUNTIF(B2:B24,2) -> 0
B27: =COUNTIF(B2:B24,3) -> 0
B28: =COUNTIF(B2:B24,4) -> 0

Sheet percus
A1: percussions | B1: période
A2: BERTELLE Jeremy | B2: P2
A3: CATALAO PACHECO Mercedes | B3: p1
A4: CHAMPAGNAT Clément | B4: p4
A5: DE LA POMMERAYE Loïc | B5: P2
A6: GARRIGUES Rémi | B6: p4
A7: KOHLER Nils | B7: p1
A8: LEGENDRE Arthur | B8: P2
A9: RICHARD Léonard | B9: p1
A10: ROCA Martin | B10: p4
A11: ROSALES Pénélope | B11: p3
A12: SCREMIN Joanie | B12: p3
A13: THAUNAT Eugene | B13: p3
C19: P1 du 21/01 au 16/02
A20: 1 séance = 30 minutes | C20: P2 du 4/03 au 30/03
A21: minimum 1 séance par élève | C21: P3 du 1er/04 au 11/05
C22: P4 du 13/05 au 8/06
B25: =COUNTIF(B2:B24,1) -> 0
B26: =COUNTIF(B2:B24,2) -> 0
B27: =COUNTIF(B2:B24,3) -> 0
B28: =COUNTIF(B2:B24,4) -> 0

Sheet guitare
A1: guitare | B1: période
A2: ALBANO-FABLET Ninon | B2: p4
A3: BERANGER Liam | B3: p3
A4: BERNET Cécile | B4: p4
A5: BUN Lucas | B5: p1
A6: DAVID DE SAUZEA Gaël | B6: p3
A7: DONETTI Thomas | B7: p1
A8: GREMILLON Charlotte | B8: P2
A9: JAUSSAUD FURMANSKI Tristan | B9: p1
A10: KARAGIANNIS Clervie | B10: p3
A11: LUCAS CAMILLETTI Luna | B11: p1
A12: MARMORET Khémis | B12: P2
A13: MAZLOUM Naya | B13: P2
A20: 1 séance = 30 minutes | C20: P1 du 21/01 au 16/02
A21: minimum 1 séance par élève | C21: P2 du 4/03 au 30/03
C22: P3 du 1er/04 au 11/05
C23: P4 du 13/05 au 8/06
B25: =COUNTIF(B2:B24,1) -> 0
B26: =COUNTIF(B2:B24,2) -> 0
B27: =COUNTIF(B2:B24,3) -> 0
B28: =COUNTIF(B2:B24,4) -> 0

Sheet harpe
A1: harpe | B1: période
A2: BOUFFAY BALAGUIER Georgia | B2: p3
A3: CARRON Arthur | B3: p4
A4: FONDRETON Arthur | B4: p1
A5: GENEVOIS Loan | B5: p3
A6: GEORGEL Bastien | B6: p3
A7: GONZALEZ Eva | B7: p1
A8: HACHICHI Hillele | B8: P2
A9: MACCARY Camille | B9: P2
A10: PAYELLE Mélinée | B10: P2
A11: PERRONE Victoire | B11: p4
A12: RAHMANI Sarah | B12: p4
A13: REINQUIN Camille | B13: p1
C19: P1 du 21/01 au 16/02
A20: 1 séance = 30 minutes | C20: P2 du 4/03 au 30/03
A21: minimum 1 séance par élève | C21: P3 du 1er/04 au 11/05
C22: P4 du 13/05 au 8/06
B25: =COUNTIF(B2:B24,1) -> 0
B26: =COUNTIF(B2:B24,2) -> 0
B27: =COUNTIF(B2:B24,3) -> 0
B28: =COUNTIF(B2:B24,4) -> 0

Sheet piano
A1: piano | B1: période
A2: BARONNET Charlotte | B2: p1
A3: BUIRON Justine | B3: p4
A4: BUIRON-ROUVIER Juliette | B4: p4
A5: CUI Elina | B5: p1
A6: DE SELLE Elouan | B6: P2
A7: DE SOLA - BOUILLO Manon | B7: p3
A8: DOUZIECH Manon | B8: p4
A9: GUYOT Natacha | B9: P2
A10: IPATOVA Alisa | B10: p1
A11: PEJOAN Louise | B11: p3
A12: PERDRIEU Romy | B12: P2
A13: RAJAONA YAELLE | B13: p3
C20: P1 du 21/01 au 16/02
A21: 1 séance = 30 minutes | C21: P2 du 4/03 au 30/03
A22: minimum 1 séance par élève | C22: P3 du 1er/04 au 11/05
C23: P4 du 13/05 au 8/06
B25: =COUNTIF(B2:B24,1) -> 0
B26: =COUNTIF(B2:B24,2) -> 0
B27: =COUNTIF(B2:B24,3) -> 0
B28: =COUNTIF(B2:B24,4) -> 0
