Workbook

Sheet DEPAR
B1: GEOLOCALISATION 2019
A4: NUMERO | B4: NOMS | C4: VILLES | D4: DEPARTEMENT | E4: MAI
A5: 636808 | B5: GEO-LOCALISATION | C5: POINTE-NOIRE | D5: RENT-LTR | E5: 407
A6: 5380524 | B6: GEO-LOCALISATION | C6: POINTE-NOIRE | D6: RENT-LTR
A7: 7380503 | B7: GEO-LOCALISATION | C7: POINTE-NOIRE | D7: RENT-LTR
A8: 50465860 | B8: GEO-LOCALISATION | C8: POINTE-NOIRE | D8: RENT-LTR | E8: 108
A9: 50465861 | B9: GEO-LOCALISATION | C9: POINTE-NOIRE | D9: RENT-LTR | E9: 21
A10: 50465862 | B10: GEO-LOCALISATION | C10: POINTE-NOIRE | D10: RENT-LTR | E10: 248
A11: 50465863 | B11: GEO-LOCALISATION | C11: POINTE-NOIRE | D11: RENT-LTR | E11: 427
A12: 50465864 | B12: GEO-LOCALISATION | C12: POINTE-NOIRE | D12: RENT-LTR | E12: 1461
A13: 50465865 | B13: GEO-LOCALISATION | C13: POINTE-NOIRE | D13: RENT-LTR | E13: 159
A14: 50465867 | B14: GEO-LOCALISATION | C14: POINTE-NOIRE | D14: RENT-LTR
A15: 50465868 | B15: GEO-LOCALISATION | C15: POINTE-NOIRE | D15: RENT-LTR | E15: 532
A16: 50465875 | B16: GEO-LOCALISATION | C16: POINTE-NOIRE | D16: RENT-LTR | E16: 177
A17: 50465878 | B17: GEO-LOCALISATION | C17: POINTE-NOIRE | D17: RENT-LTR | E17: 52
A18: 50465883 | B18: GEO-LOCALISATION | C18: POINTE-NOIRE | D18: RENT-LTR | E18: 540
A19: 50465885 | B19: GEO-LOCALISATION | C19: POINTE-NOIRE | D19: RENT-LTR | E19: 228
A20: 50465886 | B20: GEO-LOCALISATION | C20: POINTE-NOIRE | D20: RENT-LTR | E20: 107
A21: 50465891 | B21: GEO-LOCALISATION | C21: POINTE-NOIRE | D21: RENT-LTR | E21: 243
A22: 50465892 | B22: GEO-LOCALISATION | C22: POINTE-NOIRE | D22: RENT-LTR | E22: 163
A23: 50465893 | B23: GEO-LOCALISATION | C23: POINTE-NOIRE | D23: RENT-LTR | E23: 255
A24: 50614010 | B24: GEO-LOCALISATION | C24: POINTE-NOIRE | D24: RENT-LTR | E24: 286
A25: 50614012 | B25: GEO-LOCALISATION | C25: POINTE-NOIRE | D25: RENT-LTR | E25: 340
A26: 50614015 | B26: GEO-LOCALISATION | C26: POINTE-NOIRE | D26: RENT-LTR | E26: 367
... A37: 50636803 | B37: GEO-LOCALISATION | C37: POINTE-NOIRE | D37: RENT-LTR | E37: 225
A38: 50636805 | B38: GEO-LOCALISATION | C38: POINTE-NOIRE | D38: RENT-LTR
A39: 50636806 | B39: GEO-LOCALISATION | C39: POINTE-NOIRE | D39: RENT-LTR | E39: 365
A40: 50636807 | B40: GEO-LOCALISATION | C40: POINTE-NOIRE | D40: RENT-LTR | E40: 626
A41: =+A40+1 -> 50636808 | B41: GEO-LOCALISATION | C41: POINTE-NOIRE | D41: RENT-LTR
A42: 50636810 | B42: GEO-LOCALISATION | C42: POINTE-NOIRE | D42: RENT-LTR | E42: 156
A43: 50636811 | B43: GEO-LOCALISATION | C43: POINTE-NOIRE | D43: RENT-LTR | E43: 116
A44: 50636813 | B44: GEO-LOCALISATION | C44: POINTE-NOIRE | D44: RENT-LTR | E44: 179
A45: 50676815 | B45: GEO-LOCALISATION | C45: POINTE-NOIRE | D45: RENT-LTR | E45: 228
A46: 50676817 | B46: GEO-LOCALISATION | C46: POINTE-NOIRE | D46: RENT-LTR | E46: 248
A47: 50676818 | B47: GEO-LOCALISATION | C47: POINTE-NOIRE | D47: RENT-LTR | E47: 250
A48: 50676819 | B48: GEO-LOCALISATION | C48: POINTE-NOIRE | D48: RENT-LTR | E48: 129
A49: 50676820 | B49: GEO-LOCALISATION | C49: POINTE-NOIRE | D49: RENT-LTR | E49: 467
A50: 50676822 | B50: GEO-LOCALISATION | C50: POINTE-NOIRE | D50: RENT-LTR | E50: 109
A51: 50676823 | B51: GEO-LOCALISATION | C51: POINTE-NOIRE | D51: RENT-LTR | E51: 253
A52: 50676824 | B52: GEO-LOCALISATION | C52: POINTE-NOIRE | D52: RENT-LTR | E52: 49
A53: 50676826 | B53: GEO-LOCALISATION | C53: POINTE-NOIRE | D53: RENT-LTR | E53: 161
... A61: 52000313 | B61: GEO-LOCALISATION | C61: POINTE-NOIRE | D61: RENT-LTR | E61: 58
A62: 52000314 | B62: GEO-LOCALISATION | C62: POINTE-NOIRE | D62: RENT-LTR
A63: 52000316 | B63: GEO-LOCALISATION | C63: POINTE-NOIRE | D63: RENT-LTR
A64: 52000317 | B64: GEO-LOCALISATION | C64: POINTE-NOIRE | D64: RENT-LTR
A65: 52000318 | B65: GEO-LOCALISATION | C65: POINTE-NOIRE | D65: RENT-LTR
A66: 52000321 | B66: GEO-LOCALISATION | C66: POINTE-NOIRE | D66: RENT-LTR
A67: 52000322 | B67: GEO-LOCALISATION | C67: POINTE-NOIRE | D67: RENT-LTR
A68: 52000323 | B68: GEO-LOCALISATION | C68: POINTE-NOIRE | D68: RENT-LTR
A69: 52000324 | B69: GEO-LOCALISATION | C69: POINTE-NOIRE | D69: RENT-LTR
A70: 52000325 | B70: GEO-LOCALISATION | C70: POINTE-NOIRE | D70: RENT-LTR
A71: 52000326 | B71: GEO-LOCALISATION | C71: POINTE-NOIRE | D71: RENT-LTR
A72: 52000327 | B72: GEO-LOCALISATION | C72: POINTE-NOIRE | D72: RENT-LTR
A73: 52000328 | B73: GEO-LOCALISATION | C73: POINTE-NOIRE | D73: RENT-LTR
... A88: 52000354 | B88: GEO-LOCALISATION | C88: POINTE-NOIRE | D88: RENT-LTR
A89: 53240384 | B89: GEO-LOCALISATION | C89: POINTE-NOIRE | D89: RENT-LTR | E89: 18091
A90: 53240385 | B90: GEO-LOCALISATION | C90: POINTE-NOIRE | D90: RENT-LTR | E90: 18211
A91: 53240386 | B91: GEO-LOCALISATION | C91: POINTE-NOIRE | D91: RENT-LTR | E91: 17988
A92: 53240387 | B92: GEO-LOCALISATION | C92: POINTE-NOIRE | D92: RENT-LTR | E92: 17944
A93: 53240388 | B93: GEO-LOCALISATION | C93: POINTE-NOIRE | D93: RENT-LTR | E93: 18090
A94: 53240389 | B94: GEO-LOCALISATION | C94: POINTE-NOIRE | D94: RENT-LTR | E94: 17892
A95: 53240390 | B95: GEO-LOCALISATION | C95: POINTE-NOIRE | D95: RENT-LTR | E95: 18007
A96: 53240392 | B96: GEO-LOCALISATION | C96: POINTE-NOIRE | D96: RENT-LTR | E96: 18181
A97: 53240393 | B97: GEO-LOCALISATION | C97: POINTE-NOIRE | D97: RENT-LTR | E97: 18214
A98: 53240394 | B98: GEO-LOCALISATION | C98: POINTE-NOIRE | D98: RENT-LTR | E98: 17985
A99: 53240395 | B99: GEO-LOCALISATION | C99: POINTE-NOIRE | D99: RENT-LTR | E99: 18124
A100: 53240396 | B100: GEO-LOCALISATION | C100: POINTE-NOIRE | D100: RENT-LTR | E100: 17959
A101: 53240398 | B101: GEO-LOCALISATION | C101: POINTE-NOIRE | D101: RENT-LTR | E101: =18104+18155 -> 36259
A102: 53240399 | B102: GEO-LOCALISATION | C102: POINTE-NOIRE | D102: RENT-LTR
A103: 53240401 | B103: GEO-LOCALISATION | C103: POINTE-NOIRE | D103: RENT-LTR | E103: 18678
A104: 53240403 | B104: GEO-LOCALISATION | C104: POINTE-NOIRE | D104: RENT-LTR | E104: 17990
A105: 53240405 | B105: GEO-LOCALISATION | C105: POINTE-NOIRE | D105: RENT-LTR | E105: 18121
A106: 53240406 | B106: GEO-LOCALISATION | C106: POINTE-NOIRE | D106: RENT-LTR | E106: 17895
A107: 53240407 | B107: GEO-LOCALISATION | C107: POINTE-NOIRE | D107: RENT-LTR | E107: 17872
A108: 56773341 | B108: GEO-LOCALISATION | C108: POINTE-NOIRE | D108: RENT-LTR | E108: 212
A109: 56773344 | B109: GEO-LOCALISATION | C109: POINTE-NOIRE | D109: RENT-LTR | E109: 174
A110: 56773345 | B110: GEO-LOCALISATION | C110: POINTE-NOIRE | D110: RENT-LTR | E110: 181
A111: 56773347 | B111: GEO-LOCALISATION | C111: POINTE-NOIRE | D111: RENT-LTR | E111: 3
A112: 56773349 | B112: GEO-LOCALISATION | C112: POINTE-NOIRE | D112: RENT-LTR | E112: 358
A113: 56773350 | B113: GEO-LOCALISATION | C113: POINTE-NOIRE | D113: RENT-LTR | E113: 365
A114: 56773351 | B114: GEO-LOCALISATION | C114: POINTE-NOIRE | D114: RENT-LTR | E114: 441
... A158: 56795619 | B158: GEO-LOCALISATION | C158: POINTE-NOIRE | D158: RENT-LTR | E158: 102
A159: 56796580 | B159: GEO-LOCALISATION | C159: POINTE-NOIRE | D159: RENT-LTR | E159: =163+30 -> 193
A160: 56796581 | B160: GEO-LOCALISATION | C160: POINTE-NOIRE | D160: RENT-LTR | E160: 220
A161: 56796583 | B161: GEO-LOCALISATION | C161: POINTE-NOIRE | D161: RENT-LTR | E161: 49
A162: 56796584 | B162: GEO-LOCALISATION | C162: POINTE-NOIRE | D162: RENT-LTR | E162: 192
A163: 56796585 | B163: GEO-LOCALISATION | C163: POINTE-NOIRE | D163: RENT-LTR | E163: 218
A164: 56796586 | B164: GEO-LOCALISATION | C164: POINTE-NOIRE | D164: RENT-LTR | E164: 290
A165: 56796587 | B165: GEO-LOCALISATION | C165: POINTE-NOIRE | D165: RENT-LTR | E165: 229
A166: 56796589 | B166: GEO-LOCALISATION | C166: POINTE-NOIRE | D166: RENT-LTR | E166: 382
A167: 56796590 | B167: GEO-LOCALISATION | C167: POINTE-NOIRE | D167: RENT-LTR | E167: 107
A168: 56796591 | B168: GEO-LOCALISATION | C168: POINTE-NOIRE | D168: RENT-LTR | E168: 294
A169: 56796592 | B169: GEO-LOCALISATION | C169: POINTE-NOIRE | D169: RENT-LTR | E169: 132
A170: 56796593 | B170: GEO-LOCALISATION | C170: POINTE-NOIRE | D170: RENT-LTR | E170: 15
A171: 56796594 | B171: GEO-LOCALISATION | C171: POINTE-NOIRE | D171: RENT-LTR | E171: 65
... A174: 56796597 | B174: GEO-LOCALISATION | C174: POINTE-NOIRE | D174: RENT-LTR | E174: 432
A175: 56796598 | B175: GEO-LOCALISATION | C175: POINTE-NOIRE | D175: RENT-LTR
A176: 56796599 | B176: GEO-LOCALISATION | C176: POINTE-NOIRE | D176: RENT-LTR | E176: 114
A177: 56796600 | B177: GEO-LOCALISATION | C177: POINTE-NOIRE | D177: RENT-LTR | E177: 412
A178: 56796601 | B178: GEO-LOCALISATION | C178: POINTE-NOIRE | D178: RENT-LTR | E178: 494
...

Sheet RECAP GEOLOC 
B1: GEOLOCALISATION 2019
A3: NUMERO | B3: NOMS | C3: VILLES | D3: DEPARTEMENT | E3: DEPART | F3: JANVIER | G3: FEVRIER | H3: MARS | I3: AVRIL | J3: MAI | K3: OCTOBRE | L3: NOVEMBRE | M3: DÉCEMBRE | N3: TOTAL | O3: VARIATIONS | P3: COMMENTAIRES
A4: 5380524 | B4: GEO-LOCALISATION | C4: POINTE-NOIRE | D4: RENT-LTR | J4: =+VLOOKUP(A4,DEPAR!A4:E256,5,FALSE) -> 0 | N4: =SUM(F4:M4) -> 0 | O4: =+I4-H4 -> 0 | P4: Regul
A5: 7380503 | B5: GEO-LOCALISATION | C5: POINTE-NOIRE | D5: RENT-LTR | J5: =+VLOOKUP(A5,DEPAR!A5:E257,5,FALSE) -> 0 | N5: =SUM(F5:M5) -> 0 | O5: =+I5-H5 -> 0 | P5: Regul
A6: 50465867 | B6: GEO-LOCALISATION | C6: POINTE-NOIRE | D6: RENT-LTR | J6: =+VLOOKUP(A6,DEPAR!A6:E258,5,FALSE) -> 0 | N6: =SUM(F6:M6) -> 0 | P6: Regul
A7: 50636805 | B7: GEO-LOCALISATION | C7: POINTE-NOIRE | D7: RENT-LTR | J7: =+VLOOKUP(A7,DEPAR!A7:E259,5,FALSE) -> 0 | N7: =SUM(F7:M7) -> 0 | P7: Regul
A8: 52000314 | B8: GEO-LOCALISATION | C8: POINTE-NOIRE | D8: RENT-LTR | J8: =+VLOOKUP(A8,DEPAR!A8:E260,5,FALSE) -> 0 | N8: =SUM(F8:M8) -> 0 | P8: Regul
A9: 52000315 | B9: GEO-LOCALISATION | C9: POINTE-NOIRE | D9: RENT-LTR | J9: =+VLOOKUP(A9,DEPAR!A9:E261,5,FALSE) -> #N/A | N9: =SUM(F9:M9) -> #N/A | P9: Regul
A10: 52000316 | B10: GEO-LOCALISATION | C10: POINTE-NOIRE | D10: RENT-LTR | J10: =+VLOOKUP(A10,DEPAR!A10:E262,5,FALSE) -> 0 | N10: =SUM(F10:M10) -> 0 | P10: Regul
A11: 52000317 | B11: GEO-LOCALISATION | C11: POINTE-NOIRE | D11: RENT-LTR | J11: =+VLOOKUP(A11,DEPAR!A11:E263,5,FALSE) -> 0 | N11: =SUM(F11:M11) -> 0 | P11: Regul
A12: 52000318 | B12: GEO-LOCALISATION | C12: POINTE-NOIRE | D12: RENT-LTR | J12: =+VLOOKUP(A12,DEPAR!A12:E264,5,FALSE) -> 0 | N12: =SUM(F12:M12) -> 0 | P12: Regul
A13: 52000319 | B13: GEO-LOCALISATION | C13: POINTE-NOIRE | D13: RENT-LTR | J13: =+VLOOKUP(A13,DEPAR!A13:E265,5,FALSE) -> #N/A | P13: Regul
A14: 52000321 | B14: GEO-LOCALISATION | C14: POINTE-NOIRE | D14: RENT-LTR | J14: =+VLOOKUP(A14,DEPAR!A14:E266,5,FALSE) -> 0 | N14: =SUM(F14:M14) -> 0 | P14: Regul
A15: 52000322 | B15: GEO-LOCALISATION | C15: POINTE-NOIRE | D15: RENT-LTR | J15: =+VLOOKUP(A15,DEPAR!A15:E267,5,FALSE) -> 0 | N15: =SUM(F15:M15) -> 0 | P15: Regul
A16: 52000323 | B16: GEO-LOCALISATION | C16: POINTE-NOIRE | D16: RENT-LTR | J16: =+VLOOKUP(A16,DEPAR!A16:E268,5,FALSE) -> 0 | N16: =SUM(F16:M16) -> 0 | P16: Regul
A17: 52000324 | B17: GEO-LOCALISATION | C17: POINTE-NOIRE | D17: RENT-LTR | J17: =+VLOOKUP(A17,DEPAR!A17:E269,5,FALSE) -> 0 | N17: =SUM(F17:M17) -> 0 | O17: =+I17-H17 -> 0 | P17: Regul
A18: 52000325 | B18: GEO-LOCALISATION | C18: POINTE-NOIRE | D18: RENT-LTR | J18: =+VLOOKUP(A18,DEPAR!A18:E270,5,FALSE) -> 0 | N18: =SUM(F18:M18) -> 0 | O18: =+I18-H18 -> 0 | P18: Regul
A19: 52000326 | B19: GEO-LOCALISATION | C19: POINTE-NOIRE | D19: RENT-LTR | J19: =+VLOOKUP(A19,DEPAR!A19:E271,5,FALSE) -> 0 | N19: =SUM(F19:M19) -> 0 | O19: =+I19-H19 -> 0 | P19: Regul
A20: 52000327 | B20: GEO-LOCALISATION | C20: POINTE-NOIRE | D20: RENT-LTR | J20: =+VLOOKUP(A20,DEPAR!A20:E272,5,FALSE) -> 0 | N20: =SUM(F20:M20) -> 0 | O20: =+I20-H20 -> 0 | P20: Regul
A21: 52000328 | B21: GEO-LOCALISATION | C21: POINTE-NOIRE | D21: RENT-LTR | J21: =+VLOOKUP(A21,DEPAR!A21:E273,5,FALSE) -> 0 | N21: =SUM(F21:M21) -> 0 | O21: =+I21-H21 -> 0 | P21: Regul
A22: 52000329 | B22: GEO-LOCALISATION | C22: POINTE-NOIRE | D22: RENT-LTR | J22: =+VLOOKUP(A22,DEPAR!A22:E274,5,FALSE) -> 0 | N22: =SUM(F22:M22) -> 0 | O22: =+I22-H22 -> 0 | P22: Regul
A23: 52000330 | B23: GEO-LOCALISATION | C23: POINTE-NOIRE | D23: RENT-LTR | J23: =+VLOOKUP(A23,DEPAR!A23:E275,5,FALSE) -> 0 | N23: =SUM(F23:M23) -> 0 | P23: Regul
A24: 52000331 | B24: GEO-LOCALISATION | C24: POINTE-NOIRE | D24: RENT-LTR | J24: =+VLOOKUP(A24,DEPAR!A24:E276,5,FALSE) -> 0 | N24: =SUM(F24:M24) -> 0 | P24: Regul
A25: 52000332 | B25: GEO-LOCALISATION | C25: POINTE-NOIRE | D25: RENT-LTR | J25: =+VLOOKUP(A25,DEPAR!A25:E277,5,FALSE) -> 0 | N25: =SUM(F25:M25) -> 0 | P25: Regul
A26: 52000333 | B26: GEO-LOCALISATION | C26: POINTE-NOIRE | D26: RENT-LTR | J26: =+VLOOKUP(A26,DEPAR!A26:E278,5,FALSE) -> 0 | N26: =SUM(F26:M26) -> 0 | P26: Regul
A27: 52000334 | B27: GEO-LOCALISATION | C27: POINTE-NOIRE | D27: RENT-LTR | J27: =+VLOOKUP(A27,DEPAR!A27:E279,5,FALSE) -> 0 | N27: =SUM(F27:M27) -> 0 | P27: Regul
A28: 52000335 | B28: GEO-LOCALISATION | C28: POINTE-NOIRE | D28: RENT-LTR | J28: =+VLOOKUP(A28,DEPAR!A28:E280,5,FALSE) -> 0 | N28: =SUM(F28:M28) -> 0 | P28: Regul
A29: 52000336 | B29: GEO-LOCALISATION | C29: POINTE-NOIRE | D29: RENT-LTR | J29: =+VLOOKUP(A29,DEPAR!A29:E281,5,FALSE) -> 0 | N29: =SUM(F29:M29) -> 0 | P29: Regul
A30: 52000337 | B30: GEO-LOCALISATION | C30: POINTE-NOIRE | D30: RENT-LTR | J30: =+VLOOKUP(A30,DEPAR!A30:E282,5,FALSE) -> 0 | N30: =SUM(F30:M30) -> 0 | P30: Regul
A31: 52000343 | B31: GEO-LOCALISATION | C31: POINTE-NOIRE | D31: RENT-LTR | J31: =+VLOOKUP(A31,DEPAR!A31:E283,5,FALSE) -> 0 | N31: =SUM(F31:M31) -> 0 | P31: Regul
A32: 52000344 | B32: GEO-LOCALISATION | C32: POINTE-NOIRE | D32: RENT-LTR | J32: =+VLOOKUP(A32,DEPAR!A32:E284,5,FALSE) -> 0 | N32: =SUM(F32:M32) -> 0 | P32: Regul
A33: 52000350 | B33: GEO-LOCALISATION | C33: POINTE-NOIRE | D33: RENT-LTR | J33: =+VLOOKUP(A33,DEPAR!A33:E285,5,FALSE) -> #N/A | N33: =SUM(F33:M33) -> #N/A | P33: Regul
A34: 52000351 | B34: GEO-LOCALISATION | C34: POINTE-NOIRE | D34: RENT-LTR | J34: =+VLOOKUP(A34,DEPAR!A34:E286,5,FALSE) -> 0 | N34: =SUM(F34:M34) -> 0 | P34: Regul
... A40: 573805505 | B40: GEO-LOCALISATION | C40: POINTE-NOIRE | D40: RENT-LTR | J40: =+VLOOKUP(A40,DEPAR!A40:E292,5,FALSE) -> 0 | N40: =SUM(F40:M40) -> 0 | P40: Regul
A41: 56773347 | B41: GEO-LOCALISATION | C41: POINTE-NOIRE | D41: RENT-LTR | J41: =+VLOOKUP(A41,DEPAR!A41:E293,5,FALSE) -> 3 | N41: =SUM(F41:M41) -> 3 | O41: =+I41-H41 -> 0 | P41: Regul
A42: 56773358 | B42: GEO-LOCALISATION | C42: POINTE-NOIRE | D42: RENT-LTR | J42: =+VLOOKUP(A42,DEPAR!A42:E294,5,FALSE) -> 4 | N42: =SUM(F42:M42) -> 4 | O42: =+I42-H42 -> 0 | P42: Regul
A43: 56774182 | B43: GEO-LOCALISATION | C43: BRAZZAVILLE | D43: RENT-LTR | J43: =+VLOOKUP(A43,DEPAR!A43:E295,5,FALSE) -> 5 | N43: =SUM(F43:M43) -> 5 | P43: Regul
A44: 50614022 | B44: GEO-LOCALISATION | C44: POINTE-NOIRE | D44: RENT-LTR | J44: =+VLOOKUP(A44,DEPAR!A44:E296,5,FALSE) -> #N/A | N44: =SUM(F44:M44) -> #N/A | O44: =+I44-H44 -> 0 | P44: Regul
A45: 56992981 | B45: GEO-LOCALISATION | C45: POINTE-NOIRE | D45: RENT-LTR | J45: =+VLOOKUP(A45,DEPAR!A45:E297,5,FALSE) -> 8 | N45: =SUM(F45:M45) -> 8 | P45: Regul
A46: 57657845 | B46: GEO-LOCALISATION | C46: POINTE-NOIRE | D46: RENT-LTR | J46: =+VLOOKUP(A46,DEPAR!A46:E298,5,FALSE) -> 8 | N46: =SUM(F46:M46) -> 8 | O46: =+I46-H46 -> 0 | P46: Regul
A47: 50614019 | B47: GEO-LOCALISATION | C47: POINTE-NOIRE | D47: RENT-LTR | J47: =+VLOOKUP(A47,DEPAR!A47:E299,5,FALSE) -> #N/A | N47: =SUM(F47:M47) -> #N/A | O47: =+I47-H47 -> 0 | P47: Regul
A48: 56992995 | B48: GEO-LOCALISATION | C48: POINTE-NOIRE | D48: RENT-LTR | J48: =+VLOOKUP(A48,DEPAR!A48:E300,5,FALSE) -> 10 | N48: =SUM(F48:M48) -> 10 | O48: =+I48-H48 -> 0 | P48: Regul
A49: 56796593 | B49: GEO-LOCALISATION | C49: POINTE-NOIRE | D49: RENT-LTR | J49: =+VLOOKUP(A49,DEPAR!A49:E301,5,FALSE) -> 15 | N49: =SUM(F49:M49) -> 15 | O49: =+I49-H49 -> 0 | P49: Regul
A50: 56992971 | B50: GEO-LOCALISATION | C50: POINTE-NOIRE | D50: RENT-LTR | J50: =+VLOOKUP(A50,DEPAR!A50:E302,5,FALSE) -> 17 | N50: =SUM(F50:M50) -> 17 | P50: Regul
A51: 56992975 | B51: GEO-LOCALISATION | C51: POINTE-NOIRE | D51: RENT-LTR | J51: =+VLOOKUP(A51,DEPAR!A51:E303,5,FALSE) -> 19 | N51: =SUM(F51:M51) -> 19 | O51: =+I51-H51 -> 0 | P51: Regul
A52: 56774169 | B52: GEO-LOCALISATION | C52: BRAZZAVILLE | D52: RENT-LTR | J52: =+VLOOKUP(A52,DEPAR!A52:E304,5,FALSE) -> 20 | N52: =SUM(F52:M52) -> 20 | O52: =+I52-H52 -> 0 | P52: Regul
A53: 50465861 | B53: GEO-LOCALISATION | C53: POINTE-NOIRE | D53: RENT-LTR | J53: =+VLOOKUP(A53,DEPAR!A53:E305,5,FALSE) -> #N/A | N53: =SUM(F53:M53) -> #N/A | P53: Regul
A54: 52000311 | B54: GEO-LOCALISATION | C54: POINTE-NOIRE | D54: RENT-LTR | J54: =+VLOOKUP(A54,DEPAR!A54:E306,5,FALSE) -> 21 | N54: =SUM(F54:M54) -> 21 | P54: Regul
A55: 56795617 | B55: GEO-LOCALISATION | C55: POINTE-NOIRE | D55: RENT-LTR | J55: =+VLOOKUP(A55,DEPAR!A55:E307,5,FALSE) -> 24 | P55: Regul
A56: 57657848 | B56: GEO-LOCALISATION | C56: POINTE-NOIRE | D56: RENT-LTR | J56: =+VLOOKUP(A56,DEPAR!A56:E308,5,FALSE) -> 25 | P56: Regul
A57: 50614026 | B57: GEO-LOCALISATION | C57: POINTE-NOIRE | D57: RENT-LTR | J57: =+VLOOKUP(A57,DEPAR!A57:E309,5,FALSE) -> #N/A | P57: Regul
A58: 52000312 | B58: GEO-LOCALISATION | C58: POINTE-NOIRE | D58: RENT-LTR | J58: =+VLOOKUP(A58,DEPAR!A58:E310,5,FALSE) -> 34 | P58: Regul
A59: 57380517 | B59: GEO-LOCALISATION | C59: POINTE-NOIRE | D59: RENT-LTR | J59: =+VLOOKUP(A59,DEPAR!A59:E311,5,FALSE) -> 36 | P59: Regul
A60: 56773341 | B60: GEO-LOCALISATION | C60: POINTE-NOIRE | D60: RENT-LTR | J60: =+VLOOKUP(A60,DEPAR!A60:E312,5,FALSE) -> 212 | P60: Regul
A61: 56773344 | B61: GEO-LOCALISATION | C61: POINTE-NOIRE | D61: RENT-LTR | J61: =+VLOOKUP(A61,DEPAR!A61:E313,5,FALSE) -> 174
A62: 56773345 | B62: GEO-LOCALISATION | C62: POINTE-NOIRE | D62: RENT-LTR | J62: =+VLOOKUP(A62,DEPAR!A62:E314,5,FALSE) -> 181 | P62: Regul
A63: 56796594 | B63: GEO-LOCALISATION | C63: POINTE-NOIRE | D63: RENT-LTR | J63: =+VLOOKUP(A63,DEPAR!A63:E315,5,FALSE) -> 65 | P63: Regul
A64: 56796595 | B64: GEO-LOCALISATION | C64: POINTE-NOIRE | D64: RENT-LTR | J64: =+VLOOKUP(A64,DEPAR!A64:E316,5,FALSE) -> 65 | P64: Regul
A65: 56796596 | B65: GEO-LOCALISATION | C65: POINTE-NOIRE | D65: RENT-LTR | J65: =+VLOOKUP(A65,DEPAR!A65:E317,5,FALSE) -> 74
A66: 56992986 | B66: GEO-LOCALISATION | C66: POINTE-NOIRE | D66: RENT-LTR | J66: =+VLOOKUP(A66,DEPAR!A66:E318,5,FALSE) -> 0 | P66: Regul
A67: 56992987 | B67: GEO-LOCALISATION | C67: POINTE-NOIRE | D67: RENT-LTR | J67: =+VLOOKUP(A67,DEPAR!A67:E319,5,FALSE) -> 88 | P67: Regul
A68: 56992988 | B68: GEO-LOCALISATION | C68: POINTE-NOIRE | D68: RENT-LTR | J68: =+VLOOKUP(A68,DEPAR!A68:E320,5,FALSE) -> 541 | N68: =SUM(F68:M68) -> 541 | O68: =+I68-H68 -> 0 | P68: Regul
A69: 57380502 | B69: GEO-LOCALISATION | C69: POINTE-NOIRE | D69: RENT-LTR | J69: =+VLOOKUP(A69,DEPAR!A69:E321,5,FALSE) -> 310 | N69: =SUM(F69:M69) -> 310 | O69: =+I69-H69 -> 0 | P69: Regul
A70: 57380508 | B70: GEO-LOCALISATION | C70: POINTE-NOIRE | D70: RENT-LTR | J70: =+VLOOKUP(A70,DEPAR!A70:E322,5,FALSE) -> 15 | N70: =SUM(F70:M70) -> 15 | O70: =+I70-H70 -> 0 | P70: Regul
A71: 57380509 | B71: GEO-LOCALISATION | C71: POINTE-NOIRE | D71: RENT-LTR | J71: =+VLOOKUP(A71,DEPAR!A71:E323,5,FALSE) -> 278 | N71: =SUM(F71:M71) -> 278 | O71: =+I71-H71 -> 0 | P71: Regul
A72: 57380512 | B72: GEO-LOCALISATION | C72: POINTE-NOIRE | D72: RENT-LTR | J72: =+VLOOKUP(A72,DEPAR!A72:E324,5,FALSE) -> 267 | N72: =SUM(F72:M72) -> 267 | O72: =+I72-H72 -> 0 | P72: Regul
A73: 57380514 | B73: GEO-LOCALISATION | C73: POINTE-NOIRE | D73: RENT-LTR | J73: =+VLOOKUP(A73,DEPAR!A73:E325,5,FALSE) -> 192 | P73: Regul
A74: 57380515 | B74: GEO-LOCALISATION | C74: POINTE-NOIRE | D74: RENT-LTR | J74: =+VLOOKUP(A74,DEPAR!A74:E326,5,FALSE) -> 126 | N74: =SUM(F74:M74) -> 126 | O74: =+I74-H74 -> 0 | P74: Regul
A75: 57380516 | B75: GEO-LOCALISATION | C75: POINTE-NOIRE | D75: RENT-LTR | J75: =+VLOOKUP(A75,DEPAR!A75:E327,5,FALSE) -> 107 | N75: =SUM(F75:M75) -> 107 | P75: Regul
A76: 57380520 | B76: GEO-LOCALISATION | C76: POINTE-NOIRE | D76: RENT-LTR | J76: =+VLOOKUP(A76,DEPAR!A76:E328,5,FALSE) -> 233 | N76: =SUM(F76:M76) -> 233 | O76: =+I76-H76 -> 0 | P76: Regul
A77: 57380521 | B77: GEO-LOCALISATION | C77: POINTE-NOIRE | D77: RENT-LTR | J77: =+VLOOKUP(A77,DEPAR!A77:E329,5,FALSE) -> 169 | N77: =SUM(F77:M77) -> 169 | O77: =+I77-H77 -> 0 | P77: Regul
A78: 57380522 | B78: GEO-LOCALISATION | C78: POINTE-NOIRE | D78: RENT-LTR | J78: =+VLOOKUP(A78,DEPAR!A78:E330,5,FALSE) -> 152 | N78: =SUM(F78:M78) -> 152 | P78: Regul
A79: 57380523 | B79: GEO-LOCALISATION | C79: POINTE-NOIRE | D79: RENT-LTR | J79: =+VLOOKUP(A79,DEPAR!A79:E331,5,FALSE) -> 525 | N79: =SUM(F79:M79) -> 525 | P79: Regul
A80: 56992998 | B80: GEO-LOCALISATION | C80: POINTE-NOIRE | D80: RENT-LTR | J80: =+VLOOKUP(A80,DEPAR!A80:E332,5,FALSE) -> 47 | P80: Regul
A81: 50676824 | B81: GEO-LOCALISATION | C81: POINTE-NOIRE | D81: RENT-LTR | J81: =+VLOOKUP(A81,DEPAR!A81:E333,5,FALSE) -> #N/A | N81: =SUM(F81:M81) -> #N/A | P81: Regul
A82: 56796583 | B82: GEO-LOCALISATION | C82: POINTE-NOIRE | D82: RENT-LTR | J82: =+VLOOKUP(A82,DEPAR!A82:E334,5,FALSE) -> 49 | N82: =SUM(F82:M82) -> 49 | P82: Regul
A83: 50465878 | B83: GEO-LOCALISATION | C83: POINTE-NOIRE | D83: RENT-LTR | J83: =+VLOOKUP(A83,DEPAR!A83:E335,5,FALSE) -> #N/A | P83: Regul
A84: 56795615 | B84: GEO-LOCALISATION | C84: POINTE-NOIRE | D84: RENT-LTR | J84: =+VLOOKUP(A84,DEPAR!A84:E336,5,FALSE) -> 52 | P84: Regul
A85: 56796608 | B85: GEO-LOCALISATION | C85: POINTE-NOIRE | D85: RENT-LTR | J85: =+VLOOKUP(A85,DEPAR!A85:E337,5,FALSE) -> 54
A86: 56992984 | B86: GEO-LOCALISATION | C86: POINTE-NOIRE | D86: RENT-LTR | J86: =+VLOOKUP(A86,DEPAR!A86:E338,5,FALSE) -> 57 | N86: =SUM(F86:M86) -> 57 | P86: Regul
A87: 52000313 | B87: GEO-LOCALISATION | C87: POINTE-NOIRE | D87: RENT-LTR | J87: =+VLOOKUP(A87,DEPAR!A87:E339,5,FALSE) -> #N/A | N87: =SUM(F87:M87) -> #N/A | P87: Regul
A88: 52000308 | B88: GEO-LOCALISATION | C88: POINTE-NOIRE | D88: RENT-LTR | J88: =+VLOOKUP(A88,DEPAR!A88:E340,5,FALSE) -> #N/A | N88: =SUM(F88:M88) -> #N/A | P88: Regul
A89: 56992972 | B89: GEO-LOCALISATION | C89: POINTE-NOIRE | D89: RENT-LTR | J89: =+VLOOKUP(A89,DEPAR!A89:E341,5,FALSE) -> 64 | N89: =SUM(F89:M89) -> 64 | P89: Regul
A90: 56992980 | B90: GEO-LOCALISATION | C90: POINTE-NOIRE | D90: RENT-LTR | J90: =+VLOOKUP(A90,DEPAR!A90:E342,5,FALSE) -> 67 | N90: =SUM(F90:M90) -> 67 | P90: Regul
A91: 52000309 | B91: GEO-LOCALISATION | C91: POINTE-NOIRE | D91: RENT-LTR | J91: =+VLOOKUP(A91,DEPAR!A91:E343,5,FALSE) -> #N/A | N91: =SUM(F91:M91) -> #N/A | P91: Regul
A92: 57380505 | B92: GEO-LOCALISATION | C92: POINTE-NOIRE | D92: RENT-LTR | J92: =+VLOOKUP(A92,DEPAR!A92:E344,5,FALSE) -> 76 | P92: Regul
A93: 56795606 | B93: GEO-LOCALISATION | C93: POINTE-NOIRE | D93: RENT-LTR | J93: =+VLOOKUP(A93,DEPAR!A93:E345,5,FALSE) -> 77 | N93: =SUM(F93:M93) -> 77 | P93: Regul
A94: 50614016 | B94: GEO-LOCALISATION | C94: POINTE-NOIRE | D94: RENT-LTR | J94: =+VLOOKUP(A94,DEPAR!A94:E346,5,FALSE) -> #N/A | N94: =SUM(F94:M94) -> #N/A | P94: Regul
A95: 56774184 | B95: GEO-LOCALISATION | C95: BRAZZAVILLE | D95: RENT-LTR | J95: =+VLOOKUP(A95,DEPAR!A95:E347,5,FALSE) -> 85 | N95: =SUM(F95:M95) -> 85 | P95: Regul
A96: 56992978 | B96: GEO-LOCALISATION | C96: POINTE-NOIRE | D96: RENT-LTR | J96: =+VLOOKUP(A96,DEPAR!A96:E348,5,FALSE) -> 85 | P96: Regul
A97: 57657852 | B97: GEO-LOCALISATION | C97: POINTE-NOIRE | D97: RENT-LTR | J97: =+VLOOKUP(A97,DEPAR!A97:E349,5,FALSE) -> 87 | N97: =SUM(F97:M97) -> 87 | P97: Regul
A98: 50636802 | B98: GEO-LOCALISATION | C98: POINTE-NOIRE | D98: RENT-LTR | J98: =+VLOOKUP(A98,DEPAR!A98:E350,5,FALSE) -> #N/A | N98: =SUM(F98:M98) -> #N/A | P98: Regul
A99: 56992970 | B99: GEO-LOCALISATION | C99: POINTE-NOIRE | D99: RENT-LTR | J99: =+VLOOKUP(A99,DEPAR!A99:E351,5,FALSE) -> 90 | P99: Regul
A100: 56992996 | B100: GEO-LOCALISATION | C100: POINTE-NOIRE | D100: RENT-LTR | J100: =+VLOOKUP(A100,DEPAR!A100:E352,5,FALSE) -> 91 | N100: =SUM(F100:M100) -> 91 | P100: Regul
A101: 56795612 | B101: GEO-LOCALISATION | C101: POINTE-NOIRE | D101: RENT-LTR | J101: =+VLOOKUP(A101,DEPAR!A101:E353,5,FALSE) -> 92 | N101: =SUM(F101:M101) -> 92 | P101: Regul
A102: 57380531 | B102: GEO-LOCALISATION | C102: POINTE-NOIRE | D102: RENT-LTR | J102: =+VLOOKUP(A102,DEPAR!A102:E354,5,FALSE) -> 94 | N102: =SUM(F102:M102) -> 94 | P102: Regul
A103: 56992974 | B103: GEO-LOCALISATION | C103: POINTE-NOIRE | D103: RENT-LTR | J103: =+VLOOKUP(A103,DEPAR!A103:E355,5,FALSE) -> 97 | N103: =SUM(F103:M103) -> 97 | O103: =+I103-H103 -> 0 | P103: Regul
A104: 57380533 | B104: GEO-LOCALISATION | C104: POINTE-NOIRE | D104: RENT-LTR | J104: =+VLOOKUP(A104,DEPAR!A104:E356,5,FALSE) -> 97 | N104: =SUM(F104:M104) -> 97 | O104: =+I104-H104 -> 0 | P104: Regul
A105: 57380530 | B105: GEO-LOCALISATION | C105: POINTE-NOIRE | D105: RENT-LTR | J105: =+VLOOKUP(A105,DEPAR!A105:E357,5,FALSE) -> 101 | N105: =SUM(F105:M105) -> 101 | O105: =+I105-H105 -> 0 | P105: Regul
A106: 56795619 | B106: GEO-LOCALISATION | C106: POINTE-NOIRE | D106: RENT-LTR | J106: =+VLOOKUP(A106,DEPAR!A106:E358,5,FALSE) -> 102 | N106: =SUM(F106:M106) -> 102 | O106: =+I106-H106 -> 0 | P106: Regul
...
