Workbook

Sheet DEPAR
B1: GEOLOCALISATION 2019
A4: NUMERO | B4: NOMS | C4: VILLES | D4: DEPARTEMENT | E4: MAI
A5: 636808 | B5: GEO-LOCALISATION | C5: POINTE-NOIRE | D5: RENT-LTR | E5: 407
A6: 5380524 | B6: GEO-LOCALISATION | C6: POINTE-NOIRE | D6: RENT-LTR
A7: 7380503 | B7: GEO-LOCALISATION | C7: POINTE-NOIRE | D7: RENT-LTR
A8: 50465860 | B8: GEO-LOCALISATION | C8: POINTE-NOIRE | D8: RENT-LTR | E8: 108
A9: 50465861 | B9: GEO-LOCALISATION | C9: POINTE-NOIRE | D9: RENT-LTR | E9: 21
A10: 50465862 | B10: GEO-LOCALISATION | C10: POINTE-NOIRE | D10: RENT-LTR | E10: 248
A11: 50465863 | B11: GEO-LOCALISATION | C11: POINTE-NOIRE | D11: RENT-LTR | E11: 427
A12: 50465864 | B12: GEO-LOCALISATION | C12: POINTE-NOIRE | D12: RENT-LTR | E12: 1461
A13: 50465865 | B13: GEO-LOCALISATION | C13: POINTE-NOIRE | D13: RENT-LTR | E13: 159
A14: 50465867 | B14: GEO-LOCALISATION | C14: POINTE-NOIRE | D14: RENT-LTR
A15: 50465868 | B15: GEO-LOCALISATION | C15: POINTE-NOIRE | D15: RENT-LTR | E15: 532
A16: 50465875 | B16: GEO-LOCALISATION | C16: POINTE-NOIRE | D16: RENT-LTR | E16: 177
A17: 50465878 | B17: GEO-LOCALISATION | C17: POINTE-NOIRE | D17: RENT-LTR | E17: 52
A18: 50465883 | B18: GEO-LOCALISATION | C18: POINTE-NOIRE | D18: RENT-LTR | E18: 540
A19: 50465885 | B19: GEO-LOCALISATION | C19: POINTE-NOIRE | D19: RENT-LTR | E19: 228
A20: 50465886 | B20: GEO-LOCALISATION | C20: POINTE-NOIRE | D20: RENT-LTR | E20: 107
A21: 50465891 | B21: GEO-LOCALISATION | C21: POINTE-NOIRE | D21: RENT-LTR | E21: 243
A22: 50465892 | B22: GEO-LOCALISATION | C22: POINTE-NOIRE | D22: RENT-LTR | E22: 163
A23: 50465893 | B23: GEO-LOCALISATION | C23: POINTE-NOIRE | D23: RENT-LTR | E23: 255
A24: 50614010 | B24: GEO-LOCALISATION | C24: POINTE-NOIRE | D24: RENT-LTR | E24: 286
A25: 50614012 | B25: GEO-LOCALISATION | C25: POINTE-NOIRE | D25: RENT-LTR | E25: 340
A26: 50614015 | B26: GEO-LOCALISATION | C26: POINTE-NOIRE | D26: RENT-LTR | E26: 367
... A37: 50636803 | B37: GEO-LOCALISATION | C37: POINTE-NOIRE | D37: RENT-LTR | E37: 225
A38: 50636805 | B38: GEO-LOCALISATION | C38: POINTE-NOIRE | D38: RENT-LTR
A39: 50636806 | B39: GEO-LOCALISATION | C39: POINTE-NOIRE | D39: RENT-LTR | E39: 365
A40: 50636807 | B40: GEO-LOCALISATION | C40: POINTE-NOIRE | D40: RENT-LTR | E40: 626
A41: =+A40+1 -> 50636808 | B41: GEO-LOCALISATION | C41: POINTE-NOIRE | D41: RENT-LTR
A42: 50636810 | B42: GEO-LOCALISATION | C42: POINTE-NOIRE | D42: RENT-LTR | E42: 156
A43: 50636811 | B43: GEO-LOCALISATION | C43: POINTE-NOIRE | D43: RENT-LTR | E43: 116
A44: 50636813 | B44: GEO-LOCALISATION | C44: POINTE-NOIRE | D44: RENT-LTR | E44: 179
A45: 50676815 | B45: GEO-LOCALISATION | C45: POINTE-NOIRE | D45: RENT-LTR | E45: 228
A46: 50676817 | B46: GEO-LOCALISATION | C46: POINTE-NOIRE | D46: RENT-LTR | E46: 248
A47: 50676818 | B47: GEO-LOCALISATION | C47: POINTE-NOIRE | D47: RENT-LTR | E47: 250
A48: 50676819 | B48: GEO-LOCALISATION | C48: POINTE-NOIRE | D48: RENT-LTR | E48: 129
A49: 50676820 | B49: GEO-LOCALISATION | C49: POINTE-NOIRE | D49: RENT-LTR | E49: 467
A50: 50676822 | B50: GEO-LOCALISATION | C50: POINTE-NOIRE | D50: RENT-LTR | E50: 109
A51: 50676823 | B51: GEO-LOCALISATION | C51: POINTE-NOIRE | D51: RENT-LTR | E51: 253
A52: 50676824 | B52: GEO-LOCALISATION | C52: POINTE-NOIRE | D52: RENT-LTR | E52: 49
...

Sheet RECAP GEOLOC 
B1: GEOLOCALISATION 2019
A3: NUMERO | B3: NOMS | C3: VILLES | D3: DEPARTEMENT | E3: DEPART | F3: JANVIER | G3: FEVRIER | H3: MARS | I3: AVRIL | J3: MAI | K3: OCTOBRE | L3: NOVEMBRE | M3: DÉCEMBRE | N3: TOTAL | O3: VARIATIONS | P3: COMMENTAIRES
A4: 5380524 | B4: GEO-LOCALISATION | C4: POINTE-NOIRE | D4: RENT-LTR | J4: =+VLOOKUP(A4,DEPAR!A4:E256,5,FALSE) -> 0 | N4: =SUM(F4:M4) -> 0 | O4: =+I4-H4 -> 0 | P4: Regul
A5: 7380503 | B5: GEO-LOCALISATION | C5: POINTE-NOIRE | D5: RENT-LTR | J5: =+VLOOKUP(A5,DEPAR!A5:E257,5,FALSE) -> 0 | N5: =SUM(F5:M5) -> 0 | O5: =+I5-H5 -> 0 | P5: Regul
A6: 50465867 | B6: GEO-LOCALISATION | C6: POINTE-NOIRE | D6: RENT-LTR | J6: =+VLOOKUP(A6,DEPAR!A6:E258,5,FALSE) -> 0 | N6: =SUM(F6:M6) -> 0 | P6: Regul
A7: 50636805 | B7: GEO-LOCALISATION | C7: POINTE-NOIRE | D7: RENT-LTR | J7: =+VLOOKUP(A7,DEPAR!A7:E259,5,FALSE) -> 0 | N7: =SUM(F7:M7) -> 0 | P7: Regul
A8: 52000314 | B8: GEO-LOCALISATION | C8: POINTE-NOIRE | D8: RENT-LTR | J8: =+VLOOKUP(A8,DEPAR!A8:E260,5,FALSE) -> 0 | N8: =SUM(F8:M8) -> 0 | P8: Regul
A9: 52000315 | B9: GEO-LOCALISATION | C9: POINTE-NOIRE | D9: RENT-LTR | J9: =+VLOOKUP(A9,DEPAR!A9:E261,5,FALSE) -> #N/A | N9: =SUM(F9:M9) -> #N/A | P9: Regul
A10: 52000316 | B10: GEO-LOCALISATION | C10: POINTE-NOIRE | D10: RENT-LTR | J10: =+VLOOKUP(A10,DEPAR!A10:E262,5,FALSE) -> 0 | N10: =SUM(F10:M10) -> 0 | P10: Regul
A11: 52000317 | B11: GEO-LOCALISATION | C11: POINTE-NOIRE | D11: RENT-LTR | J11: =+VLOOKUP(A11,DEPAR!A11:E263,5,FALSE) -> 0 | N11: =SUM(F11:M11) -> 0 | P11: Regul
A12: 52000318 | B12: GEO-LOCALISATION | C12: POINTE-NOIRE | D12: RENT-LTR | J12: =+VLOOKUP(A12,DEPAR!A12:E264,5,FALSE) -> 0 | N12: =SUM(F12:M12) -> 0 | P12: Regul
A13: 52000319 | B13: GEO-LOCALISATION | C13: POINTE-NOIRE | D13: RENT-LTR | J13: =+VLOOKUP(A13,DEPAR!A13:E265,5,FALSE) -> #N/A | P13: Regul
A14: 52000321 | B14: GEO-LOCALISATION | C14: POINTE-NOIRE | D14: RENT-LTR | J14: =+VLOOKUP(A14,DEPAR!A14:E266,5,FALSE) -> 0 | N14: =SUM(F14:M14) -> 0 | P14: Regul
A15: 52000322 | B15: GEO-LOCALISATION | C15: POINTE-NOIRE | D15: RENT-LTR | J15: =+VLOOKUP(A15,DEPAR!A15:E267,5,FALSE) -> 0 | N15: =SUM(F15:M15) -> 0 | P15: Regul
A16: 52000323 | B16: GEO-LOCALISATION | C16: POINTE-NOIRE | D16: RENT-LTR | J16: =+VLOOKUP(A16,DEPAR!A16:E268,5,FALSE) -> 0 | N16: =SUM(F16:M16) -> 0 | P16: Regul
A17: 52000324 | B17: GEO-LOCALISATION | C17: POINTE-NOIRE | D17: RENT-LTR | J17: =+VLOOKUP(A17,DEPAR!A17:E269,5,FALSE) -> 0 | N17: =SUM(F17:M17) -> 0 | O17: =+I17-H17 -> 0 | P17: Regul
A18: 52000325 | B18: GEO-LOCALISATION | C18: POINTE-NOIRE | D18: RENT-LTR | J18: =+VLOOKUP(A18,DEPAR!A18:E270,5,FALSE) -> 0 | N18: =SUM(F18:M18) -> 0 | O18: =+I18-H18 -> 0 | P18: Regul
A19: 52000326 | B19: GEO-LOCALISATION | C19: POINTE-NOIRE | D19: RENT-LTR | J19: =+VLOOKUP(A19,DEPAR!A19:E271,5,FALSE) -> 0 | N19: =SUM(F19:M19) -> 0 | O19: =+I19-H19 -> 0 | P19: Regul
A20: 52000327 | B20: GEO-LOCALISATION | C20: POINTE-NOIRE | D20: RENT-LTR | J20: =+VLOOKUP(A20,DEPAR!A20:E272,5,FALSE) -> 0 | N20: =SUM(F20:M20) -> 0 | O20: =+I20-H20 -> 0 | P20: Regul
A21: 52000328 | B21: GEO-LOCALISATION | C21: POINTE-NOIRE | D21: RENT-LTR | J21: =+VLOOKUP(A21,DEPAR!A21:E273,5,FALSE) -> 0 | N21: =SUM(F21:M21) -> 0 | O21: =+I21-H21 -> 0 | P21: Regul
A22: 52000329 | B22: GEO-LOCALISATION | C22: POINTE-NOIRE | D22: RENT-LTR | J22: =+VLOOKUP(A22,DEPAR!A22:E274,5,FALSE) -> 0 | N22: =SUM(F22:M22) -> 0 | O22: =+I22-H22 -> 0 | P22: Regul
A23: 52000330 | B23: GEO-LOCALISATION | C23: POINTE-NOIRE | D23: RENT-LTR | J23: =+VLOOKUP(A23,DEPAR!A23:E275,5,FALSE) -> 0 | N23: =SUM(F23:M23) -> 0 | P23: Regul
A24: 52000331 | B24: GEO-LOCALISATION | C24: POINTE-NOIRE | D24: RENT-LTR | J24: =+VLOOKUP(A24,DEPAR!A24:E276,5,FALSE) -> 0 | N24: =SUM(F24:M24) -> 0 | P24: Regul
A25: 52000332 | B25: GEO-LOCALISATION | C25: POINTE-NOIRE | D25: RENT-LTR | J25: =+VLOOKUP(A25,DEPAR!A25:E277,5,FALSE) -> 0 | N25: =SUM(F25:M25) -> 0 | P25: Regul
A26: 52000333 | B26: GEO-LOCALISATION | C26: POINTE-NOIRE | D26: RENT-LTR | J26: =+VLOOKUP(A26,DEPAR!A26:E278,5,FALSE) -> 0 | N26: =SUM(F26:M26) -> 0 | P26: Regul
A27: 52000334 | B27: GEO-LOCALISATION | C27: POINTE-NOIRE | D27: RENT-LTR | J27: =+VLOOKUP(A27,DEPAR!A27:E279,5,FALSE) -> 0 | N27: =SUM(F27:M27) -> 0 | P27: Regul
A28: 52000335 | B28: GEO-LOCALISATION | C28: POINTE-NOIRE | D28: RENT-LTR | J28: =+VLOOKUP(A28,DEPAR!A28:E280,5,FALSE) -> 0 | N28: =SUM(F28:M28) -> 0 | P28: Regul
A29: 52000336 | B29: GEO-LOCALISATION | C29: POINTE-NOIRE | D29: RENT-LTR | J29: =+VLOOKUP(A29,DEPAR!A29:E281,5,FALSE) -> 0 | N29: =SUM(F29:M29) -> 0 | P29: Regul
A30: 52000337 | B30: GEO-LOCALISATION | C30: POINTE-NOIRE | D30: RENT-LTR | J30: =+VLOOKUP(A30,DEPAR!A30:E282,5,FALSE) -> 0 | N30: =SUM(F30:M30) -> 0 | P30: Regul
A31: 52000343 | B31: GEO-LOCALISATION | C31: POINTE-NOIRE | D31: RENT-LTR | J31: =+VLOOKUP(A31,DEPAR!A31:E283,5,FALSE) -> 0 | N31: =SUM(F31:M31) -> 0 | P31: Regul
A32: 52000344 | B32: GEO-LOCALISATION | C32: POINTE-NOIRE | D32: RENT-LTR | J32: =+VLOOKUP(A32,DEPAR!A32:E284,5,FALSE) -> 0 | N32: =SUM(F32:M32) -> 0 | P32: Regul
A33: 52000350 | B33: GEO-LOCALISATION | C33: POINTE-NOIRE | D33: RENT-LTR | J33: =+VLOOKUP(A33,DEPAR!A33:E285,5,FALSE) -> #N/A | N33: =SUM(F33:M33) -> #N/A | P33: Regul
A34: 52000351 | B34: GEO-LOCALISATION | C34: POINTE-NOIRE | D34: RENT-LTR | J34: =+VLOOKUP(A34,DEPAR!A34:E286,5,FALSE) -> 0 | N34: =SUM(F34:M34) -> 0 | P34: Regul
... A40: 573805505 | B40: GEO-LOCALISATION | C40: POINTE-NOIRE | D40: RENT-LTR | J40: =+VLOOKUP(A40,DEPAR!A40:E292,5,FALSE) -> 0 | N40: =SUM(F40:M40) -> 0 | P40: Regul
A41: 56773347 | B41: GEO-LOCALISATION | C41: POINTE-NOIRE | D41: RENT-LTR | J41: =+VLOOKUP(A41,DEPAR!A41:E293,5,FALSE) -> 3 | N41: =SUM(F41:M41) -> 3 | O41: =+I41-H41 -> 0 | P41: Regul
A42: 56773358 | B42: GEO-LOCALISATION | C42: POINTE-NOIRE | D42: RENT-LTR | J42: =+VLOOKUP(A42,DEPAR!A42:E294,5,FALSE) -> 4 | N42: =SUM(F42:M42) -> 4 | O42: =+I42-H42 -> 0 | P42: Regul
A43: 56774182 | B43: GEO-LOCALISATION | C43: BRAZZAVILLE | D43: RENT-LTR | J43: =+VLOOKUP(A43,DEPAR!A43:E295,5,FALSE) -> 5 | N43: =SUM(F43:M43) -> 5 | P43: Regul
A44: 50614022 | B44: GEO-LOCALISATION | C44: POINTE-NOIRE | D44: RENT-LTR | J44: =+VLOOKUP(A44,DEPAR!A44:E296,5,FALSE) -> #N/A | N44: =SUM(F44:M44) -> #N/A | O44: =+I44-H44 -> 0 | P44: Regul
A45: 56992981 | B45: GEO-LOCALISATION | C45: POINTE-NOIRE | D45: RENT-LTR | J45: =+VLOOKUP(A45,DEPAR!A45:E297,5,FALSE) -> 8 | N45: =SUM(F45:M45) -> 8 | P45: Regul
A46: 57657845 | B46: GEO-LOCALISATION | C46: POINTE-NOIRE | D46: RENT-LTR | J46: =+VLOOKUP(A46,DEPAR!A46:E298,5,FALSE) -> 8 | N46: =SUM(F46:M46) -> 8 | O46: =+I46-H46 -> 0 | P46: Regul
...
