Workbook
Name tempsrouge: #REF!

Sheet Données Sources
A4: Rang | B4: Termes | C4: Comptabilisation
A5: =RANK(C5,$C$5:$C$100) -> 47 | B5: Argentine | C5: =COUNTIF('Liste des envies'!$G$5:$R$46,B5)+ROW()/10000000 -> 1.0000005
A6: =RANK(C6,$C$5:$C$100) -> 46 | B6: Autriche | C6: =COUNTIF('Liste des envies'!$G$5:$R$46,B6)+ROW()/10000000 -> 1.0000006
A7: =RANK(C7,$C$5:$C$100) -> 45 | B7: Bali | C7: =COUNTIF('Liste des envies'!$G$5:$R$46,B7)+ROW()/10000000 -> 1.0000007
A8: =RANK(C8,$C$5:$C$100) -> 44 | B8: Barcelone | C8: =COUNTIF('Liste des envies'!$G$5:$R$46,B8)+ROW()/10000000 -> 1.0000008
A9: =RANK(C9,$C$5:$C$100) -> 43 | B9: Bolivie | C9: =COUNTIF('Liste des envies'!$G$5:$R$46,B9)+ROW()/10000000 -> 1.0000009
A10: =RANK(C10,$C$5:$C$100) -> 42 | B10: Brésil | C10: =COUNTIF('Liste des envies'!$G$5:$R$46,B10)+ROW()/10000000 -> 1.000001
A11: =RANK(C11,$C$5:$C$100) -> 41 | B11: Bruxelles | C11: =COUNTIF('Liste des envies'!$G$5:$R$46,B11)+ROW()/10000000 -> 1.0000011
A12: =RANK(C12,$C$5:$C$100) -> 40 | B12: Budapest | C12: =COUNTIF('Liste des envies'!$G$5:$R$46,B12)+ROW()/10000000 -> 1.0000012
A13: =RANK(C13,$C$5:$C$100) -> 39 | B13: Cambodge | C13: =COUNTIF('Liste des envies'!$G$5:$R$46,B13)+ROW()/10000000 -> 1.0000013
A14: =RANK(C14,$C$5:$C$100) -> 38 | B14: Canada | C14: =COUNTIF('Liste des envies'!$G$5:$R$46,B14)+ROW()/10000000 -> 1.0000014
A15: =RANK(C15,$C$5:$C$100) -> 37 | B15: Chine | C15: =COUNTIF('Liste des envies'!$G$5:$R$46,B15)+ROW()/10000000 -> 1.0000015
A16: =RANK(C16,$C$5:$C$100) -> 11 | B16: Colombie | C16: =COUNTIF('Liste des envies'!$G$5:$R$46,B16)+ROW()/10000000 -> 2.0000016
... A52: =RANK(C52,$C$5:$C$100) -> 96 | B52: I | C52: =COUNTIF('Liste des envies'!$G$5:$R$46,B52)+ROW()/10000000 -> 5.2e-06
A53: =RANK(C53,$C$5:$C$100) -> 95 | C53: =COUNTIF('Liste des envies'!$G$5:$R$46,B53)+ROW()/10000000 -> 5.3e-06
A54: =RANK(C54,$C$5:$C$100) -> 94 | C54: =COUNTIF('Liste des envies'!$G$5:$R$46,B54)+ROW()/10000000 -> 5.4e-06
A55: =RANK(C55,$C$5:$C$100) -> 93 | C55: =COUNTIF('Liste des envies'!$G$5:$R$46,B55)+ROW()/10000000 -> 5.5e-06
A56: =RANK(C56,$C$5:$C$100) -> 92 | C56: =COUNTIF('Liste des envies'!$G$5:$R$46,B56)+ROW()/10000000 -> 5.6e-06
A57: =RANK(C57,$C$5:$C$100) -> 91 | C57: =COUNTIF('Liste des envies'!$G$5:$R$46,B57)+ROW()/10000000 -> 5.7e-06
A58: =RANK(C58,$C$5:$C$100) -> 90 | C58: =COUNTIF('Liste des envies'!$G$5:$R$46,B58)+ROW()/10000000 -> 5.8e-06
A59: =RANK(C59,$C$5:$C$100) -> 89 | C59: =COUNTIF('Liste des envies'!$G$5:$R$46,B59)+ROW()/10000000 -> 5.9e-06
A60: =RANK(C60,$C$5:$C$100) -> 88 | C60: =COUNTIF('Liste des envies'!$G$5:$R$46,B60)+ROW()/10000000 -> 6e-06
A61: =RANK(C61,$C$5:$C$100) -> 87 | C61: =COUNTIF('Liste des envies'!$G$5:$R$46,B61)+ROW()/10000000 -> 6.1e-06
A62: =RANK(C62,$C$5:$C$100) -> 86 | C62: =COUNTIF('Liste des envies'!$G$5:$R$46,B62)+ROW()/10000000 -> 6.2e-06
A63: =RANK(C63,$C$5:$C$100) -> 85 | C63: =COUNTIF('Liste des envies'!$G$5:$R$46,B63)+ROW()/10000000 -> 6.3e-06
A64: =RANK(C64,$C$5:$C$100) -> 84 | C64: =COUNTIF('Liste des envies'!$G$5:$R$46,B64)+ROW()/10000000 -> 6.4e-06
... A100: =RANK(C100,$C$5:$C$100) -> 48 | C100: =COUNTIF('Liste des envies'!$G$5:$R$46,B100)+ROW()/10000000 -> 1e-05

Sheet Liste des envies
B2: Destination TOP 10 | G2: Liste de nos envies
G3: A | H3: B | I3: C | J3: D | K3: E | L3: F | M3: G | N3: H | O3: I | P3: J | Q3: K | R3: L
B5: 1 | C5: =VLOOKUP(B5,'Données Sources'!$A$5:$B$100,2,0) -> Grèce | G5: Europapark | H5: Grèce | I5: France | J5: France | K5: Grèce | L5: France | M5: France | N5: Argentine | O5: Colombie | P5: New York | Q5: Lisbonne
B6: 2 | C6: =VLOOKUP(B6,'Données Sources'!$A$5:$B$100,2,0) -> France | G6: Parc Astérix | H6: Studio Harry Potter | I6: Japon | J6: Croatie | K6: Anglettere | L6: Angleterre | M6: Grèce | N6: Autriche | O6: Copenhague | P6: Australie | Q6: Madrid
B7: 3 | C7: =VLOOKUP(B7,'Données Sources'!$A$5:$B$100,2,0) -> Studio Harry Potter | G7: Studio Harry Potter | H7: Prague | I7: Grèce | N7: Bali | O7: Cracovie | P7: Gorges du Verdon | Q7: Malaisie
B8: 4 | C8: =VLOOKUP(B8,'Données Sources'!$A$5:$B$100,2,0) -> Malaisie | G8: Grèce | H8: Ibiza | N8: Barcelone | O8: Croatie
B9: 5 | C9: =VLOOKUP(B9,'Données Sources'!$A$5:$B$100,2,0) -> Madrid | G9: France | H9: New York | N9: Bolivie | O9: Cuba
B10: 6 | C10: =VLOOKUP(B10,'Données Sources'!$A$5:$B$100,2,0) -> Lisbonne | H10: Australie | N10: Brésil
B11: 7 | C11: =VLOOKUP(B11,'Données Sources'!$A$5:$B$100,2,0) -> Cuba | H11: Gorges du Verdon | N11: Bruxelles
B12: 8 | C12: =VLOOKUP(B12,'Données Sources'!$A$5:$B$100,2,0) -> Croatie | H12: Nouvelle Zelande | N12: Budapest
B13: 9 | C13: =VLOOKUP(B13,'Données Sources'!$A$5:$B$100,2,0) -> Cracovie | H13: Alsace (Noël) | N13: Cambodge
B14: 10 | C14: =VLOOKUP(B14,'Données Sources'!$A$5:$B$100,2,0) -> Copenhague | H14: Rome | N14: Canada
H15: Les 5 terres | N15: Chine
H16: Corse | N16: Colombie
H17: Majorque | N17: Copenhague
H18: Les canaries | N18: Cracovie
N19: Croatie
N20: Cuba
N21: Égypte
N22: Finlande
N23: Grèce
N24: Hongrie
N25: Inde
N26: Irlande
N27: Japon
N28: Laos
N29: Les Philippines
N30: Lisbonne
... N46: Vietnam
