Workbook
Name NOMRESTO: #REF!

Sheet SALLE GERLAND
A1: SALLE | F1: CHEZ CARLO | M1: GERLAND
B3: SEMAINE : | C3: 51 | H3: DU : | I3: 43794 | L3: au | M3: =I3+6 -> 43800
C4: LUNDI | E4: MARDI | G4: MERCREDI | I4: JEUDI | K4: VENDREDI | M4: SAMEDI | O4: DIMANCHE | Q4: TOTAL
C5: MIDI | D5: SOIR | E5: MIDI | F5: SOIR | G5: MIDI | H5: SOIR | I5: MIDI | J5: SOIR | K5: MIDI | L5: SOIR | M5: MIDI | N5: SOIR | O5: MIDI | P5: SOIR
A6: ADRIEN | B6: H Arrivé | Q6: =SUM(C10:P10) -> 0
B7: H départ
A8: FORESTIER | B8: Pause
B9: Total | C9: =IF(C6="R","R",(C7-C6-C8)) -> 0 | D9: =IF(D6="R","R",(D7-D6-D8)) -> 0 | E9: =IF(E6="R","R",(E7-E6-E8)) -> 0 | F9: =IF(F6="R","R",(F7-F6-F8)) -> 0 | G9: =IF(G6="R","R",(G7-G6-G8)) -> 0 | H9: =IF(H6="R","R",(H7-H6-H8)) -> 0 | I9: =IF(I6="R","R",(I7-I6-I8)) -> 0 | J9: =IF(J6="R","R",(J7-J6-J8)) -> 0 | ... P9: =IF(P6="R","R",(P7-P6-P8)) -> 0
B10: Total Jour | C10: =IF(C9="R",D9,C9+(IF(D9="R",0,D9))) -> 0 | E10: =IF(E9="R",F9,E9+(IF(F9="R",0,F9))) -> 0 | G10: =IF(G9="R",H9,G9+(IF(H9="R",0,H9))) -> 0 | I10: =IF(I9="R",J9,I9+(IF(J9="R",0,J9))) -> 0 | K10: =IF(K9="R",L9,K9+(IF(L9="R",0,L9))) -> 0 | M10: =IF(M9="R",N9,M9+(IF(N9="R",0,N9))) -> 0 | O10: =IF(O9="R",P9,O9+(IF(P9="R",0,P9))) -> 0
A11: SABINE | B11: H Arrivé | Q11: =SUM(C15:P15) -> 0
B12: H départ
A13: FONTAINE | B13: Pause
B14: Total | C14: =IF(C11="R","R",(C12-C11-C13)) -> 0 | D14: =IF(D11="R","R",(D12-D11-D13)) -> 0 | E14: =IF(E11="R","R",(E12-E11-E13)) -> 0 | F14: =IF(F11="R","R",(F12-F11-F13)) -> 0 | G14: =IF(G11="R","R",(G12-G11-G13)) -> 0 | H14: =IF(H11="R","R",(H12-H11-H13)) -> 0 | I14: =IF(I11="R","R",(I12-I11-I13)) -> 0 | J14: =IF(J11="R","R",(J12-J11-J13)) -> 0 | ... P14: =IF(P11="R","R",(P12-P11-P13)) -> 0
B15: Total Jour | C15: =IF(C14="R",D14,C14+(IF(D14="R",0,D14))) -> 0 | E15: =IF(E14="R",F14,E14+(IF(F14="R",0,F14))) -> 0 | G15: =IF(G14="R",H14,G14+(IF(H14="R",0,H14))) -> 0 | I15: =IF(I14="R",J14,I14+(IF(J14="R",0,J14))) -> 0 | K15: =IF(K14="R",L14,K14+(IF(L14="R",0,L14))) -> 0 | M15: =IF(M14="R",N14,M14+(IF(N14="R",0,N14))) -> 0 | O15: =IF(O14="R",P14,O14+(IF(P14="R",0,P14))) -> 0
A16: JEAN MICHEL | B16: H Arrivé | Q16: =SUM(C20:P20) -> 0
B17: H départ
A18: ORLENKO | B18: Pause
B19: Total | C19: =IF(C16="R","R",(C17-C16-C18)) -> 0 | D19: =IF(D16="R","R",(D17-D16-D18)) -> 0 | E19: =IF(E16="R","R",(E17-E16-E18)) -> 0 | F19: =IF(F16="R","R",(F17-F16-F18)) -> 0 | G19: =IF(G16="R","R",(G17-G16-G18)) -> 0 | H19: =IF(H16="R","R",(H17-H16-H18)) -> 0 | I19: =IF(I16="R","R",(I17-I16-I18)) -> 0 | J19: =IF(J16="R","R",(J17-J16-J18)) -> 0 | ... P19: =IF(P16="R","R",(P17-P16-P18)) -> 0
B20: Total Jour | C20: =IF(C19="R",D19,C19+(IF(D19="R",0,D19))) -> 0 | E20: =IF(E19="R",F19,E19+(IF(F19="R",0,F19))) -> 0 | G20: =IF(G19="R",H19,G19+(IF(H19="R",0,H19))) -> 0 | I20: =IF(I19="R",J19,I19+(IF(J19="R",0,J19))) -> 0 | K20: =IF(K19="R",L19,K19+(IF(L19="R",0,L19))) -> 0 | M20: =IF(M19="R",N19,M19+(IF(N19="R",0,N19))) -> 0 | O20: =IF(O19="R",P19,O19+(IF(P19="R",0,P19))) -> 0
A21: MAXIME | B21: H Arrivé | Q21: =SUM(C25:P25) -> 0
B22: H départ
A23: POKORSKI | B23: Pause
B24: Total | C24: =IF(C21="R","R",(C22-C21-C23)) -> 0 | D24: =IF(D21="R","R",(D22-D21-D23)) -> 0 | E24: =IF(E21="R","R",(E22-E21-E23)) -> 0 | F24: =IF(F21="R","R",(F22-F21-F23)) -> 0 | G24: =IF(G21="R","R",(G22-G21-G23)) -> 0 | H24: =IF(H21="R","R",(H22-H21-H23)) -> 0 | I24: =IF(I21="R","R",(I22-I21-I23)) -> 0 | J24: =IF(J21="R","R",(J22-J21-J23)) -> 0 | ... P24: =IF(P21="R","R",(P22-P21-P23)) -> 0
B25: Total Jour | C25: =IF(C24="R",D24,C24+(IF(D24="R",0,D24))) -> 0 | E25: =IF(E24="R",F24,E24+(IF(F24="R",0,F24))) -> 0 | G25: =IF(G24="R",H24,G24+(IF(H24="R",0,H24))) -> 0 | I25: =IF(I24="R",J24,I24+(IF(J24="R",0,J24))) -> 0 | K25: =IF(K24="R",L24,K24+(IF(L24="R",0,L24))) -> 0 | M25: =IF(M24="R",N24,M24+(IF(N24="R",0,N24))) -> 0 | O25: =IF(O24="R",P24,O24+(IF(P24="R",0,P24))) -> 0
B26: H Arrivé | Q26: =SUM(C30:P30) -> 0
B27: H départ
B28: Pause
B29: Total | C29: =IF(C26="R","R",(C27-C26-C28)) -> 0 | D29: =IF(D26="R","R",(D27-D26-D28)) -> 0 | E29: =IF(E26="R","R",(E27-E26-E28)) -> 0 | F29: =IF(F26="R","R",(F27-F26-F28)) -> 0 | G29: =IF(G26="R","R",(G27-G26-G28)) -> 0 | H29: =IF(H26="R","R",(H27-H26-H28)) -> 0 | I29: =IF(I26="R","R",(I27-I26-I28)) -> 0 | J29: =IF(J26="R","R",(J27-J26-J28)) -> 0 | ... P29: =IF(P26="R","R",(P27-P26-P28)) -> 0
B30: Total Jour | C30: =IF(C29="R",D29,C29+(IF(D29="R",0,D29))) -> 0 | E30: =IF(E29="R",F29,E29+(IF(F29="R",0,F29))) -> 0 | G30: =IF(G29="R",H29,G29+(IF(H29="R",0,H29))) -> 0 | I30: =IF(I29="R",J29,I29+(IF(J29="R",0,J29))) -> 0 | K30: =IF(K29="R",L29,K29+(IF(L29="R",0,L29))) -> 0 | M30: =IF(M29="R",N29,M29+(IF(N29="R",0,N29))) -> 0 | O30: =IF(O29="R",P29,O29+(IF(P29="R",0,P29))) -> 0
B31: H Arrivé | Q31: =SUM(C35:P35) -> 0
B32: H départ
B33: Pause
B34: Total | C34: =IF(C31="R","R",(C32-C31-C33)) -> 0 | D34: =IF(D31="R","R",(D32-D31-D33)) -> 0 | E34: =IF(E31="R","R",(E32-E31-E33)) -> 0 | F34: =IF(F31="R","R",(F32-F31-F33)) -> 0 | G34: =IF(G31="R","R",(G32-G31-G33)) -> 0 | H34: =IF(H31="R","R",(H32-H31-H33)) -> 0 | I34: =IF(I31="R","R",(I32-I31-I33)) -> 0 | J34: =IF(J31="R","R",(J32-J31-J33)) -> 0 | ... P34: =IF(P31="R","R",(P32-P31-P33)) -> 0
B35: Total Jour | C35: =IF(C34="R",D34,C34+(IF(D34="R",0,D34))) -> 0 | E35: =IF(E34="R",F34,E34+(IF(F34="R",0,F34))) -> 0 | G35: =IF(G34="R",H34,G34+(IF(H34="R",0,H34))) -> 0 | I35: =IF(I34="R",J34,I34+(IF(J34="R",0,J34))) -> 0 | K35: =IF(K34="R",L34,K34+(IF(L34="R",0,L34))) -> 0 | M35: =IF(M34="R",N34,M34+(IF(N34="R",0,N34))) -> 0 | O35: =IF(O34="R",P34,O34+(IF(P34="R",0,P34))) -> 0
B36: H Arrivé | Q36: =SUM(C40:P40) -> 0
B37: H départ
B38: Pause
B39: Total | C39: =IF(C36="R","R",(C37-C36-C38)) -> 0 | D39: =IF(D36="R","R",(D37-D36-D38)) -> 0 | E39: =IF(E36="R","R",(E37-E36-E38)) -> 0 | F39: =IF(F36="R","R",(F37-F36-F38)) -> 0 | G39: =IF(G36="R","R",(G37-G36-G38)) -> 0 | H39: =IF(H36="R","R",(H37-H36-H38)) -> 0 | I39: =IF(I36="R","R",(I37-I36-I38)) -> 0 | J39: =IF(J36="R","R",(J37-J36-J38)) -> 0 | ... P39: =IF(P36="R","R",(P37-P36-P38)) -> 0
B40: Total Jour | C40: =IF(C39="R",D39,C39+(IF(D39="R",0,D39))) -> 0 | E40: =IF(E39="R",F39,E39+(IF(F39="R",0,F39))) -> 0 | G40: =IF(G39="R",H39,G39+(IF(H39="R",0,H39))) -> 0 | I40: =IF(I39="R",J39,I39+(IF(J39="R",0,J39))) -> 0 | K40: =IF(K39="R",L39,K39+(IF(L39="R",0,L39))) -> 0 | M40: =IF(M39="R",N39,M39+(IF(N39="R",0,N39))) -> 0 | O40: =IF(O39="R",P39,O39+(IF(P39="R",0,P39))) -> 0
B41: H Arrivé | Q41: =SUM(C45:P45) -> 0
B42: H départ
B43: Pause
B44: Total | C44: =IF(C41="R","R",(C42-C41-C43)) -> 0 | D44: =IF(D41="R","R",(D42-D41-D43)) -> 0 | E44: =IF(E41="R","R",(E42-E41-E43)) -> 0 | F44: =IF(F41="R","R",(F42-F41-F43)) -> 0 | G44: =IF(G41="R","R",(G42-G41-G43)) -> 0 | H44: =IF(H41="R","R",(H42-H41-H43)) -> 0 | I44: =IF(I41="R","R",(I42-I41-I43)) -> 0 | J44: =IF(J41="R","R",(J42-J41-J43)) -> 0 | ... P44: =IF(P41="R","R",(P42-P41-P43)) -> 0
B45: Total Jour | C45: =IF(C44="R",D44,C44+(IF(D44="R",0,D44))) -> 0 | E45: =IF(E44="R",F44,E44+(IF(F44="R",0,F44))) -> 0 | G45: =IF(G44="R",H44,G44+(IF(H44="R",0,H44))) -> 0 | I45: =IF(I44="R",J44,I44+(IF(J44="R",0,J44))) -> 0 | K45: =IF(K44="R",L44,K44+(IF(L44="R",0,L44))) -> 0 | M45: =IF(M44="R",N44,M44+(IF(N44="R",0,N44))) -> 0 | O45: =IF(O44="R",P44,O44+(IF(P44="R",0,P44))) -> 0
B46: H Arrivé | Q46: =SUM(C50:P50) -> 0
B47: H départ
B48: Pause
B49: Total | C49: =IF(C46="R","R",(C47-C46-C48)) -> 0 | D49: =IF(D46="R","R",(D47-D46-D48)) -> 0 | E49: =IF(E46="R","R",(E47-E46-E48)) -> 0 | F49: =IF(F46="R","R",(F47-F46-F48)) -> 0 | G49: =IF(G46="R","R",(G47-G46-G48)) -> 0 | H49: =IF(H46="R","R",(H47-H46-H48)) -> 0 | I49: =IF(I46="R","R",(I47-I46-I48)) -> 0 | J49: =IF(J46="R","R",(J47-J46-J48)) -> 0 | ... P49: =IF(P46="R","R",(P47-P46-P48)) -> 0
B50: Total Jour | C50: =IF(C49="R",D49,C49+(IF(D49="R",0,D49))) -> 0 | E50: =IF(E49="R",F49,E49+(IF(F49="R",0,F49))) -> 0 | G50: =IF(G49="R",H49,G49+(IF(H49="R",0,H49))) -> 0 | I50: =IF(I49="R",J49,I49+(IF(J49="R",0,J49))) -> 0 | K50: =IF(K49="R",L49,K49+(IF(L49="R",0,L49))) -> 0 | M50: =IF(M49="R",N49,M49+(IF(N49="R",0,N49))) -> 0 | O50: =IF(O49="R",P49,O49+(IF(P49="R",0,P49))) -> 0

Sheet SALLE CORDELIER
A1: SALLE | F1: CHEZ CARLO | M1: CORDELIER
B3: SEMAINE : | C3: 51 | H3: DU : | I3: 43794 | L3: au | M3: =I3+6 -> 43800
C4: LUNDI | E4: MARDI | G4: MERCREDI | I4: JEUDI | K4: VENDREDI | M4: SAMEDI | O4: DIMANCHE | Q4: TOTAL
C5: MIDI | D5: SOIR | E5: MIDI | F5: SOIR | G5: MIDI | H5: SOIR | I5: MIDI | J5: SOIR | K5: MIDI | L5: SOIR | M5: MIDI | N5: SOIR | O5: MIDI | P5: SOIR
A6: RÉMI | B6: H Arrivé | C6: 0.41666667 | D6: 0.75 | Q6: =SUM(C10:P10) -> 0.45833333
B7: H départ | C7: 0.625 | D7: 1
A8: GESLAN | B8: Pause
B9: Total | C9: =IF(C6="R","R",(C7-C6-C8)) -> 0.20833333 | D9: =IF(D6="R","R",(D7-D6-D8)) -> 0.25 | E9: =IF(E6="R","R",(E7-E6-E8)) -> 0 | F9: =IF(F6="R","R",(F7-F6-F8)) -> 0 | G9: =IF(G6="R","R",(G7-G6-G8)) -> 0 | H9: =IF(H6="R","R",(H7-H6-H8)) -> 0 | I9: =IF(I6="R","R",(I7-I6-I8)) -> 0 | J9: =IF(J6="R","R",(J7-J6-J8)) -> 0 | ... P9: =IF(P6="R","R",(P7-P6-P8)) -> 0
B10: Total Jour | C10: =IF(C9="R",D9,C9+(IF(D9="R",0,D9))) -> 0.45833333 | E10: =IF(E9="R",F9,E9+(IF(F9="R",0,F9))) -> 0 | G10: =IF(G9="R",H9,G9+(IF(H9="R",0,H9))) -> 0 | I10: =IF(I9="R",J9,I9+(IF(J9="R",0,J9))) -> 0 | K10: =IF(K9="R",L9,K9+(IF(L9="R",0,L9))) -> 0 | M10: =IF(M9="R",N9,M9+(IF(N9="R",0,N9))) -> 0 | O10: =IF(O9="R",P9,O9+(IF(P9="R",0,P9))) -> 0
A11: CHRISTIAN | B11: H Arrivé | Q11: =SUM(C15:P15) -> 0
B12: H départ
A13: LABET | B13: Pause
B14: Total | C14: =IF(C11="R","R",(C12-C11-C13)) -> 0 | D14: =IF(D11="R","R",(D12-D11-D13)) -> 0 | E14: =IF(E11="R","R",(E12-E11-E13)) -> 0 | F14: =IF(F11="R","R",(F12-F11-F13)) -> 0 | G14: =IF(G11="R","R",(G12-G11-G13)) -> 0 | H14: =IF(H11="R","R",(H12-H11-H13)) -> 0 | I14: =IF(I11="R","R",(I12-I11-I13)) -> 0 | J14: =IF(J11="R","R",(J12-J11-J13)) -> 0 | ... P14: =IF(P11="R","R",(P12-P11-P13)) -> 0
B15: Total Jour | C15: =IF(C14="R",D14,C14+(IF(D14="R",0,D14))) -> 0 | E15: =IF(E14="R",F14,E14+(IF(F14="R",0,F14))) -> 0 | G15: =IF(G14="R",H14,G14+(IF(H14="R",0,H14))) -> 0 | I15: =IF(I14="R",J14,I14+(IF(J14="R",0,J14))) -> 0 | K15: =IF(K14="R",L14,K14+(IF(L14="R",0,L14))) -> 0 | M15: =IF(M14="R",N14,M14+(IF(N14="R",0,N14))) -> 0 | O15: =IF(O14="R",P14,O14+(IF(P14="R",0,P14))) -> 0
A16: ELIAS | B16: H Arrivé | Q16: =SUM(C20:P20) -> 0
B17: H départ
A18: MAQRANE | B18: Pause
B19: Total | C19: =IF(C16="R","R",(C17-C16-C18)) -> 0 | D19: =IF(D16="R","R",(D17-D16-D18)) -> 0 | E19: =IF(E16="R","R",(E17-E16-E18)) -> 0 | F19: =IF(F16="R","R",(F17-F16-F18)) -> 0 | G19: =IF(G16="R","R",(G17-G16-G18)) -> 0 | H19: =IF(H16="R","R",(H17-H16-H18)) -> 0 | I19: =IF(I16="R","R",(I17-I16-I18)) -> 0 | J19: =IF(J16="R","R",(J17-J16-J18)) -> 0 | ... P19: =IF(P16="R","R",(P17-P16-P18)) -> 0
B20: Total Jour | C20: =IF(C19="R",D19,C19+(IF(D19="R",0,D19))) -> 0 | E20: =IF(E19="R",F19,E19+(IF(F19="R",0,F19))) -> 0 | G20: =IF(G19="R",H19,G19+(IF(H19="R",0,H19))) -> 0 | I20: =IF(I19="R",J19,I19+(IF(J19="R",0,J19))) -> 0 | K20: =IF(K19="R",L19,K19+(IF(L19="R",0,L19))) -> 0 | M20: =IF(M19="R",N19,M19+(IF(N19="R",0,N19))) -> 0 | O20: =IF(O19="R",P19,O19+(IF(P19="R",0,P19))) -> 0
A21: KEVIN | B21: H Arrivé | Q21: =SUM(C25:P25) -> 0
B22: H départ
A23: OLIVER | B23: Pause
B24: Total | C24: =IF(C21="R","R",(C22-C21-C23)) -> 0 | D24: =IF(D21="R","R",(D22-D21-D23)) -> 0 | E24: =IF(E21="R","R",(E22-E21-E23)) -> 0 | F24: =IF(F21="R","R",(F22-F21-F23)) -> 0 | G24: =IF(G21="R","R",(G22-G21-G23)) -> 0 | H24: =IF(H21="R","R",(H22-H21-H23)) -> 0 | I24: =IF(I21="R","R",(I22-I21-I23)) -> 0 | J24: =IF(J21="R","R",(J22-J21-J23)) -> 0 | ... P24: =IF(P21="R","R",(P22-P21-P23)) -> 0
B25: Total Jour | C25: =IF(C24="R",D24,C24+(IF(D24="R",0,D24))) -> 0 | E25: =IF(E24="R",F24,E24+(IF(F24="R",0,F24))) -> 0 | G25: =IF(G24="R",H24,G24+(IF(H24="R",0,H24))) -> 0 | I25: =IF(I24="R",J24,I24+(IF(J24="R",0,J24))) -> 0 | K25: =IF(K24="R",L24,K24+(IF(L24="R",0,L24))) -> 0 | M25: =IF(M24="R",N24,M24+(IF(N24="R",0,N24))) -> 0 | O25: =IF(O24="R",P24,O24+(IF(P24="R",0,P24))) -> 0
A26: MELISSA | B26: H Arrivé | Q26: =SUM(C30:P30) -> 0
B27: H départ
A28: MABBOUX | B28: Pause
B29: Total | C29: =IF(C26="R","R",(C27-C26-C28)) -> 0 | D29: =IF(D26="R","R",(D27-D26-D28)) -> 0 | E29: =IF(E26="R","R",(E27-E26-E28)) -> 0 | F29: =IF(F26="R","R",(F27-F26-F28)) -> 0 | G29: =IF(G26="R","R",(G27-G26-G28)) -> 0 | H29: =IF(H26="R","R",(H27-H26-H28)) -> 0 | I29: =IF(I26="R","R",(I27-I26-I28)) -> 0 | J29: =IF(J26="R","R",(J27-J26-J28)) -> 0 | ... P29: =IF(P26="R","R",(P27-P26-P28)) -> 0
B30: Total Jour | C30: =IF(C29="R",D29,C29+(IF(D29="R",0,D29))) -> 0 | E30: =IF(E29="R",F29,E29+(IF(F29="R",0,F29))) -> 0 | G30: =IF(G29="R",H29,G29+(IF(H29="R",0,H29))) -> 0 | I30: =IF(I29="R",J29,I29+(IF(J29="R",0,J29))) -> 0 | K30: =IF(K29="R",L29,K29+(IF(L29="R",0,L29))) -> 0 | M30: =IF(M29="R",N29,M29+(IF(N29="R",0,N29))) -> 0 | O30: =IF(O29="R",P29,O29+(IF(P29="R",0,P29))) -> 0
A31: YASSMIN | B31: H Arrivé | Q31: =SUM(C35:P35) -> 0
B32: H départ
A33: JENNAB | B33: Pause
B34: Total | C34: =IF(C31="R","R",(C32-C31-C33)) -> 0 | D34: =IF(D31="R","R",(D32-D31-D33)) -> 0 | E34: =IF(E31="R","R",(E32-E31-E33)) -> 0 | F34: =IF(F31="R","R",(F32-F31-F33)) -> 0 | G34: =IF(G31="R","R",(G32-G31-G33)) -> 0 | H34: =IF(H31="R","R",(H32-H31-H33)) -> 0 | I34: =IF(I31="R","R",(I32-I31-I33)) -> 0 | J34: =IF(J31="R","R",(J32-J31-J33)) -> 0 | ... P34: =IF(P31="R","R",(P32-P31-P33)) -> 0
B35: Total Jour | C35: =IF(C34="R",D34,C34+(IF(D34="R",0,D34))) -> 0 | E35: =IF(E34="R",F34,E34+(IF(F34="R",0,F34))) -> 0 | G35: =IF(G34="R",H34,G34+(IF(H34="R",0,H34))) -> 0 | I35: =IF(I34="R",J34,I34+(IF(J34="R",0,J34))) -> 0 | K35: =IF(K34="R",L34,K34+(IF(L34="R",0,L34))) -> 0 | M35: =IF(M34="R",N34,M34+(IF(N34="R",0,N34))) -> 0 | O35: =IF(O34="R",P34,O34+(IF(P34="R",0,P34))) -> 0
A36: MICKAEL | B36: H Arrivé | Q36: =SUM(C40:P40) -> 0
B37: H départ
A38: GARMATUK | B38: Pause
B39: Total | C39: =IF(C36="R","R",(C37-C36-C38)) -> 0 | D39: =IF(D36="R","R",(D37-D36-D38)) -> 0 | E39: =IF(E36="R","R",(E37-E36-E38)) -> 0 | F39: =IF(F36="R","R",(F37-F36-F38)) -> 0 | G39: =IF(G36="R","R",(G37-G36-G38)) -> 0 | H39: =IF(H36="R","R",(H37-H36-H38)) -> 0 | I39: =IF(I36="R","R",(I37-I36-I38)) -> 0 | J39: =IF(J36="R","R",(J37-J36-J38)) -> 0 | ... P39: =IF(P36="R","R",(P37-P36-P38)) -> 0
B40: Total Jour | C40: =IF(C39="R",D39,C39+(IF(D39="R",0,D39))) -> 0 | E40: =IF(E39="R",F39,E39+(IF(F39="R",0,F39))) -> 0 | G40: =IF(G39="R",H39,G39+(IF(H39="R",0,H39))) -> 0 | I40: =IF(I39="R",J39,I39+(IF(J39="R",0,J39))) -> 0 | K40: =IF(K39="R",L39,K39+(IF(L39="R",0,L39))) -> 0 | M40: =IF(M39="R",N39,M39+(IF(N39="R",0,N39))) -> 0 | O40: =IF(O39="R",P39,O39+(IF(P39="R",0,P39))) -> 0
B41: H Arrivé | Q41: =SUM(C45:P45) -> 0
B42: H départ
B43: Pause
B44: Total | C44: =IF(C41="R","R",(C42-C41-C43)) -> 0 | D44: =IF(D41="R","R",(D42-D41-D43)) -> 0 | E44: =IF(E41="R","R",(E42-E41-E43)) -> 0 | F44: =IF(F41="R","R",(F42-F41-F43)) -> 0 | G44: =IF(G41="R","R",(G42-G41-G43)) -> 0 | H44: =IF(H41="R","R",(H42-H41-H43)) -> 0 | I44: =IF(I41="R","R",(I42-I41-I43)) -> 0 | J44: =IF(J41="R","R",(J42-J41-J43)) -> 0 | ... P44: =IF(P41="R","R",(P42-P41-P43)) -> 0
B45: Total Jour | C45: =IF(C44="R",D44,C44+(IF(D44="R",0,D44))) -> 0 | E45: =IF(E44="R",F44,E44+(IF(F44="R",0,F44))) -> 0 | G45: =IF(G44="R",H44,G44+(IF(H44="R",0,H44))) -> 0 | I45: =IF(I44="R",J44,I44+(IF(J44="R",0,J44))) -> 0 | K45: =IF(K44="R",L44,K44+(IF(L44="R",0,L44))) -> 0 | M45: =IF(M44="R",N44,M44+(IF(N44="R",0,N44))) -> 0 | O45: =IF(O44="R",P44,O44+(IF(P44="R",0,P44))) -> 0
B46: H Arrivé | Q46: =SUM(C50:P50) -> 0
B47: H départ
B48: Pause
B49: Total | C49: =IF(C46="R","R",(C47-C46-C48)) -> 0 | D49: =IF(D46="R","R",(D47-D46-D48)) -> 0 | E49: =IF(E46="R","R",(E47-E46-E48)) -> 0 | F49: =IF(F46="R","R",(F47-F46-F48)) -> 0 | G49: =IF(G46="R","R",(G47-G46-G48)) -> 0 | H49: =IF(H46="R","R",(H47-H46-H48)) -> 0 | I49: =IF(I46="R","R",(I47-I46-I48)) -> 0 | J49: =IF(J46="R","R",(J47-J46-J48)) -> 0 | ... P49: =IF(P46="R","R",(P47-P46-P48)) -> 0
B50: Total Jour | C50: =IF(C49="R",D49,C49+(IF(D49="R",0,D49))) -> 0 | E50: =IF(E49="R",F49,E49+(IF(F49="R",0,F49))) -> 0 | G50: =IF(G49="R",H49,G49+(IF(H49="R",0,H49))) -> 0 | I50: =IF(I49="R",J49,I49+(IF(J49="R",0,J49))) -> 0 | K50: =IF(K49="R",L49,K49+(IF(L49="R",0,L49))) -> 0 | M50: =IF(M49="R",N49,M49+(IF(N49="R",0,N49))) -> 0 | O50: =IF(O49="R",P49,O49+(IF(P49="R",0,P49))) -> 0

Sheet CUISINE CORDELIER
A1: CUISINE | F1: CHEZ CARLO | M1: CORDELIER
B3: SEMAINE : | C3: 51 | H3: DU : | I3: 43794 | L3: au | M3: =I3+6 -> 43800
C4: LUNDI | E4: MARDI | G4: MERCREDI | I4: JEUDI | K4: VENDREDI | M4: SAMEDI | O4: DIMANCHE | Q4: TOTAL
C5: MIDI | D5: SOIR | E5: MIDI | F5: SOIR | G5: MIDI | H5: SOIR | I5: MIDI | J5: SOIR | K5: MIDI | L5: SOIR | M5: MIDI | N5: SOIR | O5: MIDI | P5: SOIR
A6: NAMIR | B6: H Arrivé | C6: 0.5 | D6: 0.75 | Q6: =SUM(C10:P10) -> 0.33333333
B7: H départ | C7: 0.625 | D7: 1
A8: FALI | B8: Pause | C8: 0.020833333 | D8: 0.020833333
B9: Total | C9: =IF(C6="R","R",(C7-C6-C8)) -> 0.10416667 | D9: =IF(D6="R","R",(D7-D6-D8)) -> 0.22916667 | E9: =IF(E6="R","R",(E7-E6-E8)) -> 0 | F9: =IF(F6="R","R",(F7-F6-F8)) -> 0 | G9: =IF(G6="R","R",(G7-G6-G8)) -> 0 | H9: =IF(H6="R","R",(H7-H6-H8)) -> 0 | I9: =IF(I6="R","R",(I7-I6-I8)) -> 0 | J9: =IF(J6="R","R",(J7-J6-J8)) -> 0 | ... P9: =IF(P6="R","R",(P7-P6-P8)) -> 0
B10: Total Jour | C10: =IF(C9="R",D9,C9+(IF(D9="R",0,D9))) -> 0.33333333 | E10: =IF(E9="R",F9,E9+(IF(F9="R",0,F9))) -> 0 | G10: =IF(G9="R",H9,G9+(IF(H9="R",0,H9))) -> 0 | I10: =IF(I9="R",J9,I9+(IF(J9="R",0,J9))) -> 0 | K10: =IF(K9="R",L9,K9+(IF(L9="R",0,L9))) -> 0 | M10: =IF(M9="R",N9,M9+(IF(N9="R",0,N9))) -> 0 | O10: =IF(O9="R",P9,O9+(IF(P9="R",0,P9))) -> 0
A11: ABDERRAZZAK | B11: H Arrivé | Q11: =SUM(C15:P15) -> 0
B12: H départ
A13: NAIT BOUSSALEM | B13: Pause
B14: Total | C14: =IF(C11="R","R",(C12-C11-C13)) -> 0 | D14: =IF(D11="R","R",(D12-D11-D13)) -> 0 | E14: =IF(E11="R","R",(E12-E11-E13)) -> 0 | F14: =IF(F11="R","R",(F12-F11-F13)) -> 0 | G14: =IF(G11="R","R",(G12-G11-G13)) -> 0 | H14: =IF(H11="R","R",(H12-H11-H13)) -> 0 | I14: =IF(I11="R","R",(I12-I11-I13)) -> 0 | J14: =IF(J11="R","R",(J12-J11-J13)) -> 0 | ... P14: =IF(P11="R","R",(P12-P11-P13)) -> 0
B15: Total Jour | C15: =IF(C14="R",D14,C14+(IF(D14="R",0,D14))) -> 0 | E15: =IF(E14="R",F14,E14+(IF(F14="R",0,F14))) -> 0 | G15: =IF(G14="R",H14,G14+(IF(H14="R",0,H14))) -> 0 | I15: =IF(I14="R",J14,I14+(IF(J14="R",0,J14))) -> 0 | K15: =IF(K14="R",L14,K14+(IF(L14="R",0,L14))) -> 0 | M15: =IF(M14="R",N14,M14+(IF(N14="R",0,N14))) -> 0 | O15: =IF(O14="R",P14,O14+(IF(P14="R",0,P14))) -> 0
A16: QUENTIN | B16: H Arrivé | Q16: =SUM(C20:P20) -> 0
B17: H départ
A18: LAGAILLARDE | B18: Pause
B19: Total | C19: =IF(C16="R","R",(C17-C16-C18)) -> 0 | D19: =IF(D16="R","R",(D17-D16-D18)) -> 0 | E19: =IF(E16="R","R",(E17-E16-E18)) -> 0 | F19: =IF(F16="R","R",(F17-F16-F18)) -> 0 | G19: =IF(G16="R","R",(G17-G16-G18)) -> 0 | H19: =IF(H16="R","R",(H17-H16-H18)) -> 0 | I19: =IF(I16="R","R",(I17-I16-I18)) -> 0 | J19: =IF(J16="R","R",(J17-J16-J18)) -> 0 | ... P19: =IF(P16="R","R",(P17-P16-P18)) -> 0
B20: Total Jour | C20: =IF(C19="R",D19,C19+(IF(D19="R",0,D19))) -> 0 | E20: =IF(E19="R",F19,E19+(IF(F19="R",0,F19))) -> 0 | G20: =IF(G19="R",H19,G19+(IF(H19="R",0,H19))) -> 0 | I20: =IF(I19="R",J19,I19+(IF(J19="R",0,J19))) -> 0 | K20: =IF(K19="R",L19,K19+(IF(L19="R",0,L19))) -> 0 | M20: =IF(M19="R",N19,M19+(IF(N19="R",0,N19))) -> 0 | O20: =IF(O19="R",P19,O19+(IF(P19="R",0,P19))) -> 0
A21: JEAMBARDY | B21: H Arrivé | Q21: =SUM(C25:P25) -> 0
B22: H départ
A23: LOPEZ PEREZ | B23: Pause
B24: Total | C24: =IF(C21="R","R",(C22-C21-C23)) -> 0 | D24: =IF(D21="R","R",(D22-D21-D23)) -> 0 | E24: =IF(E21="R","R",(E22-E21-E23)) -> 0 | F24: =IF(F21="R","R",(F22-F21-F23)) -> 0 | G24: =IF(G21="R","R",(G22-G21-G23)) -> 0 | H24: =IF(H21="R","R",(H22-H21-H23)) -> 0 | I24: =IF(I21="R","R",(I22-I21-I23)) -> 0 | J24: =IF(J21="R","R",(J22-J21-J23)) -> 0 | ... P24: =IF(P21="R","R",(P22-P21-P23)) -> 0
B25: Total Jour | C25: =IF(C24="R",D24,C24+(IF(D24="R",0,D24))) -> 0 | E25: =IF(E24="R",F24,E24+(IF(F24="R",0,F24))) -> 0 | G25: =IF(G24="R",H24,G24+(IF(H24="R",0,H24))) -> 0 | I25: =IF(I24="R",J24,I24+(IF(J24="R",0,J24))) -> 0 | K25: =IF(K24="R",L24,K24+(IF(L24="R",0,L24))) -> 0 | M25: =IF(M24="R",N24,M24+(IF(N24="R",0,N24))) -> 0 | O25: =IF(O24="R",P24,O24+(IF(P24="R",0,P24))) -> 0
A26: MICHEL | B26: H Arrivé | Q26: =SUM(C30:P30) -> 0
B27: H départ
A28: BILLON | B28: Pause
B29: Total | C29: =IF(C26="R","R",(C27-C26-C28)) -> 0 | D29: =IF(D26="R","R",(D27-D26-D28)) -> 0 | E29: =IF(E26="R","R",(E27-E26-E28)) -> 0 | F29: =IF(F26="R","R",(F27-F26-F28)) -> 0 | G29: =IF(G26="R","R",(G27-G26-G28)) -> 0 | H29: =IF(H26="R","R",(H27-H26-H28)) -> 0 | I29: =IF(I26="R","R",(I27-I26-I28)) -> 0 | J29: =IF(J26="R","R",(J27-J26-J28)) -> 0 | ... P29: =IF(P26="R","R",(P27-P26-P28)) -> 0
B30: Total Jour | C30: =IF(C29="R",D29,C29+(IF(D29="R",0,D29))) -> 0 | E30: =IF(E29="R",F29,E29+(IF(F29="R",0,F29))) -> 0 | G30: =IF(G29="R",H29,G29+(IF(H29="R",0,H29))) -> 0 | I30: =IF(I29="R",J29,I29+(IF(J29="R",0,J29))) -> 0 | K30: =IF(K29="R",L29,K29+(IF(L29="R",0,L29))) -> 0 | M30: =IF(M29="R",N29,M29+(IF(N29="R",0,N29))) -> 0 | O30: =IF(O29="R",P29,O29+(IF(P29="R",0,P29))) -> 0
A31: JAD | B31: H Arrivé | Q31: =SUM(C35:P35) -> 0
B32: H départ
A33: ZITOUNI | B33: Pause
B34: Total | C34: =IF(C31="R","R",(C32-C31-C33)) -> 0 | D34: =IF(D31="R","R",(D32-D31-D33)) -> 0 | E34: =IF(E31="R","R",(E32-E31-E33)) -> 0 | F34: =IF(F31="R","R",(F32-F31-F33)) -> 0 | G34: =IF(G31="R","R",(G32-G31-G33)) -> 0 | H34: =IF(H31="R","R",(H32-H31-H33)) -> 0 | I34: =IF(I31="R","R",(I32-I31-I33)) -> 0 | J34: =IF(J31="R","R",(J32-J31-J33)) -> 0 | ... P34: =IF(P31="R","R",(P32-P31-P33)) -> 0
B35: Total Jour | C35: =IF(C34="R",D34,C34+(IF(D34="R",0,D34))) -> 0 | E35: =IF(E34="R",F34,E34+(IF(F34="R",0,F34))) -> 0 | G35: =IF(G34="R",H34,G34+(IF(H34="R",0,H34))) -> 0 | I35: =IF(I34="R",J34,I34+(IF(J34="R",0,J34))) -> 0 | K35: =IF(K34="R",L34,K34+(IF(L34="R",0,L34))) -> 0 | M35: =IF(M34="R",N34,M34+(IF(N34="R",0,N34))) -> 0 | O35: =IF(O34="R",P34,O34+(IF(P34="R",0,P34))) -> 0
B36: H Arrivé | Q36: =SUM(C40:P40) -> 0
B37: H départ
B38: Pause
B39: Total | C39: =IF(C36="R","R",(C37-C36-C38)) -> 0 | D39: =IF(D36="R","R",(D37-D36-D38)) -> 0 | E39: =IF(E36="R","R",(E37-E36-E38)) -> 0 | F39: =IF(F36="R","R",(F37-F36-F38)) -> 0 | G39: =IF(G36="R","R",(G37-G36-G38)) -> 0 | H39: =IF(H36="R","R",(H37-H36-H38)) -> 0 | I39: =IF(I36="R","R",(I37-I36-I38)) -> 0 | J39: =IF(J36="R","R",(J37-J36-J38)) -> 0 | ... P39: =IF(P36="R","R",(P37-P36-P38)) -> 0
B40: Total Jour | C40: =IF(C39="R",D39,C39+(IF(D39="R",0,D39))) -> 0 | E40: =IF(E39="R",F39,E39+(IF(F39="R",0,F39))) -> 0 | G40: =IF(G39="R",H39,G39+(IF(H39="R",0,H39))) -> 0 | I40: =IF(I39="R",J39,I39+(IF(J39="R",0,J39))) -> 0 | K40: =IF(K39="R",L39,K39+(IF(L39="R",0,L39))) -> 0 | M40: =IF(M39="R",N39,M39+(IF(N39="R",0,N39))) -> 0 | O40: =IF(O39="R",P39,O39+(IF(P39="R",0,P39))) -> 0
B41: H Arrivé | Q41: =SUM(C45:P45) -> 0
B42: H départ
B43: Pause
B44: Total | C44: =IF(C41="R","R",(C42-C41-C43)) -> 0 | D44: =IF(D41="R","R",(D42-D41-D43)) -> 0 | E44: =IF(E41="R","R",(E42-E41-E43)) -> 0 | F44: =IF(F41="R","R",(F42-F41-F43)) -> 0 | G44: =IF(G41="R","R",(G42-G41-G43)) -> 0 | H44: =IF(H41="R","R",(H42-H41-H43)) -> 0 | I44: =IF(I41="R","R",(I42-I41-I43)) -> 0 | J44: =IF(J41="R","R",(J42-J41-J43)) -> 0 | ... P44: =IF(P41="R","R",(P42-P41-P43)) -> 0
B45: Total Jour | C45: =IF(C44="R",D44,C44+(IF(D44="R",0,D44))) -> 0 | E45: =IF(E44="R",F44,E44+(IF(F44="R",0,F44))) -> 0 | G45: =IF(G44="R",H44,G44+(IF(H44="R",0,H44))) -> 0 | I45: =IF(I44="R",J44,I44+(IF(J44="R",0,J44))) -> 0 | K45: =IF(K44="R",L44,K44+(IF(L44="R",0,L44))) -> 0 | M45: =IF(M44="R",N44,M44+(IF(N44="R",0,N44))) -> 0 | O45: =IF(O44="R",P44,O44+(IF(P44="R",0,P44))) -> 0
B46: H Arrivé | Q46: =SUM(C50:P50) -> 0
B47: H départ
B48: Pause
B49: Total | C49: =IF(C46="R","R",(C47-C46-C48)) -> 0 | D49: =IF(D46="R","R",(D47-D46-D48)) -> 0 | E49: =IF(E46="R","R",(E47-E46-E48)) -> 0 | F49: =IF(F46="R","R",(F47-F46-F48)) -> 0 | G49: =IF(G46="R","R",(G47-G46-G48)) -> 0 | H49: =IF(H46="R","R",(H47-H46-H48)) -> 0 | I49: =IF(I46="R","R",(I47-I46-I48)) -> 0 | J49: =IF(J46="R","R",(J47-J46-J48)) -> 0 | ... P49: =IF(P46="R","R",(P47-P46-P48)) -> 0
B50: Total Jour | C50: =IF(C49="R",D49,C49+(IF(D49="R",0,D49))) -> 0 | E50: =IF(E49="R",F49,E49+(IF(F49="R",0,F49))) -> 0 | G50: =IF(G49="R",H49,G49+(IF(H49="R",0,H49))) -> 0 | I50: =IF(I49="R",J49,I49+(IF(J49="R",0,J49))) -> 0 | K50: =IF(K49="R",L49,K49+(IF(L49="R",0,L49))) -> 0 | M50: =IF(M49="R",N49,M49+(IF(N49="R",0,N49))) -> 0 | O50: =IF(O49="R",P49,O49+(IF(P49="R",0,P49))) -> 0

Sheet CUISINE GERLAND
A1: CUISINE | F1: CHEZ CARLO | M1: GERLAND
B3: SEMAINE : | C3: 51 | H3: DU : | I3: 43794 | L3: au | M3: =I3+6 -> 43800
C4: LUNDI | E4: MARDI | G4: MERCREDI | I4: JEUDI | K4: VENDREDI | M4: SAMEDI | O4: DIMANCHE | Q4: TOTAL
C5: MIDI | D5: SOIR | E5: MIDI | F5: SOIR | G5: MIDI | H5: SOIR | I5: MIDI | J5: SOIR | K5: MIDI | L5: SOIR | M5: MIDI | N5: SOIR | O5: MIDI | P5: SOIR
A6: CHRISTOPHE | B6: H Arrivé | C6: 0.5 | D6: 0.75 | Q6: =SUM(C10:P10) -> 0.33333333
B7: H départ | C7: 0.625 | D7: 1
A8: LEMAIRE | B8: Pause | C8: 0.020833333 | D8: 0.020833333
B9: Total | C9: =IF(C6="R","R",(C7-C6-C8)) -> 0.10416667 | D9: =IF(D6="R","R",(D7-D6-D8)) -> 0.22916667 | E9: =IF(E6="R","R",(E7-E6-E8)) -> 0 | F9: =IF(F6="R","R",(F7-F6-F8)) -> 0 | G9: =IF(G6="R","R",(G7-G6-G8)) -> 0 | H9: =IF(H6="R","R",(H7-H6-H8)) -> 0 | I9: =IF(I6="R","R",(I7-I6-I8)) -> 0 | J9: =IF(J6="R","R",(J7-J6-J8)) -> 0 | ... P9: =IF(P6="R","R",(P7-P6-P8)) -> 0
B10: Total Jour | C10: =IF(C9="R",D9,C9+(IF(D9="R",0,D9))) -> 0.33333333 | E10: =IF(E9="R",F9,E9+(IF(F9="R",0,F9))) -> 0 | G10: =IF(G9="R",H9,G9+(IF(H9="R",0,H9))) -> 0 | I10: =IF(I9="R",J9,I9+(IF(J9="R",0,J9))) -> 0 | K10: =IF(K9="R",L9,K9+(IF(L9="R",0,L9))) -> 0 | M10: =IF(M9="R",N9,M9+(IF(N9="R",0,N9))) -> 0 | O10: =IF(O9="R",P9,O9+(IF(P9="R",0,P9))) -> 0
A11: BABACAR | B11: H Arrivé | Q11: =SUM(C15:P15) -> 0
B12: H départ
A13: SARR | B13: Pause
B14: Total | C14: =IF(C11="R","R",(C12-C11-C13)) -> 0 | D14: =IF(D11="R","R",(D12-D11-D13)) -> 0 | E14: =IF(E11="R","R",(E12-E11-E13)) -> 0 | F14: =IF(F11="R","R",(F12-F11-F13)) -> 0 | G14: =IF(G11="R","R",(G12-G11-G13)) -> 0 | H14: =IF(H11="R","R",(H12-H11-H13)) -> 0 | I14: =IF(I11="R","R",(I12-I11-I13)) -> 0 | J14: =IF(J11="R","R",(J12-J11-J13)) -> 0 | ... P14: =IF(P11="R","R",(P12-P11-P13)) -> 0
B15: Total Jour | C15: =IF(C14="R",D14,C14+(IF(D14="R",0,D14))) -> 0 | E15: =IF(E14="R",F14,E14+(IF(F14="R",0,F14))) -> 0 | G15: =IF(G14="R",H14,G14+(IF(H14="R",0,H14))) -> 0 | I15: =IF(I14="R",J14,I14+(IF(J14="R",0,J14))) -> 0 | K15: =IF(K14="R",L14,K14+(IF(L14="R",0,L14))) -> 0 | M15: =IF(M14="R",N14,M14+(IF(N14="R",0,N14))) -> 0 | O15: =IF(O14="R",P14,O14+(IF(P14="R",0,P14))) -> 0
A16: CEDRIC | B16: H Arrivé | Q16: =SUM(C20:P20) -> 0
B17: H départ
A18: DEL PALACIO | B18: Pause
B19: Total | C19: =IF(C16="R","R",(C17-C16-C18)) -> 0 | D19: =IF(D16="R","R",(D17-D16-D18)) -> 0 | E19: =IF(E16="R","R",(E17-E16-E18)) -> 0 | F19: =IF(F16="R","R",(F17-F16-F18)) -> 0 | G19: =IF(G16="R","R",(G17-G16-G18)) -> 0 | H19: =IF(H16="R","R",(H17-H16-H18)) -> 0 | I19: =IF(I16="R","R",(I17-I16-I18)) -> 0 | J19: =IF(J16="R","R",(J17-J16-J18)) -> 0 | ... P19: =IF(P16="R","R",(P17-P16-P18)) -> 0
B20: Total Jour | C20: =IF(C19="R",D19,C19+(IF(D19="R",0,D19))) -> 0 | E20: =IF(E19="R",F19,E19+(IF(F19="R",0,F19))) -> 0 | G20: =IF(G19="R",H19,G19+(IF(H19="R",0,H19))) -> 0 | I20: =IF(I19="R",J19,I19+(IF(J19="R",0,J19))) -> 0 | K20: =IF(K19="R",L19,K19+(IF(L19="R",0,L19))) -> 0 | M20: =IF(M19="R",N19,M19+(IF(N19="R",0,N19))) -> 0 | O20: =IF(O19="R",P19,O19+(IF(P19="R",0,P19))) -> 0
A21: ADRIEN | B21: H Arrivé | Q21: =SUM(C25:P25) -> 0
B22: H départ
A23: MARCE | B23: Pause
B24: Total | C24: =IF(C21="R","R",(C22-C21-C23)) -> 0 | D24: =IF(D21="R","R",(D22-D21-D23)) -> 0 | E24: =IF(E21="R","R",(E22-E21-E23)) -> 0 | F24: =IF(F21="R","R",(F22-F21-F23)) -> 0 | G24: =IF(G21="R","R",(G22-G21-G23)) -> 0 | H24: =IF(H21="R","R",(H22-H21-H23)) -> 0 | I24: =IF(I21="R","R",(I22-I21-I23)) -> 0 | J24: =IF(J21="R","R",(J22-J21-J23)) -> 0 | ... P24: =IF(P21="R","R",(P22-P21-P23)) -> 0
B25: Total Jour | C25: =IF(C24="R",D24,C24+(IF(D24="R",0,D24))) -> 0 | E25: =IF(E24="R",F24,E24+(IF(F24="R",0,F24))) -> 0 | G25: =IF(G24="R",H24,G24+(IF(H24="R",0,H24))) -> 0 | I25: =IF(I24="R",J24,I24+(IF(J24="R",0,J24))) -> 0 | K25: =IF(K24="R",L24,K24+(IF(L24="R",0,L24))) -> 0 | M25: =IF(M24="R",N24,M24+(IF(N24="R",0,N24))) -> 0 | O25: =IF(O24="R",P24,O24+(IF(P24="R",0,P24))) -> 0
A26: CONSTANTIN | B26: H Arrivé | Q26: =SUM(C30:P30) -> 0
B27: H départ
A28: VELO | B28: Pause
B29: Total | C29: =IF(C26="R","R",(C27-C26-C28)) -> 0 | D29: =IF(D26="R","R",(D27-D26-D28)) -> 0 | E29: =IF(E26="R","R",(E27-E26-E28)) -> 0 | F29: =IF(F26="R","R",(F27-F26-F28)) -> 0 | G29: =IF(G26="R","R",(G27-G26-G28)) -> 0 | H29: =IF(H26="R","R",(H27-H26-H28)) -> 0 | I29: =IF(I26="R","R",(I27-I26-I28)) -> 0 | J29: =IF(J26="R","R",(J27-J26-J28)) -> 0 | ... P29: =IF(P26="R","R",(P27-P26-P28)) -> 0
B30: Total Jour | C30: =IF(C29="R",D29,C29+(IF(D29="R",0,D29))) -> 0 | E30: =IF(E29="R",F29,E29+(IF(F29="R",0,F29))) -> 0 | G30: =IF(G29="R",H29,G29+(IF(H29="R",0,H29))) -> 0 | I30: =IF(I29="R",J29,I29+(IF(J29="R",0,J29))) -> 0 | K30: =IF(K29="R",L29,K29+(IF(L29="R",0,L29))) -> 0 | M30: =IF(M29="R",N29,M29+(IF(N29="R",0,N29))) -> 0 | O30: =IF(O29="R",P29,O29+(IF(P29="R",0,P29))) -> 0
B31: H Arrivé | Q31: =SUM(C35:P35) -> 0
B32: H départ
B33: Pause
B34: Total | C34: =IF(C31="R","R",(C32-C31-C33)) -> 0 | D34: =IF(D31="R","R",(D32-D31-D33)) -> 0 | E34: =IF(E31="R","R",(E32-E31-E33)) -> 0 | F34: =IF(F31="R","R",(F32-F31-F33)) -> 0 | G34: =IF(G31="R","R",(G32-G31-G33)) -> 0 | H34: =IF(H31="R","R",(H32-H31-H33)) -> 0 | I34: =IF(I31="R","R",(I32-I31-I33)) -> 0 | J34: =IF(J31="R","R",(J32-J31-J33)) -> 0 | ... P34: =IF(P31="R","R",(P32-P31-P33)) -> 0
B35: Total Jour | C35: =IF(C34="R",D34,C34+(IF(D34="R",0,D34))) -> 0 | E35: =IF(E34="R",F34,E34+(IF(F34="R",0,F34))) -> 0 | G35: =IF(G34="R",H34,G34+(IF(H34="R",0,H34))) -> 0 | I35: =IF(I34="R",J34,I34+(IF(J34="R",0,J34))) -> 0 | K35: =IF(K34="R",L34,K34+(IF(L34="R",0,L34))) -> 0 | M35: =IF(M34="R",N34,M34+(IF(N34="R",0,N34))) -> 0 | O35: =IF(O34="R",P34,O34+(IF(P34="R",0,P34))) -> 0
B36: H Arrivé | Q36: =SUM(C40:P40) -> 0
B37: H départ
B38: Pause
B39: Total | C39: =IF(C36="R","R",(C37-C36-C38)) -> 0 | D39: =IF(D36="R","R",(D37-D36-D38)) -> 0 | E39: =IF(E36="R","R",(E37-E36-E38)) -> 0 | F39: =IF(F36="R","R",(F37-F36-F38)) -> 0 | G39: =IF(G36="R","R",(G37-G36-G38)) -> 0 | H39: =IF(H36="R","R",(H37-H36-H38)) -> 0 | I39: =IF(I36="R","R",(I37-I36-I38)) -> 0 | J39: =IF(J36="R","R",(J37-J36-J38)) -> 0 | ... P39: =IF(P36="R","R",(P37-P36-P38)) -> 0
B40: Total Jour | C40: =IF(C39="R",D39,C39+(IF(D39="R",0,D39))) -> 0 | E40: =IF(E39="R",F39,E39+(IF(F39="R",0,F39))) -> 0 | G40: =IF(G39="R",H39,G39+(IF(H39="R",0,H39))) -> 0 | I40: =IF(I39="R",J39,I39+(IF(J39="R",0,J39))) -> 0 | K40: =IF(K39="R",L39,K39+(IF(L39="R",0,L39))) -> 0 | M40: =IF(M39="R",N39,M39+(IF(N39="R",0,N39))) -> 0 | O40: =IF(O39="R",P39,O39+(IF(P39="R",0,P39))) -> 0
B41: H Arrivé | Q41: =SUM(C45:P45) -> 0
B42: H départ
B43: Pause
B44: Total | C44: =IF(C41="R","R",(C42-C41-C43)) -> 0 | D44: =IF(D41="R","R",(D42-D41-D43)) -> 0 | E44: =IF(E41="R","R",(E42-E41-E43)) -> 0 | F44: =IF(F41="R","R",(F42-F41-F43)) -> 0 | G44: =IF(G41="R","R",(G42-G41-G43)) -> 0 | H44: =IF(H41="R","R",(H42-H41-H43)) -> 0 | I44: =IF(I41="R","R",(I42-I41-I43)) -> 0 | J44: =IF(J41="R","R",(J42-J41-J43)) -> 0 | ... P44: =IF(P41="R","R",(P42-P41-P43)) -> 0
B45: Total Jour | C45: =IF(C44="R",D44,C44+(IF(D44="R",0,D44))) -> 0 | E45: =IF(E44="R",F44,E44+(IF(F44="R",0,F44))) -> 0 | G45: =IF(G44="R",H44,G44+(IF(H44="R",0,H44))) -> 0 | I45: =IF(I44="R",J44,I44+(IF(J44="R",0,J44))) -> 0 | K45: =IF(K44="R",L44,K44+(IF(L44="R",0,L44))) -> 0 | M45: =IF(M44="R",N44,M44+(IF(N44="R",0,N44))) -> 0 | O45: =IF(O44="R",P44,O44+(IF(P44="R",0,P44))) -> 0
B46: H Arrivé | Q46: =SUM(C50:P50) -> 0
B47: H départ
B48: Pause
B49: Total | C49: =IF(C46="R","R",(C47-C46-C48)) -> 0 | D49: =IF(D46="R","R",(D47-D46-D48)) -> 0 | E49: =IF(E46="R","R",(E47-E46-E48)) -> 0 | F49: =IF(F46="R","R",(F47-F46-F48)) -> 0 | G49: =IF(G46="R","R",(G47-G46-G48)) -> 0 | H49: =IF(H46="R","R",(H47-H46-H48)) -> 0 | I49: =IF(I46="R","R",(I47-I46-I48)) -> 0 | J49: =IF(J46="R","R",(J47-J46-J48)) -> 0 | ... P49: =IF(P46="R","R",(P47-P46-P48)) -> 0
B50: Total Jour | C50: =IF(C49="R",D49,C49+(IF(D49="R",0,D49))) -> 0 | E50: =IF(E49="R",F49,E49+(IF(F49="R",0,F49))) -> 0 | G50: =IF(G49="R",H49,G49+(IF(H49="R",0,H49))) -> 0 | I50: =IF(I49="R",J49,I49+(IF(J49="R",0,J49))) -> 0 | K50: =IF(K49="R",L49,K49+(IF(L49="R",0,L49))) -> 0 | M50: =IF(M49="R",N49,M49+(IF(N49="R",0,N49))) -> 0 | O50: =IF(O49="R",P49,O49+(IF(P49="R",0,P49))) -> 0

Sheet PLANNING TOTAL
F1: CHEZ CARLO
B3: SEMAINE : | C3: 51 | H3: DU : | I3: 43794 | L3: au | M3: =I3+6 -> 43800
C4: LUNDI | E4: MARDI | G4: MERCREDI | I4: JEUDI | K4: VENDREDI | M4: SAMEDI | O4: DIMANCHE | Q4: TOTAL
C5: MIDI | D5: SOIR | E5: MIDI | F5: SOIR | G5: MIDI | H5: SOIR | I5: MIDI | J5: SOIR | K5: MIDI | L5: SOIR | M5: MIDI | N5: SOIR | O5: MIDI | P5: SOIR
A6: ='CUISINE GERLAND'!A6 -> CHRISTOPHE | B6: H Arrivé | C6: ='CUISINE GERLAND'!C6 -> 0.5 | D6: ='CUISINE GERLAND'!D6 -> 0.75 | E6: ='CUISINE GERLAND'!E6 -> 0 | F6: ='CUISINE GERLAND'!F6 -> 0 | G6: ='CUISINE GERLAND'!G6 -> 0 | H6: ='CUISINE GERLAND'!H6 -> 0 | I6: ='CUISINE GERLAND'!I6 -> 0 | J6: ='CUISINE GERLAND'!J6 -> 0 | ... Q6: ='CUISINE GERLAND'!Q6 -> 0.33333333
B7: H départ | C7: ='CUISINE GERLAND'!C7 -> 0.625 | D7: ='CUISINE GERLAND'!D7 -> 1 | E7: ='CUISINE GERLAND'!E7 -> 0 | F7: ='CUISINE GERLAND'!F7 -> 0 | G7: ='CUISINE GERLAND'!G7 -> 0 | H7: ='CUISINE GERLAND'!H7 -> 0 | I7: ='CUISINE GERLAND'!I7 -> 0 | J7: ='CUISINE GERLAND'!J7 -> 0 | ... P7: ='CUISINE GERLAND'!P7 -> 0
A8: ='CUISINE GERLAND'!A8 -> LEMAIRE | B8: Pause | C8: ='CUISINE GERLAND'!C8 -> 0.020833333 | D8: ='CUISINE GERLAND'!D8 -> 0.020833333 | E8: ='CUISINE GERLAND'!E8 -> 0 | F8: ='CUISINE GERLAND'!F8 -> 0 | G8: ='CUISINE GERLAND'!G8 -> 0 | H8: ='CUISINE GERLAND'!H8 -> 0 | I8: ='CUISINE GERLAND'!I8 -> 0 | J8: ='CUISINE GERLAND'!J8 -> 0 | ... P8: ='CUISINE GERLAND'!P8 -> 0
B9: Total | C9: ='CUISINE GERLAND'!C9 -> 0.10416667 | D9: ='CUISINE GERLAND'!D9 -> 0.22916667 | E9: ='CUISINE GERLAND'!E9 -> 0 | F9: ='CUISINE GERLAND'!F9 -> 0 | G9: ='CUISINE GERLAND'!G9 -> 0 | H9: ='CUISINE GERLAND'!H9 -> 0 | I9: ='CUISINE GERLAND'!I9 -> 0 | J9: ='CUISINE GERLAND'!J9 -> 0 | ... P9: ='CUISINE GERLAND'!P9 -> 0
B10: Total Jour | C10: ='CUISINE GERLAND'!C10 -> 0.33333333 | E10: ='CUISINE GERLAND'!E10 -> 0 | G10: ='CUISINE GERLAND'!G10 -> 0 | I10: ='CUISINE GERLAND'!I10 -> 0 | K10: ='CUISINE GERLAND'!K10 -> 0 | M10: ='CUISINE GERLAND'!M10 -> 0 | O10: ='CUISINE GERLAND'!O10 -> 0
A11: ='CUISINE CORDELIER'!A6 -> NAMIR | B11: H Arrivé | C11: ='CUISINE CORDELIER'!C6 -> 0.5 | D11: ='CUISINE CORDELIER'!D6 -> 0.75 | E11: ='CUISINE CORDELIER'!E6 -> 0 | F11: ='CUISINE CORDELIER'!F6 -> 0 | G11: ='CUISINE CORDELIER'!G6 -> 0 | H11: ='CUISINE CORDELIER'!H6 -> 0 | I11: ='CUISINE CORDELIER'!I6 -> 0 | J11: ='CUISINE CORDELIER'!J6 -> 0 | ... Q11: ='CUISINE CORDELIER'!Q6 -> 0.33333333
B12: H départ | C12: ='CUISINE CORDELIER'!C7 -> 0.625 | D12: ='CUISINE CORDELIER'!D7 -> 1 | E12: ='CUISINE CORDELIER'!E7 -> 0 | F12: ='CUISINE CORDELIER'!F7 -> 0 | G12: ='CUISINE CORDELIER'!G7 -> 0 | H12: ='CUISINE CORDELIER'!H7 -> 0 | I12: ='CUISINE CORDELIER'!I7 -> 0 | J12: ='CUISINE CORDELIER'!J7 -> 0 | ... P12: ='CUISINE CORDELIER'!P7 -> 0
A13: ='CUISINE CORDELIER'!A8 -> FALI | B13: Pause | C13: ='CUISINE CORDELIER'!C8 -> 0.020833333 | D13: ='CUISINE CORDELIER'!D8 -> 0.020833333 | E13: ='CUISINE CORDELIER'!E8 -> 0 | F13: ='CUISINE CORDELIER'!F8 -> 0 | G13: ='CUISINE CORDELIER'!G8 -> 0 | H13: ='CUISINE CORDELIER'!H8 -> 0 | I13: ='CUISINE CORDELIER'!I8 -> 0 | J13: ='CUISINE CORDELIER'!J8 -> 0 | ... P13: ='CUISINE CORDELIER'!P8 -> 0
B14: Total | C14: ='CUISINE CORDELIER'!C9 -> 0.10416667 | D14: ='CUISINE CORDELIER'!D9 -> 0.22916667 | E14: ='CUISINE CORDELIER'!E9 -> 0 | F14: ='CUISINE CORDELIER'!F9 -> 0 | G14: ='CUISINE CORDELIER'!G9 -> 0 | H14: ='CUISINE CORDELIER'!H9 -> 0 | I14: ='CUISINE CORDELIER'!I9 -> 0 | J14: ='CUISINE CORDELIER'!J9 -> 0 | ... P14: ='CUISINE CORDELIER'!P9 -> 0
B15: Total Jour | C15: ='CUISINE CORDELIER'!C10 -> 0.33333333 | E15: ='CUISINE CORDELIER'!E10 -> 0 | G15: ='CUISINE CORDELIER'!G10 -> 0 | I15: ='CUISINE CORDELIER'!I10 -> 0 | K15: ='CUISINE CORDELIER'!K10 -> 0 | M15: ='CUISINE CORDELIER'!M10 -> 0 | O15: ='CUISINE CORDELIER'!O10 -> 0
A16: ='SALLE CORDELIER'!A6 -> RÉMI | B16: H Arrivé | C16: ='SALLE CORDELIER'!C6 -> 0.41666667 | D16: ='SALLE CORDELIER'!D6 -> 0.75 | E16: ='SALLE CORDELIER'!E6 -> 0 | F16: ='SALLE CORDELIER'!F6 -> 0 | G16: ='SALLE CORDELIER'!G6 -> 0 | H16: ='SALLE CORDELIER'!H6 -> 0 | I16: ='SALLE CORDELIER'!I6 -> 0 | J16: ='SALLE CORDELIER'!J6 -> 0 | ... Q16: ='SALLE CORDELIER'!Q6 -> 0.45833333
B17: H départ | C17: ='SALLE CORDELIER'!C7 -> 0.625 | D17: ='SALLE CORDELIER'!D7 -> 1 | E17: ='SALLE CORDELIER'!E7 -> 0 | F17: ='SALLE CORDELIER'!F7 -> 0 | G17: ='SALLE CORDELIER'!G7 -> 0 | H17: ='SALLE CORDELIER'!H7 -> 0 | I17: ='SALLE CORDELIER'!I7 -> 0 | J17: ='SALLE CORDELIER'!J7 -> 0 | ... P17: ='SALLE CORDELIER'!P7 -> 0
A18: ='SALLE CORDELIER'!$A$8 -> GESLAN | B18: Pause | C18: ='SALLE CORDELIER'!C8 -> 0 | D18: ='SALLE CORDELIER'!D8 -> 0 | E18: ='SALLE CORDELIER'!E8 -> 0 | F18: ='SALLE CORDELIER'!F8 -> 0 | G18: ='SALLE CORDELIER'!G8 -> 0 | H18: ='SALLE CORDELIER'!H8 -> 0 | I18: ='SALLE CORDELIER'!I8 -> 0 | J18: ='SALLE CORDELIER'!J8 -> 0 | ... P18: ='SALLE CORDELIER'!P8 -> 0
B19: Total | C19: ='SALLE CORDELIER'!C9 -> 0.20833333 | D19: ='SALLE CORDELIER'!D9 -> 0.25 | E19: ='SALLE CORDELIER'!E9 -> 0 | F19: ='SALLE CORDELIER'!F9 -> 0 | G19: ='SALLE CORDELIER'!G9 -> 0 | H19: ='SALLE CORDELIER'!H9 -> 0 | I19: ='SALLE CORDELIER'!I9 -> 0 | J19: ='SALLE CORDELIER'!J9 -> 0 | ... P19: ='SALLE CORDELIER'!P9 -> 0
B20: Total Jour | C20: ='SALLE CORDELIER'!C10 -> 0.45833333 | E20: ='SALLE CORDELIER'!E10 -> 0 | G20: ='SALLE CORDELIER'!G10 -> 0 | I20: ='SALLE CORDELIER'!I10 -> 0 | K20: ='SALLE CORDELIER'!K10 -> 0 | M20: ='SALLE CORDELIER'!M10 -> 0 | O20: ='SALLE CORDELIER'!O10 -> 0
A21: ='SALLE GERLAND'!$A$6 -> ADRIEN | B21: H Arrivé | C21: ='SALLE GERLAND'!C6 -> 0 | D21: ='SALLE GERLAND'!D6 -> 0 | E21: ='SALLE GERLAND'!E6 -> 0 | F21: ='SALLE GERLAND'!F6 -> 0 | G21: ='SALLE GERLAND'!G6 -> 0 | H21: ='SALLE GERLAND'!H6 -> 0 | I21: ='SALLE GERLAND'!I6 -> 0 | J21: ='SALLE GERLAND'!J6 -> 0 | ... Q21: ='SALLE GERLAND'!Q6 -> 0
B22: H départ | C22: ='SALLE GERLAND'!C7 -> 0 | D22: ='SALLE GERLAND'!D7 -> 0 | E22: ='SALLE GERLAND'!E7 -> 0 | F22: ='SALLE GERLAND'!F7 -> 0 | G22: ='SALLE GERLAND'!G7 -> 0 | H22: ='SALLE GERLAND'!H7 -> 0 | I22: ='SALLE GERLAND'!I7 -> 0 | J22: ='SALLE GERLAND'!J7 -> 0 | ... P22: ='SALLE GERLAND'!P7 -> 0
A23: ='SALLE GERLAND'!$A$8 -> FORESTIER | B23: Pause | C23: ='SALLE GERLAND'!C8 -> 0 | D23: ='SALLE GERLAND'!D8 -> 0 | E23: ='SALLE GERLAND'!E8 -> 0 | F23: ='SALLE GERLAND'!F8 -> 0 | G23: ='SALLE GERLAND'!G8 -> 0 | H23: ='SALLE GERLAND'!H8 -> 0 | I23: ='SALLE GERLAND'!I8 -> 0 | J23: ='SALLE GERLAND'!J8 -> 0 | ... P23: ='SALLE GERLAND'!P8 -> 0
B24: Total | C24: ='SALLE GERLAND'!C9 -> 0 | D24: ='SALLE GERLAND'!D9 -> 0 | E24: ='SALLE GERLAND'!E9 -> 0 | F24: ='SALLE GERLAND'!F9 -> 0 | G24: ='SALLE GERLAND'!G9 -> 0 | H24: ='SALLE GERLAND'!H9 -> 0 | I24: ='SALLE GERLAND'!I9 -> 0 | J24: ='SALLE GERLAND'!J9 -> 0 | ... P24: ='SALLE GERLAND'!P9 -> 0
B25: Total Jour | C25: ='SALLE GERLAND'!C10 -> 0 | E25: ='SALLE GERLAND'!E10 -> 0 | G25: ='SALLE GERLAND'!G10 -> 0 | I25: ='SALLE GERLAND'!I10 -> 0 | K25: ='SALLE GERLAND'!K10 -> 0 | M25: ='SALLE GERLAND'!M10 -> 0 | O25: ='SALLE GERLAND'!O10 -> 0
A26: ='SALLE GERLAND'!A11 -> SABINE | B26: H Arrivé | Q26: 0
B27: H départ
A28: ='SALLE GERLAND'!A13 -> FONTAINE | B28: Pause
B29: Total | C29: =IF(C26="R","R",(C27-C26-C28)) -> 0 | D29: =IF(D26="R","R",(D27-D26-D28)) -> 0 | E29: =IF(E26="R","R",(E27-E26-E28)) -> 0 | F29: =IF(F26="R","R",(F27-F26-F28)) -> 0 | G29: =IF(G26="R","R",(G27-G26-G28)) -> 0 | H29: =IF(H26="R","R",(H27-H26-H28)) -> 0 | I29: =IF(I26="R","R",(I27-I26-I28)) -> 0 | J29: =IF(J26="R","R",(J27-J26-J28)) -> 0 | ... P29: =IF(P26="R","R",(P27-P26-P28)) -> 0
B30: Total Jour | C30: =IF(C29="R",D29,C29+(IF(D29="R",0,D29))) -> 0 | E30: =IF(E29="R",F29,E29+(IF(F29="R",0,F29))) -> 0 | G30: =IF(G29="R",H29,G29+(IF(H29="R",0,H29))) -> 0 | I30: =IF(I29="R",J29,I29+(IF(J29="R",0,J29))) -> 0 | K30: =IF(K29="R",L29,K29+(IF(L29="R",0,L29))) -> 0 | M30: =IF(M29="R",N29,M29+(IF(N29="R",0,N29))) -> 0 | O30: =IF(O29="R",P29,O29+(IF(P29="R",0,P29))) -> 0
A31: ='SALLE GERLAND'!A16 -> JEAN MICHEL | B31: H Arrivé | C31: ='SALLE GERLAND'!C16 -> 0 | D31: ='SALLE GERLAND'!D16 -> 0 | E31: ='SALLE GERLAND'!E16 -> 0 | F31: ='SALLE GERLAND'!F16 -> 0 | G31: ='SALLE GERLAND'!G16 -> 0 | H31: ='SALLE GERLAND'!H16 -> 0 | I31: ='SALLE GERLAND'!I16 -> 0 | J31: ='SALLE GERLAND'!J16 -> 0 | ... Q31: ='SALLE GERLAND'!Q16 -> 0
B32: H départ | C32: ='SALLE GERLAND'!C17 -> 0 | D32: ='SALLE GERLAND'!D17 -> 0 | E32: ='SALLE GERLAND'!E17 -> 0 | F32: ='SALLE GERLAND'!F17 -> 0 | G32: ='SALLE GERLAND'!G17 -> 0 | H32: ='SALLE GERLAND'!H17 -> 0 | I32: ='SALLE GERLAND'!I17 -> 0 | J32: ='SALLE GERLAND'!J17 -> 0 | ... P32: ='SALLE GERLAND'!P17 -> 0
A33: ='SALLE GERLAND'!$A$18 -> ORLENKO | B33: Pause | C33: ='SALLE GERLAND'!C18 -> 0 | D33: ='SALLE GERLAND'!D18 -> 0 | E33: ='SALLE GERLAND'!E18 -> 0 | F33: ='SALLE GERLAND'!F18 -> 0 | G33: ='SALLE GERLAND'!G18 -> 0 | H33: ='SALLE GERLAND'!H18 -> 0 | I33: ='SALLE GERLAND'!I18 -> 0 | J33: ='SALLE GERLAND'!J18 -> 0 | ... P33: ='SALLE GERLAND'!P18 -> 0
B34: Total | C34: ='SALLE GERLAND'!C19 -> 0 | D34: ='SALLE GERLAND'!D19 -> 0 | E34: ='SALLE GERLAND'!E19 -> 0 | F34: ='SALLE GERLAND'!F19 -> 0 | G34: ='SALLE GERLAND'!G19 -> 0 | H34: ='SALLE GERLAND'!H19 -> 0 | I34: ='SALLE GERLAND'!I19 -> 0 | J34: ='SALLE GERLAND'!J19 -> 0 | ... P34: ='SALLE GERLAND'!P19 -> 0
B35: Total Jour | C35: ='SALLE GERLAND'!C20 -> 0 | E35: ='SALLE GERLAND'!E20 -> 0 | G35: ='SALLE GERLAND'!G20 -> 0 | I35: ='SALLE GERLAND'!I20 -> 0 | K35: ='SALLE GERLAND'!K20 -> 0 | M35: ='SALLE GERLAND'!M20 -> 0 | O35: ='SALLE GERLAND'!O20 -> 0
A36: ='SALLE GERLAND'!$A$21 -> MAXIME | B36: H Arrivé | C36: ='SALLE GERLAND'!C21 -> 0 | D36: ='SALLE GERLAND'!D21 -> 0 | E36: ='SALLE GERLAND'!E21 -> 0 | F36: ='SALLE GERLAND'!F21 -> 0 | G36: ='SALLE GERLAND'!G21 -> 0 | H36: ='SALLE GERLAND'!H21 -> 0 | I36: ='SALLE GERLAND'!I21 -> 0 | J36: ='SALLE GERLAND'!J21 -> 0 | ... Q36: ='SALLE GERLAND'!Q21 -> 0
B37: H départ | C37: ='SALLE GERLAND'!C22 -> 0 | D37: ='SALLE GERLAND'!D22 -> 0 | E37: ='SALLE GERLAND'!E22 -> 0 | F37: ='SALLE GERLAND'!F22 -> 0 | G37: ='SALLE GERLAND'!G22 -> 0 | H37: ='SALLE GERLAND'!H22 -> 0 | I37: ='SALLE GERLAND'!I22 -> 0 | J37: ='SALLE GERLAND'!J22 -> 0 | ... P37: ='SALLE GERLAND'!P22 -> 0
A38: ='SALLE GERLAND'!$A$23 -> POKORSKI | B38: Pause | C38: ='SALLE GERLAND'!C23 -> 0 | D38: ='SALLE GERLAND'!D23 -> 0 | E38: ='SALLE GERLAND'!E23 -> 0 | F38: ='SALLE GERLAND'!F23 -> 0 | G38: ='SALLE GERLAND'!G23 -> 0 | H38: ='SALLE GERLAND'!H23 -> 0 | I38: ='SALLE GERLAND'!I23 -> 0 | J38: ='SALLE GERLAND'!J23 -> 0 | ... P38: ='SALLE GERLAND'!P23 -> 0
B39: Total | C39: ='SALLE GERLAND'!C24 -> 0 | D39: ='SALLE GERLAND'!D24 -> 0 | E39: ='SALLE GERLAND'!E24 -> 0 | F39: ='SALLE GERLAND'!F24 -> 0 | G39: ='SALLE GERLAND'!G24 -> 0 | H39: ='SALLE GERLAND'!H24 -> 0 | I39: ='SALLE GERLAND'!I24 -> 0 | J39: ='SALLE GERLAND'!J24 -> 0 | ... P39: ='SALLE GERLAND'!P24 -> 0
B40: Total Jour | C40: ='SALLE GERLAND'!C25 -> 0 | E40: ='SALLE GERLAND'!E25 -> 0 | G40: ='SALLE GERLAND'!G25 -> 0 | I40: ='SALLE GERLAND'!I25 -> 0 | K40: ='SALLE GERLAND'!K25 -> 0 | M40: ='SALLE GERLAND'!M25 -> 0 | O40: ='SALLE GERLAND'!O25 -> 0
A41: ='SALLE CORDELIER'!$A$11 -> CHRISTIAN | B41: H Arrivé | C41: ='SALLE CORDELIER'!C11 -> 0 | D41: ='SALLE CORDELIER'!D11 -> 0 | E41: ='SALLE CORDELIER'!E11 -> 0 | F41: ='SALLE CORDELIER'!F11 -> 0 | G41: ='SALLE CORDELIER'!G11 -> 0 | H41: ='SALLE CORDELIER'!H11 -> 0 | I41: ='SALLE CORDELIER'!I11 -> 0 | J41: ='SALLE CORDELIER'!J11 -> 0 | ... Q41: ='SALLE CORDELIER'!Q11 -> 0
B42: H départ | C42: ='SALLE CORDELIER'!C12 -> 0 | D42: ='SALLE CORDELIER'!D12 -> 0 | E42: ='SALLE CORDELIER'!E12 -> 0 | F42: ='SALLE CORDELIER'!F12 -> 0 | G42: ='SALLE CORDELIER'!G12 -> 0 | H42: ='SALLE CORDELIER'!H12 -> 0 | I42: ='SALLE CORDELIER'!I12 -> 0 | J42: ='SALLE CORDELIER'!J12 -> 0 | ... P42: ='SALLE CORDELIER'!P12 -> 0
A43: LABET | B43: Pause | C43: ='SALLE CORDELIER'!C13 -> 0 | D43: ='SALLE CORDELIER'!D13 -> 0 | E43: ='SALLE CORDELIER'!E13 -> 0 | F43: ='SALLE CORDELIER'!F13 -> 0 | G43: ='SALLE CORDELIER'!G13 -> 0 | H43: ='SALLE CORDELIER'!H13 -> 0 | I43: ='SALLE CORDELIER'!I13 -> 0 | J43: ='SALLE CORDELIER'!J13 -> 0 | ... P43: ='SALLE CORDELIER'!P13 -> 0
B44: Total | C44: ='SALLE CORDELIER'!C14 -> 0 | D44: ='SALLE CORDELIER'!D14 -> 0 | E44: ='SALLE CORDELIER'!E14 -> 0 | F44: ='SALLE CORDELIER'!F14 -> 0 | G44: ='SALLE CORDELIER'!G14 -> 0 | H44: ='SALLE CORDELIER'!H14 -> 0 | I44: ='SALLE CORDELIER'!I14 -> 0 | J44: ='SALLE CORDELIER'!J14 -> 0 | ... P44: ='SALLE CORDELIER'!P14 -> 0
B45: Total Jour | C45: ='SALLE CORDELIER'!C15 -> 0 | E45: ='SALLE CORDELIER'!E15 -> 0 | G45: ='SALLE CORDELIER'!G15 -> 0 | I45: ='SALLE CORDELIER'!I15 -> 0 | K45: ='SALLE CORDELIER'!K15 -> 0 | M45: ='SALLE CORDELIER'!M15 -> 0 | O45: ='SALLE CORDELIER'!O15 -> 0
A46: ='SALLE CORDELIER'!$A$16 -> ELIAS | B46: H Arrivé | C46: ='SALLE CORDELIER'!C16 -> 0 | D46: ='SALLE CORDELIER'!D16 -> 0 | E46: ='SALLE CORDELIER'!E16 -> 0 | F46: ='SALLE CORDELIER'!F16 -> 0 | G46: ='SALLE CORDELIER'!G16 -> 0 | H46: ='SALLE CORDELIER'!H16 -> 0 | I46: ='SALLE CORDELIER'!I16 -> 0 | J46: ='SALLE CORDELIER'!J16 -> 0 | ... Q46: ='SALLE CORDELIER'!Q16 -> 0
B47: H départ | C47: ='SALLE CORDELIER'!C17 -> 0 | D47: ='SALLE CORDELIER'!D17 -> 0 | E47: ='SALLE CORDELIER'!E17 -> 0 | F47: ='SALLE CORDELIER'!F17 -> 0 | G47: ='SALLE CORDELIER'!G17 -> 0 | H47: ='SALLE CORDELIER'!H17 -> 0 | I47: ='SALLE CORDELIER'!I17 -> 0 | J47: ='SALLE CORDELIER'!J17 -> 0 | ... P47: ='SALLE CORDELIER'!P17 -> 0
A48: ='SALLE CORDELIER'!$A$18 -> MAQRANE | B48: Pause | C48: ='SALLE CORDELIER'!C18 -> 0 | D48: ='SALLE CORDELIER'!D18 -> 0 | E48: ='SALLE CORDELIER'!E18 -> 0 | F48: ='SALLE CORDELIER'!F18 -> 0 | G48: ='SALLE CORDELIER'!G18 -> 0 | H48: ='SALLE CORDELIER'!H18 -> 0 | I48: ='SALLE CORDELIER'!I18 -> 0 | J48: ='SALLE CORDELIER'!J18 -> 0 | ... P48: ='SALLE CORDELIER'!P18 -> 0
B49: Total | C49: ='SALLE CORDELIER'!C19 -> 0 | D49: ='SALLE CORDELIER'!D19 -> 0 | E49: ='SALLE CORDELIER'!E19 -> 0 | F49: ='SALLE CORDELIER'!F19 -> 0 | G49: ='SALLE CORDELIER'!G19 -> 0 | H49: ='SALLE CORDELIER'!H19 -> 0 | I49: ='SALLE CORDELIER'!I19 -> 0 | J49: ='SALLE CORDELIER'!J19 -> 0 | ... P49: ='SALLE CORDELIER'!P19 -> 0
B50: Total Jour | C50: ='SALLE CORDELIER'!C20 -> 0 | E50: ='SALLE CORDELIER'!E20 -> 0 | G50: ='SALLE CORDELIER'!G20 -> 0 | I50: ='SALLE CORDELIER'!I20 -> 0 | K50: ='SALLE CORDELIER'!K20 -> 0 | M50: ='SALLE CORDELIER'!M20 -> 0 | O50: ='SALLE CORDELIER'!O20 -> 0
A51: KEVIN | B51: H Arrivé | C51: ='SALLE CORDELIER'!C21 -> 0 | D51: ='SALLE CORDELIER'!D21 -> 0 | E51: ='SALLE CORDELIER'!E21 -> 0 | F51: ='SALLE CORDELIER'!F21 -> 0 | G51: ='SALLE CORDELIER'!G21 -> 0 | H51: ='SALLE CORDELIER'!H21 -> 0 | I51: ='SALLE CORDELIER'!I21 -> 0 | J51: ='SALLE CORDELIER'!J21 -> 0 | ... Q51: ='SALLE CORDELIER'!Q21 -> 0
B52: H départ | C52: ='SALLE CORDELIER'!C22 -> 0 | D52: ='SALLE CORDELIER'!D22 -> 0 | E52: ='SALLE CORDELIER'!E22 -> 0 | F52: ='SALLE CORDELIER'!F22 -> 0 | G52: ='SALLE CORDELIER'!G22 -> 0 | H52: ='SALLE CORDELIER'!H22 -> 0 | I52: ='SALLE CORDELIER'!I22 -> 0 | J52: ='SALLE CORDELIER'!J22 -> 0 | ... P52: ='SALLE CORDELIER'!P22 -> 0
A53: ='SALLE CORDELIER'!$A$23 -> OLIVER | B53: Pause | C53: ='SALLE CORDELIER'!C23 -> 0 | D53: ='SALLE CORDELIER'!D23 -> 0 | E53: ='SALLE CORDELIER'!E23 -> 0 | F53: ='SALLE CORDELIER'!F23 -> 0 | G53: ='SALLE CORDELIER'!G23 -> 0 | H53: ='SALLE CORDELIER'!H23 -> 0 | I53: ='SALLE CORDELIER'!I23 -> 0 | J53: ='SALLE CORDELIER'!J23 -> 0 | ... P53: ='SALLE CORDELIER'!P23 -> 0
B54: Total | C54: ='SALLE CORDELIER'!C24 -> 0 | D54: ='SALLE CORDELIER'!D24 -> 0 | E54: ='SALLE CORDELIER'!E24 -> 0 | F54: ='SALLE CORDELIER'!F24 -> 0 | G54: ='SALLE CORDELIER'!G24 -> 0 | H54: ='SALLE CORDELIER'!H24 -> 0 | I54: ='SALLE CORDELIER'!I24 -> 0 | J54: ='SALLE CORDELIER'!J24 -> 0 | ... P54: ='SALLE CORDELIER'!P24 -> 0
B55: Total Jour | C55: ='SALLE CORDELIER'!C25 -> 0 | E55: ='SALLE CORDELIER'!E25 -> 0 | G55: ='SALLE CORDELIER'!G25 -> 0 | I55: ='SALLE CORDELIER'!I25 -> 0 | K55: ='SALLE CORDELIER'!K25 -> 0 | M55: ='SALLE CORDELIER'!M25 -> 0 | O55: ='SALLE CORDELIER'!O25 -> 0
A56: ='SALLE CORDELIER'!$A$26 -> MELISSA | B56: H Arrivé | C56: ='SALLE CORDELIER'!C26 -> 0 | D56: ='SALLE CORDELIER'!D26 -> 0 | E56: ='SALLE CORDELIER'!E26 -> 0 | F56: ='SALLE CORDELIER'!F26 -> 0 | G56: ='SALLE CORDELIER'!G26 -> 0 | H56: ='SALLE CORDELIER'!H26 -> 0 | I56: ='SALLE CORDELIER'!I26 -> 0 | J56: ='SALLE CORDELIER'!J26 -> 0 | ... Q56: ='SALLE CORDELIER'!Q26 -> 0
B57: H départ | C57: ='SALLE CORDELIER'!C27 -> 0 | D57: ='SALLE CORDELIER'!D27 -> 0 | E57: ='SALLE CORDELIER'!E27 -> 0 | F57: ='SALLE CORDELIER'!F27 -> 0 | G57: ='SALLE CORDELIER'!G27 -> 0 | H57: ='SALLE CORDELIER'!H27 -> 0 | I57: ='SALLE CORDELIER'!I27 -> 0 | J57: ='SALLE CORDELIER'!J27 -> 0 | ... P57: ='SALLE CORDELIER'!P27 -> 0
A58: ='SALLE CORDELIER'!$A$28 -> MABBOUX | B58: Pause | C58: ='SALLE CORDELIER'!C28 -> 0 | D58: ='SALLE CORDELIER'!D28 -> 0 | E58: ='SALLE CORDELIER'!E28 -> 0 | F58: ='SALLE CORDELIER'!F28 -> 0 | G58: ='SALLE CORDELIER'!G28 -> 0 | H58: ='SALLE CORDELIER'!H28 -> 0 | I58: ='SALLE CORDELIER'!I28 -> 0 | J58: ='SALLE CORDELIER'!J28 -> 0 | ... P58: ='SALLE CORDELIER'!P28 -> 0
B59: Total | C59: ='SALLE CORDELIER'!C29 -> 0 | D59: ='SALLE CORDELIER'!D29 -> 0 | E59: ='SALLE CORDELIER'!E29 -> 0 | F59: ='SALLE CORDELIER'!F29 -> 0 | G59: ='SALLE CORDELIER'!G29 -> 0 | H59: ='SALLE CORDELIER'!H29 -> 0 | I59: ='SALLE CORDELIER'!I29 -> 0 | J59: ='SALLE CORDELIER'!J29 -> 0 | ... P59: ='SALLE CORDELIER'!P29 -> 0
B60: Total Jour | C60: ='SALLE CORDELIER'!C30 -> 0 | E60: ='SALLE CORDELIER'!E30 -> 0 | G60: ='SALLE CORDELIER'!G30 -> 0 | I60: ='SALLE CORDELIER'!I30 -> 0 | K60: ='SALLE CORDELIER'!K30 -> 0 | M60: ='SALLE CORDELIER'!M30 -> 0 | O60: ='SALLE CORDELIER'!O30 -> 0
A61: ='SALLE CORDELIER'!$A$31 -> YASSMIN | B61: H Arrivé | C61: ='SALLE CORDELIER'!C31 -> 0 | D61: ='SALLE CORDELIER'!D31 -> 0 | E61: ='SALLE CORDELIER'!E31 -> 0 | F61: ='SALLE CORDELIER'!F31 -> 0 | G61: ='SALLE CORDELIER'!G31 -> 0 | H61: ='SALLE CORDELIER'!H31 -> 0 | I61: ='SALLE CORDELIER'!I31 -> 0 | J61: ='SALLE CORDELIER'!J31 -> 0 | ... Q61: ='SALLE CORDELIER'!Q31 -> 0
B62: H départ | C62: ='SALLE CORDELIER'!C32 -> 0 | D62: ='SALLE CORDELIER'!D32 -> 0 | E62: ='SALLE CORDELIER'!E32 -> 0 | F62: ='SALLE CORDELIER'!F32 -> 0 | G62: ='SALLE CORDELIER'!G32 -> 0 | H62: ='SALLE CORDELIER'!H32 -> 0 | I62: ='SALLE CORDELIER'!I32 -> 0 | J62: ='SALLE CORDELIER'!J32 -> 0 | ... P62: ='SALLE CORDELIER'!P32 -> 0
A63: ='SALLE CORDELIER'!$A$33 -> JENNAB | B63: Pause | C63: ='SALLE CORDELIER'!C33 -> 0 | D63: ='SALLE CORDELIER'!D33 -> 0 | E63: ='SALLE CORDELIER'!E33 -> 0 | F63: ='SALLE CORDELIER'!F33 -> 0 | G63: ='SALLE CORDELIER'!G33 -> 0 | H63: ='SALLE CORDELIER'!H33 -> 0 | I63: ='SALLE CORDELIER'!I33 -> 0 | J63: ='SALLE CORDELIER'!J33 -> 0 | ... P63: ='SALLE CORDELIER'!P33 -> 0
B64: Total | C64: ='SALLE CORDELIER'!C34 -> 0 | D64: ='SALLE CORDELIER'!D34 -> 0 | E64: ='SALLE CORDELIER'!E34 -> 0 | F64: ='SALLE CORDELIER'!F34 -> 0 | G64: ='SALLE CORDELIER'!G34 -> 0 | H64: ='SALLE CORDELIER'!H34 -> 0 | I64: ='SALLE CORDELIER'!I34 -> 0 | J64: ='SALLE CORDELIER'!J34 -> 0 | ... P64: ='SALLE CORDELIER'!P34 -> 0
B65: Total Jour | C65: ='SALLE CORDELIER'!C35 -> 0 | E65: ='SALLE CORDELIER'!E35 -> 0 | G65: ='SALLE CORDELIER'!G35 -> 0 | I65: ='SALLE CORDELIER'!I35 -> 0 | K65: ='SALLE CORDELIER'!K35 -> 0 | M65: ='SALLE CORDELIER'!M35 -> 0 | O65: ='SALLE CORDELIER'!O35 -> 0
A66: ='SALLE CORDELIER'!$A$36 -> MICKAEL | B66: H Arrivé | C66: ='SALLE CORDELIER'!C36 -> 0 | D66: ='SALLE CORDELIER'!D36 -> 0 | E66: ='SALLE CORDELIER'!E36 -> 0 | F66: ='SALLE CORDELIER'!F36 -> 0 | G66: ='SALLE CORDELIER'!G36 -> 0 | H66: ='SALLE CORDELIER'!H36 -> 0 | I66: ='SALLE CORDELIER'!I36 -> 0 | J66: ='SALLE CORDELIER'!J36 -> 0 | ... Q66: ='SALLE CORDELIER'!Q36 -> 0
B67: H départ | C67: ='SALLE CORDELIER'!C37 -> 0 | D67: ='SALLE CORDELIER'!D37 -> 0 | E67: ='SALLE CORDELIER'!E37 -> 0 | F67: ='SALLE CORDELIER'!F37 -> 0 | G67: ='SALLE CORDELIER'!G37 -> 0 | H67: ='SALLE CORDELIER'!H37 -> 0 | I67: ='SALLE CORDELIER'!I37 -> 0 | J67: ='SALLE CORDELIER'!J37 -> 0 | ... P67: ='SALLE CORDELIER'!P37 -> 0
A68: GARMATUK | B68: Pause | C68: ='SALLE CORDELIER'!C38 -> 0 | D68: ='SALLE CORDELIER'!D38 -> 0 | E68: ='SALLE CORDELIER'!E38 -> 0 | F68: ='SALLE CORDELIER'!F38 -> 0 | G68: ='SALLE CORDELIER'!G38 -> 0 | H68: ='SALLE CORDELIER'!H38 -> 0 | I68: ='SALLE CORDELIER'!I38 -> 0 | J68: ='SALLE CORDELIER'!J38 -> 0 | ... P68: ='SALLE CORDELIER'!P38 -> 0
B69: Total | C69: ='SALLE CORDELIER'!C39 -> 0 | D69: ='SALLE CORDELIER'!D39 -> 0 | E69: ='SALLE CORDELIER'!E39 -> 0 | F69: ='SALLE CORDELIER'!F39 -> 0 | G69: ='SALLE CORDELIER'!G39 -> 0 | H69: ='SALLE CORDELIER'!H39 -> 0 | I69: ='SALLE CORDELIER'!I39 -> 0 | J69: ='SALLE CORDELIER'!J39 -> 0 | ... P69: ='SALLE CORDELIER'!P39 -> 0
B70: Total Jour | C70: ='SALLE CORDELIER'!C40 -> 0 | E70: ='SALLE CORDELIER'!E40 -> 0 | G70: ='SALLE CORDELIER'!G40 -> 0 | I70: ='SALLE CORDELIER'!I40 -> 0 | K70: ='SALLE CORDELIER'!K40 -> 0 | M70: ='SALLE CORDELIER'!M40 -> 0 | O70: ='SALLE CORDELIER'!O40 -> 0
A71: ='CUISINE GERLAND'!A11 -> BABACAR | B71: H Arrivé | C71: ='CUISINE GERLAND'!C11 -> 0 | D71: ='CUISINE GERLAND'!D11 -> 0 | E71: ='CUISINE GERLAND'!E11 -> 0 | F71: ='CUISINE GERLAND'!F11 -> 0 | G71: ='CUISINE GERLAND'!G11 -> 0 | H71: ='CUISINE GERLAND'!H11 -> 0 | I71: ='CUISINE GERLAND'!I11 -> 0 | J71: ='CUISINE GERLAND'!J11 -> 0 | ... Q71: ='CUISINE GERLAND'!Q11 -> 0
B72: H départ | C72: ='CUISINE GERLAND'!C12 -> 0 | D72: ='CUISINE GERLAND'!D12 -> 0 | E72: ='CUISINE GERLAND'!E12 -> 0 | F72: ='CUISINE GERLAND'!F12 -> 0 | G72: ='CUISINE GERLAND'!G12 -> 0 | H72: ='CUISINE GERLAND'!H12 -> 0 | I72: ='CUISINE GERLAND'!I12 -> 0 | J72: ='CUISINE GERLAND'!J12 -> 0 | ... P72: ='CUISINE GERLAND'!P12 -> 0
A73: ='CUISINE GERLAND'!$A$13 -> SARR | B73: Pause | C73: ='CUISINE GERLAND'!C13 -> 0 | D73: ='CUISINE GERLAND'!D13 -> 0 | E73: ='CUISINE GERLAND'!E13 -> 0 | F73: ='CUISINE GERLAND'!F13 -> 0 | G73: ='CUISINE GERLAND'!G13 -> 0 | H73: ='CUISINE GERLAND'!H13 -> 0 | I73: ='CUISINE GERLAND'!I13 -> 0 | J73: ='CUISINE GERLAND'!J13 -> 0 | ... P73: ='CUISINE GERLAND'!P13 -> 0
B74: Total | C74: ='CUISINE GERLAND'!C14 -> 0 | D74: ='CUISINE GERLAND'!D14 -> 0 | E74: ='CUISINE GERLAND'!E14 -> 0 | F74: ='CUISINE GERLAND'!F14 -> 0 | G74: ='CUISINE GERLAND'!G14 -> 0 | H74: ='CUISINE GERLAND'!H14 -> 0 | I74: ='CUISINE GERLAND'!I14 -> 0 | J74: ='CUISINE GERLAND'!J14 -> 0 | ... P74: ='CUISINE GERLAND'!P14 -> 0
B75: Total Jour | C75: ='CUISINE GERLAND'!C15 -> 0 | E75: ='CUISINE GERLAND'!E15 -> 0 | G75: ='CUISINE GERLAND'!G15 -> 0 | I75: ='CUISINE GERLAND'!I15 -> 0 | K75: ='CUISINE GERLAND'!K15 -> 0 | M75: ='CUISINE GERLAND'!M15 -> 0 | O75: ='CUISINE GERLAND'!O15 -> 0
A76: ='CUISINE GERLAND'!$A$16 -> CEDRIC | B76: H Arrivé | C76: ='CUISINE GERLAND'!C16 -> 0 | D76: ='CUISINE GERLAND'!D16 -> 0 | E76: ='CUISINE GERLAND'!E16 -> 0 | F76: ='CUISINE GERLAND'!F16 -> 0 | G76: ='CUISINE GERLAND'!G16 -> 0 | H76: ='CUISINE GERLAND'!H16 -> 0 | I76: ='CUISINE GERLAND'!I16 -> 0 | J76: ='CUISINE GERLAND'!J16 -> 0 | ... Q76: ='CUISINE GERLAND'!Q16 -> 0
B77: H départ | C77: ='CUISINE GERLAND'!C17 -> 0 | D77: ='CUISINE GERLAND'!D17 -> 0 | E77: ='CUISINE GERLAND'!E17 -> 0 | F77: ='CUISINE GERLAND'!F17 -> 0 | G77: ='CUISINE GERLAND'!G17 -> 0 | H77: ='CUISINE GERLAND'!H17 -> 0 | I77: ='CUISINE GERLAND'!I17 -> 0 | J77: ='CUISINE GERLAND'!J17 -> 0 | ... P77: ='CUISINE GERLAND'!P17 -> 0
A78: ='CUISINE GERLAND'!$A$18 -> DEL PALACIO | B78: Pause | C78: ='CUISINE GERLAND'!C18 -> 0 | D78: ='CUISINE GERLAND'!D18 -> 0 | E78: ='CUISINE GERLAND'!E18 -> 0 | F78: ='CUISINE GERLAND'!F18 -> 0 | G78: ='CUISINE GERLAND'!G18 -> 0 | H78: ='CUISINE GERLAND'!H18 -> 0 | I78: ='CUISINE GERLAND'!I18 -> 0 | J78: ='CUISINE GERLAND'!J18 -> 0 | ... P78: ='CUISINE GERLAND'!P18 -> 0
B79: Total | C79: ='CUISINE GERLAND'!C19 -> 0 | D79: ='CUISINE GERLAND'!D19 -> 0 | E79: ='CUISINE GERLAND'!E19 -> 0 | F79: ='CUISINE GERLAND'!F19 -> 0 | G79: ='CUISINE GERLAND'!G19 -> 0 | H79: ='CUISINE GERLAND'!H19 -> 0 | I79: ='CUISINE GERLAND'!I19 -> 0 | J79: ='CUISINE GERLAND'!J19 -> 0 | ... P79: ='CUISINE GERLAND'!P19 -> 0
B80: Total Jour | C80: ='CUISINE GERLAND'!C20 -> 0 | E80: ='CUISINE GERLAND'!E20 -> 0 | G80: ='CUISINE GERLAND'!G20 -> 0 | I80: ='CUISINE GERLAND'!I20 -> 0 | K80: ='CUISINE GERLAND'!K20 -> 0 | M80: ='CUISINE GERLAND'!M20 -> 0 | O80: ='CUISINE GERLAND'!O20 -> 0
A81: ='CUISINE GERLAND'!$A$21 -> ADRIEN | B81: H Arrivé | C81: ='CUISINE GERLAND'!C21 -> 0 | D81: ='CUISINE GERLAND'!D21 -> 0 | E81: ='CUISINE GERLAND'!E21 -> 0 | F81: ='CUISINE GERLAND'!F21 -> 0 | G81: ='CUISINE GERLAND'!G21 -> 0 | H81: ='CUISINE GERLAND'!H21 -> 0 | I81: ='CUISINE GERLAND'!I21 -> 0 | J81: ='CUISINE GERLAND'!J21 -> 0 | ... Q81: ='CUISINE GERLAND'!Q21 -> 0
B82: H départ | C82: ='CUISINE GERLAND'!C22 -> 0 | D82: ='CUISINE GERLAND'!D22 -> 0 | E82: ='CUISINE GERLAND'!E22 -> 0 | F82: ='CUISINE GERLAND'!F22 -> 0 | G82: ='CUISINE GERLAND'!G22 -> 0 | H82: ='CUISINE GERLAND'!H22 -> 0 | I82: ='CUISINE GERLAND'!I22 -> 0 | J82: ='CUISINE GERLAND'!J22 -> 0 | ... P82: ='CUISINE GERLAND'!P22 -> 0
A83: ='CUISINE GERLAND'!$A$23 -> MARCE | B83: Pause | C83: ='CUISINE GERLAND'!C23 -> 0 | D83: ='CUISINE GERLAND'!D23 -> 0 | E83: ='CUISINE GERLAND'!E23 -> 0 | F83: ='CUISINE GERLAND'!F23 -> 0 | G83: ='CUISINE GERLAND'!G23 -> 0 | H83: ='CUISINE GERLAND'!H23 -> 0 | I83: ='CUISINE GERLAND'!I23 -> 0 | J83: ='CUISINE GERLAND'!J23 -> 0 | ... P83: ='CUISINE GERLAND'!P23 -> 0
B84: Total | C84: ='CUISINE GERLAND'!C24 -> 0 | D84: ='CUISINE GERLAND'!D24 -> 0 | E84: ='CUISINE GERLAND'!E24 -> 0 | F84: ='CUISINE GERLAND'!F24 -> 0 | G84: ='CUISINE GERLAND'!G24 -> 0 | H84: ='CUISINE GERLAND'!H24 -> 0 | I84: ='CUISINE GERLAND'!I24 -> 0 | J84: ='CUISINE GERLAND'!J24 -> 0 | ... P84: ='CUISINE GERLAND'!P24 -> 0
B85: Total Jour | C85: ='CUISINE GERLAND'!C25 -> 0 | E85: ='CUISINE GERLAND'!E25 -> 0 | G85: ='CUISINE GERLAND'!G25 -> 0 | I85: ='CUISINE GERLAND'!I25 -> 0 | K85: ='CUISINE GERLAND'!K25 -> 0 | M85: ='CUISINE GERLAND'!M25 -> 0 | O85: ='CUISINE GERLAND'!O25 -> 0
A86: ABDERRAZZAK | B86: H Arrivé | C86: ='CUISINE CORDELIER'!C11 -> 0 | D86: ='CUISINE CORDELIER'!D11 -> 0 | E86: ='CUISINE CORDELIER'!E11 -> 0 | F86: ='CUISINE CORDELIER'!F11 -> 0 | G86: ='CUISINE CORDELIER'!G11 -> 0 | H86: ='CUISINE CORDELIER'!H11 -> 0 | I86: ='CUISINE CORDELIER'!I11 -> 0 | J86: ='CUISINE CORDELIER'!J11 -> 0 | ... Q86: ='CUISINE CORDELIER'!Q11 -> 0
B87: H départ | C87: ='CUISINE CORDELIER'!C12 -> 0 | D87: ='CUISINE CORDELIER'!D12 -> 0 | E87: ='CUISINE CORDELIER'!E12 -> 0 | F87: ='CUISINE CORDELIER'!F12 -> 0 | G87: ='CUISINE CORDELIER'!G12 -> 0 | H87: ='CUISINE CORDELIER'!H12 -> 0 | I87: ='CUISINE CORDELIER'!I12 -> 0 | J87: ='CUISINE CORDELIER'!J12 -> 0 | ... P87: ='CUISINE CORDELIER'!P12 -> 0
A88: ='CUISINE CORDELIER'!$A$13 -> NAIT BOUSSALEM | B88: Pause | C88: ='CUISINE CORDELIER'!C13 -> 0 | D88: ='CUISINE CORDELIER'!D13 -> 0 | E88: ='CUISINE CORDELIER'!E13 -> 0 | F88: ='CUISINE CORDELIER'!F13 -> 0 | G88: ='CUISINE CORDELIER'!G13 -> 0 | H88: ='CUISINE CORDELIER'!H13 -> 0 | I88: ='CUISINE CORDELIER'!I13 -> 0 | J88: ='CUISINE CORDELIER'!J13 -> 0 | ... P88: ='CUISINE CORDELIER'!P13 -> 0
B89: Total | C89: ='CUISINE CORDELIER'!C14 -> 0 | D89: ='CUISINE CORDELIER'!D14 -> 0 | E89: ='CUISINE CORDELIER'!E14 -> 0 | F89: ='CUISINE CORDELIER'!F14 -> 0 | G89: ='CUISINE CORDELIER'!G14 -> 0 | H89: ='CUISINE CORDELIER'!H14 -> 0 | I89: ='CUISINE CORDELIER'!I14 -> 0 | J89: ='CUISINE CORDELIER'!J14 -> 0 | ... P89: ='CUISINE CORDELIER'!P14 -> 0
B90: Total Jour | C90: ='CUISINE CORDELIER'!C15 -> 0 | E90: ='CUISINE CORDELIER'!E15 -> 0 | G90: ='CUISINE CORDELIER'!G15 -> 0 | I90: ='CUISINE CORDELIER'!I15 -> 0 | K90: ='CUISINE CORDELIER'!K15 -> 0 | M90: ='CUISINE CORDELIER'!M15 -> 0 | O90: ='CUISINE CORDELIER'!O15 -> 0
A91: ='CUISINE CORDELIER'!$A$16 -> QUENTIN | B91: H Arrivé | C91: ='CUISINE CORDELIER'!C16 -> 0 | D91: ='CUISINE CORDELIER'!D16 -> 0 | E91: ='CUISINE CORDELIER'!E16 -> 0 | F91: ='CUISINE CORDELIER'!F16 -> 0 | G91: ='CUISINE CORDELIER'!G16 -> 0 | H91: ='CUISINE CORDELIER'!H16 -> 0 | I91: ='CUISINE CORDELIER'!I16 -> 0 | J91: ='CUISINE CORDELIER'!J16 -> 0 | ... Q91: ='CUISINE CORDELIER'!Q16 -> 0
B92: H départ | C92: ='CUISINE CORDELIER'!C17 -> 0 | D92: ='CUISINE CORDELIER'!D17 -> 0 | E92: ='CUISINE CORDELIER'!E17 -> 0 | F92: ='CUISINE CORDELIER'!F17 -> 0 | G92: ='CUISINE CORDELIER'!G17 -> 0 | H92: ='CUISINE CORDELIER'!H17 -> 0 | I92: ='CUISINE CORDELIER'!I17 -> 0 | J92: ='CUISINE CORDELIER'!J17 -> 0 | ... P92: ='CUISINE CORDELIER'!P17 -> 0
A93: ='CUISINE CORDELIER'!$A$18 -> LAGAILLARDE | B93: Pause | C93: ='CUISINE CORDELIER'!C18 -> 0 | D93: ='CUISINE CORDELIER'!D18 -> 0 | E93: ='CUISINE CORDELIER'!E18 -> 0 | F93: ='CUISINE CORDELIER'!F18 -> 0 | G93: ='CUISINE CORDELIER'!G18 -> 0 | H93: ='CUISINE CORDELIER'!H18 -> 0 | I93: ='CUISINE CORDELIER'!I18 -> 0 | J93: ='CUISINE CORDELIER'!J18 -> 0 | ... P93: ='CUISINE CORDELIER'!P18 -> 0
B94: Total | C94: ='CUISINE CORDELIER'!C19 -> 0 | D94: ='CUISINE CORDELIER'!D19 -> 0 | E94: ='CUISINE CORDELIER'!E19 -> 0 | F94: ='CUISINE CORDELIER'!F19 -> 0 | G94: ='CUISINE CORDELIER'!G19 -> 0 | H94: ='CUISINE CORDELIER'!H19 -> 0 | I94: ='CUISINE CORDELIER'!I19 -> 0 | J94: ='CUISINE CORDELIER'!J19 -> 0 | ... P94: ='CUISINE CORDELIER'!P19 -> 0
B95: Total Jour | C95: ='CUISINE CORDELIER'!C20 -> 0 | E95: ='CUISINE CORDELIER'!E20 -> 0 | G95: ='CUISINE CORDELIER'!G20 -> 0 | I95: ='CUISINE CORDELIER'!I20 -> 0 | K95: ='CUISINE CORDELIER'!K20 -> 0 | M95: ='CUISINE CORDELIER'!M20 -> 0 | O95: ='CUISINE CORDELIER'!O20 -> 0
A96: ='CUISINE CORDELIER'!$A$21 -> JEAMBARDY | B96: H Arrivé | C96: ='CUISINE CORDELIER'!C21 -> 0 | D96: ='CUISINE CORDELIER'!D21 -> 0 | E96: ='CUISINE CORDELIER'!E21 -> 0 | F96: ='CUISINE CORDELIER'!F21 -> 0 | G96: ='CUISINE CORDELIER'!G21 -> 0 | H96: ='CUISINE CORDELIER'!H21 -> 0 | I96: ='CUISINE CORDELIER'!I21 -> 0 | J96: ='CUISINE CORDELIER'!J21 -> 0 | ... Q96: ='CUISINE CORDELIER'!Q21 -> 0
B97: H départ | C97: ='CUISINE CORDELIER'!C22 -> 0 | D97: ='CUISINE CORDELIER'!D22 -> 0 | E97: ='CUISINE CORDELIER'!E22 -> 0 | F97: ='CUISINE CORDELIER'!F22 -> 0 | G97: ='CUISINE CORDELIER'!G22 -> 0 | H97: ='CUISINE CORDELIER'!H22 -> 0 | I97: ='CUISINE CORDELIER'!I22 -> 0 | J97: ='CUISINE CORDELIER'!J22 -> 0 | ... P97: ='CUISINE CORDELIER'!P22 -> 0
A98: ='CUISINE CORDELIER'!$A$23 -> LOPEZ PEREZ | B98: Pause | C98: ='CUISINE CORDELIER'!C23 -> 0 | D98: ='CUISINE CORDELIER'!D23 -> 0 | E98: ='CUISINE CORDELIER'!E23 -> 0 | F98: ='CUISINE CORDELIER'!F23 -> 0 | G98: ='CUISINE CORDELIER'!G23 -> 0 | H98: ='CUISINE CORDELIER'!H23 -> 0 | I98: ='CUISINE CORDELIER'!I23 -> 0 | J98: ='CUISINE CORDELIER'!J23 -> 0 | ... P98: ='CUISINE CORDELIER'!P23 -> 0
B99: Total | C99: ='CUISINE CORDELIER'!C24 -> 0 | D99: ='CUISINE CORDELIER'!D24 -> 0 | E99: ='CUISINE CORDELIER'!E24 -> 0 | F99: ='CUISINE CORDELIER'!F24 -> 0 | G99: ='CUISINE CORDELIER'!G24 -> 0 | H99: ='CUISINE CORDELIER'!H24 -> 0 | I99: ='CUISINE CORDELIER'!I24 -> 0 | J99: ='CUISINE CORDELIER'!J24 -> 0 | ... P99: ='CUISINE CORDELIER'!P24 -> 0
B100: Total Jour | C100: ='CUISINE CORDELIER'!C25 -> 0 | E100: ='CUISINE CORDELIER'!E25 -> 0 | G100: ='CUISINE CORDELIER'!G25 -> 0 | I100: ='CUISINE CORDELIER'!I25 -> 0 | K100: ='CUISINE CORDELIER'!K25 -> 0 | M100: ='CUISINE CORDELIER'!M25 -> 0 | O100: ='CUISINE CORDELIER'!O25 -> 0
A101: ='CUISINE CORDELIER'!$A$26 -> MICHEL | B101: H Arrivé | C101: ='CUISINE CORDELIER'!C26 -> 0 | D101: ='CUISINE CORDELIER'!D26 -> 0 | E101: ='CUISINE CORDELIER'!E26 -> 0 | F101: ='CUISINE CORDELIER'!F26 -> 0 | G101: ='CUISINE CORDELIER'!G26 -> 0 | H101: ='CUISINE CORDELIER'!H26 -> 0 | I101: ='CUISINE CORDELIER'!I26 -> 0 | J101: ='CUISINE CORDELIER'!J26 -> 0 | ... Q101: ='CUISINE CORDELIER'!Q26 -> 0
...

Sheet GERLAND EMMARGEMENT SALLE
B1: NOM : | D1: ='SALLE GERLAND'!A8 -> FORESTIER | H1: SEMAINE : | J1: ='SALLE GERLAND'!C3 -> 51
B2: PRENOM : | D2: ='SALLE GERLAND'!A6 -> ADRIEN | I2: DU : | J2: ='SALLE GERLAND'!I3 -> 43794 | M2: =J2+6 -> 43800
B4: LUNDI | D4: MARDI | F4: MERCREDI | H4: JEUDI | J4: VENDREDI | L4: SAMEDI | N4: DIMANCHE
B5: MIDI | C5: SOIR | D5: MIDI | E5: SOIR | F5: MIDI | G5: SOIR | H5: MIDI | I5: SOIR | J5: MIDI | K5: SOIR | L5: MIDI | M5: SOIR | N5: MIDI | O5: SOIR
A6: H Arrivé | B6: ='SALLE GERLAND'!C6 -> 0 | C6: ='SALLE GERLAND'!D6 -> 0 | D6: ='SALLE GERLAND'!E6 -> 0 | E6: ='SALLE GERLAND'!F6 -> 0 | F6: ='SALLE GERLAND'!G6 -> 0 | G6: ='SALLE GERLAND'!H6 -> 0 | H6: ='SALLE GERLAND'!I6 -> 0 | I6: ='SALLE GERLAND'!J6 -> 0 | ... O6: ='SALLE GERLAND'!P6 -> 0
A7: H départ | B7: ='SALLE GERLAND'!C7 -> 0 | C7: ='SALLE GERLAND'!D7 -> 0 | D7: ='SALLE GERLAND'!E7 -> 0 | E7: ='SALLE GERLAND'!F7 -> 0 | F7: ='SALLE GERLAND'!G7 -> 0 | G7: ='SALLE GERLAND'!H7 -> 0 | H7: ='SALLE GERLAND'!I7 -> 0 | I7: ='SALLE GERLAND'!J7 -> 0 | ... O7: ='SALLE GERLAND'!P7 -> 0
A8: Pause | B8: ='SALLE GERLAND'!C8 -> 0 | C8: ='SALLE GERLAND'!D8 -> 0 | D8: ='SALLE GERLAND'!E8 -> 0 | E8: ='SALLE GERLAND'!F8 -> 0 | F8: ='SALLE GERLAND'!G8 -> 0 | G8: ='SALLE GERLAND'!H8 -> 0 | H8: ='SALLE GERLAND'!I8 -> 0 | I8: ='SALLE GERLAND'!J8 -> 0 | ... O8: ='SALLE GERLAND'!P8 -> 0
A9: Total | B9: ='SALLE GERLAND'!C9 -> 0 | C9: ='SALLE GERLAND'!D9 -> 0 | D9: ='SALLE GERLAND'!E9 -> 0 | E9: ='SALLE GERLAND'!F9 -> 0 | F9: ='SALLE GERLAND'!G9 -> 0 | G9: ='SALLE GERLAND'!H9 -> 0 | H9: ='SALLE GERLAND'!I9 -> 0 | I9: ='SALLE GERLAND'!J9 -> 0 | ... O9: ='SALLE GERLAND'!P9 -> 0
A10: Total Jour | B10: ='SALLE GERLAND'!C10 -> 0 | D10: ='SALLE GERLAND'!E10 -> 0 | F10: ='SALLE GERLAND'!G10 -> 0 | H10: ='SALLE GERLAND'!I10 -> 0 | J10: ='SALLE GERLAND'!K10 -> 0 | L10: ='SALLE GERLAND'!M10 -> 0 | N10: ='SALLE GERLAND'!O10 -> 0
B13: LUNDI | D13: MARDI | F13: MERCREDI | H13: JEUDI | J13: VENDREDI | L13: SAMEDI | N13: DIMANCHE
B14: MIDI | C14: SOIR | D14: MIDI | E14: SOIR | F14: MIDI | G14: SOIR | H14: MIDI | I14: SOIR | J14: MIDI | K14: SOIR | L14: MIDI | M14: SOIR | N14: MIDI | O14: SOIR
A15: H Arrivé
A16: H départ
A17: Pause
A18: Total
A19: Total Jour
A23: TOTAL PREVU | C23: ='SALLE GERLAND'!$Q$5 -> 0 | F23: TOTAL REALISE | K23: SIGNATURE
B32: NOM : | D32: ='SALLE GERLAND'!A13 -> FONTAINE | H32: SEMAINE : | J32: 51
B33: PRENOM : | D33: ='SALLE GERLAND'!A11 -> SABINE | I33: DU : | J33: 43794 | M33: 43800
B35: LUNDI | D35: MARDI | F35: MERCREDI | H35: JEUDI | J35: VENDREDI | L35: SAMEDI | N35: DIMANCHE
B36: MIDI | C36: SOIR | D36: MIDI | E36: SOIR | F36: MIDI | G36: SOIR | H36: MIDI | I36: SOIR | J36: MIDI | K36: SOIR | L36: MIDI | M36: SOIR | N36: MIDI | O36: SOIR
A37: H Arrivé | B37: ='SALLE GERLAND'!C11 -> 0 | C37: ='SALLE GERLAND'!D11 -> 0 | D37: ='SALLE GERLAND'!E11 -> 0 | E37: ='SALLE GERLAND'!F11 -> 0 | F37: ='SALLE GERLAND'!G11 -> 0 | G37: ='SALLE GERLAND'!H11 -> 0 | H37: ='SALLE GERLAND'!I11 -> 0 | I37: ='SALLE GERLAND'!J11 -> 0 | ... O37: ='SALLE GERLAND'!P11 -> 0
A38: H départ | B38: ='SALLE GERLAND'!C12 -> 0 | C38: ='SALLE GERLAND'!D12 -> 0 | D38: ='SALLE GERLAND'!E12 -> 0 | E38: ='SALLE GERLAND'!F12 -> 0 | F38: ='SALLE GERLAND'!G12 -> 0 | G38: ='SALLE GERLAND'!H12 -> 0 | H38: ='SALLE GERLAND'!I12 -> 0 | I38: ='SALLE GERLAND'!J12 -> 0 | ... O38: ='SALLE GERLAND'!P12 -> 0
A39: Pause | B39: ='SALLE GERLAND'!C13 -> 0 | C39: ='SALLE GERLAND'!D13 -> 0 | D39: ='SALLE GERLAND'!E13 -> 0 | E39: ='SALLE GERLAND'!F13 -> 0 | F39: ='SALLE GERLAND'!G13 -> 0 | G39: ='SALLE GERLAND'!H13 -> 0 | H39: ='SALLE GERLAND'!I13 -> 0 | I39: ='SALLE GERLAND'!J13 -> 0 | ... O39: ='SALLE GERLAND'!P13 -> 0
A40: Total | B40: ='SALLE GERLAND'!C14 -> 0 | C40: ='SALLE GERLAND'!D14 -> 0 | D40: ='SALLE GERLAND'!E14 -> 0 | E40: ='SALLE GERLAND'!F14 -> 0 | F40: ='SALLE GERLAND'!G14 -> 0 | G40: ='SALLE GERLAND'!H14 -> 0 | H40: ='SALLE GERLAND'!I14 -> 0 | I40: ='SALLE GERLAND'!J14 -> 0 | ... O40: ='SALLE GERLAND'!P14 -> 0
A41: Total Jour | B41: ='SALLE GERLAND'!C15 -> 0 | D41: ='SALLE GERLAND'!E15 -> 0 | F41: ='SALLE GERLAND'!G15 -> 0 | H41: ='SALLE GERLAND'!I15 -> 0 | J41: ='SALLE GERLAND'!K15 -> 0 | L41: ='SALLE GERLAND'!M15 -> 0 | N41: ='SALLE GERLAND'!O15 -> 0
B44: LUNDI | D44: MARDI | F44: MERCREDI | H44: JEUDI | J44: VENDREDI | L44: SAMEDI | N44: DIMANCHE
B45: MIDI | C45: SOIR | D45: MIDI | E45: SOIR | F45: MIDI | G45: SOIR | H45: MIDI | I45: SOIR | J45: MIDI | K45: SOIR | L45: MIDI | M45: SOIR | N45: MIDI | O45: SOIR
A46: H Arrivé
A47: H départ
A48: Pause
A49: Total
A50: Total Jour
A54: TOTAL PREVU | C54: ='SALLE GERLAND'!Q11 -> 0 | F54: TOTAL REALISE | K54: SIGNATURE
B63: NOM : | D63: ='SALLE GERLAND'!A18 -> ORLENKO | H63: SEMAINE : | J63: 51
B64: PRENOM : | D64: ='SALLE GERLAND'!A16 -> JEAN MICHEL | I64: DU : | J64: 43794 | M64: 43800
B66: LUNDI | D66: MARDI | F66: MERCREDI | H66: JEUDI | J66: VENDREDI | L66: SAMEDI | N66: DIMANCHE
B67: MIDI | C67: SOIR | D67: MIDI | E67: SOIR | F67: MIDI | G67: SOIR | H67: MIDI | I67: SOIR | J67: MIDI | K67: SOIR | L67: MIDI | M67: SOIR | N67: MIDI | O67: SOIR
A68: H Arrivé | B68: ='SALLE GERLAND'!C16 -> 0 | C68: ='SALLE GERLAND'!D16 -> 0 | D68: ='SALLE GERLAND'!E16 -> 0 | E68: ='SALLE GERLAND'!F16 -> 0 | F68: ='SALLE GERLAND'!G16 -> 0 | G68: ='SALLE GERLAND'!H16 -> 0 | H68: ='SALLE GERLAND'!I16 -> 0 | I68: ='SALLE GERLAND'!J16 -> 0 | ... O68: ='SALLE GERLAND'!P16 -> 0
A69: H départ | B69: ='SALLE GERLAND'!C17 -> 0 | C69: ='SALLE GERLAND'!D17 -> 0 | D69: ='SALLE GERLAND'!E17 -> 0 | E69: ='SALLE GERLAND'!F17 -> 0 | F69: ='SALLE GERLAND'!G17 -> 0 | G69: ='SALLE GERLAND'!H17 -> 0 | H69: ='SALLE GERLAND'!I17 -> 0 | I69: ='SALLE GERLAND'!J17 -> 0 | ... O69: ='SALLE GERLAND'!P17 -> 0
A70: Pause | B70: ='SALLE GERLAND'!C18 -> 0 | C70: ='SALLE GERLAND'!D18 -> 0 | D70: ='SALLE GERLAND'!E18 -> 0 | E70: ='SALLE GERLAND'!F18 -> 0 | F70: ='SALLE GERLAND'!G18 -> 0 | G70: ='SALLE GERLAND'!H18 -> 0 | H70: ='SALLE GERLAND'!I18 -> 0 | I70: ='SALLE GERLAND'!J18 -> 0 | ... O70: ='SALLE GERLAND'!P18 -> 0
A71: Total | B71: ='SALLE GERLAND'!C19 -> 0 | C71: ='SALLE GERLAND'!D19 -> 0 | D71: ='SALLE GERLAND'!E19 -> 0 | E71: ='SALLE GERLAND'!F19 -> 0 | F71: ='SALLE GERLAND'!G19 -> 0 | G71: ='SALLE GERLAND'!H19 -> 0 | H71: ='SALLE GERLAND'!I19 -> 0 | I71: ='SALLE GERLAND'!J19 -> 0 | ... O71: ='SALLE GERLAND'!P19 -> 0
A72: Total Jour | B72: ='SALLE GERLAND'!C20 -> 0 | D72: ='SALLE GERLAND'!E20 -> 0 | F72: ='SALLE GERLAND'!G20 -> 0 | H72: ='SALLE GERLAND'!I20 -> 0 | J72: ='SALLE GERLAND'!K20 -> 0 | L72: ='SALLE GERLAND'!M20 -> 0 | N72: ='SALLE GERLAND'!O20 -> 0
B75: LUNDI | D75: MARDI | F75: MERCREDI | H75: JEUDI | J75: VENDREDI | L75: SAMEDI | N75: DIMANCHE
B76: MIDI | C76: SOIR | D76: MIDI | E76: SOIR | F76: MIDI | G76: SOIR | H76: MIDI | I76: SOIR | J76: MIDI | K76: SOIR | L76: MIDI | M76: SOIR | N76: MIDI | O76: SOIR
A77: H Arrivé
A78: H départ
A79: Pause
A80: Total
A81: Total Jour
A85: TOTAL PREVU | C85: ='SALLE GERLAND'!Q16 -> 0 | F85: TOTAL REALISE | K85: SIGNATURE
B94: NOM : | D94: ='SALLE GERLAND'!A23 -> POKORSKI | H94: SEMAINE : | J94: 51
B95: PRENOM : | D95: ='SALLE GERLAND'!A21 -> MAXIME | I95: DU : | J95: 43794 | M95: 43800
B97: LUNDI | D97: MARDI | F97: MERCREDI | H97: JEUDI | J97: VENDREDI | L97: SAMEDI | N97: DIMANCHE
B98: MIDI | C98: SOIR | D98: MIDI | E98: SOIR | F98: MIDI | G98: SOIR | H98: MIDI | I98: SOIR | J98: MIDI | K98: SOIR | L98: MIDI | M98: SOIR | N98: MIDI | O98: SOIR
A99: H Arrivé | B99: ='SALLE GERLAND'!C21 -> 0 | C99: ='SALLE GERLAND'!D21 -> 0 | D99: ='SALLE GERLAND'!E21 -> 0 | E99: ='SALLE GERLAND'!F21 -> 0 | F99: ='SALLE GERLAND'!G21 -> 0 | G99: ='SALLE GERLAND'!H21 -> 0 | H99: ='SALLE GERLAND'!I21 -> 0 | I99: ='SALLE GERLAND'!J21 -> 0 | ... O99: ='SALLE GERLAND'!P21 -> 0
A100: H départ | B100: ='SALLE GERLAND'!C22 -> 0 | C100: ='SALLE GERLAND'!D22 -> 0 | D100: ='SALLE GERLAND'!E22 -> 0 | E100: ='SALLE GERLAND'!F22 -> 0 | F100: ='SALLE GERLAND'!G22 -> 0 | G100: ='SALLE GERLAND'!H22 -> 0 | H100: ='SALLE GERLAND'!I22 -> 0 | I100: ='SALLE GERLAND'!J22 -> 0 | ... O100: ='SALLE GERLAND'!P22 -> 0
A101: Pause | B101: ='SALLE GERLAND'!C23 -> 0 | C101: ='SALLE GERLAND'!D23 -> 0 | D101: ='SALLE GERLAND'!E23 -> 0 | E101: ='SALLE GERLAND'!F23 -> 0 | F101: ='SALLE GERLAND'!G23 -> 0 | G101: ='SALLE GERLAND'!H23 -> 0 | H101: ='SALLE GERLAND'!I23 -> 0 | I101: ='SALLE GERLAND'!J23 -> 0 | ... O101: ='SALLE GERLAND'!P23 -> 0
A102: Total | B102: ='SALLE GERLAND'!C24 -> 0 | C102: ='SALLE GERLAND'!D24 -> 0 | D102: ='SALLE GERLAND'!E24 -> 0 | E102: ='SALLE GERLAND'!F24 -> 0 | F102: ='SALLE GERLAND'!G24 -> 0 | G102: ='SALLE GERLAND'!H24 -> 0 | H102: ='SALLE GERLAND'!I24 -> 0 | I102: ='SALLE GERLAND'!J24 -> 0 | ... O102: ='SALLE GERLAND'!P24 -> 0
A103: Total Jour | B103: ='SALLE GERLAND'!C25 -> 0 | D103: ='SALLE GERLAND'!E25 -> 0 | F103: ='SALLE GERLAND'!G25 -> 0 | H103: ='SALLE GERLAND'!I25 -> 0 | J103: ='SALLE GERLAND'!K25 -> 0 | L103: ='SALLE GERLAND'!M25 -> 0 | N103: ='SALLE GERLAND'!O25 -> 0
B106: LUNDI | D106: MARDI | F106: MERCREDI | H106: JEUDI | J106: VENDREDI | L106: SAMEDI | N106: DIMANCHE
B107: MIDI | C107: SOIR | D107: MIDI | E107: SOIR | F107: MIDI | G107: SOIR | H107: MIDI | I107: SOIR | J107: MIDI | K107: SOIR | L107: MIDI | M107: SOIR | N107: MIDI | O107: SOIR
A108: H Arrivé
A109: H départ
A110: Pause
A111: Total
A112: Total Jour
A116: TOTAL PREVU | C116: ='SALLE GERLAND'!Q21 -> 0 | F116: TOTAL REALISE | K116: SIGNATURE
B125: NOM : | D125: ='SALLE GERLAND'!A28 -> 0 | H125: SEMAINE : | J125: 51
B126: PRENOM : | D126: ='SALLE GERLAND'!A26 -> 0 | I126: DU : | J126: 43794 | M126: 43800
B128: LUNDI | D128: MARDI | F128: MERCREDI | H128: JEUDI | J128: VENDREDI | L128: SAMEDI | N128: DIMANCHE
B129: MIDI | C129: SOIR | D129: MIDI | E129: SOIR | F129: MIDI | G129: SOIR | H129: MIDI | I129: SOIR | J129: MIDI | K129: SOIR | L129: MIDI | M129: SOIR | N129: MIDI | O129: SOIR
A130: H Arrivé | B130: ='SALLE GERLAND'!C26 -> 0 | C130: ='SALLE GERLAND'!D26 -> 0 | D130: ='SALLE GERLAND'!E26 -> 0 | E130: ='SALLE GERLAND'!F26 -> 0 | F130: ='SALLE GERLAND'!G26 -> 0 | G130: ='SALLE GERLAND'!H26 -> 0 | H130: ='SALLE GERLAND'!I26 -> 0 | I130: ='SALLE GERLAND'!J26 -> 0 | ... O130: ='SALLE GERLAND'!P26 -> 0
A131: H départ | B131: ='SALLE GERLAND'!C27 -> 0 | C131: ='SALLE GERLAND'!D27 -> 0 | D131: ='SALLE GERLAND'!E27 -> 0 | E131: ='SALLE GERLAND'!F27 -> 0 | F131: ='SALLE GERLAND'!G27 -> 0 | G131: ='SALLE GERLAND'!H27 -> 0 | H131: ='SALLE GERLAND'!I27 -> 0 | I131: ='SALLE GERLAND'!J27 -> 0 | ... O131: ='SALLE GERLAND'!P27 -> 0
A132: Pause | B132: ='SALLE GERLAND'!C28 -> 0 | C132: ='SALLE GERLAND'!D28 -> 0 | D132: ='SALLE GERLAND'!E28 -> 0 | E132: ='SALLE GERLAND'!F28 -> 0 | F132: ='SALLE GERLAND'!G28 -> 0 | G132: ='SALLE GERLAND'!H28 -> 0 | H132: ='SALLE GERLAND'!I28 -> 0 | I132: ='SALLE GERLAND'!J28 -> 0 | ... O132: ='SALLE GERLAND'!P28 -> 0
A133: Total | B133: ='SALLE GERLAND'!C29 -> 0 | C133: ='SALLE GERLAND'!D29 -> 0 | D133: ='SALLE GERLAND'!E29 -> 0 | E133: ='SALLE GERLAND'!F29 -> 0 | F133: ='SALLE GERLAND'!G29 -> 0 | G133: ='SALLE GERLAND'!H29 -> 0 | H133: ='SALLE GERLAND'!I29 -> 0 | I133: ='SALLE GERLAND'!J29 -> 0 | ... O133: ='SALLE GERLAND'!P29 -> 0
A134: Total Jour | B134: ='SALLE GERLAND'!C30 -> 0 | D134: ='SALLE GERLAND'!E30 -> 0 | F134: ='SALLE GERLAND'!G30 -> 0 | H134: ='SALLE GERLAND'!I30 -> 0 | J134: ='SALLE GERLAND'!K30 -> 0 | L134: ='SALLE GERLAND'!M30 -> 0 | N134: ='SALLE GERLAND'!O30 -> 0
B137: LUNDI | D137: MARDI | F137: MERCREDI | H137: JEUDI | J137: VENDREDI | L137: SAMEDI | N137: DIMANCHE
B138: MIDI | C138: SOIR | D138: MIDI | E138: SOIR | F138: MIDI | G138: SOIR | H138: MIDI | I138: SOIR | J138: MIDI | K138: SOIR | L138: MIDI | M138: SOIR | N138: MIDI | O138: SOIR
A139: H Arrivé
A140: H départ
A141: Pause
A142: Total
A143: Total Jour
A147: TOTAL PREVU | C147: ='SALLE GERLAND'!Q26 -> 0 | F147: TOTAL REALISE | K147: SIGNATURE
B156: NOM : | D156: ='SALLE GERLAND'!A33 -> 0 | H156: SEMAINE : | J156: 51
B157: PRENOM : | D157: ='SALLE GERLAND'!A31 -> 0 | I157: DU : | J157: 43794 | M157: 43800
B159: LUNDI | D159: MARDI | F159: MERCREDI | H159: JEUDI | J159: VENDREDI | L159: SAMEDI | N159: DIMANCHE
B160: MIDI | C160: SOIR | D160: MIDI | E160: SOIR | F160: MIDI | G160: SOIR | H160: MIDI | I160: SOIR | J160: MIDI | K160: SOIR | L160: MIDI | M160: SOIR | N160: MIDI | O160: SOIR
A161: H Arrivé | B161: ='SALLE GERLAND'!C31 -> 0 | C161: ='SALLE GERLAND'!D31 -> 0 | D161: ='SALLE GERLAND'!E31 -> 0 | E161: ='SALLE GERLAND'!F31 -> 0 | F161: ='SALLE GERLAND'!G31 -> 0 | G161: ='SALLE GERLAND'!H31 -> 0 | H161: ='SALLE GERLAND'!I31 -> 0 | I161: ='SALLE GERLAND'!J31 -> 0 | ... O161: ='SALLE GERLAND'!P31 -> 0
A162: H départ | B162: ='SALLE GERLAND'!C32 -> 0 | C162: ='SALLE GERLAND'!D32 -> 0 | D162: ='SALLE GERLAND'!E32 -> 0 | E162: ='SALLE GERLAND'!F32 -> 0 | F162: ='SALLE GERLAND'!G32 -> 0 | G162: ='SALLE GERLAND'!H32 -> 0 | H162: ='SALLE GERLAND'!I32 -> 0 | I162: ='SALLE GERLAND'!J32 -> 0 | ... O162: ='SALLE GERLAND'!P32 -> 0
A163: Pause | B163: ='SALLE GERLAND'!C33 -> 0 | C163: ='SALLE GERLAND'!D33 -> 0 | D163: ='SALLE GERLAND'!E33 -> 0 | E163: ='SALLE GERLAND'!F33 -> 0 | F163: ='SALLE GERLAND'!G33 -> 0 | G163: ='SALLE GERLAND'!H33 -> 0 | H163: ='SALLE GERLAND'!I33 -> 0 | I163: ='SALLE GERLAND'!J33 -> 0 | ... O163: ='SALLE GERLAND'!P33 -> 0
A164: Total | B164: ='SALLE GERLAND'!C34 -> 0 | C164: ='SALLE GERLAND'!D34 -> 0 | D164: ='SALLE GERLAND'!E34 -> 0 | E164: ='SALLE GERLAND'!F34 -> 0 | F164: ='SALLE GERLAND'!G34 -> 0 | G164: ='SALLE GERLAND'!H34 -> 0 | H164: ='SALLE GERLAND'!I34 -> 0 | I164: ='SALLE GERLAND'!J34 -> 0 | ... O164: ='SALLE GERLAND'!P34 -> 0
A165: Total Jour | B165: ='SALLE GERLAND'!C35 -> 0 | D165: ='SALLE GERLAND'!E35 -> 0 | F165: ='SALLE GERLAND'!G35 -> 0 | H165: ='SALLE GERLAND'!I35 -> 0 | J165: ='SALLE GERLAND'!K35 -> 0 | L165: ='SALLE GERLAND'!M35 -> 0 | N165: ='SALLE GERLAND'!O35 -> 0
B168: LUNDI | D168: MARDI | F168: MERCREDI | H168: JEUDI | J168: VENDREDI | L168: SAMEDI | N168: DIMANCHE
B169: MIDI | C169: SOIR | D169: MIDI | E169: SOIR | F169: MIDI | G169: SOIR | H169: MIDI | I169: SOIR | J169: MIDI | K169: SOIR | L169: MIDI | M169: SOIR | N169: MIDI | O169: SOIR
A170: H Arrivé
A171: H départ
A172: Pause
A173: Total
...

Sheet GERLAND EMMARGEMENT CUISINE
B1: NOM : | D1: ='CUISINE GERLAND'!A8 -> LEMAIRE | H1: SEMAINE : | J1: ='CUISINE GERLAND'!C3 -> 51
B2: PRENOM : | D2: ='CUISINE GERLAND'!A6 -> CHRISTOPHE | I2: DU : | J2: ='CUISINE GERLAND'!I3 -> 43794 | M2: =J2+6 -> 43800
B4: LUNDI | D4: MARDI | F4: MERCREDI | H4: JEUDI | J4: VENDREDI | L4: SAMEDI | N4: DIMANCHE
B5: MIDI | C5: SOIR | D5: MIDI | E5: SOIR | F5: MIDI | G5: SOIR | H5: MIDI | I5: SOIR | J5: MIDI | K5: SOIR | L5: MIDI | M5: SOIR | N5: MIDI | O5: SOIR
A6: H Arrivé | B6: ='CUISINE GERLAND'!C6 -> 0.5 | C6: ='CUISINE GERLAND'!D6 -> 0.75 | D6: ='CUISINE GERLAND'!E6 -> 0 | E6: ='CUISINE GERLAND'!F6 -> 0 | F6: ='CUISINE GERLAND'!G6 -> 0 | G6: ='CUISINE GERLAND'!H6 -> 0 | H6: ='CUISINE GERLAND'!I6 -> 0 | I6: ='CUISINE GERLAND'!J6 -> 0 | ... O6: ='CUISINE GERLAND'!P6 -> 0
A7: H départ | B7: ='CUISINE GERLAND'!C7 -> 0.625 | C7: ='CUISINE GERLAND'!D7 -> 1 | D7: ='CUISINE GERLAND'!E7 -> 0 | E7: ='CUISINE GERLAND'!F7 -> 0 | F7: ='CUISINE GERLAND'!G7 -> 0 | G7: ='CUISINE GERLAND'!H7 -> 0 | H7: ='CUISINE GERLAND'!I7 -> 0 | I7: ='CUISINE GERLAND'!J7 -> 0 | ... O7: ='CUISINE GERLAND'!P7 -> 0
A8: Pause | B8: ='CUISINE GERLAND'!C8 -> 0.020833333 | C8: ='CUISINE GERLAND'!D8 -> 0.020833333 | D8: ='CUISINE GERLAND'!E8 -> 0 | E8: ='CUISINE GERLAND'!F8 -> 0 | F8: ='CUISINE GERLAND'!G8 -> 0 | G8: ='CUISINE GERLAND'!H8 -> 0 | H8: ='CUISINE GERLAND'!I8 -> 0 | I8: ='CUISINE GERLAND'!J8 -> 0 | ... O8: ='CUISINE GERLAND'!P8 -> 0
A9: Total | B9: ='CUISINE GERLAND'!C9 -> 0.10416667 | C9: ='CUISINE GERLAND'!D9 -> 0.22916667 | D9: ='CUISINE GERLAND'!E9 -> 0 | E9: ='CUISINE GERLAND'!F9 -> 0 | F9: ='CUISINE GERLAND'!G9 -> 0 | G9: ='CUISINE GERLAND'!H9 -> 0 | H9: ='CUISINE GERLAND'!I9 -> 0 | I9: ='CUISINE GERLAND'!J9 -> 0 | ... O9: ='CUISINE GERLAND'!P9 -> 0
A10: Total Jour | B10: ='CUISINE GERLAND'!C10 -> 0.33333333 | D10: ='CUISINE GERLAND'!E10 -> 0 | F10: ='CUISINE GERLAND'!G10 -> 0 | H10: ='CUISINE GERLAND'!I10 -> 0 | J10: ='CUISINE GERLAND'!K10 -> 0 | L10: ='CUISINE GERLAND'!M10 -> 0 | N10: ='CUISINE GERLAND'!O10 -> 0
B13: LUNDI | D13: MARDI | F13: MERCREDI | H13: JEUDI | J13: VENDREDI | L13: SAMEDI | N13: DIMANCHE
B14: MIDI | C14: SOIR | D14: MIDI | E14: SOIR | F14: MIDI | G14: SOIR | H14: MIDI | I14: SOIR | J14: MIDI | K14: SOIR | L14: MIDI | M14: SOIR | N14: MIDI | O14: SOIR
A15: H Arrivé
A16: H départ
A17: Pause
A18: Total
A19: Total Jour
A23: TOTAL PREVU | C23: ='CUISINE GERLAND'!$Q$5 -> 0 | F23: TOTAL REALISE | K23: SIGNATURE
B32: NOM : | D32: ='CUISINE GERLAND'!A13 -> SARR | H32: SEMAINE : | J32: 51
B33: PRENOM : | D33: ='CUISINE GERLAND'!A11 -> BABACAR | I33: DU : | J33: 43794 | M33: 43800
B35: LUNDI | D35: MARDI | F35: MERCREDI | H35: JEUDI | J35: VENDREDI | L35: SAMEDI | N35: DIMANCHE
B36: MIDI | C36: SOIR | D36: MIDI | E36: SOIR | F36: MIDI | G36: SOIR | H36: MIDI | I36: SOIR | J36: MIDI | K36: SOIR | L36: MIDI | M36: SOIR | N36: MIDI | O36: SOIR
A37: H Arrivé | B37: ='CUISINE GERLAND'!C11 -> 0 | C37: ='CUISINE GERLAND'!D11 -> 0 | D37: ='CUISINE GERLAND'!E11 -> 0 | E37: ='CUISINE GERLAND'!F11 -> 0 | F37: ='CUISINE GERLAND'!G11 -> 0 | G37: ='CUISINE GERLAND'!H11 -> 0 | H37: ='CUISINE GERLAND'!I11 -> 0 | I37: ='CUISINE GERLAND'!J11 -> 0 | ... O37: ='CUISINE GERLAND'!P11 -> 0
A38: H départ | B38: ='CUISINE GERLAND'!C12 -> 0 | C38: ='CUISINE GERLAND'!D12 -> 0 | D38: ='CUISINE GERLAND'!E12 -> 0 | E38: ='CUISINE GERLAND'!F12 -> 0 | F38: ='CUISINE GERLAND'!G12 -> 0 | G38: ='CUISINE GERLAND'!H12 -> 0 | H38: ='CUISINE GERLAND'!I12 -> 0 | I38: ='CUISINE GERLAND'!J12 -> 0 | ... O38: ='CUISINE GERLAND'!P12 -> 0
A39: Pause | B39: ='CUISINE GERLAND'!C13 -> 0 | C39: ='CUISINE GERLAND'!D13 -> 0 | D39: ='CUISINE GERLAND'!E13 -> 0 | E39: ='CUISINE GERLAND'!F13 -> 0 | F39: ='CUISINE GERLAND'!G13 -> 0 | G39: ='CUISINE GERLAND'!H13 -> 0 | H39: ='CUISINE GERLAND'!I13 -> 0 | I39: ='CUISINE GERLAND'!J13 -> 0 | ... O39: ='CUISINE GERLAND'!P13 -> 0
A40: Total | B40: ='CUISINE GERLAND'!C14 -> 0 | C40: ='CUISINE GERLAND'!D14 -> 0 | D40: ='CUISINE GERLAND'!E14 -> 0 | E40: ='CUISINE GERLAND'!F14 -> 0 | F40: ='CUISINE GERLAND'!G14 -> 0 | G40: ='CUISINE GERLAND'!H14 -> 0 | H40: ='CUISINE GERLAND'!I14 -> 0 | I40: ='CUISINE GERLAND'!J14 -> 0 | ... O40: ='CUISINE GERLAND'!P14 -> 0
A41: Total Jour | B41: ='CUISINE GERLAND'!C15 -> 0 | D41: ='CUISINE GERLAND'!E15 -> 0 | F41: ='CUISINE GERLAND'!G15 -> 0 | H41: ='CUISINE GERLAND'!I15 -> 0 | J41: ='CUISINE GERLAND'!K15 -> 0 | L41: ='CUISINE GERLAND'!M15 -> 0 | N41: ='CUISINE GERLAND'!O15 -> 0
B44: LUNDI | D44: MARDI | F44: MERCREDI | H44: JEUDI | J44: VENDREDI | L44: SAMEDI | N44: DIMANCHE
B45: MIDI | C45: SOIR | D45: MIDI | E45: SOIR | F45: MIDI | G45: SOIR | H45: MIDI | I45: SOIR | J45: MIDI | K45: SOIR | L45: MIDI | M45: SOIR | N45: MIDI | O45: SOIR
A46: H Arrivé
A47: H départ
A48: Pause
A49: Total
A50: Total Jour
A54: TOTAL PREVU | C54: ='CUISINE GERLAND'!Q11 -> 0 | F54: TOTAL REALISE | K54: SIGNATURE
B61: NOM : | D61: ='CUISINE GERLAND'!A18 -> DEL PALACIO | H61: SEMAINE : | J61: 51
B62: PRENOM : | D62: ='CUISINE GERLAND'!A16 -> CEDRIC | I62: DU : | J62: 43794 | M62: 43800
B64: LUNDI | D64: MARDI | F64: MERCREDI | H64: JEUDI | J64: VENDREDI | L64: SAMEDI | N64: DIMANCHE
B65: MIDI | C65: SOIR | D65: MIDI | E65: SOIR | F65: MIDI | G65: SOIR | H65: MIDI | I65: SOIR | J65: MIDI | K65: SOIR | L65: MIDI | M65: SOIR | N65: MIDI | O65: SOIR
A66: H Arrivé | B66: ='CUISINE GERLAND'!C16 -> 0 | C66: ='CUISINE GERLAND'!D16 -> 0 | D66: ='CUISINE GERLAND'!E16 -> 0 | E66: ='CUISINE GERLAND'!F16 -> 0 | F66: ='CUISINE GERLAND'!G16 -> 0 | G66: ='CUISINE GERLAND'!H16 -> 0 | H66: ='CUISINE GERLAND'!I16 -> 0 | I66: ='CUISINE GERLAND'!J16 -> 0 | ... O66: ='CUISINE GERLAND'!P16 -> 0
A67: H départ | B67: ='CUISINE GERLAND'!C17 -> 0 | C67: ='CUISINE GERLAND'!D17 -> 0 | D67: ='CUISINE GERLAND'!E17 -> 0 | E67: ='CUISINE GERLAND'!F17 -> 0 | F67: ='CUISINE GERLAND'!G17 -> 0 | G67: ='CUISINE GERLAND'!H17 -> 0 | H67: ='CUISINE GERLAND'!I17 -> 0 | I67: ='CUISINE GERLAND'!J17 -> 0 | ... O67: ='CUISINE GERLAND'!P17 -> 0
A68: Pause | B68: ='CUISINE GERLAND'!C18 -> 0 | C68: ='CUISINE GERLAND'!D18 -> 0 | D68: ='CUISINE GERLAND'!E18 -> 0 | E68: ='CUISINE GERLAND'!F18 -> 0 | F68: ='CUISINE GERLAND'!G18 -> 0 | G68: ='CUISINE GERLAND'!H18 -> 0 | H68: ='CUISINE GERLAND'!I18 -> 0 | I68: ='CUISINE GERLAND'!J18 -> 0 | ... O68: ='CUISINE GERLAND'!P18 -> 0
A69: Total | B69: ='CUISINE GERLAND'!C19 -> 0 | C69: ='CUISINE GERLAND'!D19 -> 0 | D69: ='CUISINE GERLAND'!E19 -> 0 | E69: ='CUISINE GERLAND'!F19 -> 0 | F69: ='CUISINE GERLAND'!G19 -> 0 | G69: ='CUISINE GERLAND'!H19 -> 0 | H69: ='CUISINE GERLAND'!I19 -> 0 | I69: ='CUISINE GERLAND'!J19 -> 0 | ... O69: ='CUISINE GERLAND'!P19 -> 0
A70: Total Jour | B70: ='CUISINE GERLAND'!C20 -> 0 | D70: ='CUISINE GERLAND'!E20 -> 0 | F70: ='CUISINE GERLAND'!G20 -> 0 | H70: ='CUISINE GERLAND'!I20 -> 0 | J70: ='CUISINE GERLAND'!K20 -> 0 | L70: ='CUISINE GERLAND'!M20 -> 0 | N70: ='CUISINE GERLAND'!O20 -> 0
B73: LUNDI | D73: MARDI | F73: MERCREDI | H73: JEUDI | J73: VENDREDI | L73: SAMEDI | N73: DIMANCHE
B74: MIDI | C74: SOIR | D74: MIDI | E74: SOIR | F74: MIDI | G74: SOIR | H74: MIDI | I74: SOIR | J74: MIDI | K74: SOIR | L74: MIDI | M74: SOIR | N74: MIDI | O74: SOIR
A75: H Arrivé
A76: H départ
A77: Pause
A78: Total
A79: Total Jour
A83: TOTAL PREVU | C83: ='CUISINE GERLAND'!Q16 -> 0 | F83: TOTAL REALISE | K83: SIGNATURE
B89: NOM : | D89: ='CUISINE GERLAND'!A23 -> MARCE | H89: SEMAINE : | J89: 51
B90: PRENOM : | D90: ='CUISINE GERLAND'!A21 -> ADRIEN | I90: DU : | J90: 43794 | M90: 43800
B92: LUNDI | D92: MARDI | F92: MERCREDI | H92: JEUDI | J92: VENDREDI | L92: SAMEDI | N92: DIMANCHE
B93: MIDI | C93: SOIR | D93: MIDI | E93: SOIR | F93: MIDI | G93: SOIR | H93: MIDI | I93: SOIR | J93: MIDI | K93: SOIR | L93: MIDI | M93: SOIR | N93: MIDI | O93: SOIR
A94: H Arrivé | B94: ='CUISINE GERLAND'!C21 -> 0 | C94: ='CUISINE GERLAND'!D21 -> 0 | D94: ='CUISINE GERLAND'!E21 -> 0 | E94: ='CUISINE GERLAND'!F21 -> 0 | F94: ='CUISINE GERLAND'!G21 -> 0 | G94: ='CUISINE GERLAND'!H21 -> 0 | H94: ='CUISINE GERLAND'!I21 -> 0 | I94: ='CUISINE GERLAND'!J21 -> 0 | ... O94: ='CUISINE GERLAND'!P21 -> 0
A95: H départ | B95: ='CUISINE GERLAND'!C22 -> 0 | C95: ='CUISINE GERLAND'!D22 -> 0 | D95: ='CUISINE GERLAND'!E22 -> 0 | E95: ='CUISINE GERLAND'!F22 -> 0 | F95: ='CUISINE GERLAND'!G22 -> 0 | G95: ='CUISINE GERLAND'!H22 -> 0 | H95: ='CUISINE GERLAND'!I22 -> 0 | I95: ='CUISINE GERLAND'!J22 -> 0 | ... O95: ='CUISINE GERLAND'!P22 -> 0
A96: Pause | B96: ='CUISINE GERLAND'!C23 -> 0 | C96: ='CUISINE GERLAND'!D23 -> 0 | D96: ='CUISINE GERLAND'!E23 -> 0 | E96: ='CUISINE GERLAND'!F23 -> 0 | F96: ='CUISINE GERLAND'!G23 -> 0 | G96: ='CUISINE GERLAND'!H23 -> 0 | H96: ='CUISINE GERLAND'!I23 -> 0 | I96: ='CUISINE GERLAND'!J23 -> 0 | ... O96: ='CUISINE GERLAND'!P23 -> 0
A97: Total | B97: ='CUISINE GERLAND'!C24 -> 0 | C97: ='CUISINE GERLAND'!D24 -> 0 | D97: ='CUISINE GERLAND'!E24 -> 0 | E97: ='CUISINE GERLAND'!F24 -> 0 | F97: ='CUISINE GERLAND'!G24 -> 0 | G97: ='CUISINE GERLAND'!H24 -> 0 | H97: ='CUISINE GERLAND'!I24 -> 0 | I97: ='CUISINE GERLAND'!J24 -> 0 | ... O97: ='CUISINE GERLAND'!P24 -> 0
A98: Total Jour | B98: ='CUISINE GERLAND'!C25 -> 0 | D98: ='CUISINE GERLAND'!E25 -> 0 | F98: ='CUISINE GERLAND'!G25 -> 0 | H98: ='CUISINE GERLAND'!I25 -> 0 | J98: ='CUISINE GERLAND'!K25 -> 0 | L98: ='CUISINE GERLAND'!M25 -> 0 | N98: ='CUISINE GERLAND'!O25 -> 0
B101: LUNDI | D101: MARDI | F101: MERCREDI | H101: JEUDI | J101: VENDREDI | L101: SAMEDI | N101: DIMANCHE
B102: MIDI | C102: SOIR | D102: MIDI | E102: SOIR | F102: MIDI | G102: SOIR | H102: MIDI | I102: SOIR | J102: MIDI | K102: SOIR | L102: MIDI | M102: SOIR | N102: MIDI | O102: SOIR
A103: H Arrivé
A104: H départ
A105: Pause
A106: Total
A107: Total Jour
A111: TOTAL PREVU | C111: ='CUISINE GERLAND'!Q21 -> 0 | F111: TOTAL REALISE | K111: SIGNATURE
B116: NOM : | D116: ='CUISINE GERLAND'!A28 -> VELO | H116: SEMAINE : | J116: 51
B117: PRENOM : | D117: ='CUISINE GERLAND'!A26 -> CONSTANTIN | I117: DU : | J117: 43794 | M117: 43800
B119: LUNDI | D119: MARDI | F119: MERCREDI | H119: JEUDI | J119: VENDREDI | L119: SAMEDI | N119: DIMANCHE
B120: MIDI | C120: SOIR | D120: MIDI | E120: SOIR | F120: MIDI | G120: SOIR | H120: MIDI | I120: SOIR | J120: MIDI | K120: SOIR | L120: MIDI | M120: SOIR | N120: MIDI | O120: SOIR
A121: H Arrivé | B121: ='CUISINE GERLAND'!C26 -> 0 | C121: ='CUISINE GERLAND'!D26 -> 0 | D121: ='CUISINE GERLAND'!E26 -> 0 | E121: ='CUISINE GERLAND'!F26 -> 0 | F121: ='CUISINE GERLAND'!G26 -> 0 | G121: ='CUISINE GERLAND'!H26 -> 0 | H121: ='CUISINE GERLAND'!I26 -> 0 | I121: ='CUISINE GERLAND'!J26 -> 0 | ... O121: ='CUISINE GERLAND'!P26 -> 0
A122: H départ | B122: ='CUISINE GERLAND'!C27 -> 0 | C122: ='CUISINE GERLAND'!D27 -> 0 | D122: ='CUISINE GERLAND'!E27 -> 0 | E122: ='CUISINE GERLAND'!F27 -> 0 | F122: ='CUISINE GERLAND'!G27 -> 0 | G122: ='CUISINE GERLAND'!H27 -> 0 | H122: ='CUISINE GERLAND'!I27 -> 0 | I122: ='CUISINE GERLAND'!J27 -> 0 | ... O122: ='CUISINE GERLAND'!P27 -> 0
A123: Pause | B123: ='CUISINE GERLAND'!C28 -> 0 | C123: ='CUISINE GERLAND'!D28 -> 0 | D123: ='CUISINE GERLAND'!E28 -> 0 | E123: ='CUISINE GERLAND'!F28 -> 0 | F123: ='CUISINE GERLAND'!G28 -> 0 | G123: ='CUISINE GERLAND'!H28 -> 0 | H123: ='CUISINE GERLAND'!I28 -> 0 | I123: ='CUISINE GERLAND'!J28 -> 0 | ... O123: ='CUISINE GERLAND'!P28 -> 0
A124: Total | B124: ='CUISINE GERLAND'!C29 -> 0 | C124: ='CUISINE GERLAND'!D29 -> 0 | D124: ='CUISINE GERLAND'!E29 -> 0 | E124: ='CUISINE GERLAND'!F29 -> 0 | F124: ='CUISINE GERLAND'!G29 -> 0 | G124: ='CUISINE GERLAND'!H29 -> 0 | H124: ='CUISINE GERLAND'!I29 -> 0 | I124: ='CUISINE GERLAND'!J29 -> 0 | ... O124: ='CUISINE GERLAND'!P29 -> 0
A125: Total Jour | B125: ='CUISINE GERLAND'!C30 -> 0 | D125: ='CUISINE GERLAND'!E30 -> 0 | F125: ='CUISINE GERLAND'!G30 -> 0 | H125: ='CUISINE GERLAND'!I30 -> 0 | J125: ='CUISINE GERLAND'!K30 -> 0 | L125: ='CUISINE GERLAND'!M30 -> 0 | N125: ='CUISINE GERLAND'!O30 -> 0
B128: LUNDI | D128: MARDI | F128: MERCREDI | H128: JEUDI | J128: VENDREDI | L128: SAMEDI | N128: DIMANCHE
B129: MIDI | C129: SOIR | D129: MIDI | E129: SOIR | F129: MIDI | G129: SOIR | H129: MIDI | I129: SOIR | J129: MIDI | K129: SOIR | L129: MIDI | M129: SOIR | N129: MIDI | O129: SOIR
A130: H Arrivé
A131: H départ
A132: Pause
A133: Total
A134: Total Jour
A138: TOTAL PREVU | C138: ='CUISINE GERLAND'!Q26 -> 0 | F138: TOTAL REALISE | K138: SIGNATURE
B142: NOM : | D142: ='CUISINE GERLAND'!A33 -> 0 | H142: SEMAINE : | J142: 51
B143: PRENOM : | D143: ='CUISINE GERLAND'!A31 -> 0 | I143: DU : | J143: 43794 | M143: 43800
B145: LUNDI | D145: MARDI | F145: MERCREDI | H145: JEUDI | J145: VENDREDI | L145: SAMEDI | N145: DIMANCHE
B146: MIDI | C146: SOIR | D146: MIDI | E146: SOIR | F146: MIDI | G146: SOIR | H146: MIDI | I146: SOIR | J146: MIDI | K146: SOIR | L146: MIDI | M146: SOIR | N146: MIDI | O146: SOIR
A147: H Arrivé | B147: ='CUISINE GERLAND'!C31 -> 0 | C147: ='CUISINE GERLAND'!D31 -> 0 | D147: ='CUISINE GERLAND'!E31 -> 0 | E147: ='CUISINE GERLAND'!F31 -> 0 | F147: ='CUISINE GERLAND'!G31 -> 0 | G147: ='CUISINE GERLAND'!H31 -> 0 | H147: ='CUISINE GERLAND'!I31 -> 0 | I147: ='CUISINE GERLAND'!J31 -> 0 | ... O147: ='CUISINE GERLAND'!P31 -> 0
A148: H départ | B148: ='CUISINE GERLAND'!C32 -> 0 | C148: ='CUISINE GERLAND'!D32 -> 0 | D148: ='CUISINE GERLAND'!E32 -> 0 | E148: ='CUISINE GERLAND'!F32 -> 0 | F148: ='CUISINE GERLAND'!G32 -> 0 | G148: ='CUISINE GERLAND'!H32 -> 0 | H148: ='CUISINE GERLAND'!I32 -> 0 | I148: ='CUISINE GERLAND'!J32 -> 0 | ... O148: ='CUISINE GERLAND'!P32 -> 0
A149: Pause | B149: ='CUISINE GERLAND'!C33 -> 0 | C149: ='CUISINE GERLAND'!D33 -> 0 | D149: ='CUISINE GERLAND'!E33 -> 0 | E149: ='CUISINE GERLAND'!F33 -> 0 | F149: ='CUISINE GERLAND'!G33 -> 0 | G149: ='CUISINE GERLAND'!H33 -> 0 | H149: ='CUISINE GERLAND'!I33 -> 0 | I149: ='CUISINE GERLAND'!J33 -> 0 | ... O149: ='CUISINE GERLAND'!P33 -> 0
A150: Total | B150: ='CUISINE GERLAND'!C34 -> 0 | C150: ='CUISINE GERLAND'!D34 -> 0 | D150: ='CUISINE GERLAND'!E34 -> 0 | E150: ='CUISINE GERLAND'!F34 -> 0 | F150: ='CUISINE GERLAND'!G34 -> 0 | G150: ='CUISINE GERLAND'!H34 -> 0 | H150: ='CUISINE GERLAND'!I34 -> 0 | I150: ='CUISINE GERLAND'!J34 -> 0 | ... O150: ='CUISINE GERLAND'!P34 -> 0
A151: Total Jour | B151: ='CUISINE GERLAND'!C35 -> 0 | D151: ='CUISINE GERLAND'!E35 -> 0 | F151: ='CUISINE GERLAND'!G35 -> 0 | H151: ='CUISINE GERLAND'!I35 -> 0 | J151: ='CUISINE GERLAND'!K35 -> 0 | L151: ='CUISINE GERLAND'!M35 -> 0 | N151: ='CUISINE GERLAND'!O35 -> 0
B154: LUNDI | D154: MARDI | F154: MERCREDI | H154: JEUDI | J154: VENDREDI | L154: SAMEDI | N154: DIMANCHE
B155: MIDI | C155: SOIR | D155: MIDI | E155: SOIR | F155: MIDI | G155: SOIR | H155: MIDI | I155: SOIR | J155: MIDI | K155: SOIR | L155: MIDI | M155: SOIR | N155: MIDI | O155: SOIR
A156: H Arrivé
A157: H départ
A158: Pause
A159: Total
...

Sheet CORDELIER EMMARGEMENT SALLE
B1: NOM : | D1: ='SALLE CORDELIER'!A8 -> GESLAN | H1: SEMAINE : | J1: ='SALLE CORDELIER'!C3 -> 51
B2: PRENOM : | D2: ='SALLE CORDELIER'!A6 -> RÉMI | I2: DU : | J2: ='SALLE CORDELIER'!I3 -> 43794 | M2: =J2+6 -> 43800
B4: LUNDI | D4: MARDI | F4: MERCREDI | H4: JEUDI | J4: VENDREDI | L4: SAMEDI | N4: DIMANCHE
B5: MIDI | C5: SOIR | D5: MIDI | E5: SOIR | F5: MIDI | G5: SOIR | H5: MIDI | I5: SOIR | J5: MIDI | K5: SOIR | L5: MIDI | M5: SOIR | N5: MIDI | O5: SOIR
A6: H Arrivé | B6: ='SALLE CORDELIER'!C6 -> 0.41666667 | C6: ='SALLE CORDELIER'!D6 -> 0.75 | D6: ='SALLE CORDELIER'!E6 -> 0 | E6: ='SALLE CORDELIER'!F6 -> 0 | F6: ='SALLE CORDELIER'!G6 -> 0 | G6: ='SALLE CORDELIER'!H6 -> 0 | H6: ='SALLE CORDELIER'!I6 -> 0 | I6: ='SALLE CORDELIER'!J6 -> 0 | ... O6: ='SALLE CORDELIER'!P6 -> 0
A7: H départ | B7: ='SALLE CORDELIER'!C7 -> 0.625 | C7: ='SALLE CORDELIER'!D7 -> 1 | D7: ='SALLE CORDELIER'!E7 -> 0 | E7: ='SALLE CORDELIER'!F7 -> 0 | F7: ='SALLE CORDELIER'!G7 -> 0 | G7: ='SALLE CORDELIER'!H7 -> 0 | H7: ='SALLE CORDELIER'!I7 -> 0 | I7: ='SALLE CORDELIER'!J7 -> 0 | ... O7: ='SALLE CORDELIER'!P7 -> 0
A8: Pause | B8: ='SALLE CORDELIER'!C8 -> 0 | C8: ='SALLE CORDELIER'!D8 -> 0 | D8: ='SALLE CORDELIER'!E8 -> 0 | E8: ='SALLE CORDELIER'!F8 -> 0 | F8: ='SALLE CORDELIER'!G8 -> 0 | G8: ='SALLE CORDELIER'!H8 -> 0 | H8: ='SALLE CORDELIER'!I8 -> 0 | I8: ='SALLE CORDELIER'!J8 -> 0 | ... O8: ='SALLE CORDELIER'!P8 -> 0
A9: Total | B9: ='SALLE CORDELIER'!C9 -> 0.20833333 | C9: ='SALLE CORDELIER'!D9 -> 0.25 | D9: ='SALLE CORDELIER'!E9 -> 0 | E9: ='SALLE CORDELIER'!F9 -> 0 | F9: ='SALLE CORDELIER'!G9 -> 0 | G9: ='SALLE CORDELIER'!H9 -> 0 | H9: ='SALLE CORDELIER'!I9 -> 0 | I9: ='SALLE CORDELIER'!J9 -> 0 | ... O9: ='SALLE CORDELIER'!P9 -> 0
A10: Total Jour | B10: ='SALLE CORDELIER'!C10 -> 0.45833333 | D10: ='SALLE CORDELIER'!E10 -> 0 | F10: ='SALLE CORDELIER'!G10 -> 0 | H10: ='SALLE CORDELIER'!I10 -> 0 | J10: ='SALLE CORDELIER'!K10 -> 0 | L10: ='SALLE CORDELIER'!M10 -> 0 | N10: ='SALLE CORDELIER'!O10 -> 0
B13: LUNDI | D13: MARDI | F13: MERCREDI | H13: JEUDI | J13: VENDREDI | L13: SAMEDI | N13: DIMANCHE
B14: MIDI | C14: SOIR | D14: MIDI | E14: SOIR | F14: MIDI | G14: SOIR | H14: MIDI | I14: SOIR | J14: MIDI | K14: SOIR | L14: MIDI | M14: SOIR | N14: MIDI | O14: SOIR
A15: H Arrivé
A16: H départ
A17: Pause
A18: Total
A19: Total Jour
A23: TOTAL PREVU | C23: ='SALLE CORDELIER'!$Q$5 -> 0 | F23: TOTAL REALISE | K23: SIGNATURE
B32: NOM : | D32: ='SALLE CORDELIER'!A13 -> LABET | H32: SEMAINE : | J32: 51
B33: PRENOM : | D33: ='SALLE CORDELIER'!A11 -> CHRISTIAN | I33: DU : | J33: 43794 | M33: 43800
B35: LUNDI | D35: MARDI | F35: MERCREDI | H35: JEUDI | J35: VENDREDI | L35: SAMEDI | N35: DIMANCHE
B36: MIDI | C36: SOIR | D36: MIDI | E36: SOIR | F36: MIDI | G36: SOIR | H36: MIDI | I36: SOIR | J36: MIDI | K36: SOIR | L36: MIDI | M36: SOIR | N36: MIDI | O36: SOIR
A37: H Arrivé | B37: ='SALLE CORDELIER'!C11 -> 0 | C37: ='SALLE CORDELIER'!D11 -> 0 | D37: ='SALLE CORDELIER'!E11 -> 0 | E37: ='SALLE CORDELIER'!F11 -> 0 | F37: ='SALLE CORDELIER'!G11 -> 0 | G37: ='SALLE CORDELIER'!H11 -> 0 | H37: ='SALLE CORDELIER'!I11 -> 0 | I37: ='SALLE CORDELIER'!J11 -> 0 | ... O37: ='SALLE CORDELIER'!P11 -> 0
A38: H départ | B38: ='SALLE CORDELIER'!C12 -> 0 | C38: ='SALLE CORDELIER'!D12 -> 0 | D38: ='SALLE CORDELIER'!E12 -> 0 | E38: ='SALLE CORDELIER'!F12 -> 0 | F38: ='SALLE CORDELIER'!G12 -> 0 | G38: ='SALLE CORDELIER'!H12 -> 0 | H38: ='SALLE CORDELIER'!I12 -> 0 | I38: ='SALLE CORDELIER'!J12 -> 0 | ... O38: ='SALLE CORDELIER'!P12 -> 0
A39: Pause | B39: ='SALLE CORDELIER'!C13 -> 0 | C39: ='SALLE CORDELIER'!D13 -> 0 | D39: ='SALLE CORDELIER'!E13 -> 0 | E39: ='SALLE CORDELIER'!F13 -> 0 | F39: ='SALLE CORDELIER'!G13 -> 0 | G39: ='SALLE CORDELIER'!H13 -> 0 | H39: ='SALLE CORDELIER'!I13 -> 0 | I39: ='SALLE CORDELIER'!J13 -> 0 | ... O39: ='SALLE CORDELIER'!P13 -> 0
A40: Total | B40: ='SALLE CORDELIER'!C14 -> 0 | C40: ='SALLE CORDELIER'!D14 -> 0 | D40: ='SALLE CORDELIER'!E14 -> 0 | E40: ='SALLE CORDELIER'!F14 -> 0 | F40: ='SALLE CORDELIER'!G14 -> 0 | G40: ='SALLE CORDELIER'!H14 -> 0 | H40: ='SALLE CORDELIER'!I14 -> 0 | I40: ='SALLE CORDELIER'!J14 -> 0 | ... O40: ='SALLE CORDELIER'!P14 -> 0
A41: Total Jour | B41: ='SALLE CORDELIER'!C15 -> 0 | D41: ='SALLE CORDELIER'!E15 -> 0 | F41: ='SALLE CORDELIER'!G15 -> 0 | H41: ='SALLE CORDELIER'!I15 -> 0 | J41: ='SALLE CORDELIER'!K15 -> 0 | L41: ='SALLE CORDELIER'!M15 -> 0 | N41: ='SALLE CORDELIER'!O15 -> 0
B44: LUNDI | D44: MARDI | F44: MERCREDI | H44: JEUDI | J44: VENDREDI | L44: SAMEDI | N44: DIMANCHE
B45: MIDI | C45: SOIR | D45: MIDI | E45: SOIR | F45: MIDI | G45: SOIR | H45: MIDI | I45: SOIR | J45: MIDI | K45: SOIR | L45: MIDI | M45: SOIR | N45: MIDI | O45: SOIR
A46: H Arrivé
A47: H départ
A48: Pause
A49: Total
A50: Total Jour
A54: TOTAL PREVU | C54: ='SALLE CORDELIER'!Q11 -> 0 | F54: TOTAL REALISE | K54: SIGNATURE
B63: NOM : | D63: ='SALLE CORDELIER'!A18 -> MAQRANE | H63: SEMAINE : | J63: 51
B64: PRENOM : | D64: ='SALLE CORDELIER'!A16 -> ELIAS | I64: DU : | J64: 43794 | M64: 43800
B66: LUNDI | D66: MARDI | F66: MERCREDI | H66: JEUDI | J66: VENDREDI | L66: SAMEDI | N66: DIMANCHE
B67: MIDI | C67: SOIR | D67: MIDI | E67: SOIR | F67: MIDI | G67: SOIR | H67: MIDI | I67: SOIR | J67: MIDI | K67: SOIR | L67: MIDI | M67: SOIR | N67: MIDI | O67: SOIR
A68: H Arrivé | B68: ='SALLE CORDELIER'!C16 -> 0 | C68: ='SALLE CORDELIER'!D16 -> 0 | D68: ='SALLE CORDELIER'!E16 -> 0 | E68: ='SALLE CORDELIER'!F16 -> 0 | F68: ='SALLE CORDELIER'!G16 -> 0 | G68: ='SALLE CORDELIER'!H16 -> 0 | H68: ='SALLE CORDELIER'!I16 -> 0 | I68: ='SALLE CORDELIER'!J16 -> 0 | ... O68: ='SALLE CORDELIER'!P16 -> 0
A69: H départ | B69: ='SALLE CORDELIER'!C17 -> 0 | C69: ='SALLE CORDELIER'!D17 -> 0 | D69: ='SALLE CORDELIER'!E17 -> 0 | E69: ='SALLE CORDELIER'!F17 -> 0 | F69: ='SALLE CORDELIER'!G17 -> 0 | G69: ='SALLE CORDELIER'!H17 -> 0 | H69: ='SALLE CORDELIER'!I17 -> 0 | I69: ='SALLE CORDELIER'!J17 -> 0 | ... O69: ='SALLE CORDELIER'!P17 -> 0
A70: Pause | B70: ='SALLE CORDELIER'!C18 -> 0 | C70: ='SALLE CORDELIER'!D18 -> 0 | D70: ='SALLE CORDELIER'!E18 -> 0 | E70: ='SALLE CORDELIER'!F18 -> 0 | F70: ='SALLE CORDELIER'!G18 -> 0 | G70: ='SALLE CORDELIER'!H18 -> 0 | H70: ='SALLE CORDELIER'!I18 -> 0 | I70: ='SALLE CORDELIER'!J18 -> 0 | ... O70: ='SALLE CORDELIER'!P18 -> 0
A71: Total | B71: ='SALLE CORDELIER'!C19 -> 0 | C71: ='SALLE CORDELIER'!D19 -> 0 | D71: ='SALLE CORDELIER'!E19 -> 0 | E71: ='SALLE CORDELIER'!F19 -> 0 | F71: ='SALLE CORDELIER'!G19 -> 0 | G71: ='SALLE CORDELIER'!H19 -> 0 | H71: ='SALLE CORDELIER'!I19 -> 0 | I71: ='SALLE CORDELIER'!J19 -> 0 | ... O71: ='SALLE CORDELIER'!P19 -> 0
A72: Total Jour | B72: ='SALLE CORDELIER'!C20 -> 0 | D72: ='SALLE CORDELIER'!E20 -> 0 | F72: ='SALLE CORDELIER'!G20 -> 0 | H72: ='SALLE CORDELIER'!I20 -> 0 | J72: ='SALLE CORDELIER'!K20 -> 0 | L72: ='SALLE CORDELIER'!M20 -> 0 | N72: ='SALLE CORDELIER'!O20 -> 0
B75: LUNDI | D75: MARDI | F75: MERCREDI | H75: JEUDI | J75: VENDREDI | L75: SAMEDI | N75: DIMANCHE
B76: MIDI | C76: SOIR | D76: MIDI | E76: SOIR | F76: MIDI | G76: SOIR | H76: MIDI | I76: SOIR | J76: MIDI | K76: SOIR | L76: MIDI | M76: SOIR | N76: MIDI | O76: SOIR
A77: H Arrivé
A78: H départ
A79: Pause
A80: Total
A81: Total Jour
A85: TOTAL PREVU | C85: ='SALLE CORDELIER'!Q16 -> 0 | F85: TOTAL REALISE | K85: SIGNATURE
B94: NOM : | D94: ='SALLE CORDELIER'!A23 -> OLIVER | H94: SEMAINE : | J94: 51
B95: PRENOM : | D95: ='SALLE CORDELIER'!A21 -> KEVIN | I95: DU : | J95: 43794 | M95: 43800
B97: LUNDI | D97: MARDI | F97: MERCREDI | H97: JEUDI | J97: VENDREDI | L97: SAMEDI | N97: DIMANCHE
B98: MIDI | C98: SOIR | D98: MIDI | E98: SOIR | F98: MIDI | G98: SOIR | H98: MIDI | I98: SOIR | J98: MIDI | K98: SOIR | L98: MIDI | M98: SOIR | N98: MIDI | O98: SOIR
A99: H Arrivé | B99: ='SALLE CORDELIER'!C21 -> 0 | C99: ='SALLE CORDELIER'!D21 -> 0 | D99: ='SALLE CORDELIER'!E21 -> 0 | E99: ='SALLE CORDELIER'!F21 -> 0 | F99: ='SALLE CORDELIER'!G21 -> 0 | G99: ='SALLE CORDELIER'!H21 -> 0 | H99: ='SALLE CORDELIER'!I21 -> 0 | I99: ='SALLE CORDELIER'!J21 -> 0 | ... O99: ='SALLE CORDELIER'!P21 -> 0
A100: H départ | B100: ='SALLE CORDELIER'!C22 -> 0 | C100: ='SALLE CORDELIER'!D22 -> 0 | D100: ='SALLE CORDELIER'!E22 -> 0 | E100: ='SALLE CORDELIER'!F22 -> 0 | F100: ='SALLE CORDELIER'!G22 -> 0 | G100: ='SALLE CORDELIER'!H22 -> 0 | H100: ='SALLE CORDELIER'!I22 -> 0 | I100: ='SALLE CORDELIER'!J22 -> 0 | ... O100: ='SALLE CORDELIER'!P22 -> 0
A101: Pause | B101: ='SALLE CORDELIER'!C23 -> 0 | C101: ='SALLE CORDELIER'!D23 -> 0 | D101: ='SALLE CORDELIER'!E23 -> 0 | E101: ='SALLE CORDELIER'!F23 -> 0 | F101: ='SALLE CORDELIER'!G23 -> 0 | G101: ='SALLE CORDELIER'!H23 -> 0 | H101: ='SALLE CORDELIER'!I23 -> 0 | I101: ='SALLE CORDELIER'!J23 -> 0 | ... O101: ='SALLE CORDELIER'!P23 -> 0
A102: Total | B102: ='SALLE CORDELIER'!C24 -> 0 | C102: ='SALLE CORDELIER'!D24 -> 0 | D102: ='SALLE CORDELIER'!E24 -> 0 | E102: ='SALLE CORDELIER'!F24 -> 0 | F102: ='SALLE CORDELIER'!G24 -> 0 | G102: ='SALLE CORDELIER'!H24 -> 0 | H102: ='SALLE CORDELIER'!I24 -> 0 | I102: ='SALLE CORDELIER'!J24 -> 0 | ... O102: ='SALLE CORDELIER'!P24 -> 0
A103: Total Jour | B103: ='SALLE CORDELIER'!C25 -> 0 | D103: ='SALLE CORDELIER'!E25 -> 0 | F103: ='SALLE CORDELIER'!G25 -> 0 | H103: ='SALLE CORDELIER'!I25 -> 0 | J103: ='SALLE CORDELIER'!K25 -> 0 | L103: ='SALLE CORDELIER'!M25 -> 0 | N103: ='SALLE CORDELIER'!O25 -> 0
B106: LUNDI | D106: MARDI | F106: MERCREDI | H106: JEUDI | J106: VENDREDI | L106: SAMEDI | N106: DIMANCHE
B107: MIDI | C107: SOIR | D107: MIDI | E107: SOIR | F107: MIDI | G107: SOIR | H107: MIDI | I107: SOIR | J107: MIDI | K107: SOIR | L107: MIDI | M107: SOIR | N107: MIDI | O107: SOIR
A108: H Arrivé
A109: H départ
A110: Pause
A111: Total
A112: Total Jour
A116: TOTAL PREVU | C116: ='SALLE CORDELIER'!Q21 -> 0 | F116: TOTAL REALISE | K116: SIGNATURE
B125: NOM : | D125: ='SALLE CORDELIER'!A28 -> MABBOUX | H125: SEMAINE : | J125: 51
B126: PRENOM : | D126: ='SALLE CORDELIER'!A26 -> MELISSA | I126: DU : | J126: 43794 | M126: 43800
B128: LUNDI | D128: MARDI | F128: MERCREDI | H128: JEUDI | J128: VENDREDI | L128: SAMEDI | N128: DIMANCHE
B129: MIDI | C129: SOIR | D129: MIDI | E129: SOIR | F129: MIDI | G129: SOIR | H129: MIDI | I129: SOIR | J129: MIDI | K129: SOIR | L129: MIDI | M129: SOIR | N129: MIDI | O129: SOIR
A130: H Arrivé | B130: ='SALLE CORDELIER'!C26 -> 0 | C130: ='SALLE CORDELIER'!D26 -> 0 | D130: ='SALLE CORDELIER'!E26 -> 0 | E130: ='SALLE CORDELIER'!F26 -> 0 | F130: ='SALLE CORDELIER'!G26 -> 0 | G130: ='SALLE CORDELIER'!H26 -> 0 | H130: ='SALLE CORDELIER'!I26 -> 0 | I130: ='SALLE CORDELIER'!J26 -> 0 | ... O130: ='SALLE CORDELIER'!P26 -> 0
A131: H départ | B131: ='SALLE CORDELIER'!C27 -> 0 | C131: ='SALLE CORDELIER'!D27 -> 0 | D131: ='SALLE CORDELIER'!E27 -> 0 | E131: ='SALLE CORDELIER'!F27 -> 0 | F131: ='SALLE CORDELIER'!G27 -> 0 | G131: ='SALLE CORDELIER'!H27 -> 0 | H131: ='SALLE CORDELIER'!I27 -> 0 | I131: ='SALLE CORDELIER'!J27 -> 0 | ... O131: ='SALLE CORDELIER'!P27 -> 0
A132: Pause | B132: ='SALLE CORDELIER'!C28 -> 0 | C132: ='SALLE CORDELIER'!D28 -> 0 | D132: ='SALLE CORDELIER'!E28 -> 0 | E132: ='SALLE CORDELIER'!F28 -> 0 | F132: ='SALLE CORDELIER'!G28 -> 0 | G132: ='SALLE CORDELIER'!H28 -> 0 | H132: ='SALLE CORDELIER'!I28 -> 0 | I132: ='SALLE CORDELIER'!J28 -> 0 | ... O132: ='SALLE CORDELIER'!P28 -> 0
A133: Total | B133: ='SALLE CORDELIER'!C29 -> 0 | C133: ='SALLE CORDELIER'!D29 -> 0 | D133: ='SALLE CORDELIER'!E29 -> 0 | E133: ='SALLE CORDELIER'!F29 -> 0 | F133: ='SALLE CORDELIER'!G29 -> 0 | G133: ='SALLE CORDELIER'!H29 -> 0 | H133: ='SALLE CORDELIER'!I29 -> 0 | I133: ='SALLE CORDELIER'!J29 -> 0 | ... O133: ='SALLE CORDELIER'!P29 -> 0
A134: Total Jour | B134: ='SALLE CORDELIER'!C30 -> 0 | D134: ='SALLE CORDELIER'!E30 -> 0 | F134: ='SALLE CORDELIER'!G30 -> 0 | H134: ='SALLE CORDELIER'!I30 -> 0 | J134: ='SALLE CORDELIER'!K30 -> 0 | L134: ='SALLE CORDELIER'!M30 -> 0 | N134: ='SALLE CORDELIER'!O30 -> 0
B137: LUNDI | D137: MARDI | F137: MERCREDI | H137: JEUDI | J137: VENDREDI | L137: SAMEDI | N137: DIMANCHE
B138: MIDI | C138: SOIR | D138: MIDI | E138: SOIR | F138: MIDI | G138: SOIR | H138: MIDI | I138: SOIR | J138: MIDI | K138: SOIR | L138: MIDI | M138: SOIR | N138: MIDI | O138: SOIR
A139: H Arrivé
A140: H départ
A141: Pause
A142: Total
A143: Total Jour
A147: TOTAL PREVU | C147: ='SALLE CORDELIER'!Q26 -> 0 | F147: TOTAL REALISE | K147: SIGNATURE
B156: NOM : | D156: ='SALLE CORDELIER'!A33 -> JENNAB | H156: SEMAINE : | J156: 51
B157: PRENOM : | D157: ='SALLE CORDELIER'!A31 -> YASSMIN | I157: DU : | J157: 43794 | M157: 43800
B159: LUNDI | D159: MARDI | F159: MERCREDI | H159: JEUDI | J159: VENDREDI | L159: SAMEDI | N159: DIMANCHE
B160: MIDI | C160: SOIR | D160: MIDI | E160: SOIR | F160: MIDI | G160: SOIR | H160: MIDI | I160: SOIR | J160: MIDI | K160: SOIR | L160: MIDI | M160: SOIR | N160: MIDI | O160: SOIR
A161: H Arrivé | B161: ='SALLE CORDELIER'!C31 -> 0 | C161: ='SALLE CORDELIER'!D31 -> 0 | D161: ='SALLE CORDELIER'!E31 -> 0 | E161: ='SALLE CORDELIER'!F31 -> 0 | F161: ='SALLE CORDELIER'!G31 -> 0 | G161: ='SALLE CORDELIER'!H31 -> 0 | H161: ='SALLE CORDELIER'!I31 -> 0 | I161: ='SALLE CORDELIER'!J31 -> 0 | ... O161: ='SALLE CORDELIER'!P31 -> 0
A162: H départ | B162: ='SALLE CORDELIER'!C32 -> 0 | C162: ='SALLE CORDELIER'!D32 -> 0 | D162: ='SALLE CORDELIER'!E32 -> 0 | E162: ='SALLE CORDELIER'!F32 -> 0 | F162: ='SALLE CORDELIER'!G32 -> 0 | G162: ='SALLE CORDELIER'!H32 -> 0 | H162: ='SALLE CORDELIER'!I32 -> 0 | I162: ='SALLE CORDELIER'!J32 -> 0 | ... O162: ='SALLE CORDELIER'!P32 -> 0
A163: Pause | B163: ='SALLE CORDELIER'!C33 -> 0 | C163: ='SALLE CORDELIER'!D33 -> 0 | D163: ='SALLE CORDELIER'!E33 -> 0 | E163: ='SALLE CORDELIER'!F33 -> 0 | F163: ='SALLE CORDELIER'!G33 -> 0 | G163: ='SALLE CORDELIER'!H33 -> 0 | H163: ='SALLE CORDELIER'!I33 -> 0 | I163: ='SALLE CORDELIER'!J33 -> 0 | ... O163: ='SALLE CORDELIER'!P33 -> 0
A164: Total | B164: ='SALLE CORDELIER'!C34 -> 0 | C164: ='SALLE CORDELIER'!D34 -> 0 | D164: ='SALLE CORDELIER'!E34 -> 0 | E164: ='SALLE CORDELIER'!F34 -> 0 | F164: ='SALLE CORDELIER'!G34 -> 0 | G164: ='SALLE CORDELIER'!H34 -> 0 | H164: ='SALLE CORDELIER'!I34 -> 0 | I164: ='SALLE CORDELIER'!J34 -> 0 | ... O164: ='SALLE CORDELIER'!P34 -> 0
A165: Total Jour | B165: ='SALLE CORDELIER'!C35 -> 0 | D165: ='SALLE CORDELIER'!E35 -> 0 | F165: ='SALLE CORDELIER'!G35 -> 0 | H165: ='SALLE CORDELIER'!I35 -> 0 | J165: ='SALLE CORDELIER'!K35 -> 0 | L165: ='SALLE CORDELIER'!M35 -> 0 | N165: ='SALLE CORDELIER'!O35 -> 0
B168: LUNDI | D168: MARDI | F168: MERCREDI | H168: JEUDI | J168: VENDREDI | L168: SAMEDI | N168: DIMANCHE
B169: MIDI | C169: SOIR | D169: MIDI | E169: SOIR | F169: MIDI | G169: SOIR | H169: MIDI | I169: SOIR | J169: MIDI | K169: SOIR | L169: MIDI | M169: SOIR | N169: MIDI | O169: SOIR
A170: H Arrivé
A171: H départ
A172: Pause
A173: Total
...

Sheet CORDELIER EMMARGEMENT CUISINE
B1: NOM : | D1: ='CUISINE CORDELIER'!A8 -> FALI | H1: SEMAINE : | J1: ='CUISINE CORDELIER'!C3 -> 51
B2: PRENOM : | D2: ='CUISINE CORDELIER'!A6 -> NAMIR | I2: DU : | J2: ='CUISINE CORDELIER'!I3 -> 43794 | M2: =J2+6 -> 43800
B4: LUNDI | D4: MARDI | F4: MERCREDI | H4: JEUDI | J4: VENDREDI | L4: SAMEDI | N4: DIMANCHE
B5: MIDI | C5: SOIR | D5: MIDI | E5: SOIR | F5: MIDI | G5: SOIR | H5: MIDI | I5: SOIR | J5: MIDI | K5: SOIR | L5: MIDI | M5: SOIR | N5: MIDI | O5: SOIR
A6: H Arrivé | B6: ='CUISINE CORDELIER'!C6 -> 0.5 | C6: ='CUISINE CORDELIER'!D6 -> 0.75 | D6: ='CUISINE CORDELIER'!E6 -> 0 | E6: ='CUISINE CORDELIER'!F6 -> 0 | F6: ='CUISINE CORDELIER'!G6 -> 0 | G6: ='CUISINE CORDELIER'!H6 -> 0 | H6: ='CUISINE CORDELIER'!I6 -> 0 | I6: ='CUISINE CORDELIER'!J6 -> 0 | ... O6: ='CUISINE CORDELIER'!P6 -> 0
A7: H départ | B7: ='CUISINE CORDELIER'!C7 -> 0.625 | C7: ='CUISINE CORDELIER'!D7 -> 1 | D7: ='CUISINE CORDELIER'!E7 -> 0 | E7: ='CUISINE CORDELIER'!F7 -> 0 | F7: ='CUISINE CORDELIER'!G7 -> 0 | G7: ='CUISINE CORDELIER'!H7 -> 0 | H7: ='CUISINE CORDELIER'!I7 -> 0 | I7: ='CUISINE CORDELIER'!J7 -> 0 | ... O7: ='CUISINE CORDELIER'!P7 -> 0
A8: Pause | B8: ='CUISINE CORDELIER'!C8 -> 0.020833333 | C8: ='CUISINE CORDELIER'!D8 -> 0.020833333 | D8: ='CUISINE CORDELIER'!E8 -> 0 | E8: ='CUISINE CORDELIER'!F8 -> 0 | F8: ='CUISINE CORDELIER'!G8 -> 0 | G8: ='CUISINE CORDELIER'!H8 -> 0 | H8: ='CUISINE CORDELIER'!I8 -> 0 | I8: ='CUISINE CORDELIER'!J8 -> 0 | ... O8: ='CUISINE CORDELIER'!P8 -> 0
A9: Total | B9: ='CUISINE CORDELIER'!C9 -> 0.10416667 | C9: ='CUISINE CORDELIER'!D9 -> 0.22916667 | D9: ='CUISINE CORDELIER'!E9 -> 0 | E9: ='CUISINE CORDELIER'!F9 -> 0 | F9: ='CUISINE CORDELIER'!G9 -> 0 | G9: ='CUISINE CORDELIER'!H9 -> 0 | H9: ='CUISINE CORDELIER'!I9 -> 0 | I9: ='CUISINE CORDELIER'!J9 -> 0 | ... O9: ='CUISINE CORDELIER'!P9 -> 0
A10: Total Jour | B10: ='CUISINE CORDELIER'!C10 -> 0.33333333 | D10: ='CUISINE CORDELIER'!E10 -> 0 | F10: ='CUISINE CORDELIER'!G10 -> 0 | H10: ='CUISINE CORDELIER'!I10 -> 0 | J10: ='CUISINE CORDELIER'!K10 -> 0 | L10: ='CUISINE CORDELIER'!M10 -> 0 | N10: ='CUISINE CORDELIER'!O10 -> 0
B13: LUNDI | D13: MARDI | F13: MERCREDI | H13: JEUDI | J13: VENDREDI | L13: SAMEDI | N13: DIMANCHE
B14: MIDI | C14: SOIR | D14: MIDI | E14: SOIR | F14: MIDI | G14: SOIR | H14: MIDI | I14: SOIR | J14: MIDI | K14: SOIR | L14: MIDI | M14: SOIR | N14: MIDI | O14: SOIR
A15: H Arrivé
A16: H départ
A17: Pause
A18: Total
A19: Total Jour
A23: TOTAL PREVU | C23: ='CUISINE CORDELIER'!$Q$5 -> 0 | F23: TOTAL REALISE | K23: SIGNATURE
B32: NOM : | D32: ='CUISINE CORDELIER'!A13 -> NAIT BOUSSALEM | H32: SEMAINE : | J32: 51
B33: PRENOM : | D33: ='CUISINE CORDELIER'!A11 -> ABDERRAZZAK | I33: DU : | J33: 43794 | M33: 43800
B35: LUNDI | D35: MARDI | F35: MERCREDI | H35: JEUDI | J35: VENDREDI | L35: SAMEDI | N35: DIMANCHE
B36: MIDI | C36: SOIR | D36: MIDI | E36: SOIR | F36: MIDI | G36: SOIR | H36: MIDI | I36: SOIR | J36: MIDI | K36: SOIR | L36: MIDI | M36: SOIR | N36: MIDI | O36: SOIR
A37: H Arrivé | B37: ='CUISINE CORDELIER'!C11 -> 0 | C37: ='CUISINE CORDELIER'!D11 -> 0 | D37: ='CUISINE CORDELIER'!E11 -> 0 | E37: ='CUISINE CORDELIER'!F11 -> 0 | F37: ='CUISINE CORDELIER'!G11 -> 0 | G37: ='CUISINE CORDELIER'!H11 -> 0 | H37: ='CUISINE CORDELIER'!I11 -> 0 | I37: ='CUISINE CORDELIER'!J11 -> 0 | ... O37: ='CUISINE CORDELIER'!P11 -> 0
A38: H départ | B38: ='CUISINE CORDELIER'!C12 -> 0 | C38: ='CUISINE CORDELIER'!D12 -> 0 | D38: ='CUISINE CORDELIER'!E12 -> 0 | E38: ='CUISINE CORDELIER'!F12 -> 0 | F38: ='CUISINE CORDELIER'!G12 -> 0 | G38: ='CUISINE CORDELIER'!H12 -> 0 | H38: ='CUISINE CORDELIER'!I12 -> 0 | I38: ='CUISINE CORDELIER'!J12 -> 0 | ... O38: ='CUISINE CORDELIER'!P12 -> 0
A39: Pause | B39: ='CUISINE CORDELIER'!C13 -> 0 | C39: ='CUISINE CORDELIER'!D13 -> 0 | D39: ='CUISINE CORDELIER'!E13 -> 0 | E39: ='CUISINE CORDELIER'!F13 -> 0 | F39: ='CUISINE CORDELIER'!G13 -> 0 | G39: ='CUISINE CORDELIER'!H13 -> 0 | H39: ='CUISINE CORDELIER'!I13 -> 0 | I39: ='CUISINE CORDELIER'!J13 -> 0 | ... O39: ='CUISINE CORDELIER'!P13 -> 0
A40: Total | B40: ='CUISINE CORDELIER'!C14 -> 0 | C40: ='CUISINE CORDELIER'!D14 -> 0 | D40: ='CUISINE CORDELIER'!E14 -> 0 | E40: ='CUISINE CORDELIER'!F14 -> 0 | F40: ='CUISINE CORDELIER'!G14 -> 0 | G40: ='CUISINE CORDELIER'!H14 -> 0 | H40: ='CUISINE CORDELIER'!I14 -> 0 | I40: ='CUISINE CORDELIER'!J14 -> 0 | ... O40: ='CUISINE CORDELIER'!P14 -> 0
A41: Total Jour | B41: ='CUISINE CORDELIER'!C15 -> 0 | D41: ='CUISINE CORDELIER'!E15 -> 0 | F41: ='CUISINE CORDELIER'!G15 -> 0 | H41: ='CUISINE CORDELIER'!I15 -> 0 | J41: ='CUISINE CORDELIER'!K15 -> 0 | L41: ='CUISINE CORDELIER'!M15 -> 0 | N41: ='CUISINE CORDELIER'!O15 -> 0
B44: LUNDI | D44: MARDI | F44: MERCREDI | H44: JEUDI | J44: VENDREDI | L44: SAMEDI | N44: DIMANCHE
B45: MIDI | C45: SOIR | D45: MIDI | E45: SOIR | F45: MIDI | G45: SOIR | H45: MIDI | I45: SOIR | J45: MIDI | K45: SOIR | L45: MIDI | M45: SOIR | N45: MIDI | O45: SOIR
A46: H Arrivé
A47: H départ
A48: Pause
A49: Total
A50: Total Jour
A54: TOTAL PREVU | C54: ='CUISINE CORDELIER'!Q11 -> 0 | F54: TOTAL REALISE | K54: SIGNATURE
B61: NOM : | D61: ='CUISINE CORDELIER'!A18 -> LAGAILLARDE | H61: SEMAINE : | J61: 51
B62: PRENOM : | D62: ='CUISINE CORDELIER'!A16 -> QUENTIN | I62: DU : | J62: 43794 | M62: 43800
B64: LUNDI | D64: MARDI | F64: MERCREDI | H64: JEUDI | J64: VENDREDI | L64: SAMEDI | N64: DIMANCHE
B65: MIDI | C65: SOIR | D65: MIDI | E65: SOIR | F65: MIDI | G65: SOIR | H65: MIDI | I65: SOIR | J65: MIDI | K65: SOIR | L65: MIDI | M65: SOIR | N65: MIDI | O65: SOIR
A66: H Arrivé | B66: ='CUISINE CORDELIER'!C16 -> 0 | C66: ='CUISINE CORDELIER'!D16 -> 0 | D66: ='CUISINE CORDELIER'!E16 -> 0 | E66: ='CUISINE CORDELIER'!F16 -> 0 | F66: ='CUISINE CORDELIER'!G16 -> 0 | G66: ='CUISINE CORDELIER'!H16 -> 0 | H66: ='CUISINE CORDELIER'!I16 -> 0 | I66: ='CUISINE CORDELIER'!J16 -> 0 | ... O66: ='CUISINE CORDELIER'!P16 -> 0
A67: H départ | B67: ='CUISINE CORDELIER'!C17 -> 0 | C67: ='CUISINE CORDELIER'!D17 -> 0 | D67: ='CUISINE CORDELIER'!E17 -> 0 | E67: ='CUISINE CORDELIER'!F17 -> 0 | F67: ='CUISINE CORDELIER'!G17 -> 0 | G67: ='CUISINE CORDELIER'!H17 -> 0 | H67: ='CUISINE CORDELIER'!I17 -> 0 | I67: ='CUISINE CORDELIER'!J17 -> 0 | ... O67: ='CUISINE CORDELIER'!P17 -> 0
A68: Pause | B68: ='CUISINE CORDELIER'!C18 -> 0 | C68: ='CUISINE CORDELIER'!D18 -> 0 | D68: ='CUISINE CORDELIER'!E18 -> 0 | E68: ='CUISINE CORDELIER'!F18 -> 0 | F68: ='CUISINE CORDELIER'!G18 -> 0 | G68: ='CUISINE CORDELIER'!H18 -> 0 | H68: ='CUISINE CORDELIER'!I18 -> 0 | I68: ='CUISINE CORDELIER'!J18 -> 0 | ... O68: ='CUISINE CORDELIER'!P18 -> 0
A69: Total | B69: ='CUISINE CORDELIER'!C19 -> 0 | C69: ='CUISINE CORDELIER'!D19 -> 0 | D69: ='CUISINE CORDELIER'!E19 -> 0 | E69: ='CUISINE CORDELIER'!F19 -> 0 | F69: ='CUISINE CORDELIER'!G19 -> 0 | G69: ='CUISINE CORDELIER'!H19 -> 0 | H69: ='CUISINE CORDELIER'!I19 -> 0 | I69: ='CUISINE CORDELIER'!J19 -> 0 | ... O69: ='CUISINE CORDELIER'!P19 -> 0
A70: Total Jour | B70: ='CUISINE CORDELIER'!C20 -> 0 | D70: ='CUISINE CORDELIER'!E20 -> 0 | F70: ='CUISINE CORDELIER'!G20 -> 0 | H70: ='CUISINE CORDELIER'!I20 -> 0 | J70: ='CUISINE CORDELIER'!K20 -> 0 | L70: ='CUISINE CORDELIER'!M20 -> 0 | N70: ='CUISINE CORDELIER'!O20 -> 0
B73: LUNDI | D73: MARDI | F73: MERCREDI | H73: JEUDI | J73: VENDREDI | L73: SAMEDI | N73: DIMANCHE
B74: MIDI | C74: SOIR | D74: MIDI | E74: SOIR | F74: MIDI | G74: SOIR | H74: MIDI | I74: SOIR | J74: MIDI | K74: SOIR | L74: MIDI | M74: SOIR | N74: MIDI | O74: SOIR
A75: H Arrivé
A76: H départ
A77: Pause
A78: Total
A79: Total Jour
A83: TOTAL PREVU | C83: ='CUISINE CORDELIER'!Q16 -> 0 | F83: TOTAL REALISE | K83: SIGNATURE
B89: NOM : | D89: ='CUISINE CORDELIER'!A23 -> LOPEZ PEREZ | H89: SEMAINE : | J89: 51
B90: PRENOM : | D90: ='CUISINE CORDELIER'!A21 -> JEAMBARDY | I90: DU : | J90: 43794 | M90: 43800
B92: LUNDI | D92: MARDI | F92: MERCREDI | H92: JEUDI | J92: VENDREDI | L92: SAMEDI | N92: DIMANCHE
B93: MIDI | C93: SOIR | D93: MIDI | E93: SOIR | F93: MIDI | G93: SOIR | H93: MIDI | I93: SOIR | J93: MIDI | K93: SOIR | L93: MIDI | M93: SOIR | N93: MIDI | O93: SOIR
A94: H Arrivé | B94: ='CUISINE CORDELIER'!C21 -> 0 | C94: ='CUISINE CORDELIER'!D21 -> 0 | D94: ='CUISINE CORDELIER'!E21 -> 0 | E94: ='CUISINE CORDELIER'!F21 -> 0 | F94: ='CUISINE CORDELIER'!G21 -> 0 | G94: ='CUISINE CORDELIER'!H21 -> 0 | H94: ='CUISINE CORDELIER'!I21 -> 0 | I94: ='CUISINE CORDELIER'!J21 -> 0 | ... O94: ='CUISINE CORDELIER'!P21 -> 0
A95: H départ | B95: ='CUISINE CORDELIER'!C22 -> 0 | C95: ='CUISINE CORDELIER'!D22 -> 0 | D95: ='CUISINE CORDELIER'!E22 -> 0 | E95: ='CUISINE CORDELIER'!F22 -> 0 | F95: ='CUISINE CORDELIER'!G22 -> 0 | G95: ='CUISINE CORDELIER'!H22 -> 0 | H95: ='CUISINE CORDELIER'!I22 -> 0 | I95: ='CUISINE CORDELIER'!J22 -> 0 | ... O95: ='CUISINE CORDELIER'!P22 -> 0
A96: Pause | B96: ='CUISINE CORDELIER'!C23 -> 0 | C96: ='CUISINE CORDELIER'!D23 -> 0 | D96: ='CUISINE CORDELIER'!E23 -> 0 | E96: ='CUISINE CORDELIER'!F23 -> 0 | F96: ='CUISINE CORDELIER'!G23 -> 0 | G96: ='CUISINE CORDELIER'!H23 -> 0 | H96: ='CUISINE CORDELIER'!I23 -> 0 | I96: ='CUISINE CORDELIER'!J23 -> 0 | ... O96: ='CUISINE CORDELIER'!P23 -> 0
A97: Total | B97: ='CUISINE CORDELIER'!C24 -> 0 | C97: ='CUISINE CORDELIER'!D24 -> 0 | D97: ='CUISINE CORDELIER'!E24 -> 0 | E97: ='CUISINE CORDELIER'!F24 -> 0 | F97: ='CUISINE CORDELIER'!G24 -> 0 | G97: ='CUISINE CORDELIER'!H24 -> 0 | H97: ='CUISINE CORDELIER'!I24 -> 0 | I97: ='CUISINE CORDELIER'!J24 -> 0 | ... O97: ='CUISINE CORDELIER'!P24 -> 0
A98: Total Jour | B98: ='CUISINE CORDELIER'!C25 -> 0 | D98: ='CUISINE CORDELIER'!E25 -> 0 | F98: ='CUISINE CORDELIER'!G25 -> 0 | H98: ='CUISINE CORDELIER'!I25 -> 0 | J98: ='CUISINE CORDELIER'!K25 -> 0 | L98: ='CUISINE CORDELIER'!M25 -> 0 | N98: ='CUISINE CORDELIER'!O25 -> 0
B101: LUNDI | D101: MARDI | F101: MERCREDI | H101: JEUDI | J101: VENDREDI | L101: SAMEDI | N101: DIMANCHE
B102: MIDI | C102: SOIR | D102: MIDI | E102: SOIR | F102: MIDI | G102: SOIR | H102: MIDI | I102: SOIR | J102: MIDI | K102: SOIR | L102: MIDI | M102: SOIR | N102: MIDI | O102: SOIR
A103: H Arrivé
A104: H départ
A105: Pause
A106: Total
A107: Total Jour
A111: TOTAL PREVU | C111: ='CUISINE CORDELIER'!Q21 -> 0 | F111: TOTAL REALISE | K111: SIGNATURE
B116: NOM : | D116: ='CUISINE CORDELIER'!A28 -> BILLON | H116: SEMAINE : | J116: 51
B117: PRENOM : | D117: ='CUISINE CORDELIER'!A26 -> MICHEL | I117: DU : | J117: 43794 | M117: 43800
B119: LUNDI | D119: MARDI | F119: MERCREDI | H119: JEUDI | J119: VENDREDI | L119: SAMEDI | N119: DIMANCHE
B120: MIDI | C120: SOIR | D120: MIDI | E120: SOIR | F120: MIDI | G120: SOIR | H120: MIDI | I120: SOIR | J120: MIDI | K120: SOIR | L120: MIDI | M120: SOIR | N120: MIDI | O120: SOIR
A121: H Arrivé | B121: ='CUISINE CORDELIER'!C26 -> 0 | C121: ='CUISINE CORDELIER'!D26 -> 0 | D121: ='CUISINE CORDELIER'!E26 -> 0 | E121: ='CUISINE CORDELIER'!F26 -> 0 | F121: ='CUISINE CORDELIER'!G26 -> 0 | G121: ='CUISINE CORDELIER'!H26 -> 0 | H121: ='CUISINE CORDELIER'!I26 -> 0 | I121: ='CUISINE CORDELIER'!J26 -> 0 | ... O121: ='CUISINE CORDELIER'!P26 -> 0
A122: H départ | B122: ='CUISINE CORDELIER'!C27 -> 0 | C122: ='CUISINE CORDELIER'!D27 -> 0 | D122: ='CUISINE CORDELIER'!E27 -> 0 | E122: ='CUISINE CORDELIER'!F27 -> 0 | F122: ='CUISINE CORDELIER'!G27 -> 0 | G122: ='CUISINE CORDELIER'!H27 -> 0 | H122: ='CUISINE CORDELIER'!I27 -> 0 | I122: ='CUISINE CORDELIER'!J27 -> 0 | ... O122: ='CUISINE CORDELIER'!P27 -> 0
A123: Pause | B123: ='CUISINE CORDELIER'!C28 -> 0 | C123: ='CUISINE CORDELIER'!D28 -> 0 | D123: ='CUISINE CORDELIER'!E28 -> 0 | E123: ='CUISINE CORDELIER'!F28 -> 0 | F123: ='CUISINE CORDELIER'!G28 -> 0 | G123: ='CUISINE CORDELIER'!H28 -> 0 | H123: ='CUISINE CORDELIER'!I28 -> 0 | I123: ='CUISINE CORDELIER'!J28 -> 0 | ... O123: ='CUISINE CORDELIER'!P28 -> 0
A124: Total | B124: ='CUISINE CORDELIER'!C29 -> 0 | C124: ='CUISINE CORDELIER'!D29 -> 0 | D124: ='CUISINE CORDELIER'!E29 -> 0 | E124: ='CUISINE CORDELIER'!F29 -> 0 | F124: ='CUISINE CORDELIER'!G29 -> 0 | G124: ='CUISINE CORDELIER'!H29 -> 0 | H124: ='CUISINE CORDELIER'!I29 -> 0 | I124: ='CUISINE CORDELIER'!J29 -> 0 | ... O124: ='CUISINE CORDELIER'!P29 -> 0
A125: Total Jour | B125: ='CUISINE CORDELIER'!C30 -> 0 | D125: ='CUISINE CORDELIER'!E30 -> 0 | F125: ='CUISINE CORDELIER'!G30 -> 0 | H125: ='CUISINE CORDELIER'!I30 -> 0 | J125: ='CUISINE CORDELIER'!K30 -> 0 | L125: ='CUISINE CORDELIER'!M30 -> 0 | N125: ='CUISINE CORDELIER'!O30 -> 0
B128: LUNDI | D128: MARDI | F128: MERCREDI | H128: JEUDI | J128: VENDREDI | L128: SAMEDI | N128: DIMANCHE
B129: MIDI | C129: SOIR | D129: MIDI | E129: SOIR | F129: MIDI | G129: SOIR | H129: MIDI | I129: SOIR | J129: MIDI | K129: SOIR | L129: MIDI | M129: SOIR | N129: MIDI | O129: SOIR
A130: H Arrivé
A131: H départ
A132: Pause
A133: Total
A134: Total Jour
A138: TOTAL PREVU | C138: ='CUISINE CORDELIER'!Q26 -> 0 | F138: TOTAL REALISE | K138: SIGNATURE
B142: NOM : | D142: ='CUISINE CORDELIER'!A33 -> ZITOUNI | H142: SEMAINE : | J142: 51
B143: PRENOM : | D143: ='CUISINE CORDELIER'!A31 -> JAD | I143: DU : | J143: 43794 | M143: 43800
B145: LUNDI | D145: MARDI | F145: MERCREDI | H145: JEUDI | J145: VENDREDI | L145: SAMEDI | N145: DIMANCHE
B146: MIDI | C146: SOIR | D146: MIDI | E146: SOIR | F146: MIDI | G146: SOIR | H146: MIDI | I146: SOIR | J146: MIDI | K146: SOIR | L146: MIDI | M146: SOIR | N146: MIDI | O146: SOIR
A147: H Arrivé | B147: ='CUISINE CORDELIER'!C31 -> 0 | C147: ='CUISINE CORDELIER'!D31 -> 0 | D147: ='CUISINE CORDELIER'!E31 -> 0 | E147: ='CUISINE CORDELIER'!F31 -> 0 | F147: ='CUISINE CORDELIER'!G31 -> 0 | G147: ='CUISINE CORDELIER'!H31 -> 0 | H147: ='CUISINE CORDELIER'!I31 -> 0 | I147: ='CUISINE CORDELIER'!J31 -> 0 | ... O147: ='CUISINE CORDELIER'!P31 -> 0
A148: H départ | B148: ='CUISINE CORDELIER'!C32 -> 0 | C148: ='CUISINE CORDELIER'!D32 -> 0 | D148: ='CUISINE CORDELIER'!E32 -> 0 | E148: ='CUISINE CORDELIER'!F32 -> 0 | F148: ='CUISINE CORDELIER'!G32 -> 0 | G148: ='CUISINE CORDELIER'!H32 -> 0 | H148: ='CUISINE CORDELIER'!I32 -> 0 | I148: ='CUISINE CORDELIER'!J32 -> 0 | ... O148: ='CUISINE CORDELIER'!P32 -> 0
A149: Pause | B149: ='CUISINE CORDELIER'!C33 -> 0 | C149: ='CUISINE CORDELIER'!D33 -> 0 | D149: ='CUISINE CORDELIER'!E33 -> 0 | E149: ='CUISINE CORDELIER'!F33 -> 0 | F149: ='CUISINE CORDELIER'!G33 -> 0 | G149: ='CUISINE CORDELIER'!H33 -> 0 | H149: ='CUISINE CORDELIER'!I33 -> 0 | I149: ='CUISINE CORDELIER'!J33 -> 0 | ... O149: ='CUISINE CORDELIER'!P33 -> 0
A150: Total | B150: ='CUISINE CORDELIER'!C34 -> 0 | C150: ='CUISINE CORDELIER'!D34 -> 0 | D150: ='CUISINE CORDELIER'!E34 -> 0 | E150: ='CUISINE CORDELIER'!F34 -> 0 | F150: ='CUISINE CORDELIER'!G34 -> 0 | G150: ='CUISINE CORDELIER'!H34 -> 0 | H150: ='CUISINE CORDELIER'!I34 -> 0 | I150: ='CUISINE CORDELIER'!J34 -> 0 | ... O150: ='CUISINE CORDELIER'!P34 -> 0
A151: Total Jour | B151: ='CUISINE CORDELIER'!C35 -> 0 | D151: ='CUISINE CORDELIER'!E35 -> 0 | F151: ='CUISINE CORDELIER'!G35 -> 0 | H151: ='CUISINE CORDELIER'!I35 -> 0 | J151: ='CUISINE CORDELIER'!K35 -> 0 | L151: ='CUISINE CORDELIER'!M35 -> 0 | N151: ='CUISINE CORDELIER'!O35 -> 0
B154: LUNDI | D154: MARDI | F154: MERCREDI | H154: JEUDI | J154: VENDREDI | L154: SAMEDI | N154: DIMANCHE
B155: MIDI | C155: SOIR | D155: MIDI | E155: SOIR | F155: MIDI | G155: SOIR | H155: MIDI | I155: SOIR | J155: MIDI | K155: SOIR | L155: MIDI | M155: SOIR | N155: MIDI | O155: SOIR
A156: H Arrivé
A157: H départ
A158: Pause
A159: Total
...
