Workbook
Name NOMRESTO: #REF!

Sheet SALLE GERLAND
A1: SALLE | F1: CHEZ CARLO | M1: GERLAND
B3: SEMAINE : | C3: 51 | H3: DU : | I3: 43794 | L3: au | M3: =I3+6 -> 43800
C4: LUNDI | E4: MARDI | G4: MERCREDI | I4: JEUDI | K4: VENDREDI | M4: SAMEDI | O4: DIMANCHE | Q4: TOTAL
C5: MIDI | D5: SOIR | E5: MIDI | F5: SOIR | G5: MIDI | H5: SOIR | I5: MIDI | J5: SOIR | K5: MIDI | L5: SOIR | M5: MIDI | N5: SOIR | O5: MIDI | P5: SOIR
A6: ADRIEN | B6: H Arrivé | Q6: =SUM(C10:P10) -> 0
B7: H départ
A8: FORESTIER | B8: Pause
B9: Total | C9: =IF(C6="R","R",(C7-C6-C8)) -> 0 | D9: =IF(D6="R","R",(D7-D6-D8)) -> 0 | E9: =IF(E6="R","R",(E7-E6-E8)) -> 0 | F9: =IF(F6="R","R",(F7-F6-F8)) -> 0 | G9: =IF(G6="R","R",(G7-G6-G8)) -> 0 | H9: =IF(H6="R","R",(H7-H6-H8)) -> 0 | I9: =IF(I6="R","R",(I7-I6-I8)) -> 0 | J9: =IF(J6="R","R",(J7-J6-J8)) -> 0 | ... P9: =IF(P6="R","R",(P7-P6-P8)) -> 0
B10: Total Jour | C10: =IF(C9="R",D9,C9+(IF(D9="R",0,D9))) -> 0 | E10: =IF(E9="R",F9,E9+(IF(F9="R",0,F9))) -> 0 | G10: =IF(G9="R",H9,G9+(IF(H9="R",0,H9))) -> 0 | I10: =IF(I9="R",J9,I9+(IF(J9="R",0,J9))) -> 0 | K10: =IF(K9="R",L9,K9+(IF(L9="R",0,L9))) -> 0 | M10: =IF(M9="R",N9,M9+(IF(N9="R",0,N9))) -> 0 | O10: =IF(O9="R",P9,O9+(IF(P9="R",0,P9))) -> 0
A11: SABINE | B11: H Arrivé | Q11: =SUM(C15:P15) -> 0
B12: H départ
A13: FONTAINE | B13: Pause
B14: Total | C14: =IF(C11="R","R",(C12-C11-C13)) -> 0 | D14: =IF(D11="R","R",(D12-D11-D13)) -> 0 | E14: =IF(E11="R","R",(E12-E11-E13)) -> 0 | F14: =IF(F11="R","R",(F12-F11-F13)) -> 0 | G14: =IF(G11="R","R",(G12-G11-G13)) -> 0 | H14: =IF(H11="R","R",(H12-H11-H13)) -> 0 | I14: =IF(I11="R","R",(I12-I11-I13)) -> 0 | J14: =IF(J11="R","R",(J12-J11-J13)) -> 0 | ... P14: =IF(P11="R","R",(P12-P11-P13)) -> 0
B15: Total Jour | C15: =IF(C14="R",D14,C14+(IF(D14="R",0,D14))) -> 0 | E15: =IF(E14="R",F14,E14+(IF(F14="R",0,F14))) -> 0 | G15: =IF(G14="R",H14,G14+(IF(H14="R",0,H14))) -> 0 | I15: =IF(I14="R",J14,I14+(IF(J14="R",0,J14))) -> 0 | K15: =IF(K14="R",L14,K14+(IF(L14="R",0,L14))) -> 0 | M15: =IF(M14="R",N14,M14+(IF(N14="R",0,N14))) -> 0 | O15: =IF(O14="R",P14,O14+(IF(P14="R",0,P14))) -> 0
A16: JEAN MICHEL | B16: H Arrivé | Q16: =SUM(C20:P20) -> 0
B17: H départ
A18: ORLENKO | B18: Pause
B19: Total | C19: =IF(C16="R","R",(C17-C16-C18)) -> 0 | D19: =IF(D16="R","R",(D17-D16-D18)) -> 0 | E19: =IF(E16="R","R",(E17-E16-E18)) -> 0 | F19: =IF(F16="R","R",(F17-F16-F18)) -> 0 | G19: =IF(G16="R","R",(G17-G16-G18)) -> 0 | H19: =IF(H16="R","R",(H17-H16-H18)) -> 0 | I19: =IF(I16="R","R",(I17-I16-I18)) -> 0 | J19: =IF(J16="R","R",(J17-J16-J18)) -> 0 | ... P19: =IF(P16="R","R",(P17-P16-P18)) -> 0
B20: Total Jour | C20: =IF(C19="R",D19,C19+(IF(D19="R",0,D19))) -> 0 | E20: =IF(E19="R",F19,E19+(IF(F19="R",0,F19))) -> 0 | G20: =IF(G19="R",H19,G19+(IF(H19="R",0,H19))) -> 0 | I20: =IF(I19="R",J19,I19+(IF(J19="R",0,J19))) -> 0 | K20: =IF(K19="R",L19,K19+(IF(L19="R",0,L19))) -> 0 | M20: =IF(M19="R",N19,M19+(IF(N19="R",0,N19))) -> 0 | O20: =IF(O19="R",P19,O19+(IF(P19="R",0,P19))) -> 0
A21: MAXIME | B21: H Arrivé | Q21: =SUM(C25:P25) -> 0
B22: H départ
A23: POKORSKI | B23: Pause
B24: Total | C24: =IF(C21="R","R",(C22-C21-C23)) -> 0 | D24: =IF(D21="R","R",(D22-D21-D23)) -> 0 | E24: =IF(E21="R","R",(E22-E21-E23)) -> 0 | F24: =IF(F21="R","R",(F22-F21-F23)) -> 0 | G24: =IF(G21="R","R",(G22-G21-G23)) -> 0 | H24: =IF(H21="R","R",(H22-H21-H23)) -> 0 | I24: =IF(I21="R","R",(I22-I21-I23)) -> 0 | J24: =IF(J21="R","R",(J22-J21-J23)) -> 0 | ... P24: =IF(P21="R","R",(P22-P21-P23)) -> 0
B25: Total Jour | C25: =IF(C24="R",D24,C24+(IF(D24="R",0,D24))) -> 0 | E25: =IF(E24="R",F24,E24+(IF(F24="R",0,F24))) -> 0 | G25: =IF(G24="R",H24,G24+(IF(H24="R",0,H24))) -> 0 | I25: =IF(I24="R",J24,I24+(IF(J24="R",0,J24))) -> 0 | K25: =IF(K24="R",L24,K24+(IF(L24="R",0,L24))) -> 0 | M25: =IF(M24="R",N24,M24+(IF(N24="R",0,N24))) -> 0 | O25: =IF(O24="R",P24,O24+(IF(P24="R",0,P24))) -> 0
B26: H Arrivé | Q26: =SUM(C30:P30) -> 0
B27: H départ
B28: Pause
B29: Total | C29: =IF(C26="R","R",(C27-C26-C28)) -> 0 | D29: =IF(D26="R","R",(D27-D26-D28)) -> 0 | E29: =IF(E26="R","R",(E27-E26-E28)) -> 0 | F29: =IF(F26="R","R",(F27-F26-F28)) -> 0 | G29: =IF(G26="R","R",(G27-G26-G28)) -> 0 | H29: =IF(H26="R","R",(H27-H26-H28)) -> 0 | I29: =IF(I26="R","R",(I27-I26-I28)) -> 0 | J29: =IF(J26="R","R",(J27-J26-J28)) -> 0 | ... P29: =IF(P26="R","R",(P27-P26-P28)) -> 0
B30: Total Jour | C30: =IF(C29="R",D29,C29+(IF(D29="R",0,D29))) -> 0 | E30: =IF(E29="R",F29,E29+(IF(F29="R",0,F29))) -> 0 | G30: =IF(G29="R",H29,G29+(IF(H29="R",0,H29))) -> 0 | I30: =IF(I29="R",J29,I29+(IF(J29="R",0,J29))) -> 0 | K30: =IF(K29="R",L29,K29+(IF(L29="R",0,L29))) -> 0 | M30: =IF(M29="R",N29,M29+(IF(N29="R",0,N29))) -> 0 | O30: =IF(O29="R",P29,O29+(IF(P29="R",0,P29))) -> 0
B31: H Arrivé | Q31: =SUM(C35:P35) -> 0
B32: H départ
B33: Pause
B34: Total | C34: =IF(C31="R","R",(C32-C31-C33)) -> 0 | D34: =IF(D31="R","R",(D32-D31-D33)) -> 0 | E34: =IF(E31="R","R",(E32-E31-E33)) -> 0 | F34: =IF(F31="R","R",(F32-F31-F33)) -> 0 | G34: =IF(G31="R","R",(G32-G31-G33)) -> 0 | H34: =IF(H31="R","R",(H32-H31-H33)) -> 0 | I34: =IF(I31="R","R",(I32-I31-I33)) -> 0 | J34: =IF(J31="R","R",(J32-J31-J33)) -> 0 | ... P34: =IF(P31="R","R",(P32-P31-P33)) -> 0
B35: Total Jour | C35: =IF(C34="R",D34,C34+(IF(D34="R",0,D34))) -> 0 | E35: =IF(E34="R",F34,E34+(IF(F34="R",0,F34))) -> 0 | G35: =IF(G34="R",H34,G34+(IF(H34="R",0,H34))) -> 0 | I35: =IF(I34="R",J34,I34+(IF(J34="R",0,J34))) -> 0 | K35: =IF(K34="R",L34,K34+(IF(L34="R",0,L34))) -> 0 | M35: =IF(M34="R",N34,M34+(IF(N34="R",0,N34))) -> 0 | O35: =IF(O34="R",P34,O34+(IF(P34="R",0,P34))) -> 0
B36: H Arrivé | Q36: =SUM(C40:P40) -> 0
B37: H départ
B38: Pause
B39: Total | C39: =IF(C36="R","R",(C37-C36-C38)) -> 0 | D39: =IF(D36="R","R",(D37-D36-D38)) -> 0 | E39: =IF(E36="R","R",(E37-E36-E38)) -> 0 | F39: =IF(F36="R","R",(F37-F36-F38)) -> 0 | G39: =IF(G36="R","R",(G37-G36-G38)) -> 0 | H39: =IF(H36="R","R",(H37-H36-H38)) -> 0 | I39: =IF(I36="R","R",(I37-I36-I38)) -> 0 | J39: =IF(J36="R","R",(J37-J36-J38)) -> 0 | ... P39: =IF(P36="R","R",(P37-P36-P38)) -> 0
B40: Total Jour | C40: =IF(C39="R",D39,C39+(IF(D39="R",0,D39))) -> 0 | E40: =IF(E39="R",F39,E39+(IF(F39="R",0,F39))) -> 0 | G40: =IF(G39="R",H39,G39+(IF(H39="R",0,H39))) -> 0 | I40: =IF(I39="R",J39,I39+(IF(J39="R",0,J39))) -> 0 | K40: =IF(K39="R",L39,K39+(IF(L39="R",0,L39))) -> 0 | M40: =IF(M39="R",N39,M39+(IF(N39="R",0,N39))) -> 0 | O40: =IF(O39="R",P39,O39+(IF(P39="R",0,P39))) -> 0
B41: H Arrivé | Q41: =SUM(C45:P45) -> 0
...

Sheet SALLE CORDELIER
A1: SALLE | F1: CHEZ CARLO | M1: CORDELIER
B3: SEMAINE : | C3: 51 | H3: DU : | I3: 43794 | L3: au | M3: =I3+6 -> 43800
C4: LUNDI | E4: MARDI | G4: MERCREDI | I4: JEUDI | K4: VENDREDI | M4: SAMEDI | O4: DIMANCHE | Q4: TOTAL
C5: MIDI | D5: SOIR | E5: MIDI | F5: SOIR | G5: MIDI | H5: SOIR | I5: MIDI | J5: SOIR | K5: MIDI | L5: SOIR | M5: MIDI | N5: SOIR | O5: MIDI | P5: SOIR
A6: RÉMI | B6: H Arrivé | C6: 0.41666667 | D6: 0.75 | Q6: =SUM(C10:P10) -> 0.45833333
B7: H départ | C7: 0.625 | D7: 1
A8: GESLAN | B8: Pause
B9: Total | C9: =IF(C6="R","R",(C7-C6-C8)) -> 0.20833333 | D9: =IF(D6="R","R",(D7-D6-D8)) -> 0.25 | E9: =IF(E6="R","R",(E7-E6-E8)) -> 0 | F9: =IF(F6="R","R",(F7-F6-F8)) -> 0 | G9: =IF(G6="R","R",(G7-G6-G8)) -> 0 | H9: =IF(H6="R","R",(H7-H6-H8)) -> 0 | I9: =IF(I6="R","R",(I7-I6-I8)) -> 0 | J9: =IF(J6="R","R",(J7-J6-J8)) -> 0 | ... P9: =IF(P6="R","R",(P7-P6-P8)) -> 0
B10: Total Jour | C10: =IF(C9="R",D9,C9+(IF(D9="R",0,D9))) -> 0.45833333 | E10: =IF(E9="R",F9,E9+(IF(F9="R",0,F9))) -> 0 | G10: =IF(G9="R",H9,G9+(IF(H9="R",0,H9))) -> 0 | I10: =IF(I9="R",J9,I9+(IF(J9="R",0,J9))) -> 0 | K10: =IF(K9="R",L9,K9+(IF(L9="R",0,L9))) -> 0 | M10: =IF(M9="R",N9,M9+(IF(N9="R",0,N9))) -> 0 | O10: =IF(O9="R",P9,O9+(IF(P9="R",0,P9))) -> 0
A11: CHRISTIAN | B11: H Arrivé | Q11: =SUM(C15:P15) -> 0
B12: H départ
A13: LABET | B13: Pause
B14: Total | C14: =IF(C11="R","R",(C12-C11-C13)) -> 0 | D14: =IF(D11="R","R",(D12-D11-D13)) -> 0 | E14: =IF(E11="R","R",(E12-E11-E13)) -> 0 | F14: =IF(F11="R","R",(F12-F11-F13)) -> 0 | G14: =IF(G11="R","R",(G12-G11-G13)) -> 0 | H14: =IF(H11="R","R",(H12-H11-H13)) -> 0 | I14: =IF(I11="R","R",(I12-I11-I13)) -> 0 | J14: =IF(J11="R","R",(J12-J11-J13)) -> 0 | ... P14: =IF(P11="R","R",(P12-P11-P13)) -> 0
B15: Total Jour | C15: =IF(C14="R",D14,C14+(IF(D14="R",0,D14))) -> 0 | E15: =IF(E14="R",F14,E14+(IF(F14="R",0,F14))) -> 0 | G15: =IF(G14="R",H14,G14+(IF(H14="R",0,H14))) -> 0 | I15: =IF(I14="R",J14,I14+(IF(J14="R",0,J14))) -> 0 | K15: =IF(K14="R",L14,K14+(IF(L14="R",0,L14))) -> 0 | M15: =IF(M14="R",N14,M14+(IF(N14="R",0,N14))) -> 0 | O15: =IF(O14="R",P14,O14+(IF(P14="R",0,P14))) -> 0
A16: ELIAS | B16: H Arrivé | Q16: =SUM(C20:P20) -> 0
B17: H départ
A18: MAQRANE | B18: Pause
B19: Total | C19: =IF(C16="R","R",(C17-C16-C18)) -> 0 | D19: =IF(D16="R","R",(D17-D16-D18)) -> 0 | E19: =IF(E16="R","R",(E17-E16-E18)) -> 0 | F19: =IF(F16="R","R",(F17-F16-F18)) -> 0 | G19: =IF(G16="R","R",(G17-G16-G18)) -> 0 | H19: =IF(H16="R","R",(H17-H16-H18)) -> 0 | I19: =IF(I16="R","R",(I17-I16-I18)) -> 0 | J19: =IF(J16="R","R",(J17-J16-J18)) -> 0 | ... P19: =IF(P16="R","R",(P17-P16-P18)) -> 0
B20: Total Jour | C20: =IF(C19="R",D19,C19+(IF(D19="R",0,D19))) -> 0 | E20: =IF(E19="R",F19,E19+(IF(F19="R",0,F19))) -> 0 | G20: =IF(G19="R",H19,G19+(IF(H19="R",0,H19))) -> 0 | I20: =IF(I19="R",J19,I19+(IF(J19="R",0,J19))) -> 0 | K20: =IF(K19="R",L19,K19+(IF(L19="R",0,L19))) -> 0 | M20: =IF(M19="R",N19,M19+(IF(N19="R",0,N19))) -> 0 | O20: =IF(O19="R",P19,O19+(IF(P19="R",0,P19))) -> 0
A21: KEVIN | B21: H Arrivé | Q21: =SUM(C25:P25) -> 0
B22: H départ
A23: OLIVER | B23: Pause
B24: Total | C24: =IF(C21="R","R",(C22-C21-C23)) -> 0 | D24: =IF(D21="R","R",(D22-D21-D23)) -> 0 | E24: =IF(E21="R","R",(E22-E21-E23)) -> 0 | F24: =IF(F21="R","R",(F22-F21-F23)) -> 0 | G24: =IF(G21="R","R",(G22-G21-G23)) -> 0 | H24: =IF(H21="R","R",(H22-H21-H23)) -> 0 | I24: =IF(I21="R","R",(I22-I21-I23)) -> 0 | J24: =IF(J21="R","R",(J22-J21-J23)) -> 0 | ... P24: =IF(P21="R","R",(P22-P21-P23)) -> 0
B25: Total Jour | C25: =IF(C24="R",D24,C24+(IF(D24="R",0,D24))) -> 0 | E25: =IF(E24="R",F24,E24+(IF(F24="R",0,F24))) -> 0 | G25: =IF(G24="R",H24,G24+(IF(H24="R",0,H24))) -> 0 | I25: =IF(I24="R",J24,I24+(IF(J24="R",0,J24))) -> 0 | K25: =IF(K24="R",L24,K24+(IF(L24="R",0,L24))) -> 0 | M25: =IF(M24="R",N24,M24+(IF(N24="R",0,N24))) -> 0 | O25: =IF(O24="R",P24,O24+(IF(P24="R",0,P24))) -> 0
A26: MELISSA | B26: H Arrivé | Q26: =SUM(C30:P30) -> 0
B27: H départ
A28: MABBOUX | B28: Pause
B29: Total | C29: =IF(C26="R","R",(C27-C26-C28)) -> 0 | D29: =IF(D26="R","R",(D27-D26-D28)) -> 0 | E29: =IF(E26="R","R",(E27-E26-E28)) -> 0 | F29: =IF(F26="R","R",(F27-F26-F28)) -> 0 | G29: =IF(G26="R","R",(G27-G26-G28)) -> 0 | H29: =IF(H26="R","R",(H27-H26-H28)) -> 0 | I29: =IF(I26="R","R",(I27-I26-I28)) -> 0 | J29: =IF(J26="R","R",(J27-J26-J28)) -> 0 | ... P29: =IF(P26="R","R",(P27-P26-P28)) -> 0
B30: Total Jour | C30: =IF(C29="R",D29,C29+(IF(D29="R",0,D29))) -> 0 | E30: =IF(E29="R",F29,E29+(IF(F29="R",0,F29))) -> 0 | G30: =IF(G29="R",H29,G29+(IF(H29="R",0,H29))) -> 0 | I30: =IF(I29="R",J29,I29+(IF(J29="R",0,J29))) -> 0 | K30: =IF(K29="R",L29,K29+(IF(L29="R",0,L29))) -> 0 | M30: =IF(M29="R",N29,M29+(IF(N29="R",0,N29))) -> 0 | O30: =IF(O29="R",P29,O29+(IF(P29="R",0,P29))) -> 0
A31: YASSMIN | B31: H Arrivé | Q31: =SUM(C35:P35) -> 0
B32: H départ
A33: JENNAB | B33: Pause
B34: Total | C34: =IF(C31="R","R",(C32-C31-C33)) -> 0 | D34: =IF(D31="R","R",(D32-D31-D33)) -> 0 | E34: =IF(E31="R","R",(E32-E31-E33)) -> 0 | F34: =IF(F31="R","R",(F32-F31-F33)) -> 0 | G34: =IF(G31="R","R",(G32-G31-G33)) -> 0 | H34: =IF(H31="R","R",(H32-H31-H33)) -> 0 | I34: =IF(I31="R","R",(I32-I31-I33)) -> 0 | J34: =IF(J31="R","R",(J32-J31-J33)) -> 0 | ... P34: =IF(P31="R","R",(P32-P31-P33)) -> 0
B35: Total Jour | C35: =IF(C34="R",D34,C34+(IF(D34="R",0,D34))) -> 0 | E35: =IF(E34="R",F34,E34+(IF(F34="R",0,F34))) -> 0 | G35: =IF(G34="R",H34,G34+(IF(H34="R",0,H34))) -> 0 | I35: =IF(I34="R",J34,I34+(IF(J34="R",0,J34))) -> 0 | K35: =IF(K34="R",L34,K34+(IF(L34="R",0,L34))) -> 0 | M35: =IF(M34="R",N34,M34+(IF(N34="R",0,N34))) -> 0 | O35: =IF(O34="R",P34,O34+(IF(P34="R",0,P34))) -> 0
A36: MICKAEL | B36: H Arrivé | Q36: =SUM(C40:P40) -> 0
B37: H départ
A38: GARMATUK | B38: Pause
B39: Total | C39: =IF(C36="R","R",(C37-C36-C38)) -> 0 | D39: =IF(D36="R","R",(D37-D36-D38)) -> 0 | E39: =IF(E36="R","R",(E37-E36-E38)) -> 0 | F39: =IF(F36="R","R",(F37-F36-F38)) -> 0 | G39: =IF(G36="R","R",(G37-G36-G38)) -> 0 | H39: =IF(H36="R","R",(H37-H36-H38)) -> 0 | I39: =IF(I36="R","R",(I37-I36-I38)) -> 0 | J39: =IF(J36="R","R",(J37-J36-J38)) -> 0 | ... P39: =IF(P36="R","R",(P37-P36-P38)) -> 0
B40: Total Jour | C40: =IF(C39="R",D39,C39+(IF(D39="R",0,D39))) -> 0 | E40: =IF(E39="R",F39,E39+(IF(F39="R",0,F39))) -> 0 | G40: =IF(G39="R",H39,G39+(IF(H39="R",0,H39))) -> 0 | I40: =IF(I39="R",J39,I39+(IF(J39="R",0,J39))) -> 0 | K40: =IF(K39="R",L39,K39+(IF(L39="R",0,L39))) -> 0 | M40: =IF(M39="R",N39,M39+(IF(N39="R",0,N39))) -> 0 | O40: =IF(O39="R",P39,O39+(IF(P39="R",0,P39))) -> 0
B41: H Arrivé | Q41: =SUM(C45:P45) -> 0
...

Sheet CUISINE CORDELIER
A1: CUISINE | F1: CHEZ CARLO | M1: CORDELIER
B3: SEMAINE : | C3: 51 | H3: DU : | I3: 43794 | L3: au | M3: =I3+6 -> 43800
C4: LUNDI | E4: MARDI | G4: MERCREDI | I4: JEUDI | K4: VENDREDI | M4: SAMEDI | O4: DIMANCHE | Q4: TOTAL
C5: MIDI | D5: SOIR | E5: MIDI | F5: SOIR | G5: MIDI | H5: SOIR | I5: MIDI | J5: SOIR | K5: MIDI | L5: SOIR | M5: MIDI | N5: SOIR | O5: MIDI | P5: SOIR
A6: NAMIR | B6: H Arrivé | C6: 0.5 | D6: 0.75 | Q6: =SUM(C10:P10) -> 0.33333333
B7: H départ | C7: 0.625 | D7: 1
A8: FALI | B8: Pause | C8: 0.020833333 | D8: 0.020833333
B9: Total | C9: =IF(C6="R","R",(C7-C6-C8)) -> 0.10416667 | D9: =IF(D6="R","R",(D7-D6-D8)) -> 0.22916667 | E9: =IF(E6="R","R",(E7-E6-E8)) -> 0 | F9: =IF(F6="R","R",(F7-F6-F8)) -> 0 | G9: =IF(G6="R","R",(G7-G6-G8)) -> 0 | H9: =IF(H6="R","R",(H7-H6-H8)) -> 0 | I9: =IF(I6="R","R",(I7-I6-I8)) -> 0 | J9: =IF(J6="R","R",(J7-J6-J8)) -> 0 | ... P9: =IF(P6="R","R",(P7-P6-P8)) -> 0
B10: Total Jour | C10: =IF(C9="R",D9,C9+(IF(D9="R",0,D9))) -> 0.33333333 | E10: =IF(E9="R",F9,E9+(IF(F9="R",0,F9))) -> 0 | G10: =IF(G9="R",H9,G9+(IF(H9="R",0,H9))) -> 0 | I10: =IF(I9="R",J9,I9+(IF(J9="R",0,J9))) -> 0 | K10: =IF(K9="R",L9,K9+(IF(L9="R",0,L9))) -> 0 | M10: =IF(M9="R",N9,M9+(IF(N9="R",0,N9))) -> 0 | O10: =IF(O9="R",P9,O9+(IF(P9="R",0,P9))) -> 0
A11: ABDERRAZZAK | B11: H Arrivé | Q11: =SUM(C15:P15) -> 0
B12: H départ
A13: NAIT BOUSSALEM | B13: Pause
B14: Total | C14: =IF(C11="R","R",(C12-C11-C13)) -> 0 | D14: =IF(D11="R","R",(D12-D11-D13)) -> 0 | E14: =IF(E11="R","R",(E12-E11-E13)) -> 0 | F14: =IF(F11="R","R",(F12-F11-F13)) -> 0 | G14: =IF(G11="R","R",(G12-G11-G13)) -> 0 | H14: =IF(H11="R","R",(H12-H11-H13)) -> 0 | I14: =IF(I11="R","R",(I12-I11-I13)) -> 0 | J14: =IF(J11="R","R",(J12-J11-J13)) -> 0 | ... P14: =IF(P11="R","R",(P12-P11-P13)) -> 0
B15: Total Jour | C15: =IF(C14="R",D14,C14+(IF(D14="R",0,D14))) -> 0 | E15: =IF(E14="R",F14,E14+(IF(F14="R",0,F14))) -> 0 | G15: =IF(G14="R",H14,G14+(IF(H14="R",0,H14))) -> 0 | I15: =IF(I14="R",J14,I14+(IF(J14="R",0,J14))) -> 0 | K15: =IF(K14="R",L14,K14+(IF(L14="R",0,L14))) -> 0 | M15: =IF(M14="R",N14,M14+(IF(N14="R",0,N14))) -> 0 | O15: =IF(O14="R",P14,O14+(IF(P14="R",0,P14))) -> 0
A16: QUENTIN | B16: H Arrivé | Q16: =SUM(C20:P20) -> 0
B17: H départ
A18: LAGAILLARDE | B18: Pause
B19: Total | C19: =IF(C16="R","R",(C17-C16-C18)) -> 0 | D19: =IF(D16="R","R",(D17-D16-D18)) -> 0 | E19: =IF(E16="R","R",(E17-E16-E18)) -> 0 | F19: =IF(F16="R","R",(F17-F16-F18)) -> 0 | G19: =IF(G16="R","R",(G17-G16-G18)) -> 0 | H19: =IF(H16="R","R",(H17-H16-H18)) -> 0 | I19: =IF(I16="R","R",(I17-I16-I18)) -> 0 | J19: =IF(J16="R","R",(J17-J16-J18)) -> 0 | ... P19: =IF(P16="R","R",(P17-P16-P18)) -> 0
B20: Total Jour | C20: =IF(C19="R",D19,C19+(IF(D19="R",0,D19))) -> 0 | E20: =IF(E19="R",F19,E19+(IF(F19="R",0,F19))) -> 0 | G20: =IF(G19="R",H19,G19+(IF(H19="R",0,H19))) -> 0 | I20: =IF(I19="R",J19,I19+(IF(J19="R",0,J19))) -> 0 | K20: =IF(K19="R",L19,K19+(IF(L19="R",0,L19))) -> 0 | M20: =IF(M19="R",N19,M19+(IF(N19="R",0,N19))) -> 0 | O20: =IF(O19="R",P19,O19+(IF(P19="R",0,P19))) -> 0
A21: JEAMBARDY | B21: H Arrivé | Q21: =SUM(C25:P25) -> 0
B22: H départ
A23: LOPEZ PEREZ | B23: Pause
B24: Total | C24: =IF(C21="R","R",(C22-C21-C23)) -> 0 | D24: =IF(D21="R","R",(D22-D21-D23)) -> 0 | E24: =IF(E21="R","R",(E22-E21-E23)) -> 0 | F24: =IF(F21="R","R",(F22-F21-F23)) -> 0 | G24: =IF(G21="R","R",(G22-G21-G23)) -> 0 | H24: =IF(H21="R","R",(H22-H21-H23)) -> 0 | I24: =IF(I21="R","R",(I22-I21-I23)) -> 0 | J24: =IF(J21="R","R",(J22-J21-J23)) -> 0 | ... P24: =IF(P21="R","R",(P22-P21-P23)) -> 0
B25: Total Jour | C25: =IF(C24="R",D24,C24+(IF(D24="R",0,D24))) -> 0 | E25: =IF(E24="R",F24,E24+(IF(F24="R",0,F24))) -> 0 | G25: =IF(G24="R",H24,G24+(IF(H24="R",0,H24))) -> 0 | I25: =IF(I24="R",J24,I24+(IF(J24="R",0,J24))) -> 0 | K25: =IF(K24="R",L24,K24+(IF(L24="R",0,L24))) -> 0 | M25: =IF(M24="R",N24,M24+(IF(N24="R",0,N24))) -> 0 | O25: =IF(O24="R",P24,O24+(IF(P24="R",0,P24))) -> 0
A26: MICHEL | B26: H Arrivé | Q26: =SUM(C30:P30) -> 0
B27: H départ
A28: BILLON | B28: Pause
B29: Total | C29: =IF(C26="R","R",(C27-C26-C28)) -> 0 | D29: =IF(D26="R","R",(D27-D26-D28)) -> 0 | E29: =IF(E26="R","R",(E27-E26-E28)) -> 0 | F29: =IF(F26="R","R",(F27-F26-F28)) -> 0 | G29: =IF(G26="R","R",(G27-G26-G28)) -> 0 | H29: =IF(H26="R","R",(H27-H26-H28)) -> 0 | I29: =IF(I26="R","R",(I27-I26-I28)) -> 0 | J29: =IF(J26="R","R",(J27-J26-J28)) -> 0 | ... P29: =IF(P26="R","R",(P27-P26-P28)) -> 0
B30: Total Jour | C30: =IF(C29="R",D29,C29+(IF(D29="R",0,D29))) -> 0 | E30: =IF(E29="R",F29,E29+(IF(F29="R",0,F29))) -> 0 | G30: =IF(G29="R",H29,G29+(IF(H29="R",0,H29))) -> 0 | I30: =IF(I29="R",J29,I29+(IF(J29="R",0,J29))) -> 0 | K30: =IF(K29="R",L29,K29+(IF(L29="R",0,L29))) -> 0 | M30: =IF(M29="R",N29,M29+(IF(N29="R",0,N29))) -> 0 | O30: =IF(O29="R",P29,O29+(IF(P29="R",0,P29))) -> 0
A31: JAD | B31: H Arrivé | Q31: =SUM(C35:P35) -> 0
B32: H départ
A33: ZITOUNI | B33: Pause
B34: Total | C34: =IF(C31="R","R",(C32-C31-C33)) -> 0 | D34: =IF(D31="R","R",(D32-D31-D33)) -> 0 | E34: =IF(E31="R","R",(E32-E31-E33)) -> 0 | F34: =IF(F31="R","R",(F32-F31-F33)) -> 0 | G34: =IF(G31="R","R",(G32-G31-G33)) -> 0 | H34: =IF(H31="R","R",(H32-H31-H33)) -> 0 | I34: =IF(I31="R","R",(I32-I31-I33)) -> 0 | J34: =IF(J31="R","R",(J32-J31-J33)) -> 0 | ... P34: =IF(P31="R","R",(P32-P31-P33)) -> 0
B35: Total Jour | C35: =IF(C34="R",D34,C34+(IF(D34="R",0,D34))) -> 0 | E35: =IF(E34="R",F34,E34+(IF(F34="R",0,F34))) -> 0 | G35: =IF(G34="R",H34,G34+(IF(H34="R",0,H34))) -> 0 | I35: =IF(I34="R",J34,I34+(IF(J34="R",0,J34))) -> 0 | K35: =IF(K34="R",L34,K34+(IF(L34="R",0,L34))) -> 0 | M35: =IF(M34="R",N34,M34+(IF(N34="R",0,N34))) -> 0 | O35: =IF(O34="R",P34,O34+(IF(P34="R",0,P34))) -> 0
B36: H Arrivé | Q36: =SUM(C40:P40) -> 0
B37: H départ
B38: Pause
B39: Total | C39: =IF(C36="R","R",(C37-C36-C38)) -> 0 | D39: =IF(D36="R","R",(D37-D36-D38)) -> 0 | E39: =IF(E36="R","R",(E37-E36-E38)) -> 0 | F39: =IF(F36="R","R",(F37-F36-F38)) -> 0 | G39: =IF(G36="R","R",(G37-G36-G38)) -> 0 | H39: =IF(H36="R","R",(H37-H36-H38)) -> 0 | I39: =IF(I36="R","R",(I37-I36-I38)) -> 0 | J39: =IF(J36="R","R",(J37-J36-J38)) -> 0 | ... P39: =IF(P36="R","R",(P37-P36-P38)) -> 0
B40: Total Jour | C40: =IF(C39="R",D39,C39+(IF(D39="R",0,D39))) -> 0 | E40: =IF(E39="R",F39,E39+(IF(F39="R",0,F39))) -> 0 | G40: =IF(G39="R",H39,G39+(IF(H39="R",0,H39))) -> 0 | I40: =IF(I39="R",J39,I39+(IF(J39="R",0,J39))) -> 0 | K40: =IF(K39="R",L39,K39+(IF(L39="R",0,L39))) -> 0 | M40: =IF(M39="R",N39,M39+(IF(N39="R",0,N39))) -> 0 | O40: =IF(O39="R",P39,O39+(IF(P39="R",0,P39))) -> 0
B41: H Arrivé | Q41: =SUM(C45:P45) -> 0
...

Sheet CUISINE GERLAND
A1: CUISINE | F1: CHEZ CARLO | M1: GERLAND
B3: SEMAINE : | C3: 51 | H3: DU : | I3: 43794 | L3: au | M3: =I3+6 -> 43800
C4: LUNDI | E4: MARDI | G4: MERCREDI | I4: JEUDI | K4: VENDREDI | M4: SAMEDI | O4: DIMANCHE | Q4: TOTAL
C5: MIDI | D5: SOIR | E5: MIDI | F5: SOIR | G5: MIDI | H5: SOIR | I5: MIDI | J5: SOIR | K5: MIDI | L5: SOIR | M5: MIDI | N5: SOIR | O5: MIDI | P5: SOIR
A6: CHRISTOPHE | B6: H Arrivé | C6: 0.5 | D6: 0.75 | Q6: =SUM(C10:P10) -> 0.33333333
B7: H départ | C7: 0.625 | D7: 1
A8: LEMAIRE | B8: Pause | C8: 0.020833333 | D8: 0.020833333
B9: Total | C9: =IF(C6="R","R",(C7-C6-C8)) -> 0.10416667 | D9: =IF(D6="R","R",(D7-D6-D8)) -> 0.22916667 | E9: =IF(E6="R","R",(E7-E6-E8)) -> 0 | F9: =IF(F6="R","R",(F7-F6-F8)) -> 0 | G9: =IF(G6="R","R",(G7-G6-G8)) -> 0 | H9: =IF(H6="R","R",(H7-H6-H8)) -> 0 | I9: =IF(I6="R","R",(I7-I6-I8)) -> 0 | J9: =IF(J6="R","R",(J7-J6-J8)) -> 0 | ... P9: =IF(P6="R","R",(P7-P6-P8)) -> 0
B10: Total Jour | C10: =IF(C9="R",D9,C9+(IF(D9="R",0,D9))) -> 0.33333333 | E10: =IF(E9="R",F9,E9+(IF(F9="R",0,F9))) -> 0 | G10: =IF(G9="R",H9,G9+(IF(H9="R",0,H9))) -> 0 | I10: =IF(I9="R",J9,I9+(IF(J9="R",0,J9))) -> 0 | K10: =IF(K9="R",L9,K9+(IF(L9="R",0,L9))) -> 0 | M10: =IF(M9="R",N9,M9+(IF(N9="R",0,N9))) -> 0 | O10: =IF(O9="R",P9,O9+(IF(P9="R",0,P9))) -> 0
A11: BABACAR | B11: H Arrivé | Q11: =SUM(C15:P15) -> 0
B12: H départ
A13: SARR | B13: Pause
B14: Total | C14: =IF(C11="R","R",(C12-C11-C13)) -> 0 | D14: =IF(D11="R","R",(D12-D11-D13)) -> 0 | E14: =IF(E11="R","R",(E12-E11-E13)) -> 0 | F14: =IF(F11="R","R",(F12-F11-F13)) -> 0 | G14: =IF(G11="R","R",(G12-G11-G13)) -> 0 | H14: =IF(H11="R","R",(H12-H11-H13)) -> 0 | I14: =IF(I11="R","R",(I12-I11-I13)) -> 0 | J14: =IF(J11="R","R",(J12-J11-J13)) -> 0 | ... P14: =IF(P11="R","R",(P12-P11-P13)) -> 0
B15: Total Jour | C15: =IF(C14="R",D14,C14+(IF(D14="R",0,D14))) -> 0 | E15: =IF(E14="R",F14,E14+(IF(F14="R",0,F14))) -> 0 | G15: =IF(G14="R",H14,G14+(IF(H14="R",0,H14))) -> 0 | I15: =IF(I14="R",J14,I14+(IF(J14="R",0,J14))) -> 0 | K15: =IF(K14="R",L14,K14+(IF(L14="R",0,L14))) -> 0 | M15: =IF(M14="R",N14,M14+(IF(N14="R",0,N14))) -> 0 | O15: =IF(O14="R",P14,O14+(IF(P14="R",0,P14))) -> 0
A16: CEDRIC | B16: H Arrivé | Q16: =SUM(C20:P20) -> 0
B17: H départ
A18: DEL PALACIO | B18: Pause
B19: Total | C19: =IF(C16="R","R",(C17-C16-C18)) -> 0 | D19: =IF(D16="R","R",(D17-D16-D18)) -> 0 | E19: =IF(E16="R","R",(E17-E16-E18)) -> 0 | F19: =IF(F16="R","R",(F17-F16-F18)) -> 0 | G19: =IF(G16="R","R",(G17-G16-G18)) -> 0 | H19: =IF(H16="R","R",(H17-H16-H18)) -> 0 | I19: =IF(I16="R","R",(I17-I16-I18)) -> 0 | J19: =IF(J16="R","R",(J17-J16-J18)) -> 0 | ... P19: =IF(P16="R","R",(P17-P16-P18)) -> 0
B20: Total Jour | C20: =IF(C19="R",D19,C19+(IF(D19="R",0,D19))) -> 0 | E20: =IF(E19="R",F19,E19+(IF(F19="R",0,F19))) -> 0 | G20: =IF(G19="R",H19,G19+(IF(H19="R",0,H19))) -> 0 | I20: =IF(I19="R",J19,I19+(IF(J19="R",0,J19))) -> 0 | K20: =IF(K19="R",L19,K19+(IF(L19="R",0,L19))) -> 0 | M20: =IF(M19="R",N19,M19+(IF(N19="R",0,N19))) -> 0 | O20: =IF(O19="R",P19,O19+(IF(P19="R",0,P19))) -> 0
A21: ADRIEN | B21: H Arrivé | Q21: =SUM(C25:P25) -> 0
B22: H départ
A23: MARCE | B23: Pause
B24: Total | C24: =IF(C21="R","R",(C22-C21-C23)) -> 0 | D24: =IF(D21="R","R",(D22-D21-D23)) -> 0 | E24: =IF(E21="R","R",(E22-E21-E23)) -> 0 | F24: =IF(F21="R","R",(F22-F21-F23)) -> 0 | G24: =IF(G21="R","R",(G22-G21-G23)) -> 0 | H24: =IF(H21="R","R",(H22-H21-H23)) -> 0 | I24: =IF(I21="R","R",(I22-I21-I23)) -> 0 | J24: =IF(J21="R","R",(J22-J21-J23)) -> 0 | ... P24: =IF(P21="R","R",(P22-P21-P23)) -> 0
B25: Total Jour | C25: =IF(C24="R",D24,C24+(IF(D24="R",0,D24))) -> 0 | E25: =IF(E24="R",F24,E24+(IF(F24="R",0,F24))) -> 0 | G25: =IF(G24="R",H24,G24+(IF(H24="R",0,H24))) -> 0 | I25: =IF(I24="R",J24,I24+(IF(J24="R",0,J24))) -> 0 | K25: =IF(K24="R",L24,K24+(IF(L24="R",0,L24))) -> 0 | M25: =IF(M24="R",N24,M24+(IF(N24="R",0,N24))) -> 0 | O25: =IF(O24="R",P24,O24+(IF(P24="R",0,P24))) -> 0
A26: CONSTANTIN | B26: H Arrivé | Q26: =SUM(C30:P30) -> 0
B27: H départ
A28: VELO | B28: Pause
B29: Total | C29: =IF(C26="R","R",(C27-C26-C28)) -> 0 | D29: =IF(D26="R","R",(D27-D26-D28)) -> 0 | E29: =IF(E26="R","R",(E27-E26-E28)) -> 0 | F29: =IF(F26="R","R",(F27-F26-F28)) -> 0 | G29: =IF(G26="R","R",(G27-G26-G28)) -> 0 | H29: =IF(H26="R","R",(H27-H26-H28)) -> 0 | I29: =IF(I26="R","R",(I27-I26-I28)) -> 0 | J29: =IF(J26="R","R",(J27-J26-J28)) -> 0 | ... P29: =IF(P26="R","R",(P27-P26-P28)) -> 0
B30: Total Jour | C30: =IF(C29="R",D29,C29+(IF(D29="R",0,D29))) -> 0 | E30: =IF(E29="R",F29,E29+(IF(F29="R",0,F29))) -> 0 | G30: =IF(G29="R",H29,G29+(IF(H29="R",0,H29))) -> 0 | I30: =IF(I29="R",J29,I29+(IF(J29="R",0,J29))) -> 0 | K30: =IF(K29="R",L29,K29+(IF(L29="R",0,L29))) -> 0 | M30: =IF(M29="R",N29,M29+(IF(N29="R",0,N29))) -> 0 | O30: =IF(O29="R",P29,O29+(IF(P29="R",0,P29))) -> 0
B31: H Arrivé | Q31: =SUM(C35:P35) -> 0
B32: H départ
B33: Pause
B34: Total | C34: =IF(C31="R","R",(C32-C31-C33)) -> 0 | D34: =IF(D31="R","R",(D32-D31-D33)) -> 0 | E34: =IF(E31="R","R",(E32-E31-E33)) -> 0 | F34: =IF(F31="R","R",(F32-F31-F33)) -> 0 | G34: =IF(G31="R","R",(G32-G31-G33)) -> 0 | H34: =IF(H31="R","R",(H32-H31-H33)) -> 0 | I34: =IF(I31="R","R",(I32-I31-I33)) -> 0 | J34: =IF(J31="R","R",(J32-J31-J33)) -> 0 | ... P34: =IF(P31="R","R",(P32-P31-P33)) -> 0
B35: Total Jour | C35: =IF(C34="R",D34,C34+(IF(D34="R",0,D34))) -> 0 | E35: =IF(E34="R",F34,E34+(IF(F34="R",0,F34))) -> 0 | G35: =IF(G34="R",H34,G34+(IF(H34="R",0,H34))) -> 0 | I35: =IF(I34="R",J34,I34+(IF(J34="R",0,J34))) -> 0 | K35: =IF(K34="R",L34,K34+(IF(L34="R",0,L34))) -> 0 | M35: =IF(M34="R",N34,M34+(IF(N34="R",0,N34))) -> 0 | O35: =IF(O34="R",P34,O34+(IF(P34="R",0,P34))) -> 0
B36: H Arrivé | Q36: =SUM(C40:P40) -> 0
B37: H départ
B38: Pause
B39: Total | C39: =IF(C36="R","R",(C37-C36-C38)) -> 0 | D39: =IF(D36="R","R",(D37-D36-D38)) -> 0 | E39: =IF(E36="R","R",(E37-E36-E38)) -> 0 | F39: =IF(F36="R","R",(F37-F36-F38)) -> 0 | G39: =IF(G36="R","R",(G37-G36-G38)) -> 0 | H39: =IF(H36="R","R",(H37-H36-H38)) -> 0 | I39: =IF(I36="R","R",(I37-I36-I38)) -> 0 | J39: =IF(J36="R","R",(J37-J36-J38)) -> 0 | ... P39: =IF(P36="R","R",(P37-P36-P38)) -> 0
B40: Total Jour | C40: =IF(C39="R",D39,C39+(IF(D39="R",0,D39))) -> 0 | E40: =IF(E39="R",F39,E39+(IF(F39="R",0,F39))) -> 0 | G40: =IF(G39="R",H39,G39+(IF(H39="R",0,H39))) -> 0 | I40: =IF(I39="R",J39,I39+(IF(J39="R",0,J39))) -> 0 | K40: =IF(K39="R",L39,K39+(IF(L39="R",0,L39))) -> 0 | M40: =IF(M39="R",N39,M39+(IF(N39="R",0,N39))) -> 0 | O40: =IF(O39="R",P39,O39+(IF(P39="R",0,P39))) -> 0
B41: H Arrivé | Q41: =SUM(C45:P45) -> 0
...

Sheet PLANNING TOTAL
F1: CHEZ CARLO
B3: SEMAINE : | C3: 51 | H3: DU : | I3: 43794 | L3: au | M3: =I3+6 -> 43800
C4: LUNDI | E4: MARDI | G4: MERCREDI | I4: JEUDI | K4: VENDREDI | M4: SAMEDI | O4: DIMANCHE | Q4: TOTAL
C5: MIDI | D5: SOIR | E5: MIDI | F5: SOIR | G5: MIDI | H5: SOIR | I5: MIDI | J5: SOIR | K5: MIDI | L5: SOIR | M5: MIDI | N5: SOIR | O5: MIDI | P5: SOIR
A6: ='CUISINE GERLAND'!A6 -> CHRISTOPHE | B6: H Arrivé | C6: ='CUISINE GERLAND'!C6 -> 0.5 | D6: ='CUISINE GERLAND'!D6 -> 0.75 | E6: ='CUISINE GERLAND'!E6 -> 0 | F6: ='CUISINE GERLAND'!F6 -> 0 | G6: ='CUISINE GERLAND'!G6 -> 0 | H6: ='CUISINE GERLAND'!H6 -> 0 | I6: ='CUISINE GERLAND'!I6 -> 0 | J6: ='CUISINE GERLAND'!J6 -> 0 | ... Q6: ='CUISINE GERLAND'!Q6 -> 0.33333333
B7: H départ | C7: ='CUISINE GERLAND'!C7 -> 0.625 | D7: ='CUISINE GERLAND'!D7 -> 1 | E7: ='CUISINE GERLAND'!E7 -> 0 | F7: ='CUISINE GERLAND'!F7 -> 0 | G7: ='CUISINE GERLAND'!G7 -> 0 | H7: ='CUISINE GERLAND'!H7 -> 0 | I7: ='CUISINE GERLAND'!I7 -> 0 | J7: ='CUISINE GERLAND'!J7 -> 0 | ... P7: ='CUISINE GERLAND'!P7 -> 0
A8: ='CUISINE GERLAND'!A8 -> LEMAIRE | B8: Pause | C8: ='CUISINE GERLAND'!C8 -> 0.020833333 | D8: ='CUISINE GERLAND'!D8 -> 0.020833333 | E8: ='CUISINE GERLAND'!E8 -> 0 | F8: ='CUISINE GERLAND'!F8 -> 0 | G8: ='CUISINE GERLAND'!G8 -> 0 | H8: ='CUISINE GERLAND'!H8 -> 0 | I8: ='CUISINE GERLAND'!I8 -> 0 | J8: ='CUISINE GERLAND'!J8 -> 0 | ... P8: ='CUISINE GERLAND'!P8 -> 0
B9: Total | C9: ='CUISINE GERLAND'!C9 -> 0.10416667 | D9: ='CUISINE GERLAND'!D9 -> 0.22916667 | E9: ='CUISINE GERLAND'!E9 -> 0 | F9: ='CUISINE GERLAND'!F9 -> 0 | G9: ='CUISINE GERLAND'!G9 -> 0 | H9: ='CUISINE GERLAND'!H9 -> 0 | I9: ='CUISINE GERLAND'!I9 -> 0 | J9: ='CUISINE GERLAND'!J9 -> 0 | ... P9: ='CUISINE GERLAND'!P9 -> 0
B10: Total Jour | C10: ='CUISINE GERLAND'!C10 -> 0.33333333 | E10: ='CUISINE GERLAND'!E10 -> 0 | G10: ='CUISINE GERLAND'!G10 -> 0 | I10: ='CUISINE GERLAND'!I10 -> 0 | K10: ='CUISINE GERLAND'!K10 -> 0 | M10: ='CUISINE GERLAND'!M10 -> 0 | O10: ='CUISINE GERLAND'!O10 -> 0
A11: ='CUISINE CORDELIER'!A6 -> NAMIR | B11: H Arrivé | C11: ='CUISINE CORDELIER'!C6 -> 0.5 | D11: ='CUISINE CORDELIER'!D6 -> 0.75 | E11: ='CUISINE CORDELIER'!E6 -> 0 | F11: ='CUISINE CORDELIER'!F6 -> 0 | G11: ='CUISINE CORDELIER'!G6 -> 0 | H11: ='CUISINE CORDELIER'!H6 -> 0 | I11: ='CUISINE CORDELIER'!I6 -> 0 | J11: ='CUISINE CORDELIER'!J6 -> 0 | ... Q11: ='CUISINE CORDELIER'!Q6 -> 0.33333333
B12: H départ | C12: ='CUISINE CORDELIER'!C7 -> 0.625 | D12: ='CUISINE CORDELIER'!D7 -> 1 | E12: ='CUISINE CORDELIER'!E7 -> 0 | F12: ='CUISINE CORDELIER'!F7 -> 0 | G12: ='CUISINE CORDELIER'!G7 -> 0 | H12: ='CUISINE CORDELIER'!H7 -> 0 | I12: ='CUISINE CORDELIER'!I7 -> 0 | J12: ='CUISINE CORDELIER'!J7 -> 0 | ... P12: ='CUISINE CORDELIER'!P7 -> 0
A13: ='CUISINE CORDELIER'!A8 -> FALI | B13: Pause | C13: ='CUISINE CORDELIER'!C8 -> 0.020833333 | D13: ='CUISINE CORDELIER'!D8 -> 0.020833333 | E13: ='CUISINE CORDELIER'!E8 -> 0 | F13: ='CUISINE CORDELIER'!F8 -> 0 | G13: ='CUISINE CORDELIER'!G8 -> 0 | H13: ='CUISINE CORDELIER'!H8 -> 0 | I13: ='CUISINE CORDELIER'!I8 -> 0 | J13: ='CUISINE CORDELIER'!J8 -> 0 | ... P13: ='CUISINE CORDELIER'!P8 -> 0
B14: Total | C14: ='CUISINE CORDELIER'!C9 -> 0.10416667 | D14: ='CUISINE CORDELIER'!D9 -> 0.22916667 | E14: ='CUISINE CORDELIER'!E9 -> 0 | F14: ='CUISINE CORDELIER'!F9 -> 0 | G14: ='CUISINE CORDELIER'!G9 -> 0 | H14: ='CUISINE CORDELIER'!H9 -> 0 | I14: ='CUISINE CORDELIER'!I9 -> 0 | J14: ='CUISINE CORDELIER'!J9 -> 0 | ... P14: ='CUISINE CORDELIER'!P9 -> 0
B15: Total Jour | C15: ='CUISINE CORDELIER'!C10 -> 0.33333333 | E15: ='CUISINE CORDELIER'!E10 -> 0 | G15: ='CUISINE CORDELIER'!G10 -> 0 | I15: ='CUISINE CORDELIER'!I10 -> 0 | K15: ='CUISINE CORDELIER'!K10 -> 0 | M15: ='CUISINE CORDELIER'!M10 -> 0 | O15: ='CUISINE CORDELIER'!O10 -> 0
A16: ='SALLE CORDELIER'!A6 -> RÉMI | B16: H Arrivé | C16: ='SALLE CORDELIER'!C6 -> 0.41666667 | D16: ='SALLE CORDELIER'!D6 -> 0.75 | E16: ='SALLE CORDELIER'!E6 -> 0 | F16: ='SALLE CORDELIER'!F6 -> 0 | G16: ='SALLE CORDELIER'!G6 -> 0 | H16: ='SALLE CORDELIER'!H6 -> 0 | I16: ='SALLE CORDELIER'!I6 -> 0 | J16: ='SALLE CORDELIER'!J6 -> 0 | ... Q16: ='SALLE CORDELIER'!Q6 -> 0.45833333
B17: H départ | C17: ='SALLE CORDELIER'!C7 -> 0.625 | D17: ='SALLE CORDELIER'!D7 -> 1 | E17: ='SALLE CORDELIER'!E7 -> 0 | F17: ='SALLE CORDELIER'!F7 -> 0 | G17: ='SALLE CORDELIER'!G7 -> 0 | H17: ='SALLE CORDELIER'!H7 -> 0 | I17: ='SALLE CORDELIER'!I7 -> 0 | J17: ='SALLE CORDELIER'!J7 -> 0 | ... P17: ='SALLE CORDELIER'!P7 -> 0
A18: ='SALLE CORDELIER'!$A$8 -> GESLAN | B18: Pause | C18: ='SALLE CORDELIER'!C8 -> 0 | D18: ='SALLE CORDELIER'!D8 -> 0 | E18: ='SALLE CORDELIER'!E8 -> 0 | F18: ='SALLE CORDELIER'!F8 -> 0 | G18: ='SALLE CORDELIER'!G8 -> 0 | H18: ='SALLE CORDELIER'!H8 -> 0 | I18: ='SALLE CORDELIER'!I8 -> 0 | J18: ='SALLE CORDELIER'!J8 -> 0 | ... P18: ='SALLE CORDELIER'!P8 -> 0
B19: Total | C19: ='SALLE CORDELIER'!C9 -> 0.20833333 | D19: ='SALLE CORDELIER'!D9 -> 0.25 | E19: ='SALLE CORDELIER'!E9 -> 0 | F19: ='SALLE CORDELIER'!F9 -> 0 | G19: ='SALLE CORDELIER'!G9 -> 0 | H19: ='SALLE CORDELIER'!H9 -> 0 | I19: ='SALLE CORDELIER'!I9 -> 0 | J19: ='SALLE CORDELIER'!J9 -> 0 | ... P19: ='SALLE CORDELIER'!P9 -> 0
B20: Total Jour | C20: ='SALLE CORDELIER'!C10 -> 0.45833333 | E20: ='SALLE CORDELIER'!E10 -> 0 | G20: ='SALLE CORDELIER'!G10 -> 0 | I20: ='SALLE CORDELIER'!I10 -> 0 | K20: ='SALLE CORDELIER'!K10 -> 0 | M20: ='SALLE CORDELIER'!M10 -> 0 | O20: ='SALLE CORDELIER'!O10 -> 0
A21: ='SALLE GERLAND'!$A$6 -> ADRIEN | B21: H Arrivé | C21: ='SALLE GERLAND'!C6 -> 0 | D21: ='SALLE GERLAND'!D6 -> 0 | E21: ='SALLE GERLAND'!E6 -> 0 | F21: ='SALLE GERLAND'!F6 -> 0 | G21: ='SALLE GERLAND'!G6 -> 0 | H21: ='SALLE GERLAND'!H6 -> 0 | I21: ='SALLE GERLAND'!I6 -> 0 | J21: ='SALLE GERLAND'!J6 -> 0 | ... Q21: ='SALLE GERLAND'!Q6 -> 0
B22: H départ | C22: ='SALLE GERLAND'!C7 -> 0 | D22: ='SALLE GERLAND'!D7 -> 0 | E22: ='SALLE GERLAND'!E7 -> 0 | F22: ='SALLE GERLAND'!F7 -> 0 | G22: ='SALLE GERLAND'!G7 -> 0 | H22: ='SALLE GERLAND'!H7 -> 0 | I22: ='SALLE GERLAND'!I7 -> 0 | J22: ='SALLE GERLAND'!J7 -> 0 | ... P22: ='SALLE GERLAND'!P7 -> 0
A23: ='SALLE GERLAND'!$A$8 -> FORESTIER | B23: Pause | C23: ='SALLE GERLAND'!C8 -> 0 | D23: ='SALLE GERLAND'!D8 -> 0 | E23: ='SALLE GERLAND'!E8 -> 0 | F23: ='SALLE GERLAND'!F8 -> 0 | G23: ='SALLE GERLAND'!G8 -> 0 | H23: ='SALLE GERLAND'!H8 -> 0 | I23: ='SALLE GERLAND'!I8 -> 0 | J23: ='SALLE GERLAND'!J8 -> 0 | ... P23: ='SALLE GERLAND'!P8 -> 0
B24: Total | C24: ='SALLE GERLAND'!C9 -> 0 | D24: ='SALLE GERLAND'!D9 -> 0 | E24: ='SALLE GERLAND'!E9 -> 0 | F24: ='SALLE GERLAND'!F9 -> 0 | G24: ='SALLE GERLAND'!G9 -> 0 | H24: ='SALLE GERLAND'!H9 -> 0 | I24: ='SALLE GERLAND'!I9 -> 0 | J24: ='SALLE GERLAND'!J9 -> 0 | ... P24: ='SALLE GERLAND'!P9 -> 0
B25: Total Jour | C25: ='SALLE GERLAND'!C10 -> 0 | E25: ='SALLE GERLAND'!E10 -> 0 | G25: ='SALLE GERLAND'!G10 -> 0 | I25: ='SALLE GERLAND'!I10 -> 0 | K25: ='SALLE GERLAND'!K10 -> 0 | M25: ='SALLE GERLAND'!M10 -> 0 | O25: ='SALLE GERLAND'!O10 -> 0
A26: ='SALLE GERLAND'!A11 -> SABINE | B26: H Arrivé | Q26: 0
B27: H départ
A28: ='SALLE GERLAND'!A13 -> FONTAINE | B28: Pause
B29: Total | C29: =IF(C26="R","R",(C27-C26-C28)) -> 0 | D29: =IF(D26="R","R",(D27-D26-D28)) -> 0 | E29: =IF(E26="R","R",(E27-E26-E28)) -> 0 | F29: =IF(F26="R","R",(F27-F26-F28)) -> 0 | G29: =IF(G26="R","R",(G27-G26-G28)) -> 0 | H29: =IF(H26="R","R",(H27-H26-H28)) -> 0 | I29: =IF(I26="R","R",(I27-I26-I28)) -> 0 | J29: =IF(J26="R","R",(J27-J26-J28)) -> 0 | ... P29: =IF(P26="R","R",(P27-P26-P28)) -> 0
B30: Total Jour | C30: =IF(C29="R",D29,C29+(IF(D29="R",0,D29))) -> 0 | E30: =IF(E29="R",F29,E29+(IF(F29="R",0,F29))) -> 0 | G30: =IF(G29="R",H29,G29+(IF(H29="R",0,H29))) -> 0 | I30: =IF(I29="R",J29,I29+(IF(J29="R",0,J29))) -> 0 | K30: =IF(K29="R",L29,K29+(IF(L29="R",0,L29))) -> 0 | M30: =IF(M29="R",N29,M29+(IF(N29="R",0,N29))) -> 0 | O30: =IF(O29="R",P29,O29+(IF(P29="R",0,P29))) -> 0
A31: ='SALLE GERLAND'!A16 -> JEAN MICHEL | B31: H Arrivé | C31: ='SALLE GERLAND'!C16 -> 0 | D31: ='SALLE GERLAND'!D16 -> 0 | E31: ='SALLE GERLAND'!E16 -> 0 | F31: ='SALLE GERLAND'!F16 -> 0 | G31: ='SALLE GERLAND'!G16 -> 0 | H31: ='SALLE GERLAND'!H16 -> 0 | I31: ='SALLE GERLAND'!I16 -> 0 | J31: ='SALLE GERLAND'!J16 -> 0 | ... Q31: ='SALLE GERLAND'!Q16 -> 0
B32: H départ | C32: ='SALLE GERLAND'!C17 -> 0 | D32: ='SALLE GERLAND'!D17 -> 0 | E32: ='SALLE GERLAND'!E17 -> 0 | F32: ='SALLE GERLAND'!F17 -> 0 | G32: ='SALLE GERLAND'!G17 -> 0 | H32: ='SALLE GERLAND'!H17 -> 0 | I32: ='SALLE GERLAND'!I17 -> 0 | J32: ='SALLE GERLAND'!J17 -> 0 | ... P32: ='SALLE GERLAND'!P17 -> 0
A33: ='SALLE GERLAND'!$A$18 -> ORLENKO | B33: Pause | C33: ='SALLE GERLAND'!C18 -> 0 | D33: ='SALLE GERLAND'!D18 -> 0 | E33: ='SALLE GERLAND'!E18 -> 0 | F33: ='SALLE GERLAND'!F18 -> 0 | G33: ='SALLE GERLAND'!G18 -> 0 | H33: ='SALLE GERLAND'!H18 -> 0 | I33: ='SALLE GERLAND'!I18 -> 0 | J33: ='SALLE GERLAND'!J18 -> 0 | ... P33: ='SALLE GERLAND'!P18 -> 0
B34: Total | C34: ='SALLE GERLAND'!C19 -> 0 | D34: ='SALLE GERLAND'!D19 -> 0 | E34: ='SALLE GERLAND'!E19 -> 0 | F34: ='SALLE GERLAND'!F19 -> 0 | G34: ='SALLE GERLAND'!G19 -> 0 | H34: ='SALLE GERLAND'!H19 -> 0 | I34: ='SALLE GERLAND'!I19 -> 0 | J34: ='SALLE GERLAND'!J19 -> 0 | ... P34: ='SALLE GERLAND'!P19 -> 0
B35: Total Jour | C35: ='SALLE GERLAND'!C20 -> 0 | E35: ='SALLE GERLAND'!E20 -> 0 | G35: ='SALLE GERLAND'!G20 -> 0 | I35: ='SALLE GERLAND'!I20 -> 0 | K35: ='SALLE GERLAND'!K20 -> 0 | M35: ='SALLE GERLAND'!M20 -> 0 | O35: ='SALLE GERLAND'!O20 -> 0
A36: ='SALLE GERLAND'!$A$21 -> MAXIME | B36: H Arrivé | C36: ='SALLE GERLAND'!C21 -> 0 | D36: ='SALLE GERLAND'!D21 -> 0 | E36: ='SALLE GERLAND'!E21 -> 0 | F36: ='SALLE GERLAND'!F21 -> 0 | G36: ='SALLE GERLAND'!G21 -> 0 | H36: ='SALLE GERLAND'!H21 -> 0 | I36: ='SALLE GERLAND'!I21 -> 0 | J36: ='SALLE GERLAND'!J21 -> 0 | ... Q36: ='SALLE GERLAND'!Q21 -> 0
B37: H départ | C37: ='SALLE GERLAND'!C22 -> 0 | D37: ='SALLE GERLAND'!D22 -> 0 | E37: ='SALLE GERLAND'!E22 -> 0 | F37: ='SALLE GERLAND'!F22 -> 0 | G37: ='SALLE GERLAND'!G22 -> 0 | H37: ='SALLE GERLAND'!H22 -> 0 | I37: ='SALLE GERLAND'!I22 -> 0 | J37: ='SALLE GERLAND'!J22 -> 0 | ... P37: ='SALLE GERLAND'!P22 -> 0
A38: ='SALLE GERLAND'!$A$23 -> POKORSKI | B38: Pause | C38: ='SALLE GERLAND'!C23 -> 0 | D38: ='SALLE GERLAND'!D23 -> 0 | E38: ='SALLE GERLAND'!E23 -> 0 | F38: ='SALLE GERLAND'!F23 -> 0 | G38: ='SALLE GERLAND'!G23 -> 0 | H38: ='SALLE GERLAND'!H23 -> 0 | I38: ='SALLE GERLAND'!I23 -> 0 | J38: ='SALLE GERLAND'!J23 -> 0 | ... P38: ='SALLE GERLAND'!P23 -> 0
B39: Total | C39: ='SALLE GERLAND'!C24 -> 0 | D39: ='SALLE GERLAND'!D24 -> 0 | E39: ='SALLE GERLAND'!E24 -> 0 | F39: ='SALLE GERLAND'!F24 -> 0 | G39: ='SALLE GERLAND'!G24 -> 0 | H39: ='SALLE GERLAND'!H24 -> 0 | I39: ='SALLE GERLAND'!I24 -> 0 | J39: ='SALLE GERLAND'!J24 -> 0 | ... P39: ='SALLE GERLAND'!P24 -> 0
B40: Total Jour | C40: ='SALLE GERLAND'!C25 -> 0 | E40: ='SALLE GERLAND'!E25 -> 0 | G40: ='SALLE GERLAND'!G25 -> 0 | I40: ='SALLE GERLAND'!I25 -> 0 | K40: ='SALLE GERLAND'!K25 -> 0 | M40: ='SALLE GERLAND'!M25 -> 0 | O40: ='SALLE GERLAND'!O25 -> 0
A41: ='SALLE CORDELIER'!$A$11 -> CHRISTIAN | B41: H Arrivé | C41: ='SALLE CORDELIER'!C11 -> 0 | D41: ='SALLE CORDELIER'!D11 -> 0 | E41: ='SALLE CORDELIER'!E11 -> 0 | F41: ='SALLE CORDELIER'!F11 -> 0 | G41: ='SALLE CORDELIER'!G11 -> 0 | H41: ='SALLE CORDELIER'!H11 -> 0 | I41: ='SALLE CORDELIER'!I11 -> 0 | J41: ='SALLE CORDELIER'!J11 -> 0 | ... Q41: ='SALLE CORDELIER'!Q11 -> 0
...

Sheet GERLAND EMMARGEMENT SALLE
B1: NOM : | D1: ='SALLE GERLAND'!A8 -> FORESTIER | H1: SEMAINE : | J1: ='SALLE GERLAND'!C3 -> 51
B2: PRENOM : | D2: ='SALLE GERLAND'!A6 -> ADRIEN | I2: DU : | J2: ='SALLE GERLAND'!I3 -> 43794 | M2: =J2+6 -> 43800
B4: LUNDI | D4: MARDI | F4: MERCREDI | H4: JEUDI | J4: VENDREDI | L4: SAMEDI | N4: DIMANCHE
B5: MIDI | C5: SOIR | D5: MIDI | E5: SOIR | F5: MIDI | G5: SOIR | H5: MIDI | I5: SOIR | J5: MIDI | K5: SOIR | L5: MIDI | M5: SOIR | N5: MIDI | O5: SOIR
A6: H Arrivé | B6: ='SALLE GERLAND'!C6 -> 0 | C6: ='SALLE GERLAND'!D6 -> 0 | D6: ='SALLE GERLAND'!E6 -> 0 | E6: ='SALLE GERLAND'!F6 -> 0 | F6: ='SALLE GERLAND'!G6 -> 0 | G6: ='SALLE GERLAND'!H6 -> 0 | H6: ='SALLE GERLAND'!I6 -> 0 | I6: ='SALLE GERLAND'!J6 -> 0 | ... O6: ='SALLE GERLAND'!P6 -> 0
A7: H départ | B7: ='SALLE GERLAND'!C7 -> 0 | C7: ='SALLE GERLAND'!D7 -> 0 | D7: ='SALLE GERLAND'!E7 -> 0 | E7: ='SALLE GERLAND'!F7 -> 0 | F7: ='SALLE GERLAND'!G7 -> 0 | G7: ='SALLE GERLAND'!H7 -> 0 | H7: ='SALLE GERLAND'!I7 -> 0 | I7: ='SALLE GERLAND'!J7 -> 0 | ... O7: ='SALLE GERLAND'!P7 -> 0
A8: Pause | B8: ='SALLE GERLAND'!C8 -> 0 | C8: ='SALLE GERLAND'!D8 -> 0 | D8: ='SALLE GERLAND'!E8 -> 0 | E8: ='SALLE GERLAND'!F8 -> 0 | F8: ='SALLE GERLAND'!G8 -> 0 | G8: ='SALLE GERLAND'!H8 -> 0 | H8: ='SALLE GERLAND'!I8 -> 0 | I8: ='SALLE GERLAND'!J8 -> 0 | ... O8: ='SALLE GERLAND'!P8 -> 0
A9: Total | B9: ='SALLE GERLAND'!C9 -> 0 | C9: ='SALLE GERLAND'!D9 -> 0 | D9: ='SALLE GERLAND'!E9 -> 0 | E9: ='SALLE GERLAND'!F9 -> 0 | F9: ='SALLE GERLAND'!G9 -> 0 | G9: ='SALLE GERLAND'!H9 -> 0 | H9: ='SALLE GERLAND'!I9 -> 0 | I9: ='SALLE GERLAND'!J9 -> 0 | ... O9: ='SALLE GERLAND'!P9 -> 0
A10: Total Jour | B10: ='SALLE GERLAND'!C10 -> 0 | D10: ='SALLE GERLAND'!E10 -> 0 | F10: ='SALLE GERLAND'!G10 -> 0 | H10: ='SALLE GERLAND'!I10 -> 0 | J10: ='SALLE GERLAND'!K10 -> 0 | L10: ='SALLE GERLAND'!M10 -> 0 | N10: ='SALLE GERLAND'!O10 -> 0
B13: LUNDI | D13: MARDI | F13: MERCREDI | H13: JEUDI | J13: VENDREDI | L13: SAMEDI | N13: DIMANCHE
B14: MIDI | C14: SOIR | D14: MIDI | E14: SOIR | F14: MIDI | G14: SOIR | H14: MIDI | I14: SOIR | J14: MIDI | K14: SOIR | L14: MIDI | M14: SOIR | N14: MIDI | O14: SOIR
A15: H Arrivé
A16: H départ
A17: Pause
A18: Total
A19: Total Jour
A23: TOTAL PREVU | C23: ='SALLE GERLAND'!$Q$5 -> 0 | F23: TOTAL REALISE | K23: SIGNATURE
B32: NOM : | D32: ='SALLE GERLAND'!A13 -> FONTAINE | H32: SEMAINE : | J32: 51
B33: PRENOM : | D33: ='SALLE GERLAND'!A11 -> SABINE | I33: DU : | J33: 43794 | M33: 43800
B35: LUNDI | D35: MARDI | F35: MERCREDI | H35: JEUDI | J35: VENDREDI | L35: SAMEDI | N35: DIMANCHE
B36: MIDI | C36: SOIR | D36: MIDI | E36: SOIR | F36: MIDI | G36: SOIR | H36: MIDI | I36: SOIR | J36: MIDI | K36: SOIR | L36: MIDI | M36: SOIR | N36: MIDI | O36: SOIR
A37: H Arrivé | B37: ='SALLE GERLAND'!C11 -> 0 | C37: ='SALLE GERLAND'!D11 -> 0 | D37: ='SALLE GERLAND'!E11 -> 0 | E37: ='SALLE GERLAND'!F11 -> 0 | F37: ='SALLE GERLAND'!G11 -> 0 | G37: ='SALLE GERLAND'!H11 -> 0 | H37: ='SALLE GERLAND'!I11 -> 0 | I37: ='SALLE GERLAND'!J11 -> 0 | ... O37: ='SALLE GERLAND'!P11 -> 0
A38: H départ | B38: ='SALLE GERLAND'!C12 -> 0 | C38: ='SALLE GERLAND'!D12 -> 0 | D38: ='SALLE GERLAND'!E12 -> 0 | E38: ='SALLE GERLAND'!F12 -> 0 | F38: ='SALLE GERLAND'!G12 -> 0 | G38: ='SALLE GERLAND'!H12 -> 0 | H38: ='SALLE GERLAND'!I12 -> 0 | I38: ='SALLE GERLAND'!J12 -> 0 | ... O38: ='SALLE GERLAND'!P12 -> 0
A39: Pause | B39: ='SALLE GERLAND'!C13 -> 0 | C39: ='SALLE GERLAND'!D13 -> 0 | D39: ='SALLE GERLAND'!E13 -> 0 | E39: ='SALLE GERLAND'!F13 -> 0 | F39: ='SALLE GERLAND'!G13 -> 0 | G39: ='SALLE GERLAND'!H13 -> 0 | H39: ='SALLE GERLAND'!I13 -> 0 | I39: ='SALLE GERLAND'!J13 -> 0 | ... O39: ='SALLE GERLAND'!P13 -> 0
A40: Total | B40: ='SALLE GERLAND'!C14 -> 0 | C40: ='SALLE GERLAND'!D14 -> 0 | D40: ='SALLE GERLAND'!E14 -> 0 | E40: ='SALLE GERLAND'!F14 -> 0 | F40: ='SALLE GERLAND'!G14 -> 0 | G40: ='SALLE GERLAND'!H14 -> 0 | H40: ='SALLE GERLAND'!I14 -> 0 | I40: ='SALLE GERLAND'!J14 -> 0 | ... O40: ='SALLE GERLAND'!P14 -> 0
A41: Total Jour | B41: ='SALLE GERLAND'!C15 -> 0 | D41: ='SALLE GERLAND'!E15 -> 0 | F41: ='SALLE GERLAND'!G15 -> 0 | H41: ='SALLE GERLAND'!I15 -> 0 | J41: ='SALLE GERLAND'!K15 -> 0 | L41: ='SALLE GERLAND'!M15 -> 0 | N41: ='SALLE GERLAND'!O15 -> 0
B44: LUNDI | D44: MARDI | F44: MERCREDI | H44: JEUDI | J44: VENDREDI | L44: SAMEDI | N44: DIMANCHE
B45: MIDI | C45: SOIR | D45: MIDI | E45: SOIR | F45: MIDI | G45: SOIR | H45: MIDI | I45: SOIR | J45: MIDI | K45: SOIR | L45: MIDI | M45: SOIR | N45: MIDI | O45: SOIR
A46: H Arrivé
A47: H départ
A48: Pause
A49: Total
A50: Total Jour
A54: TOTAL PREVU | C54: ='SALLE GERLAND'!Q11 -> 0 | F54: TOTAL REALISE | K54: SIGNATURE
B63: NOM : | D63: ='SALLE GERLAND'!A18 -> ORLENKO | H63: SEMAINE : | J63: 51
B64: PRENOM : | D64: ='SALLE GERLAND'!A16 -> JEAN MICHEL | I64: DU : | J64: 43794 | M64: 43800
B66: LUNDI | D66: MARDI | F66: MERCREDI | H66: JEUDI | J66: VENDREDI | L66: SAMEDI | N66: DIMANCHE
B67: MIDI | C67: SOIR | D67: MIDI | E67: SOIR | F67: MIDI | G67: SOIR | H67: MIDI | I67: SOIR | J67: MIDI | K67: SOIR | L67: MIDI | M67: SOIR | N67: MIDI | O67: SOIR
A68: H Arrivé | B68: ='SALLE GERLAND'!C16 -> 0 | C68: ='SALLE GERLAND'!D16 -> 0 | D68: ='SALLE GERLAND'!E16 -> 0 | E68: ='SALLE GERLAND'!F16 -> 0 | F68: ='SALLE GERLAND'!G16 -> 0 | G68: ='SALLE GERLAND'!H16 -> 0 | H68: ='SALLE GERLAND'!I16 -> 0 | I68: ='SALLE GERLAND'!J16 -> 0 | ... O68: ='SALLE GERLAND'!P16 -> 0
A69: H départ | B69: ='SALLE GERLAND'!C17 -> 0 | C69: ='SALLE GERLAND'!D17 -> 0 | D69: ='SALLE GERLAND'!E17 -> 0 | E69: ='SALLE GERLAND'!F17 -> 0 | F69: ='SALLE GERLAND'!G17 -> 0 | G69: ='SALLE GERLAND'!H17 -> 0 | H69: ='SALLE GERLAND'!I17 -> 0 | I69: ='SALLE GERLAND'!J17 -> 0 | ... O69: ='SALLE GERLAND'!P17 -> 0
...

Sheet GERLAND EMMARGEMENT CUISINE
B1: NOM : | D1: ='CUISINE GERLAND'!A8 -> LEMAIRE | H1: SEMAINE : | J1: ='CUISINE GERLAND'!C3 -> 51
B2: PRENOM : | D2: ='CUISINE GERLAND'!A6 -> CHRISTOPHE | I2: DU : | J2: ='CUISINE GERLAND'!I3 -> 43794 | M2: =J2+6 -> 43800
B4: LUNDI | D4: MARDI | F4: MERCREDI | H4: JEUDI | J4: VENDREDI | L4: SAMEDI | N4: DIMANCHE
B5: MIDI | C5: SOIR | D5: MIDI | E5: SOIR | F5: MIDI | G5: SOIR | H5: MIDI | I5: SOIR | J5: MIDI | K5: SOIR | L5: MIDI | M5: SOIR | N5: MIDI | O5: SOIR
A6: H Arrivé | B6: ='CUISINE GERLAND'!C6 -> 0.5 | C6: ='CUISINE GERLAND'!D6 -> 0.75 | D6: ='CUISINE GERLAND'!E6 -> 0 | E6: ='CUISINE GERLAND'!F6 -> 0 | F6: ='CUISINE GERLAND'!G6 -> 0 | G6: ='CUISINE GERLAND'!H6 -> 0 | H6: ='CUISINE GERLAND'!I6 -> 0 | I6: ='CUISINE GERLAND'!J6 -> 0 | ... O6: ='CUISINE GERLAND'!P6 -> 0
A7: H départ | B7: ='CUISINE GERLAND'!C7 -> 0.625 | C7: ='CUISINE GERLAND'!D7 -> 1 | D7: ='CUISINE GERLAND'!E7 -> 0 | E7: ='CUISINE GERLAND'!F7 -> 0 | F7: ='CUISINE GERLAND'!G7 -> 0 | G7: ='CUISINE GERLAND'!H7 -> 0 | H7: ='CUISINE GERLAND'!I7 -> 0 | I7: ='CUISINE GERLAND'!J7 -> 0 | ... O7: ='CUISINE GERLAND'!P7 -> 0
A8: Pause | B8: ='CUISINE GERLAND'!C8 -> 0.020833333 | C8: ='CUISINE GERLAND'!D8 -> 0.020833333 | D8: ='CUISINE GERLAND'!E8 -> 0 | E8: ='CUISINE GERLAND'!F8 -> 0 | F8: ='CUISINE GERLAND'!G8 -> 0 | G8: ='CUISINE GERLAND'!H8 -> 0 | H8: ='CUISINE GERLAND'!I8 -> 0 | I8: ='CUISINE GERLAND'!J8 -> 0 | ... O8: ='CUISINE GERLAND'!P8 -> 0
A9: Total | B9: ='CUISINE GERLAND'!C9 -> 0.10416667 | C9: ='CUISINE GERLAND'!D9 -> 0.22916667 | D9: ='CUISINE GERLAND'!E9 -> 0 | E9: ='CUISINE GERLAND'!F9 -> 0 | F9: ='CUISINE GERLAND'!G9 -> 0 | G9: ='CUISINE GERLAND'!H9 -> 0 | H9: ='CUISINE GERLAND'!I9 -> 0 | I9: ='CUISINE GERLAND'!J9 -> 0 | ... O9: ='CUISINE GERLAND'!P9 -> 0
A10: Total Jour | B10: ='CUISINE GERLAND'!C10 -> 0.33333333 | D10: ='CUISINE GERLAND'!E10 -> 0 | F10: ='CUISINE GERLAND'!G10 -> 0 | H10: ='CUISINE GERLAND'!I10 -> 0 | J10: ='CUISINE GERLAND'!K10 -> 0 | L10: ='CUISINE GERLAND'!M10 -> 0 | N10: ='CUISINE GERLAND'!O10 -> 0
B13: LUNDI | D13: MARDI | F13: MERCREDI | H13: JEUDI | J13: VENDREDI | L13: SAMEDI | N13: DIMANCHE
B14: MIDI | C14: SOIR | D14: MIDI | E14: SOIR | F14: MIDI | G14: SOIR | H14: MIDI | I14: SOIR | J14: MIDI | K14: SOIR | L14: MIDI | M14: SOIR | N14: MIDI | O14: SOIR
A15: H Arrivé
A16: H départ
A17: Pause
A18: Total
A19: Total Jour
A23: TOTAL PREVU | C23: ='CUISINE GERLAND'!$Q$5 -> 0 | F23: TOTAL REALISE | K23: SIGNATURE
B32: NOM : | D32: ='CUISINE GERLAND'!A13 -> SARR | H32: SEMAINE : | J32: 51
B33: PRENOM : | D33: ='CUISINE GERLAND'!A11 -> BABACAR | I33: DU : | J33: 43794 | M33: 43800
B35: LUNDI | D35: MARDI | F35: MERCREDI | H35: JEUDI | J35: VENDREDI | L35: SAMEDI | N35: DIMANCHE
B36: MIDI | C36: SOIR | D36: MIDI | E36: SOIR | F36: MIDI | G36: SOIR | H36: MIDI | I36: SOIR | J36: MIDI | K36: SOIR | L36: MIDI | M36: SOIR | N36: MIDI | O36: SOIR
A37: H Arrivé | B37: ='CUISINE GERLAND'!C11 -> 0 | C37: ='CUISINE GERLAND'!D11 -> 0 | D37: ='CUISINE GERLAND'!E11 -> 0 | E37: ='CUISINE GERLAND'!F11 -> 0 | F37: ='CUISINE GERLAND'!G11 -> 0 | G37: ='CUISINE GERLAND'!H11 -> 0 | H37: ='CUISINE GERLAND'!I11 -> 0 | I37: ='CUISINE GERLAND'!J11 -> 0 | ... O37: ='CUISINE GERLAND'!P11 -> 0
A38: H départ | B38: ='CUISINE GERLAND'!C12 -> 0 | C38: ='CUISINE GERLAND'!D12 -> 0 | D38: ='CUISINE GERLAND'!E12 -> 0 | E38: ='CUISINE GERLAND'!F12 -> 0 | F38: ='CUISINE GERLAND'!G12 -> 0 | G38: ='CUISINE GERLAND'!H12 -> 0 | H38: ='CUISINE GERLAND'!I12 -> 0 | I38: ='CUISINE GERLAND'!J12 -> 0 | ... O38: ='CUISINE GERLAND'!P12 -> 0
A39: Pause | B39: ='CUISINE GERLAND'!C13 -> 0 | C39: ='CUISINE GERLAND'!D13 -> 0 | D39: ='CUISINE GERLAND'!E13 -> 0 | E39: ='CUISINE GERLAND'!F13 -> 0 | F39: ='CUISINE GERLAND'!G13 -> 0 | G39: ='CUISINE GERLAND'!H13 -> 0 | H39: ='CUISINE GERLAND'!I13 -> 0 | I39: ='CUISINE GERLAND'!J13 -> 0 | ... O39: ='CUISINE GERLAND'!P13 -> 0
A40: Total | B40: ='CUISINE GERLAND'!C14 -> 0 | C40: ='CUISINE GERLAND'!D14 -> 0 | D40: ='CUISINE GERLAND'!E14 -> 0 | E40: ='CUISINE GERLAND'!F14 -> 0 | F40: ='CUISINE GERLAND'!G14 -> 0 | G40: ='CUISINE GERLAND'!H14 -> 0 | H40: ='CUISINE GERLAND'!I14 -> 0 | I40: ='CUISINE GERLAND'!J14 -> 0 | ... O40: ='CUISINE GERLAND'!P14 -> 0
A41: Total Jour | B41: ='CUISINE GERLAND'!C15 -> 0 | D41: ='CUISINE GERLAND'!E15 -> 0 | F41: ='CUISINE GERLAND'!G15 -> 0 | H41: ='CUISINE GERLAND'!I15 -> 0 | J41: ='CUISINE GERLAND'!K15 -> 0 | L41: ='CUISINE GERLAND'!M15 -> 0 | N41: ='CUISINE GERLAND'!O15 -> 0
B44: LUNDI | D44: MARDI | F44: MERCREDI | H44: JEUDI | J44: VENDREDI | L44: SAMEDI | N44: DIMANCHE
B45: MIDI | C45: SOIR | D45: MIDI | E45: SOIR | F45: MIDI | G45: SOIR | H45: MIDI | I45: SOIR | J45: MIDI | K45: SOIR | L45: MIDI | M45: SOIR | N45: MIDI | O45: SOIR
A46: H Arrivé
A47: H départ
A48: Pause
A49: Total
A50: Total Jour
A54: TOTAL PREVU | C54: ='CUISINE GERLAND'!Q11 -> 0 | F54: TOTAL REALISE | K54: SIGNATURE
B61: NOM : | D61: ='CUISINE GERLAND'!A18 -> DEL PALACIO | H61: SEMAINE : | J61: 51
B62: PRENOM : | D62: ='CUISINE GERLAND'!A16 -> CEDRIC | I62: DU : | J62: 43794 | M62: 43800
B64: LUNDI | D64: MARDI | F64: MERCREDI | H64: JEUDI | J64: VENDREDI | L64: SAMEDI | N64: DIMANCHE
B65: MIDI | C65: SOIR | D65: MIDI | E65: SOIR | F65: MIDI | G65: SOIR | H65: MIDI | I65: SOIR | J65: MIDI | K65: SOIR | L65: MIDI | M65: SOIR | N65: MIDI | O65: SOIR
A66: H Arrivé | B66: ='CUISINE GERLAND'!C16 -> 0 | C66: ='CUISINE GERLAND'!D16 -> 0 | D66: ='CUISINE GERLAND'!E16 -> 0 | E66: ='CUISINE GERLAND'!F16 -> 0 | F66: ='CUISINE GERLAND'!G16 -> 0 | G66: ='CUISINE GERLAND'!H16 -> 0 | H66: ='CUISINE GERLAND'!I16 -> 0 | I66: ='CUISINE GERLAND'!J16 -> 0 | ... O66: ='CUISINE GERLAND'!P16 -> 0
A67: H départ | B67: ='CUISINE GERLAND'!C17 -> 0 | C67: ='CUISINE GERLAND'!D17 -> 0 | D67: ='CUISINE GERLAND'!E17 -> 0 | E67: ='CUISINE GERLAND'!F17 -> 0 | F67: ='CUISINE GERLAND'!G17 -> 0 | G67: ='CUISINE GERLAND'!H17 -> 0 | H67: ='CUISINE GERLAND'!I17 -> 0 | I67: ='CUISINE GERLAND'!J17 -> 0 | ... O67: ='CUISINE GERLAND'!P17 -> 0
...

Sheet CORDELIER EMMARGEMENT SALLE
B1: NOM : | D1: ='SALLE CORDELIER'!A8 -> GESLAN | H1: SEMAINE : | J1: ='SALLE CORDELIER'!C3 -> 51
B2: PRENOM : | D2: ='SALLE CORDELIER'!A6 -> RÉMI | I2: DU : | J2: ='SALLE CORDELIER'!I3 -> 43794 | M2: =J2+6 -> 43800
B4: LUNDI | D4: MARDI | F4: MERCREDI | H4: JEUDI | J4: VENDREDI | L4: SAMEDI | N4: DIMANCHE
B5: MIDI | C5: SOIR | D5: MIDI | E5: SOIR | F5: MIDI | G5: SOIR | H5: MIDI | I5: SOIR | J5: MIDI | K5: SOIR | L5: MIDI | M5: SOIR | N5: MIDI | O5: SOIR
A6: H Arrivé | B6: ='SALLE CORDELIER'!C6 -> 0.41666667 | C6: ='SALLE CORDELIER'!D6 -> 0.75 | D6: ='SALLE CORDELIER'!E6 -> 0 | E6: ='SALLE CORDELIER'!F6 -> 0 | F6: ='SALLE CORDELIER'!G6 -> 0 | G6: ='SALLE CORDELIER'!H6 -> 0 | H6: ='SALLE CORDELIER'!I6 -> 0 | I6: ='SALLE CORDELIER'!J6 -> 0 | ... O6: ='SALLE CORDELIER'!P6 -> 0
A7: H départ | B7: ='SALLE CORDELIER'!C7 -> 0.625 | C7: ='SALLE CORDELIER'!D7 -> 1 | D7: ='SALLE CORDELIER'!E7 -> 0 | E7: ='SALLE CORDELIER'!F7 -> 0 | F7: ='SALLE CORDELIER'!G7 -> 0 | G7: ='SALLE CORDELIER'!H7 -> 0 | H7: ='SALLE CORDELIER'!I7 -> 0 | I7: ='SALLE CORDELIER'!J7 -> 0 | ... O7: ='SALLE CORDELIER'!P7 -> 0
A8: Pause | B8: ='SALLE CORDELIER'!C8 -> 0 | C8: ='SALLE CORDELIER'!D8 -> 0 | D8: ='SALLE CORDELIER'!E8 -> 0 | E8: ='SALLE CORDELIER'!F8 -> 0 | F8: ='SALLE CORDELIER'!G8 -> 0 | G8: ='SALLE CORDELIER'!H8 -> 0 | H8: ='SALLE CORDELIER'!I8 -> 0 | I8: ='SALLE CORDELIER'!J8 -> 0 | ... O8: ='SALLE CORDELIER'!P8 -> 0
A9: Total | B9: ='SALLE CORDELIER'!C9 -> 0.20833333 | C9: ='SALLE CORDELIER'!D9 -> 0.25 | D9: ='SALLE CORDELIER'!E9 -> 0 | E9: ='SALLE CORDELIER'!F9 -> 0 | F9: ='SALLE CORDELIER'!G9 -> 0 | G9: ='SALLE CORDELIER'!H9 -> 0 | H9: ='SALLE CORDELIER'!I9 -> 0 | I9: ='SALLE CORDELIER'!J9 -> 0 | ... O9: ='SALLE CORDELIER'!P9 -> 0
A10: Total Jour | B10: ='SALLE CORDELIER'!C10 -> 0.45833333 | D10: ='SALLE CORDELIER'!E10 -> 0 | F10: ='SALLE CORDELIER'!G10 -> 0 | H10: ='SALLE CORDELIER'!I10 -> 0 | J10: ='SALLE CORDELIER'!K10 -> 0 | L10: ='SALLE CORDELIER'!M10 -> 0 | N10: ='SALLE CORDELIER'!O10 -> 0
B13: LUNDI | D13: MARDI | F13: MERCREDI | H13: JEUDI | J13: VENDREDI | L13: SAMEDI | N13: DIMANCHE
B14: MIDI | C14: SOIR | D14: MIDI | E14: SOIR | F14: MIDI | G14: SOIR | H14: MIDI | I14: SOIR | J14: MIDI | K14: SOIR | L14: MIDI | M14: SOIR | N14: MIDI | O14: SOIR
A15: H Arrivé
A16: H départ
A17: Pause
A18: Total
A19: Total Jour
A23: TOTAL PREVU | C23: ='SALLE CORDELIER'!$Q$5 -> 0 | F23: TOTAL REALISE | K23: SIGNATURE
B32: NOM : | D32: ='SALLE CORDELIER'!A13 -> LABET | H32: SEMAINE : | J32: 51
B33: PRENOM : | D33: ='SALLE CORDELIER'!A11 -> CHRISTIAN | I33: DU : | J33: 43794 | M33: 43800
B35: LUNDI | D35: MARDI | F35: MERCREDI | H35: JEUDI | J35: VENDREDI | L35: SAMEDI | N35: DIMANCHE
B36: MIDI | C36: SOIR | D36: MIDI | E36: SOIR | F36: MIDI | G36: SOIR | H36: MIDI | I36: SOIR | J36: MIDI | K36: SOIR | L36: MIDI | M36: SOIR | N36: MIDI | O36: SOIR
A37: H Arrivé | B37: ='SALLE CORDELIER'!C11 -> 0 | C37: ='SALLE CORDELIER'!D11 -> 0 | D37: ='SALLE CORDELIER'!E11 -> 0 | E37: ='SALLE CORDELIER'!F11 -> 0 | F37: ='SALLE CORDELIER'!G11 -> 0 | G37: ='SALLE CORDELIER'!H11 -> 0 | H37: ='SALLE CORDELIER'!I11 -> 0 | I37: ='SALLE CORDELIER'!J11 -> 0 | ... O37: ='SALLE CORDELIER'!P11 -> 0
A38: H départ | B38: ='SALLE CORDELIER'!C12 -> 0 | C38: ='SALLE CORDELIER'!D12 -> 0 | D38: ='SALLE CORDELIER'!E12 -> 0 | E38: ='SALLE CORDELIER'!F12 -> 0 | F38: ='SALLE CORDELIER'!G12 -> 0 | G38: ='SALLE CORDELIER'!H12 -> 0 | H38: ='SALLE CORDELIER'!I12 -> 0 | I38: ='SALLE CORDELIER'!J12 -> 0 | ... O38: ='SALLE CORDELIER'!P12 -> 0
A39: Pause | B39: ='SALLE CORDELIER'!C13 -> 0 | C39: ='SALLE CORDELIER'!D13 -> 0 | D39: ='SALLE CORDELIER'!E13 -> 0 | E39: ='SALLE CORDELIER'!F13 -> 0 | F39: ='SALLE CORDELIER'!G13 -> 0 | G39: ='SALLE CORDELIER'!H13 -> 0 | H39: ='SALLE CORDELIER'!I13 -> 0 | I39: ='SALLE CORDELIER'!J13 -> 0 | ... O39: ='SALLE CORDELIER'!P13 -> 0
A40: Total | B40: ='SALLE CORDELIER'!C14 -> 0 | C40: ='SALLE CORDELIER'!D14 -> 0 | D40: ='SALLE CORDELIER'!E14 -> 0 | E40: ='SALLE CORDELIER'!F14 -> 0 | F40: ='SALLE CORDELIER'!G14 -> 0 | G40: ='SALLE CORDELIER'!H14 -> 0 | H40: ='SALLE CORDELIER'!I14 -> 0 | I40: ='SALLE CORDELIER'!J14 -> 0 | ... O40: ='SALLE CORDELIER'!P14 -> 0
A41: Total Jour | B41: ='SALLE CORDELIER'!C15 -> 0 | D41: ='SALLE CORDELIER'!E15 -> 0 | F41: ='SALLE CORDELIER'!G15 -> 0 | H41: ='SALLE CORDELIER'!I15 -> 0 | J41: ='SALLE CORDELIER'!K15 -> 0 | L41: ='SALLE CORDELIER'!M15 -> 0 | N41: ='SALLE CORDELIER'!O15 -> 0
B44: LUNDI | D44: MARDI | F44: MERCREDI | H44: JEUDI | J44: VENDREDI | L44: SAMEDI | N44: DIMANCHE
B45: MIDI | C45: SOIR | D45: MIDI | E45: SOIR | F45: MIDI | G45: SOIR | H45: MIDI | I45: SOIR | J45: MIDI | K45: SOIR | L45: MIDI | M45: SOIR | N45: MIDI | O45: SOIR
A46: H Arrivé
A47: H départ
A48: Pause
A49: Total
A50: Total Jour
A54: TOTAL PREVU | C54: ='SALLE CORDELIER'!Q11 -> 0 | F54: TOTAL REALISE | K54: SIGNATURE
B63: NOM : | D63: ='SALLE CORDELIER'!A18 -> MAQRANE | H63: SEMAINE : | J63: 51
B64: PRENOM : | D64: ='SALLE CORDELIER'!A16 -> ELIAS | I64: DU : | J64: 43794 | M64: 43800
B66: LUNDI | D66: MARDI | F66: MERCREDI | H66: JEUDI | J66: VENDREDI | L66: SAMEDI | N66: DIMANCHE
B67: MIDI | C67: SOIR | D67: MIDI | E67: SOIR | F67: MIDI | G67: SOIR | H67: MIDI | I67: SOIR | J67: MIDI | K67: SOIR | L67: MIDI | M67: SOIR | N67: MIDI | O67: SOIR
A68: H Arrivé | B68: ='SALLE CORDELIER'!C16 -> 0 | C68: ='SALLE CORDELIER'!D16 -> 0 | D68: ='SALLE CORDELIER'!E16 -> 0 | E68: ='SALLE CORDELIER'!F16 -> 0 | F68: ='SALLE CORDELIER'!G16 -> 0 | G68: ='SALLE CORDELIER'!H16 -> 0 | H68: ='SALLE CORDELIER'!I16 -> 0 | I68: ='SALLE CORDELIER'!J16 -> 0 | ... O68: ='SALLE CORDELIER'!P16 -> 0
A69: H départ | B69: ='SALLE CORDELIER'!C17 -> 0 | C69: ='SALLE CORDELIER'!D17 -> 0 | D69: ='SALLE CORDELIER'!E17 -> 0 | E69: ='SALLE CORDELIER'!F17 -> 0 | F69: ='SALLE CORDELIER'!G17 -> 0 | G69: ='SALLE CORDELIER'!H17 -> 0 | H69: ='SALLE CORDELIER'!I17 -> 0 | I69: ='SALLE CORDELIER'!J17 -> 0 | ... O69: ='SALLE CORDELIER'!P17 -> 0
...

Sheet CORDELIER EMMARGEMENT CUISINE
B1: NOM : | D1: ='CUISINE CORDELIER'!A8 -> FALI | H1: SEMAINE : | J1: ='CUISINE CORDELIER'!C3 -> 51
B2: PRENOM : | D2: ='CUISINE CORDELIER'!A6 -> NAMIR | I2: DU : | J2: ='CUISINE CORDELIER'!I3 -> 43794 | M2: =J2+6 -> 43800
B4: LUNDI | D4: MARDI | F4: MERCREDI | H4: JEUDI | J4: VENDREDI | L4: SAMEDI | N4: DIMANCHE
B5: MIDI | C5: SOIR | D5: MIDI | E5: SOIR | F5: MIDI | G5: SOIR | H5: MIDI | I5: SOIR | J5: MIDI | K5: SOIR | L5: MIDI | M5: SOIR | N5: MIDI | O5: SOIR
A6: H Arrivé | B6: ='CUISINE CORDELIER'!C6 -> 0.5 | C6: ='CUISINE CORDELIER'!D6 -> 0.75 | D6: ='CUISINE CORDELIER'!E6 -> 0 | E6: ='CUISINE CORDELIER'!F6 -> 0 | F6: ='CUISINE CORDELIER'!G6 -> 0 | G6: ='CUISINE CORDELIER'!H6 -> 0 | H6: ='CUISINE CORDELIER'!I6 -> 0 | I6: ='CUISINE CORDELIER'!J6 -> 0 | ... O6: ='CUISINE CORDELIER'!P6 -> 0
A7: H départ | B7: ='CUISINE CORDELIER'!C7 -> 0.625 | C7: ='CUISINE CORDELIER'!D7 -> 1 | D7: ='CUISINE CORDELIER'!E7 -> 0 | E7: ='CUISINE CORDELIER'!F7 -> 0 | F7: ='CUISINE CORDELIER'!G7 -> 0 | G7: ='CUISINE CORDELIER'!H7 -> 0 | H7: ='CUISINE CORDELIER'!I7 -> 0 | I7: ='CUISINE CORDELIER'!J7 -> 0 | ... O7: ='CUISINE CORDELIER'!P7 -> 0
A8: Pause | B8: ='CUISINE CORDELIER'!C8 -> 0.020833333 | C8: ='CUISINE CORDELIER'!D8 -> 0.020833333 | D8: ='CUISINE CORDELIER'!E8 -> 0 | E8: ='CUISINE CORDELIER'!F8 -> 0 | F8: ='CUISINE CORDELIER'!G8 -> 0 | G8: ='CUISINE CORDELIER'!H8 -> 0 | H8: ='CUISINE CORDELIER'!I8 -> 0 | I8: ='CUISINE CORDELIER'!J8 -> 0 | ... O8: ='CUISINE CORDELIER'!P8 -> 0
A9: Total | B9: ='CUISINE CORDELIER'!C9 -> 0.10416667 | C9: ='CUISINE CORDELIER'!D9 -> 0.22916667 | D9: ='CUISINE CORDELIER'!E9 -> 0 | E9: ='CUISINE CORDELIER'!F9 -> 0 | F9: ='CUISINE CORDELIER'!G9 -> 0 | G9: ='CUISINE CORDELIER'!H9 -> 0 | H9: ='CUISINE CORDELIER'!I9 -> 0 | I9: ='CUISINE CORDELIER'!J9 -> 0 | ... O9: ='CUISINE CORDELIER'!P9 -> 0
A10: Total Jour | B10: ='CUISINE CORDELIER'!C10 -> 0.33333333 | D10: ='CUISINE CORDELIER'!E10 -> 0 | F10: ='CUISINE CORDELIER'!G10 -> 0 | H10: ='CUISINE CORDELIER'!I10 -> 0 | J10: ='CUISINE CORDELIER'!K10 -> 0 | L10: ='CUISINE CORDELIER'!M10 -> 0 | N10: ='CUISINE CORDELIER'!O10 -> 0
B13: LUNDI | D13: MARDI | F13: MERCREDI | H13: JEUDI | J13: VENDREDI | L13: SAMEDI | N13: DIMANCHE
B14: MIDI | C14: SOIR | D14: MIDI | E14: SOIR | F14: MIDI | G14: SOIR | H14: MIDI | I14: SOIR | J14: MIDI | K14: SOIR | L14: MIDI | M14: SOIR | N14: MIDI | O14: SOIR
A15: H Arrivé
A16: H départ
A17: Pause
A18: Total
A19: Total Jour
A23: TOTAL PREVU | C23: ='CUISINE CORDELIER'!$Q$5 -> 0 | F23: TOTAL REALISE | K23: SIGNATURE
B32: NOM : | D32: ='CUISINE CORDELIER'!A13 -> NAIT BOUSSALEM | H32: SEMAINE : | J32: 51
B33: PRENOM : | D33: ='CUISINE CORDELIER'!A11 -> ABDERRAZZAK | I33: DU : | J33: 43794 | M33: 43800
B35: LUNDI | D35: MARDI | F35: MERCREDI | H35: JEUDI | J35: VENDREDI | L35: SAMEDI | N35: DIMANCHE
B36: MIDI | C36: SOIR | D36: MIDI | E36: SOIR | F36: MIDI | G36: SOIR | H36: MIDI | I36: SOIR | J36: MIDI | K36: SOIR | L36: MIDI | M36: SOIR | N36: MIDI | O36: SOIR
A37: H Arrivé | B37: ='CUISINE CORDELIER'!C11 -> 0 | C37: ='CUISINE CORDELIER'!D11 -> 0 | D37: ='CUISINE CORDELIER'!E11 -> 0 | E37: ='CUISINE CORDELIER'!F11 -> 0 | F37: ='CUISINE CORDELIER'!G11 -> 0 | G37: ='CUISINE CORDELIER'!H11 -> 0 | H37: ='CUISINE CORDELIER'!I11 -> 0 | I37: ='CUISINE CORDELIER'!J11 -> 0 | ... O37: ='CUISINE CORDELIER'!P11 -> 0
A38: H départ | B38: ='CUISINE CORDELIER'!C12 -> 0 | C38: ='CUISINE CORDELIER'!D12 -> 0 | D38: ='CUISINE CORDELIER'!E12 -> 0 | E38: ='CUISINE CORDELIER'!F12 -> 0 | F38: ='CUISINE CORDELIER'!G12 -> 0 | G38: ='CUISINE CORDELIER'!H12 -> 0 | H38: ='CUISINE CORDELIER'!I12 -> 0 | I38: ='CUISINE CORDELIER'!J12 -> 0 | ... O38: ='CUISINE CORDELIER'!P12 -> 0
A39: Pause | B39: ='CUISINE CORDELIER'!C13 -> 0 | C39: ='CUISINE CORDELIER'!D13 -> 0 | D39: ='CUISINE CORDELIER'!E13 -> 0 | E39: ='CUISINE CORDELIER'!F13 -> 0 | F39: ='CUISINE CORDELIER'!G13 -> 0 | G39: ='CUISINE CORDELIER'!H13 -> 0 | H39: ='CUISINE CORDELIER'!I13 -> 0 | I39: ='CUISINE CORDELIER'!J13 -> 0 | ... O39: ='CUISINE CORDELIER'!P13 -> 0
