Workbook
Name CHARGE: 'PARAMETRES '!#REF!
Name datefin: OFFSET(resultat,,5,)
Name debut: OFFSET(resultat,,3,)
Name durée: OFFSET(resultat,,4,)
Name ETAT: 'PARAMETRES '!#REF!
Name LISTE: 'PARAMETRES '!#REF!
Name OFFRE: 'PARAMETRES '!#REF!
Name offres: OFFSET(resultat,,-11,)
Name PRENOM: 'PARAMETRES '!#REF!
Name PRENOMS: 'PARAMETRES '!#REF!
Name resultat: OFFSET(#REF!,,,COUNTIF(#REF!,"><")-1)

Sheet Tableau
A1: Mois
A2: 7 | B2: =IF(A2=1,"Janvier",IF(A2=2,"Février",IF(A2=3,"Mars",IF(A2=4,"Avril",IF(A2=5,"Mai",IF(A2=6,"Juin",IF(A2=7,"Juillet",IF(A2=8,"Âout",IF(A2=9,"Septembre",IF(A2=10,"Octobre",IF(A2=11,"Novembre",IF(A2=12,"Décembre","")))))))))))) -> Juillet | F2: =IFERROR(INDEX(offres,SMALL(IF(SUBSTITUTE(resultat," ","")="obtenue",ROW(offres)-2,""),ROW(1:1))),"")
A3: Année | F3: =IFERROR(INDEX(offres,SMALL(IF(SUBSTITUTE(resultat," ","")="obtenue",ROW(offres)-2,""),ROW(2:2))),"")
A4: 2020 | F4: =IFERROR(INDEX(offres,SMALL(IF(SUBSTITUTE(resultat," ","")="obtenue",ROW(offres)-2,""),ROW(3:3))),"")
A5: Heures/jours | F5: =IFERROR(INDEX(offres,SMALL(IF(SUBSTITUTE(resultat," ","")="obtenue",ROW(offres)-2,""),ROW(4:4))),"")
A6: 0.33333333
A7: Nb.J/ouvrés
A8: =NETWORKDAYS(DATE((A4),(1),(1)),DATE((A4),(12),(31)),'PARAMETRES '!#REF!) -> #REF!
E9: Date de debut | F9: Date de fin | G9: Jours | H9: Heures/Mois | I9: Heures/Jours | J9: % répartition par projets | K9: =DATE(A4,A2,1) -> 44013 | L9: =K9+1 -> 44014 | M9: =L9+1 -> 44015 | N9: =M9+1 -> 44016 | O9: =N9+1 -> 44017 | P9: =O9+1 -> 44018 | Q9: =P9+1 -> 44019 | R9: =Q9+1 -> 44020 | S9: =R9+1 -> 44021 | ... AO9: =AN9+1 -> 44043
K10: =CONCATENATE(IF(WEEKDAY(K9,2)=1,"L",IF(WEEKDAY(K9,2)=2,"M",IF(WEEKDAY(K9,2)=3,"M",IF(WEEKDAY(K9,2)=4,"J",IF(WEEKDAY(K9,2)=5,"V",IF(WEEKDAY(K9,2)=6,"S",IF(WEEKDAY(K9,2)=7,"D"))))))), "",IF(COUNTIF('PARAMETRES '!#REF!,K9),"F","")) -> #REF! | L10: =CONCATENATE(IF(WEEKDAY(L9,2)=1,"L",IF(WEEKDAY(L9,2)=2,"M",IF(WEEKDAY(L9,2)=3,"M",IF(WEEKDAY(L9,2)=4,"J",IF(WEEKDAY(L9,2)=5,"V",IF(WEEKDAY(L9,2)=6,"S",IF(WEEKDAY(L9,2)=7,"D"))))))), "",IF(COUNTIF('PARAMETRES '!#REF!,L9),"F","")) -> #REF! | M10: =CONCATENATE(IF(WEEKDAY(M9,2)=1,"L",IF(WEEKDAY(M9,2)=2,"M",IF(WEEKDAY(M9,2)=3,"M",IF(WEEKDAY(M9,2)=4,"J",IF(WEEKDAY(M9,2)=5,"V",IF(WEEKDAY(M9,2)=6,"S",IF(WEEKDAY(M9,2)=7,"D"))))))), "",IF(COUNTIF('PARAMETRES '!#REF!,M9),"F","")) -> #REF! | N10: =CONCATENATE(IF(WEEKDAY(N9,2)=1,"L",IF(WEEKDAY(N9,2)=2,"M",IF(WEEKDAY(N9,2)=3,"M",IF(WEEKDAY(N9,2)=4,"J",IF(WEEKDAY(N9,2)=5,"V",IF(WEEKDAY(N9,2)=6,"S",IF(WEEKDAY(N9,2)=7,"D"))))))), "",IF(COUNTIF('PARAMETRES '!#REF!,N9),"F","")) -> #REF! | O10: =CONCATENATE(IF(WEEKDAY(O9,2)=1,"L",IF(WEEKDAY(O9,2)=2,"M",IF(WEEKDAY(O9,2)=3,"M",IF(WEEKDAY(O9,2)=4,"J",IF(WEEKDAY(O9,2)=5,"V",IF(WEEKDAY(O9,2)=6,"S",IF(WEEKDAY(O9,2)=7,"D"))))))), "",IF(COUNTIF('PARAMETRES '!#REF!,O9),"F","")) -> #REF! | P10: =CONCATENATE(IF(WEEKDAY(P9,2)=1,"L",IF(WEEKDAY(P9,2)=2,"M",IF(WEEKDAY(P9,2)=3,"M",IF(WEEKDAY(P9,2)=4,"J",IF(WEEKDAY(P9,2)=5,"V",IF(WEEKDAY(P9,2)=6,"S",IF(WEEKDAY(P9,2)=7,"D"))))))), "",IF(COUNTIF('PARAMETRES '!#REF!,P9),"F","")) -> #REF! | Q10: =CONCATENATE(IF(WEEKDAY(Q9,2)=1,"L",IF(WEEKDAY(Q9,2)=2,"M",IF(WEEKDAY(Q9,2)=3,"M",IF(WEEKDAY(Q9,2)=4,"J",IF(WEEKDAY(Q9,2)=5,"V",IF(WEEKDAY(Q9,2)=6,"S",IF(WEEKDAY(Q9,2)=7,"D"))))))), "",IF(COUNTIF('PARAMETRES '!#REF!,Q9),"F","")) -> #REF! | R10: =CONCATENATE(IF(WEEKDAY(R9,2)=1,"L",IF(WEEKDAY(R9,2)=2,"M",IF(WEEKDAY(R9,2)=3,"M",IF(WEEKDAY(R9,2)=4,"J",IF(WEEKDAY(R9,2)=5,"V",IF(WEEKDAY(R9,2)=6,"S",IF(WEEKDAY(R9,2)=7,"D"))))))), "",IF(COUNTIF('PARAMETRES '!#REF!,R9),"F","")) -> #REF! | ... W10: =CONCATENATE(IF(WEEKDAY(W9,2)=1,"L",IF(WEEKDAY(W9,2)=2,"M",IF(WEEKDAY(W9,2)=3,"M",IF(WEEKDAY(W9,2)=4,"J",IF(WEEKDAY(W9,2)=5,"V",IF(WEEKDAY(W9,2)=6,"S",IF(WEEKDAY(W9,2)=7,"D"))))))), "",IF(COUNTIF('PARAMETRES '!#REF!,W9),"F","")) -> #REF! | X10: =CONCATENATE(IF(WEEKDAY(X9,2)=1,"L",IF(WEEKDAY(X9,2)=2,"M",IF(WEEKDAY(X9,2)=3,"M",IF(WEEKDAY(X9,2)=4,"J",IF(WEEKDAY(X9,2)=5,"V",IF(WEEKDAY(X9,2)=6,"S",IF(WEEKDAY(X9,2)=7,"D"))))))), "",IF(COUNTIF('PARAMETRES '!B11:B23,X9),"F","")) -> M | Y10: =CONCATENATE(IF(WEEKDAY(Y9,2)=1,"L",IF(WEEKDAY(Y9,2)=2,"M",IF(WEEKDAY(Y9,2)=3,"M",IF(WEEKDAY(Y9,2)=4,"J",IF(WEEKDAY(Y9,2)=5,"V",IF(WEEKDAY(Y9,2)=6,"S",IF(WEEKDAY(Y9,2)=7,"D"))))))), "",IF(COUNTIF('PARAMETRES '!C12:C24,Y9),"F","")) -> M | Z10: =CONCATENATE(IF(WEEKDAY(Z9,2)=1,"L",IF(WEEKDAY(Z9,2)=2,"M",IF(WEEKDAY(Z9,2)=3,"M",IF(WEEKDAY(Z9,2)=4,"J",IF(WEEKDAY(Z9,2)=5,"V",IF(WEEKDAY(Z9,2)=6,"S",IF(WEEKDAY(Z9,2)=7,"D"))))))), "",IF(COUNTIF('PARAMETRES '!D12:D24,Z9),"F","")) -> J | AA10: =CONCATENATE(IF(WEEKDAY(AA9,2)=1,"L",IF(WEEKDAY(AA9,2)=2,"M",IF(WEEKDAY(AA9,2)=3,"M",IF(WEEKDAY(AA9,2)=4,"J",IF(WEEKDAY(AA9,2)=5,"V",IF(WEEKDAY(AA9,2)=6,"S",IF(WEEKDAY(AA9,2)=7,"D"))))))), "",IF(COUNTIF('PARAMETRES '!E12:E24,AA9),"F","")) -> V | AB10: =CONCATENATE(IF(WEEKDAY(AB9,2)=1,"L",IF(WEEKDAY(AB9,2)=2,"M",IF(WEEKDAY(AB9,2)=3,"M",IF(WEEKDAY(AB9,2)=4,"J",IF(WEEKDAY(AB9,2)=5,"V",IF(WEEKDAY(AB9,2)=6,"S",IF(WEEKDAY(AB9,2)=7,"D"))))))), "",IF(COUNTIF('PARAMETRES '!F12:F24,AB9),"F","")) -> S | AC10: =CONCATENATE(IF(WEEKDAY(AC9,2)=1,"L",IF(WEEKDAY(AC9,2)=2,"M",IF(WEEKDAY(AC9,2)=3,"M",IF(WEEKDAY(AC9,2)=4,"J",IF(WEEKDAY(AC9,2)=5,"V",IF(WEEKDAY(AC9,2)=6,"S",IF(WEEKDAY(AC9,2)=7,"D"))))))), "",IF(COUNTIF('PARAMETRES '!E10:E22,AC9),"F","")) -> D | AD10: =CONCATENATE(IF(WEEKDAY(AD9,2)=1,"L",IF(WEEKDAY(AD9,2)=2,"M",IF(WEEKDAY(AD9,2)=3,"M",IF(WEEKDAY(AD9,2)=4,"J",IF(WEEKDAY(AD9,2)=5,"V",IF(WEEKDAY(AD9,2)=6,"S",IF(WEEKDAY(AD9,2)=7,"D"))))))), "",IF(COUNTIF('PARAMETRES '!F10:F22,AD9),"F","")) -> L | AE10: =CONCATENATE(IF(WEEKDAY(AE9,2)=1,"L",IF(WEEKDAY(AE9,2)=2,"M",IF(WEEKDAY(AE9,2)=3,"M",IF(WEEKDAY(AE9,2)=4,"J",IF(WEEKDAY(AE9,2)=5,"V",IF(WEEKDAY(AE9,2)=6,"S",IF(WEEKDAY(AE9,2)=7,"D"))))))), "",IF(COUNTIF('PARAMETRES '!G10:G22,AE9),"F","")) -> M | AF10: =CONCATENATE(IF(WEEKDAY(AF9,2)=1,"L",IF(WEEKDAY(AF9,2)=2,"M",IF(WEEKDAY(AF9,2)=3,"M",IF(WEEKDAY(AF9,2)=4,"J",IF(WEEKDAY(AF9,2)=5,"V",IF(WEEKDAY(AF9,2)=6,"S",IF(WEEKDAY(AF9,2)=7,"D"))))))), "",IF(COUNTIF('PARAMETRES '!H11:H23,AF9),"F","")) -> M | AG10: =CONCATENATE(IF(WEEKDAY(AG9,2)=1,"L",IF(WEEKDAY(AG9,2)=2,"M",IF(WEEKDAY(AG9,2)=3,"M",IF(WEEKDAY(AG9,2)=4,"J",IF(WEEKDAY(AG9,2)=5,"V",IF(WEEKDAY(AG9,2)=6,"S",IF(WEEKDAY(AG9,2)=7,"D"))))))), "",IF(COUNTIF('PARAMETRES '!I11:I23,AG9),"F","")) -> J | AH10: =CONCATENATE(IF(WEEKDAY(AH9,2)=1,"L",IF(WEEKDAY(AH9,2)=2,"M",IF(WEEKDAY(AH9,2)=3,"M",IF(WEEKDAY(AH9,2)=4,"J",IF(WEEKDAY(AH9,2)=5,"V",IF(WEEKDAY(AH9,2)=6,"S",IF(WEEKDAY(AH9,2)=7,"D"))))))), "",IF(COUNTIF('PARAMETRES '!J11:J23,AH9),"F","")) -> V | AI10: =CONCATENATE(IF(WEEKDAY(AI9,2)=1,"L",IF(WEEKDAY(AI9,2)=2,"M",IF(WEEKDAY(AI9,2)=3,"M",IF(WEEKDAY(AI9,2)=4,"J",IF(WEEKDAY(AI9,2)=5,"V",IF(WEEKDAY(AI9,2)=6,"S",IF(WEEKDAY(AI9,2)=7,"D"))))))), "",IF(COUNTIF('PARAMETRES '!K11:K23,AI9),"F","")) -> S | AJ10: =CONCATENATE(IF(WEEKDAY(AJ9,2)=1,"L",IF(WEEKDAY(AJ9,2)=2,"M",IF(WEEKDAY(AJ9,2)=3,"M",IF(WEEKDAY(AJ9,2)=4,"J",IF(WEEKDAY(AJ9,2)=5,"V",IF(WEEKDAY(AJ9,2)=6,"S",IF(WEEKDAY(AJ9,2)=7,"D"))))))), "",IF(COUNTIF('PARAMETRES '!L11:L23,AJ9),"F","")) -> D | AK10: =CONCATENATE(IF(WEEKDAY(AK9,2)=1,"L",IF(WEEKDAY(AK9,2)=2,"M",IF(WEEKDAY(AK9,2)=3,"M",IF(WEEKDAY(AK9,2)=4,"J",IF(WEEKDAY(AK9,2)=5,"V",IF(WEEKDAY(AK9,2)=6,"S",IF(WEEKDAY(AK9,2)=7,"D"))))))), "",IF(COUNTIF('PARAMETRES '!M11:M23,AK9),"F","")) -> L | AL10: =CONCATENATE(IF(WEEKDAY(AL9,2)=1,"L",IF(WEEKDAY(AL9,2)=2,"M",IF(WEEKDAY(AL9,2)=3,"M",IF(WEEKDAY(AL9,2)=4,"J",IF(WEEKDAY(AL9,2)=5,"V",IF(WEEKDAY(AL9,2)=6,"S",IF(WEEKDAY(AL9,2)=7,"D"))))))), "",IF(COUNTIF('PARAMETRES '!N11:N23,AL9),"F","")) -> M | AM10: =CONCATENATE(IF(WEEKDAY(AM9,2)=1,"L",IF(WEEKDAY(AM9,2)=2,"M",IF(WEEKDAY(AM9,2)=3,"M",IF(WEEKDAY(AM9,2)=4,"J",IF(WEEKDAY(AM9,2)=5,"V",IF(WEEKDAY(AM9,2)=6,"S",IF(WEEKDAY(AM9,2)=7,"D"))))))), "",IF(COUNTIF('PARAMETRES '!O11:O23,AM9),"F","")) -> M | ... AO10: =CONCATENATE(IF(WEEKDAY(AO9,2)=1,"L",IF(WEEKDAY(AO9,2)=2,"M",IF(WEEKDAY(AO9,2)=3,"M",IF(WEEKDAY(AO9,2)=4,"J",IF(WEEKDAY(AO9,2)=5,"V",IF(WEEKDAY(AO9,2)=6,"S",IF(WEEKDAY(AO9,2)=7,"D"))))))), "",IF(COUNTIF('PARAMETRES '!Q11:Q23,AO9),"F","")) -> V
C11: Projet 1 | G11: =SUM(COUNTIF(K11:AO11,1)) -> 0 | H11: =SUM(G11*I11) -> 0 | I11: =IF(COUNTIF(K11:AO11,1),$A$6*J11,0) -> 0 | J11: =IF(AND($K$9,$AO$9<=#REF!, $K$9,$AO$9>=#REF!),10,0)/100 -> #REF! | K11: =IF(OR($K$10="S",$K$10="D",RIGHT($K$10,1)="F"),"W",IF(AND($K$9<=#REF!,$K$9>=#REF!),1,"")) -> #REF! | L11: =IF(OR($L$10="S",$L$10="D",RIGHT($L$10,1)="F"),"W",IF(AND($L$9<=#REF!, $L$9>=#REF!),1,"")) -> #REF! | M11: =IF(OR($M$10="S",$M$10="D",RIGHT($M$10,1)="F"),"W",IF(AND($M$9<=#REF!, $M$9>=#REF!),1,"")) -> #REF! | N11: =IF(OR($N$10="S",$N$10="D",RIGHT($N$10,1)="F"),"W",IF(AND($N$9<=#REF!, $N$9>=#REF!),1,"")) -> #REF! | O11: =IF(OR($O$10="S",$O$10="D",RIGHT($O$10,1)="F"),"W",IF(AND($O$9<=#REF!, $O$9>=#REF!),1,"")) -> #REF! | P11: =IF(OR($P$10="S",$P$10="D",RIGHT($P$10,1)="F"),"W",IF(AND($P$9<=#REF!, $P$9>=#REF!),1,"")) -> #REF! | Q11: =IF(OR($Q$10="S",$Q$10="D",RIGHT($Q$10,1)="F"),"W",IF(AND($Q$9<=#REF!, $Q$9>=#REF!),1,"")) -> #REF! | R11: =IF(OR($R$10="S",$R$10="D",RIGHT($R$10,1)="F"),"W",IF(AND($R$9<=#REF!, $R$9>=#REF!),1,"")) -> #REF! | S11: =IF(OR($S$10="S",$S$10="D",RIGHT($S$10,1)="F"),"W",IF(AND($S$9<=#REF!, $S$9>=#REF!),1,"")) -> #REF! | T11: =IF(OR($T$10="S",$T$10="D",RIGHT($T$10,1)="F"),"W",IF(AND($T$9<=#REF!, $T$9>=#REF!),1,"")) -> #REF! | U11: =IF(OR($U$10="S",$U$10="D",RIGHT($U$10,1)="F"),"W",IF(AND($U$9<=#REF!, $U$9>=#REF!),1,"")) -> #REF! | V11: =IF(OR($V$10="S",$V$10="D",RIGHT($V$10,1)="F"),"W",IF(AND($V$9<=#REF!, $V$9>=#REF!),1,"")) -> #REF! | W11: =IF(OR($W$10="S",$W$10="D",RIGHT($W$10,1)="F"),"W",IF(AND($W$9<=#REF!, $W$9>=#REF!),1,"")) -> #REF! | X11: =IF(OR($X$10="S",$X$10="D",RIGHT($X$10,1)="F"),"W",IF(AND($X$9<=#REF!, $X$9>=#REF!),1,"")) -> #REF! | Y11: =IF(OR($Y$10="S",$Y$10="D",RIGHT($Y$10,1)="F"),"W",IF(AND($Y$9<=#REF!, $Y$9>=#REF!),1,"")) -> #REF! | Z11: =IF(OR($Z$10="S",$Z$10="D",RIGHT($Z$10,1)="F"),"W",IF(AND($Z$9<=#REF!, $Z$9>=#REF!),1,"")) -> #REF! | AA11: =IF(OR($AA$10="S",$AA$10="D",RIGHT($AA$10,1)="F"),"W",IF(AND($AA$9<=#REF!, $AA$9>=#REF!),1,"")) -> #REF! | AB11: =IF(OR($AB$10="S",$AB$10="D",RIGHT($AB$10,1)="F"),"W",IF(AND($AB$9<=#REF!, $AB$9>=#REF!),1,"")) -> W | AC11: =IF(OR($AC$10="S",$AC$10="D",RIGHT($AC$10,1)="F"),"W",IF(AND($AC$9<=#REF!, $AC$9>=#REF!),1,"")) -> W | AD11: =IF(OR($AD$10="S",$AD$10="D",RIGHT($AD$10,1)="F"),"W",IF(AND($AD$9<=#REF!, $AD$9>=#REF!),1,"")) -> #REF! | AE11: =IF(OR($AE$10="S",$AE$10="D",RIGHT($AE$10,1)="F"),"W",IF(AND($AE$9<=#REF!, $AE$9>=#REF!),1,"")) -> #REF! | AF11: =IF(OR($AF$10="S",$AF$10="D",RIGHT($AF$10,1)="F"),"W",IF(AND($AF$9<=#REF!, $AF$9>=#REF!),1,"")) -> #REF! | AG11: =IF(OR($AG$10="S",$AG$10="D",RIGHT($AG$10,1)="F"),"W",IF(AND($AG$9<=#REF!, $AG$9>=#REF!),1,"")) -> #REF! | AH11: =IF(OR($AH$10="S",$AH$10="D",RIGHT($AH$10,1)="F"),"W",IF(AND($AH$9<=#REF!, $AH$9>=#REF!),1,"")) -> #REF! | AI11: =IF(OR($AI$10="S",$AI$10="D",RIGHT($AI$10,1)="F"),"W",IF(AND($AI$9<=#REF!, $AI$9>=#REF!),1,"")) -> W | AJ11: =IF(OR($AJ$10="S",$AJ$10="D",RIGHT($AJ$10,1)="F"),"W",IF(AND($AJ$9<=#REF!, $AJ$9>=#REF!),1,"")) -> W | AK11: =IF(OR($AK$10="S",$AK$10="D",RIGHT($AK$10,1)="F"),"W",IF(AND($AK$9<=#REF!, $AK$9>=#REF!),1,"")) -> #REF! | AL11: =IF(OR($AL$10="S",$AL$10="D",RIGHT($AL$10,1)="F"),"W",IF(AND($AL$9<=#REF!, $AL$9>=#REF!),1,"")) -> #REF! | AM11: =IF(OR($AM$10="S",$AM$10="D",RIGHT($AM$10,1)="F"),"W",IF(AND($AM$9<=#REF!, $AM$9>=#REF!),1,"")) -> #REF! | AN11: =IF(OR($AN$10="S",$AN$10="D",RIGHT($AN$10,1)="F"),"W",IF(AND($AN$9<=#REF!, $AN$9>=#REF!),1,"")) -> #REF! | AO11: =IF(OR($AO$10="S",$AO$10="D",RIGHT($AO$10,1)="F"),"W",IF(AND($AO$9<=#REF!, $AO$9>=#REF!),1,"")) -> #REF!
C12: Titre 1 | E12: 43729 | F12: 43742
C13: Sous-Titre1 | D13: RH | E13: 43729 | F13: 43730.5
C14: Sous-tache 2 | D14: THI | E14: 43731 | F14: 43731.999
C15: Sous-tache 3 | D15: RH | E15: 43732 | F15: 43732.999
C16: Sous-tache 4 | D16: THI
C17: Sous-tache 5 | D17: THI
C18: Projet 2 | G18: =SUM(COUNTIF(K18:AO18,1)) -> 0 | H18: =SUM(G18*I18) -> 0 | I18: =IF(COUNTIF(K18:AO18,1),$A$6*J18,0) -> 0 | J18: =IF(AND($K$9,$AO$9<=#REF!, $K$9,$AO$9>=#REF!),40,0)/100 -> #REF! | K18: =IF(OR($K$10="S",$K$10="D",RIGHT($K$10,1)="F"),"W",IF(AND($K$9<=#REF!, $K$9>=#REF!),1,"")) -> #REF! | L18: =IF(OR($L$10="S",$L$10="D",RIGHT($L$10,1)="F"),"W",IF(AND($L$9<=#REF!, $L$9>=#REF!),1,"")) -> #REF! | M18: =IF(OR($M$10="S",$M$10="D",RIGHT($M$10,1)="F"),"W",IF(AND($M$9<=#REF!, $M$9>=#REF!),1,"")) -> #REF! | N18: =IF(OR($N$10="S",$N$10="D",RIGHT($N$10,1)="F"),"W",IF(AND($N$9<=#REF!, $N$9>=#REF!),1,"")) -> #REF! | O18: =IF(OR($O$10="S",$O$10="D",RIGHT($O$10,1)="F"),"W",IF(AND($O$9<=#REF!, $O$9>=#REF!),1,"")) -> #REF! | P18: =IF(OR($P$10="S",$P$10="D",RIGHT($P$10,1)="F"),"W",IF(AND($P$9<=#REF!, $P$9>=#REF!),1,"")) -> #REF! | Q18: =IF(OR($Q$10="S",$Q$10="D",RIGHT($Q$10,1)="F"),"W",IF(AND($Q$9<=#REF!, $Q$9>=#REF!),1,"")) -> #REF! | R18: =IF(OR($R$10="S",$R$10="D",RIGHT($R$10,1)="F"),"W",IF(AND($R$9<=#REF!, $R$9>=#REF!),1,"")) -> #REF! | S18: =IF(OR($S$10="S",$S$10="D",RIGHT($S$10,1)="F"),"W",IF(AND($S$9<=#REF!, $S$9>=#REF!),1,"")) -> #REF! | T18: =IF(OR($T$10="S",$T$10="D",RIGHT($T$10,1)="F"),"W",IF(AND($T$9<=#REF!, $T$9>=#REF!),1,"")) -> #REF! | U18: =IF(OR($U$10="S",$U$10="D",RIGHT($U$10,1)="F"),"W",IF(AND($U$9<=#REF!, $U$9>=#REF!),1,"")) -> #REF! | V18: =IF(OR($V$10="S",$V$10="D",RIGHT($V$10,1)="F"),"W",IF(AND($V$9<=#REF!, $V$9>=#REF!),1,"")) -> #REF! | W18: =IF(OR($W$10="S",$W$10="D",RIGHT($W$10,1)="F"),"W",IF(AND($W$9<=#REF!, $W$9>=#REF!),1,"")) -> #REF! | X18: =IF(OR($X$10="S",$X$10="D",RIGHT($X$10,1)="F"),"W",IF(AND($X$9<=#REF!, $X$9>=#REF!),1,"")) -> #REF! | Y18: =IF(OR($Y$10="S",$Y$10="D",RIGHT($Y$10,1)="F"),"W",IF(AND($Y$9<=#REF!, $Y$9>=#REF!),1,"")) -> #REF! | Z18: =IF(OR($Z$10="S",$Z$10="D",RIGHT($Z$10,1)="F"),"W",IF(AND($Z$9<=#REF!, $Z$9>=#REF!),1,"")) -> #REF! | AA18: =IF(OR($AA$10="S",$AA$10="D",RIGHT($AA$10,1)="F"),"W",IF(AND($AA$9<=#REF!, $AA$9>=#REF!),1,"")) -> #REF! | AB18: =IF(OR($AB$10="S",$AB$10="D",RIGHT($AB$10,1)="F"),"W",IF(AND($AB$9<=#REF!, $AB$9>=#REF!),1,"")) -> W | AC18: =IF(OR($AC$10="S",$AC$10="D",RIGHT($AC$10,1)="F"),"W",IF(AND($AC$9<=#REF!, $AC$9>=#REF!),1,"")) -> W | AD18: =IF(OR($AD$10="S",$AD$10="D",RIGHT($AD$10,1)="F"),"W",IF(AND($AD$9<=#REF!, $AD$9>=#REF!),1,"")) -> #REF! | AE18: =IF(OR($AE$10="S",$AE$10="D",RIGHT($AE$10,1)="F"),"W",IF(AND($AE$9<=#REF!, $AE$9>=#REF!),1,"")) -> #REF! | AF18: =IF(OR($AF$10="S",$AF$10="D",RIGHT($AF$10,1)="F"),"W",IF(AND($AF$9<=#REF!, $AF$9>=#REF!),1,"")) -> #REF! | AG18: =IF(OR($AG$10="S",$AG$10="D",RIGHT($AG$10,1)="F"),"W",IF(AND($AG$9<=#REF!, $AG$9>=#REF!),1,"")) -> #REF! | AH18: =IF(OR($AH$10="S",$AH$10="D",RIGHT($AH$10,1)="F"),"W",IF(AND($AH$9<=#REF!, $AH$9>=#REF!),1,"")) -> #REF! | AI18: =IF(OR($AI$10="S",$AI$10="D",RIGHT($AI$10,1)="F"),"W",IF(AND($AI$9<=#REF!, $AI$9>=#REF!),1,"")) -> W | AJ18: =IF(OR($AJ$10="S",$AJ$10="D",RIGHT($AJ$10,1)="F"),"W",IF(AND($AJ$9<=#REF!, $AJ$9>=#REF!),1,"")) -> W | AK18: =IF(OR($AK$10="S",$AK$10="D",RIGHT($AK$10,1)="F"),"W",IF(AND($AK$9<=#REF!, $AK$9>=#REF!),1,"")) -> #REF! | AL18: =IF(OR($AL$10="S",$AL$10="D",RIGHT($AL$10,1)="F"),"W",IF(AND($AL$9<=#REF!, $AL$9>=#REF!),1,"")) -> #REF! | AM18: =IF(OR($AM$10="S",$AM$10="D",RIGHT($AM$10,1)="F"),"W",IF(AND($AM$9<=#REF!, $AM$9>=#REF!),1,"")) -> #REF! | AN18: =IF(OR($AN$10="S",$AN$10="D",RIGHT($AN$10,1)="F"),"W",IF(AND($AN$9<=#REF!, $AN$9>=#REF!),1,"")) -> #REF! | AO18: =IF(OR($AO$10="S",$AO$10="D",RIGHT($AO$10,1)="F"),"W",IF(AND($AO$9<=#REF!, $AO$9>=#REF!),1,"")) -> #REF!
C19: ='PARAMETRES '!C3 -> Titre 1 | E19: ='PARAMETRES '!E4 -> 43729 | F19: ='PARAMETRES '!F4 -> 43730.5 | G19: =F19-E19 -> 1.5 | J19: =$J$18/4 -> #REF!
C20: Sous-Titre1 | D20: THI
C21: Sous-tache 1 | D21: THI | E21: ='PARAMETRES '!E5 -> 43731 | F21: ='PARAMETRES '!F5 -> 43731.999 | G21: =F21-E21 -> 0.99930556 | J21: =$J$18/4 -> #REF!
C22: Sous-tache 2 | D22: RH | E22: ='PARAMETRES '!E6 -> 43732 | F22: ='PARAMETRES '!F6 -> 43732.999 | G22: =F22-E22 -> 0.9993055 | J22: =$J$19/5 -> #REF!
C23: Sous-tache 3 | D23: THI | E23: ='PARAMETRES '!E7 -> 43733 | F23: ='PARAMETRES '!F7 -> 43733.999 | G23: =F23-E23 -> 0.9993055 | J23: =$J$19/5 -> #REF!
C24: Sous-tache 4 | D24: RH | E24: ='PARAMETRES '!E8 -> 43736 | F24: ='PARAMETRES '!F8 -> 43736.999 | G24: =F24-E24 -> 0.99930556 | J24: =$J$19/5 -> #REF!
C25: Sous-tache 5 | D25: THI | E25: ='PARAMETRES '!E9 -> 43737 | F25: ='PARAMETRES '!F9 -> 43737.999 | G25: =F25-E25 -> 0.9993055 | J25: =$J$19/5 -> #REF!
C26: Titre 2
C27: Projet 3 | G27: =SUM(COUNTIF(K27:AO27,1)) -> 0 | H27: =HOUR(G27/24) -> 0 | I27: =IF(COUNTIF(K27:AO27,1),$A$6*J27,0) -> 0 | J27: =IF(AND($K$9,$AO$9<=#REF!, $K$9,$AO$9>=#REF!),10,0)/100 -> #REF! | K27: =IF(OR($K$10="S",$K$10="D",RIGHT($K$10,1)="F"),"W",IF(AND($K$9<=#REF!, $K$9>=#REF!),1,"")) -> #REF! | L27: =IF(OR($L$10="S",$L$10="D",RIGHT($L$10,1)="F"),"W",IF(AND($L$9<=#REF!, $L$9>=#REF!),1,"")) -> #REF! | M27: =IF(OR($M$10="S",$M$10="D",RIGHT($M$10,1)="F"),"W",IF(AND($M$9<=#REF!, $M$9>=#REF!),1,"")) -> #REF! | N27: =IF(OR($N$10="S",$N$10="D",RIGHT($N$10,1)="F"),"W",IF(AND($N$9<=#REF!, $N$9>=#REF!),1,"")) -> #REF! | O27: =IF(OR($O$10="S",$O$10="D",RIGHT($O$10,1)="F"),"W",IF(AND($O$9<=#REF!, $O$9>=#REF!),1,"")) -> #REF! | P27: =IF(OR($P$10="S",$P$10="D",RIGHT($P$10,1)="F"),"W",IF(AND($P$9<=#REF!, $P$9>=#REF!),1,"")) -> #REF! | Q27: =IF(OR($Q$10="S",$Q$10="D",RIGHT($Q$10,1)="F"),"W",IF(AND($Q$9<=#REF!, $Q$9>=#REF!),1,"")) -> #REF! | R27: =IF(OR($R$10="S",$R$10="D",RIGHT($R$10,1)="F"),"W",IF(AND($R$9<=#REF!, $R$9>=#REF!),1,"")) -> #REF! | S27: =IF(OR($S$10="S",$S$10="D",RIGHT($S$10,1)="F"),"W",IF(AND($S$9<=#REF!, $S$9>=#REF!),1,"")) -> #REF! | T27: =IF(OR($T$10="S",$T$10="D",RIGHT($T$10,1)="F"),"W",IF(AND($T$9<=#REF!, $T$9>=#REF!),1,"")) -> #REF! | U27: =IF(OR($U$10="S",$U$10="D",RIGHT($U$10,1)="F"),"W",IF(AND($U$9<=#REF!, $U$9>=#REF!),1,"")) -> #REF! | V27: =IF(OR($V$10="S",$V$10="D",RIGHT($V$10,1)="F"),"W",IF(AND($V$9<=#REF!, $V$9>=#REF!),1,"")) -> #REF! | W27: =IF(OR($W$10="S",$W$10="D",RIGHT($W$10,1)="F"),"W",IF(AND($W$9<=#REF!, $W$9>=#REF!),1,"")) -> #REF! | X27: =IF(OR($X$10="S",$X$10="D",RIGHT($X$10,1)="F"),"W",IF(AND($X$9<=#REF!, $X$9>=#REF!),1,"")) -> #REF! | Y27: =IF(OR($Y$10="S",$Y$10="D",RIGHT($Y$10,1)="F"),"W",IF(AND($Y$9<=#REF!, $Y$9>=#REF!),1,"")) -> #REF! | Z27: =IF(OR($Z$10="S",$Z$10="D",RIGHT($Z$10,1)="F"),"W",IF(AND($Z$9<=#REF!, $Z$9>=#REF!),1,"")) -> #REF! | AA27: =IF(OR($AA$10="S",$AA$10="D",RIGHT($AA$10,1)="F"),"W",IF(AND($AA$9<=#REF!, $AA$9>=#REF!),1,"")) -> #REF! | AB27: =IF(OR($AB$10="S",$AB$10="D",RIGHT($AB$10,1)="F"),"W",IF(AND($AB$9<=#REF!, $AB$9>=#REF!),1,"")) -> W | AC27: =IF(OR($AC$10="S",$AC$10="D",RIGHT($AC$10,1)="F"),"W",IF(AND($AC$9<=#REF!, $AC$9>=#REF!),1,"")) -> W | AD27: =IF(OR($AD$10="S",$AD$10="D",RIGHT($AD$10,1)="F"),"W",IF(AND($AD$9<=#REF!, $AD$9>=#REF!),1,"")) -> #REF! | AE27: =IF(OR($AE$10="S",$AE$10="D",RIGHT($AE$10,1)="F"),"W",IF(AND($AE$9<=#REF!, $AE$9>=#REF!),1,"")) -> #REF! | AF27: =IF(OR($AF$10="S",$AF$10="D",RIGHT($AF$10,1)="F"),"W",IF(AND($AF$9<=#REF!, $AF$9>=#REF!),1,"")) -> #REF! | AG27: =IF(OR($AG$10="S",$AG$10="D",RIGHT($AG$10,1)="F"),"W",IF(AND($AG$9<=#REF!, $AG$9>=#REF!),1,"")) -> #REF! | AH27: =IF(OR($AH$10="S",$AH$10="D",RIGHT($AH$10,1)="F"),"W",IF(AND($AH$9<=#REF!, $AH$9>=#REF!),1,"")) -> #REF! | AI27: =IF(OR($AI$10="S",$AI$10="D",RIGHT($AI$10,1)="F"),"W",IF(AND($AI$9<=#REF!, $AI$9>=#REF!),1,"")) -> W | AJ27: =IF(OR($AJ$10="S",$AJ$10="D",RIGHT($AJ$10,1)="F"),"W",IF(AND($AJ$9<=#REF!, $AJ$9>=#REF!),1,"")) -> W | AK27: =IF(OR($AK$10="S",$AK$10="D",RIGHT($AK$10,1)="F"),"W",IF(AND($AK$9<=#REF!, $AK$9>=#REF!),1,"")) -> #REF! | AL27: =IF(OR($AL$10="S",$AL$10="D",RIGHT($AL$10,1)="F"),"W",IF(AND($AL$9<=#REF!, $AL$9>=#REF!),1,"")) -> #REF! | AM27: =IF(OR($AM$10="S",$AM$10="D",RIGHT($AM$10,1)="F"),"W",IF(AND($AM$9<=#REF!, $AM$9>=#REF!),1,"")) -> #REF! | AN27: =IF(OR($AN$10="S",$AN$10="D",RIGHT($AN$10,1)="F"),"W",IF(AND($AN$9<=#REF!, $AN$9>=#REF!),1,"")) -> #REF! | AO27: =IF(OR($AO$10="S",$AO$10="D",RIGHT($AO$10,1)="F"),"W",IF(AND($AO$9<=#REF!, $AO$9>=#REF!),1,"")) -> #REF!
C28: Total | G28: =MAX(G11:G27) -> 1.5 | H28: =SUM(H11:H27) -> 0 | I28: =SUM(I11:I27) -> 0 | J28: =SUM(J11:J18) -> #REF!

Sheet PARAMETRES 
A1: Taches | C1: Projet 1 | I1: Projet 2
A2: Sous-tache 1 | E2: Date de debut | F2: Date de fin | G2: NB jours | K2: Date de debut | L2: Date de fin | M2: NB jours
A3: Sous-tache 2 | C3: Titre 1 | E3: 43729 | F3: 43742 | G3: =(F3-E3-3.5& " day(s)") -> 9,5 day(s) | I3: Titre 1 | K3: 43729 | L3: 43742 | M3: =(L3-K3-3.5& " day(s)") -> 9,5 day(s)
A4: Sous-tache 3 | C4: Sous_titre1 | D4: RH | E4: 43729 | F4: 43730.5 | G4: =(F4-E4& " day(s)") -> 1,5 day(s) | I4: Sous_titre1 | J4: RH | K4: 43729 | L4: 43730.5 | M4: =(L4-K4& " day(s)") -> 1,5 day(s)
A5: Sous-tache 4 | C5: Sous_titre2 | D5: THI | E5: 43731 | F5: 43731.999 | G5: =(ROUNDUP(F5-E5,1)& " day(s)") -> 1 day(s) | I5: Sous_titre2 | J5: THI | K5: 43731 | L5: 43731.999 | M5: =(ROUNDUP(L5-K5,1)& " day(s)") -> 1 day(s)
A6: Sous-tache 5 | C6: Sous_titre3 | D6: RH | E6: 43732 | F6: 43732.999 | G6: =(ROUNDUP(F6-E6,1)& " day(s)") -> 1 day(s) | I6: Sous_titre3 | J6: RH | K6: 43732 | L6: 43732.999 | M6: =(ROUNDUP(L6-K6,1)& " day(s)") -> 1 day(s)
C7: Sous_titre4 | D7: THI | E7: 43733 | F7: 43733.999 | G7: =(ROUNDUP(F7-E7,1)& " day(s)") -> 1 day(s) | I7: Sous_titre4 | J7: THI | K7: 43733 | L7: 43733.999 | M7: =(ROUNDUP(L7-K7,1)& " day(s)") -> 1 day(s)
C8: Sous_titre5 | D8: THI | E8: 43736 | F8: 43736.999 | G8: =(ROUNDUP(F8-E8,1)& " day(s)") -> 1 day(s) | I8: Sous_titre5 | J8: THI | K8: 43736 | L8: 43736.999 | M8: =(ROUNDUP(L8-K8,1)& " day(s)") -> 1 day(s)
C9: Sous_titre6 | D9: THI | E9: 43737 | F9: 43737.999 | G9: =(ROUNDUP(F9-E9,1)& " day(s)") -> 1 day(s) | I9: Sous_titre6 | J9: THI | K9: 43737 | L9: 43737.999 | M9: =(ROUNDUP(L9-K9,1)& " day(s)") -> 1 day(s)
C10: Sous_titre7 | D10: THI | E10: 43738 | F10: 43738.999 | G10: =(ROUNDUP(F10-E10,1)& " day(s)") -> 1 day(s) | I10: Sous_titre7 | J10: THI | K10: 43738 | L10: 43738.999 | M10: =(ROUNDUP(L10-K10,1)& " day(s)") -> 1 day(s)
C11: Sous_titre8 | D11: THI | E11: 31/09/2019 | F11: 31/09/2019 | G11: =(ROUNDUP(F11-E11,1)& " day(s)") -> #VALUE! | I11: Sous_titre8 | J11: THI | K11: 31/09/2019 | L11: 31/09/2019 | M11: =(ROUNDUP(L11-K11,1)& " day(s)") -> #VALUE!
C12: Sous_titre9 | D12: THI | E12: 43742 | F12: 43742.999 | G12: =(ROUNDUP(F12-E12,1)& " day(s)") -> 1 day(s) | I12: Sous_titre9 | J12: THI | K12: 43742 | L12: 43742.999 | M12: =(ROUNDUP(L12-K12,1)& " day(s)") -> 1 day(s)
C13: Titre 2 | E13: 43743 | F13: 43757 | G13: =(F13-E13-5& " day(s)") -> 9 day(s) | I13: Titre 2 | K13: 43743 | L13: 43757 | M13: =(L13-K13-5& " day(s)") -> 9 day(s)
C14: Sous_titre1 | D14: RH | E14: 43743 | F14: 43744.5 | G14: =(F14-E14& " day(s)") -> 1,5 day(s) | I14: Sous_titre1 | J14: RH | K14: 43743 | L14: 43744.5 | M14: =(L14-K14& " day(s)") -> 1,5 day(s)
C15: Sous_titre2 | D15: RH | E15: 43745 | F15: 43745.999 | G15: =(ROUNDUP(F15-E15,1)& " day(s)") -> 1 day(s) | I15: Sous_titre2 | J15: RH | K15: 43745 | L15: 43745.999 | M15: =(ROUNDUP(L15-K15,1)& " day(s)") -> 1 day(s)
C16: Sous_titre3 | D16: THI | E16: 43746 | F16: 43746.999 | G16: =(ROUNDUP(F16-E16,1)& " day(s)") -> 1 day(s) | I16: Sous_titre3 | J16: THI | K16: 43746 | L16: 43746.999 | M16: =(ROUNDUP(L16-K16,1)& " day(s)") -> 1 day(s)
C17: Sous_titre4 | D17: THI | E17: 43750 | F17: 43750.999 | G17: =(ROUNDUP(F17-E17,1)& " day(s)") -> 1 day(s) | I17: Sous_titre4 | J17: THI | K17: 43750 | L17: 43750.999 | M17: =(ROUNDUP(L17-K17,1)& " day(s)") -> 1 day(s)
C18: Sous_titre5 | D18: THI | E18: 43751 | F18: 43751.999 | G18: =(ROUNDUP(F18-E18,1)& " day(s)") -> 1 day(s) | I18: Sous_titre5 | J18: THI | K18: 43751 | L18: 43751.999 | M18: =(ROUNDUP(L18-K18,1)& " day(s)") -> 1 day(s)
C19: Sous_titre6 | D19: THI | E19: 43752 | F19: 43752.999 | G19: =(ROUNDUP(F19-E19,1)& " day(s)") -> 1 day(s) | I19: Sous_titre6 | J19: THI | K19: 43752 | L19: 43752.999 | M19: =(ROUNDUP(L19-K19,1)& " day(s)") -> 1 day(s)
C20: Sous_titre7 | D20: THI | E20: 43753 | F20: 43753.999 | G20: =(ROUNDUP(F20-E20,1)& " day(s)") -> 1 day(s) | I20: Sous_titre7 | J20: THI | K20: 43753 | L20: 43753.999 | M20: =(ROUNDUP(L20-K20,1)& " day(s)") -> 1 day(s)
C21: Sous_titre8 | D21: THI | E21: 43756 | F21: 43757.5 | G21: =(F21-E21& " day(s)") -> 1,5 day(s) | I21: Sous_titre8 | J21: THI | K21: 43756 | L21: 43757.5 | M21: =(L21-K21& " day(s)") -> 1,5 day(s)
