Workbook

Sheet Notice d'utilisation
D1: Navigation
D2: > Acceder à la notice
D3: > Accéder à la base de données
D4: > Ajouter des entrées ou des sorties
D5: > Vérifier l'état des stocks
D6: > Editer un bon de Commande
D7: > Signaler une Commande
B8: Comment utiliser le tableau de suivi de stocks
B10: F Onglet 1 ð Base de données articles
B11: Renseigner les articles ainsi que leur référence.
B12: Explications
B13: Ajouter vos articles dans la base de données et y attribuer une référence selon la légende ci-dessous. Attention, la référence est obligatoire pour que le calcul se fasse correctement. Une fois que ceux-ci seront renseignés, vous n’aurez plus à toucher à cet onglet, à moins d’avoir une nouvelle référence en stock bien sûr. Il est déconseillé de supprimer des articles de votre base de données. Cela pourrait dérégler les calculs.
B14: Légende des références MS = Materiel de Soins PS = Produit de Soins 00=N° Article ME = Matériel Entretien PE = Produit d'Entretien
B16: F Onglet 2 ð Journal entrées et sorties
B17: Saisir vos entrées et vos sorties de stock
B18: Ä Commandes arrivées
B19: Explications
B20: Saisir chaque mouvement de stock quotidiennement, les sorties de stock ainsi que les entrées. Sélectionner l’article grâce à la liste déroulante, en cliquant dans la case référence qui va les chercher dans la base de données. "Entrée" signifie un ajout de matériel ou produit donc commande arrivée "Sortie" signifie une utilisation de matériel ou produit Ä Attention dans le cas d'articles en boite, bidon ou sachet, indiquer la sortie que lorsque ceux-ci sont vides (voir Onglet 1 Base de Données)
B22: F Onglet 3 ð Etat des stocks
... B38: Préciser le professeur qui a passé la commande ainsi que la date

Sheet 1- Base de données articles
D1: Navigation
D2: > Acceder à la notice
D3: > Accéder à la base de données
D4: > Ajouter des entrées ou des sorties
D5: > Vérifier l'état des stocks
D6: > Editer un bon de Commande
D7: > Signaler une Commande
B8: BASE DE DONNÉES ARTICLES
B11: Référence | C11: Article | D11: Dénomination pour commande
B12: MS 01 | C12: Couche T1 - 2-5Kg | D12: Couches douceur plus nouveau-nés taille 1 - 2/5kg U TOUT PETITS (Sachet de 24)
B13: MS 02 | C13: Coton tige bébé (boite) | D13: Bâtonnets ouatés bébé U TOUT PETITS (Boîte x50)
B14: MS 03 | C14: Carré de coton bébé (sachet) | D14: Coton maxi carré bébé U TOUT PETITS (Sachet de 80)
B15: MS 04 | C15: Coton prédécoupé (sachet) | D15: Coton douceur prédécoupé U (Sachet de 200g)
B16: MS 05 | C16: Mouchoirs (boite) | D16: Mouchoirs blanc 3 plis U (Boîte de 110 mouchoirs)
B17: MS 06 | C17: Rouleaux Papier toilette | D17: Papier toilette doux blanc 2 plis U (Paquet de 12 rouleaux)
B18: MS 07 | C18: Compresses sterile (boite) | D18: Compresses stériles 7.5*7.5 (boite de 50 sachet de 5 compresses)
B19: MS 08 | C19: Gants à usage taille S | D19: Gants à usage unique latex non poudré taille S
B20: MS 09 | C20: Gants à usage unique taille M | D20: Gants à usage unique latex non poudré taille M
B21: MS 10 | C21: Gants à usage unique taille L | D21: Gants à usage unique latex non poudré taille L
B22: MS 11 | C22: Gants à usage unique taille XL | D22: Gants à usage unique latex non poudré taille XL
... B36: PE 01 | C36: Détergent Désinfectant Aniosurf ND Premium 1L | D36: Aniosurf ND Premium 1L

Sheet 2- Journal entrées et sorties
D1: Navigation
D2: > Acceder à la notice
D3: > Accéder à la base de données
D4: > Ajouter des entrées ou des sorties
D5: > Vérifier l'état des stocks
D6: > Editer un bon de Commande
D7: > Signaler une Commande
B9: JOURNAL D'ENTRÉES ET SORTIES
B10: Date | C10: Article | D10: Référence | E10: Entrée (Qté) | F10: Sortie (Qté)
B11: 43787 | D11: MS 01
B12: 43787 | D12: MS 02
B13: 43787 | D13: MS 03
B14: 43787 | D14: MS 04
B15: 43787 | D15: MS 05
B16: 43787 | D16: PS 01
B17: 43787 | D17: PS 02
B18: 43790 | D18: PS 07
B19: 43790 | D19: MS 08
B20: 43790 | D20: MS 10
B21: 43790 | D21: MS 11

Sheet 3- Etat des stocks
C1: Navigation
C2: > Acceder à la notice
C3: > Accéder à la base de données
C4: > Ajouter des entrées ou des sorties
C5: > Vérifier l'état des stocks
C6: > Editer un bon de Commande
C7: > Signaler une Commande
B8: ÉTAT DES STOCKS
B10: Article | C10: Ref | D10: Stock initial | E10: Entrées | F10: Sorties | G10: Stock Final | H10: Stock Mini | I10: Commande A Passée
B11: =IF('1- Base de données articles'!C12="","",'1- Base de données articles'!C12) -> Couche T1 - 2-5Kg | C11: =IF('1- Base de données articles'!D12="","",'1- Base de données articles'!B12) -> MS 01 | D11: 52 | E11: =IF(B11="","",SUMIFS('2- Journal entrées et sorties'!E$11:E$407,'2- Journal entrées et sorties'!D$11:D$407,C11)) -> 0 | F11: =IF(C11="","",SUMIFS('2- Journal entrées et sorties'!F$11:F$507,'2- Journal entrées et sorties'!D$11:D$507,C11)) -> 0 | G11: =IF(C11="","",D11+E11-F11) -> 52 | H11: 30 | I11: =IF(G11<H11,"A commander "&" "&H11-G11&" produits", "Stock ok") -> Stock ok
B12: =IF('1- Base de données articles'!C13="","",'1- Base de données articles'!C13) -> Coton tige bébé (boite) | C12: =IF('1- Base de données articles'!B13="","",'1- Base de données articles'!B13) -> MS 02 | D12: 1 | E12: =IF(B12="","",SUMIFS('2- Journal entrées et sorties'!E$11:E$407,'2- Journal entrées et sorties'!D$11:D$407,C12)) -> 0 | F12: =IF(C12="","",SUMIFS('2- Journal entrées et sorties'!F$11:F$507,'2- Journal entrées et sorties'!D$11:D$507,C12)) -> 0 | G12: =IF(C12="","",D12+E12-F12) -> 1 | H12: 1 | I12: =IF(G12<H12,"A commander "&" "&H12-G12&" produits", "Stock ok") -> Stock ok
B13: =IF('1- Base de données articles'!C14="","",'1- Base de données articles'!C14) -> Carré de coton bébé (sachet) | C13: =IF('1- Base de données articles'!B14="","",'1- Base de données articles'!B14) -> MS 03 | D13: 0 | E13: =IF(B13="","",SUMIFS('2- Journal entrées et sorties'!E$11:E$407,'2- Journal entrées et sorties'!D$11:D$407,C13)) -> 0 | F13: =IF(C13="","",SUMIFS('2- Journal entrées et sorties'!F$11:F$507,'2- Journal entrées et sorties'!D$11:D$507,C13)) -> 0 | G13: =IF(C13="","",D13+E13-F13) -> 0 | H13: 1 | I13: =IF(G13<H13,"A commander "&" "&H13-G13&" produits", "Stock ok") -> A commander 1 produits
B14: =IF('1- Base de données articles'!C15="","",'1- Base de données articles'!C15) -> Coton prédécoupé (sachet) | C14: =IF('1- Base de données articles'!B15="","",'1- Base de données articles'!B15) -> MS 04 | D14: 2 | E14: =IF(B14="","",SUMIFS('2- Journal entrées et sorties'!E$11:E$407,'2- Journal entrées et sorties'!D$11:D$407,C14)) -> 0 | F14: =IF(C14="","",SUMIFS('2- Journal entrées et sorties'!F$11:F$507,'2- Journal entrées et sorties'!D$11:D$507,C14)) -> 0 | G14: =IF(C14="","",D14+E14-F14) -> 2 | H14: 1 | I14: =IF(G14<H14,"A commander "&" "&H14-G14&" produits", "Stock ok") -> Stock ok
B15: =IF('1- Base de données articles'!C16="","",'1- Base de données articles'!C16) -> Mouchoirs (boite) | C15: =IF('1- Base de données articles'!B16="","",'1- Base de données articles'!B16) -> MS 05 | D15: 3 | E15: =IF(B15="","",SUMIFS('2- Journal entrées et sorties'!E$11:E$407,'2- Journal entrées et sorties'!D$11:D$407,C15)) -> 0 | F15: =IF(C15="","",SUMIFS('2- Journal entrées et sorties'!F$11:F$507,'2- Journal entrées et sorties'!D$11:D$507,C15)) -> 0 | G15: =IF(C15="","",D15+E15-F15) -> 3 | H15: 6 | I15: =IF(G15<H15,"A commander "&" "&H15-G15&" produits", "Stock ok") -> A commander 3 produits
B16: =IF('1- Base de données articles'!C17="","",'1- Base de données articles'!C17) -> Rouleaux Papier toilette | C16: =IF('1- Base de données articles'!B17="","",'1- Base de données articles'!B17) -> MS 06 | D16: 30 | E16: =IF(B16="","",SUMIFS('2- Journal entrées et sorties'!E$11:E$407,'2- Journal entrées et sorties'!D$11:D$407,C16)) -> 0 | F16: =IF(C16="","",SUMIFS('2- Journal entrées et sorties'!F$11:F$507,'2- Journal entrées et sorties'!D$11:D$507,C16)) -> 0 | G16: =IF(C16="","",D16+E16-F16) -> 30 | H16: 6 | I16: =IF(G16<H16,"A commander "&" "&H16-G16&" produits", "Stock ok") -> Stock ok
B17: =IF('1- Base de données articles'!C18="","",'1- Base de données articles'!C18) -> Compresses sterile (boite) | C17: =IF('1- Base de données articles'!B18="","",'1- Base de données articles'!B18) -> MS 07 | D17: 10 | E17: =IF(B17="","",SUMIFS('2- Journal entrées et sorties'!E$11:E$407,'2- Journal entrées et sorties'!D$11:D$407,C17)) -> 0 | F17: =IF(C17="","",SUMIFS('2- Journal entrées et sorties'!F$11:F$507,'2- Journal entrées et sorties'!D$11:D$507,C17)) -> 0 | G17: =IF(C17="","",D17+E17-F17) -> 10 | H17: 1 | I17: =IF(G17<H17,"A commander "&" "&H17-G17&" produits", "Stock ok") -> Stock ok
B18: =IF('1- Base de données articles'!C19="","",'1- Base de données articles'!C19) -> Gants à usage taille S | C18: =IF('1- Base de données articles'!B19="","",'1- Base de données articles'!B19) -> MS 08 | D18: 2 | E18: =IF(B18="","",SUMIFS('2- Journal entrées et sorties'!E$11:E$407,'2- Journal entrées et sorties'!D$11:D$407,C18)) -> 0 | F18: =IF(C18="","",SUMIFS('2- Journal entrées et sorties'!F$11:F$507,'2- Journal entrées et sorties'!D$11:D$507,C18)) -> 0 | G18: =IF(C18="","",D18+E18-F18) -> 2 | H18: 1 | I18: =IF(G18<H18,"A commander "&" "&H18-G18&" produits", "Stock ok") -> Stock ok
B19: =IF('1- Base de données articles'!C20="","",'1- Base de données articles'!C20) -> Gants à usage unique taille M | C19: =IF('1- Base de données articles'!B20="","",'1- Base de données articles'!B20) -> MS 09 | D19: 4 | E19: =IF(B19="","",SUMIFS('2- Journal entrées et sorties'!E$11:E$407,'2- Journal entrées et sorties'!D$11:D$407,C19)) -> 0 | F19: =IF(C19="","",SUMIFS('2- Journal entrées et sorties'!F$11:F$507,'2- Journal entrées et sorties'!D$11:D$507,C19)) -> 0 | G19: =IF(C19="","",D19+E19-F19) -> 4 | H19: 1 | I19: =IF(G19<H19,"A commander "&" "&H19-G19&" produits", "Stock ok") -> Stock ok
B20: =IF('1- Base de données articles'!C21="","",'1- Base de données articles'!C21) -> Gants à usage unique taille L | C20: =IF('1- Base de données articles'!B21="","",'1- Base de données articles'!B21) -> MS 10 | D20: 1 | E20: =IF(B20="","",SUMIFS('2- Journal entrées et sorties'!E$11:E$407,'2- Journal entrées et sorties'!D$11:D$407,C20)) -> 0 | F20: =IF(C20="","",SUMIFS('2- Journal entrées et sorties'!F$11:F$507,'2- Journal entrées et sorties'!D$11:D$507,C20)) -> 0 | G20: =IF(C20="","",D20+E20-F20) -> 1 | H20: 1 | I20: =IF(G20<H20,"A commander "&" "&H20-G20&" produits", "Stock ok") -> Stock ok
B21: =IF('1- Base de données articles'!C22="","",'1- Base de données articles'!C22) -> Gants à usage unique taille XL | C21: =IF('1- Base de données articles'!B22="","",'1- Base de données articles'!B22) -> MS 11 | D21: 1 | E21: =IF(B21="","",SUMIFS('2- Journal entrées et sorties'!E$11:E$407,'2- Journal entrées et sorties'!D$11:D$407,C21)) -> 0 | F21: =IF(C21="","",SUMIFS('2- Journal entrées et sorties'!F$11:F$507,'2- Journal entrées et sorties'!D$11:D$507,C21)) -> 0 | G21: =IF(C21="","",D21+E21-F21) -> 1 | H21: 1 | I21: =IF(G21<H21,"A commander "&" "&H21-G21&" produits", "Stock ok") -> Stock ok
B22: =IF('1- Base de données articles'!C23="","",'1- Base de données articles'!C23) -> Sopalin | C22: =IF('1- Base de données articles'!B23="","",'1- Base de données articles'!B23) -> MS 12 | D22: 8 | E22: =IF(B22="","",SUMIFS('2- Journal entrées et sorties'!E$11:E$407,'2- Journal entrées et sorties'!D$11:D$407,C22)) -> 0 | F22: =IF(C22="","",SUMIFS('2- Journal entrées et sorties'!F$11:F$507,'2- Journal entrées et sorties'!D$11:D$507,C22)) -> 0 | G22: =IF(C22="","",D22+E22-F22) -> 8 | H22: 3 | I22: =IF(G22<H22,"A commander "&" "&H22-G22&" produits", "Stock ok") -> Stock ok
B23: =IF('1- Base de données articles'!C24="","",'1- Base de données articles'!C24) -> Sérum physiologique unidose | C23: =IF('1- Base de données articles'!B24="","",'1- Base de données articles'!B24) -> PS 01 | D23: 60 | E23: =IF(B23="","",SUMIFS('2- Journal entrées et sorties'!E$11:E$407,'2- Journal entrées et sorties'!D$11:D$407,C23)) -> 0 | F23: =IF(C23="","",SUMIFS('2- Journal entrées et sorties'!F$11:F$507,'2- Journal entrées et sorties'!D$11:D$507,C23)) -> 0 | G23: =IF(C23="","",D23+E23-F23) -> 60 | H23: 30 | I23: =IF(G23<H23,"A commander "&" "&H23-G23&" produits", "Stock ok") -> Stock ok
... B35: =IF('1- Base de données articles'!C36="","",'1- Base de données articles'!C36) -> Détergent Désinfectant Aniosurf ND Premium 1L | C35: =IF('1- Base de données articles'!B36="","",'1- Base de données articles'!B36) -> PE 01 | D35: 2 | E35: =IF(B35="","",SUMIFS('2- Journal entrées et sorties'!E$11:E$407,'2- Journal entrées et sorties'!D$11:D$407,C35)) -> 0 | F35: =IF(C35="","",SUMIFS('2- Journal entrées et sorties'!F$11:F$507,'2- Journal entrées et sorties'!D$11:D$507,C35)) -> 0 | G35: =IF(C35="","",D35+E35-F35) -> 2 | H35: 1 | I35: =IF(G35<H35,"A commander "&" "&H35-G35&" produits", "Stock ok") -> Stock ok
C36: =IF('1- Base de données articles'!C64="","",'1- Base de données articles'!C64) | D36: =IF('1- Base de données articles'!B64="","",'1- Base de données articles'!B64) | F36: =IF(C36="","",SUMIFS('2- Journal entrées et sorties'!E$11:E$407,'2- Journal entrées et sorties'!D$11:D$407,D36)) | G36: =IF(D36="","",SUMIFS('2- Journal entrées et sorties'!F$11:F$507,'2- Journal entrées et sorties'!D$11:D$507,D36)) | H36: =IF(D36="","",E36+F36-G36)
C37: =IF('1- Base de données articles'!C65="","",'1- Base de données articles'!C65) | D37: =IF('1- Base de données articles'!B65="","",'1- Base de données articles'!B65) | F37: =IF(C37="","",SUMIFS('2- Journal entrées et sorties'!E$11:E$407,'2- Journal entrées et sorties'!D$11:D$407,D37)) | G37: =IF(D37="","",SUMIFS('2- Journal entrées et sorties'!F$11:F$507,'2- Journal entrées et sorties'!D$11:D$507,D37)) | H37: =IF(D37="","",E37+F37-G37)
C38: =IF('1- Base de données articles'!C66="","",'1- Base de données articles'!C66) | D38: =IF('1- Base de données articles'!B66="","",'1- Base de données articles'!B66) | F38: =IF(C38="","",SUMIFS('2- Journal entrées et sorties'!E$11:E$407,'2- Journal entrées et sorties'!D$11:D$407,D38)) | G38: =IF(D38="","",SUMIFS('2- Journal entrées et sorties'!F$11:F$507,'2- Journal entrées et sorties'!D$11:D$507,D38)) | H38: =IF(D38="","",E38+F38-G38)
C39: =IF('1- Base de données articles'!C67="","",'1- Base de données articles'!C67) | D39: =IF('1- Base de données articles'!B67="","",'1- Base de données articles'!B67) | F39: =IF(C39="","",SUMIFS('2- Journal entrées et sorties'!E$11:E$407,'2- Journal entrées et sorties'!D$11:D$407,D39)) | G39: =IF(D39="","",SUMIFS('2- Journal entrées et sorties'!F$11:F$507,'2- Journal entrées et sorties'!D$11:D$507,D39)) | H39: =IF(D39="","",E39+F39-G39)
C40: =IF('1- Base de données articles'!C68="","",'1- Base de données articles'!C68) | D40: =IF('1- Base de données articles'!B68="","",'1- Base de données articles'!B68) | F40: =IF(C40="","",SUMIFS('2- Journal entrées et sorties'!E$11:E$407,'2- Journal entrées et sorties'!D$11:D$407,D40)) | G40: =IF(D40="","",SUMIFS('2- Journal entrées et sorties'!F$11:F$507,'2- Journal entrées et sorties'!D$11:D$507,D40)) | H40: =IF(D40="","",E40+F40-G40)
C41: =IF('1- Base de données articles'!C69="","",'1- Base de données articles'!C69) | D41: =IF('1- Base de données articles'!B69="","",'1- Base de données articles'!B69) | F41: =IF(C41="","",SUMIFS('2- Journal entrées et sorties'!E$11:E$407,'2- Journal entrées et sorties'!D$11:D$407,D41)) | G41: =IF(D41="","",SUMIFS('2- Journal entrées et sorties'!F$11:F$507,'2- Journal entrées et sorties'!D$11:D$507,D41)) | H41: =IF(D41="","",E41+F41-G41)
C42: =IF('1- Base de données articles'!C70="","",'1- Base de données articles'!C70) | D42: =IF('1- Base de données articles'!B70="","",'1- Base de données articles'!B70) | F42: =IF(C42="","",SUMIFS('2- Journal entrées et sorties'!E$11:E$407,'2- Journal entrées et sorties'!D$11:D$407,D42)) | G42: =IF(D42="","",SUMIFS('2- Journal entrées et sorties'!F$11:F$507,'2- Journal entrées et sorties'!D$11:D$507,D42)) | H42: =IF(D42="","",E42+F42-G42)
C43: =IF('1- Base de données articles'!C71="","",'1- Base de données articles'!C71) | D43: =IF('1- Base de données articles'!B71="","",'1- Base de données articles'!B71) | F43: =IF(C43="","",SUMIFS('2- Journal entrées et sorties'!E$11:E$407,'2- Journal entrées et sorties'!D$11:D$407,D43)) | G43: =IF(D43="","",SUMIFS('2- Journal entrées et sorties'!F$11:F$507,'2- Journal entrées et sorties'!D$11:D$507,D43)) | H43: =IF(D43="","",E43+F43-G43)
C44: =IF('1- Base de données articles'!C72="","",'1- Base de données articles'!C72) | D44: =IF('1- Base de données articles'!B72="","",'1- Base de données articles'!B72) | F44: =IF(C44="","",SUMIFS('2- Journal entrées et sorties'!E$11:E$407,'2- Journal entrées et sorties'!D$11:D$407,D44)) | G44: =IF(D44="","",SUMIFS('2- Journal entrées et sorties'!F$11:F$507,'2- Journal entrées et sorties'!D$11:D$507,D44)) | H44: =IF(D44="","",E44+F44-G44)
C45: =IF('1- Base de données articles'!C73="","",'1- Base de données articles'!C73) | D45: =IF('1- Base de données articles'!B73="","",'1- Base de données articles'!B73) | F45: =IF(C45="","",SUMIFS('2- Journal entrées et sorties'!E$11:E$407,'2- Journal entrées et sorties'!D$11:D$407,D45)) | G45: =IF(D45="","",SUMIFS('2- Journal entrées et sorties'!F$11:F$507,'2- Journal entrées et sorties'!D$11:D$507,D45)) | H45: =IF(D45="","",E45+F45-G45)
C46: =IF('1- Base de données articles'!C74="","",'1- Base de données articles'!C74) | D46: =IF('1- Base de données articles'!B74="","",'1- Base de données articles'!B74) | F46: =IF(C46="","",SUMIFS('2- Journal entrées et sorties'!E$11:E$407,'2- Journal entrées et sorties'!D$11:D$407,D46)) | G46: =IF(D46="","",SUMIFS('2- Journal entrées et sorties'!F$11:F$507,'2- Journal entrées et sorties'!D$11:D$507,D46)) | H46: =IF(D46="","",E46+F46-G46)
C47: =IF('1- Base de données articles'!C75="","",'1- Base de données articles'!C75) | D47: =IF('1- Base de données articles'!B75="","",'1- Base de données articles'!B75) | F47: =IF(C47="","",SUMIFS('2- Journal entrées et sorties'!E$11:E$407,'2- Journal entrées et sorties'!D$11:D$407,D47)) | G47: =IF(D47="","",SUMIFS('2- Journal entrées et sorties'!F$11:F$507,'2- Journal entrées et sorties'!D$11:D$507,D47)) | H47: =IF(D47="","",E47+F47-G47)
... C176: =IF('1- Base de données articles'!C204="","",'1- Base de données articles'!C204) | D176: =IF('1- Base de données articles'!B204="","",'1- Base de données articles'!B204) | F176: =IF(C176="","",SUMIFS('2- Journal entrées et sorties'!E$11:E$407,'2- Journal entrées et sorties'!D$11:D$407,D176)) | G176: =IF(D176="","",SUMIFS('2- Journal entrées et sorties'!F$11:F$507,'2- Journal entrées et sorties'!D$11:D$507,D176)) | H176: =IF(D176="","",E176+F176-G176)
D177: =IF('1- Base de données articles'!B205="","",'1- Base de données articles'!B205) | F177: =IF(C177="","",SUMIFS('2- Journal entrées et sorties'!E$11:E$407,'2- Journal entrées et sorties'!D$11:D$407,D177)) | G177: =IF(D177="","",SUMIFS('2- Journal entrées et sorties'!F$11:F$507,'2- Journal entrées et sorties'!D$11:D$507,D177)) | H177: =IF(D177="","",E177+F177-G177)
D178: =IF('1- Base de données articles'!B206="","",'1- Base de données articles'!B206) | F178: =IF(C178="","",SUMIFS('2- Journal entrées et sorties'!E$11:E$407,'2- Journal entrées et sorties'!D$11:D$407,D178)) | G178: =IF(D178="","",SUMIFS('2- Journal entrées et sorties'!F$11:F$507,'2- Journal entrées et sorties'!D$11:D$507,D178)) | H178: =IF(D178="","",E178+F178-G178)
D179: =IF('1- Base de données articles'!B207="","",'1- Base de données articles'!B207) | F179: =IF(C179="","",SUMIFS('2- Journal entrées et sorties'!E$11:E$407,'2- Journal entrées et sorties'!D$11:D$407,D179)) | G179: =IF(D179="","",SUMIFS('2- Journal entrées et sorties'!F$11:F$507,'2- Journal entrées et sorties'!D$11:D$507,D179)) | H179: =IF(D179="","",E179+F179-G179)
D180: =IF('1- Base de données articles'!B208="","",'1- Base de données articles'!B208) | F180: =IF(C180="","",SUMIFS('2- Journal entrées et sorties'!E$11:E$407,'2- Journal entrées et sorties'!D$11:D$407,D180)) | G180: =IF(D180="","",SUMIFS('2- Journal entrées et sorties'!F$11:F$507,'2- Journal entrées et sorties'!D$11:D$507,D180)) | H180: =IF(D180="","",E180+F180-G180)
D181: =IF('1- Base de données articles'!B209="","",'1- Base de données articles'!B209) | F181: =IF(C181="","",SUMIFS('2- Journal entrées et sorties'!E$11:E$407,'2- Journal entrées et sorties'!D$11:D$407,D181)) | G181: =IF(D181="","",SUMIFS('2- Journal entrées et sorties'!F$11:F$507,'2- Journal entrées et sorties'!D$11:D$507,D181)) | H181: =IF(D181="","",E181+F181-G181)
D182: =IF('1- Base de données articles'!B210="","",'1- Base de données articles'!B210) | F182: =IF(C182="","",SUMIFS('2- Journal entrées et sorties'!E$11:E$407,'2- Journal entrées et sorties'!D$11:D$407,D182)) | G182: =IF(D182="","",SUMIFS('2- Journal entrées et sorties'!F$11:F$507,'2- Journal entrées et sorties'!D$11:D$507,D182)) | H182: =IF(D182="","",E182+F182-G182)
D183: =IF('1- Base de données articles'!B211="","",'1- Base de données articles'!B211) | F183: =IF(C183="","",SUMIFS('2- Journal entrées et sorties'!E$11:E$407,'2- Journal entrées et sorties'!D$11:D$407,D183)) | G183: =IF(D183="","",SUMIFS('2- Journal entrées et sorties'!F$11:F$507,'2- Journal entrées et sorties'!D$11:D$507,D183)) | H183: =IF(D183="","",E183+F183-G183)
D184: =IF('1- Base de données articles'!B212="","",'1- Base de données articles'!B212) | F184: =IF(C184="","",SUMIFS('2- Journal entrées et sorties'!E$11:E$407,'2- Journal entrées et sorties'!D$11:D$407,D184)) | G184: =IF(D184="","",SUMIFS('2- Journal entrées et sorties'!F$11:F$507,'2- Journal entrées et sorties'!D$11:D$507,D184)) | H184: =IF(D184="","",E184+F184-G184)
D185: =IF('1- Base de données articles'!B213="","",'1- Base de données articles'!B213) | F185: =IF(C185="","",SUMIFS('2- Journal entrées et sorties'!E$11:E$407,'2- Journal entrées et sorties'!D$11:D$407,D185)) | G185: =IF(D185="","",SUMIFS('2- Journal entrées et sorties'!F$11:F$507,'2- Journal entrées et sorties'!D$11:D$507,D185)) | H185: =IF(D185="","",E185+F185-G185)
D186: =IF('1- Base de données articles'!B214="","",'1- Base de données articles'!B214) | F186: =IF(C186="","",SUMIFS('2- Journal entrées et sorties'!E$11:E$407,'2- Journal entrées et sorties'!D$11:D$407,D186)) | G186: =IF(D186="","",SUMIFS('2- Journal entrées et sorties'!F$11:F$507,'2- Journal entrées et sorties'!D$11:D$507,D186)) | H186: =IF(D186="","",E186+F186-G186)
D187: =IF('1- Base de données articles'!B215="","",'1- Base de données articles'!B215) | F187: =IF(C187="","",SUMIFS('2- Journal entrées et sorties'!E$11:E$407,'2- Journal entrées et sorties'!D$11:D$407,D187)) | G187: =IF(D187="","",SUMIFS('2- Journal entrées et sorties'!F$11:F$507,'2- Journal entrées et sorties'!D$11:D$507,D187)) | H187: =IF(D187="","",E187+F187-G187)
D188: =IF('1- Base de données articles'!B216="","",'1- Base de données articles'!B216) | F188: =IF(C188="","",SUMIFS('2- Journal entrées et sorties'!E$11:E$407,'2- Journal entrées et sorties'!D$11:D$407,D188)) | G188: =IF(D188="","",SUMIFS('2- Journal entrées et sorties'!F$11:F$507,'2- Journal entrées et sorties'!D$11:D$507,D188)) | H188: =IF(D188="","",E188+F188-G188)
... D438: =IF('1- Base de données articles'!B466="","",'1- Base de données articles'!B466) | F438: =IF(C438="","",SUMIFS('2- Journal entrées et sorties'!E$11:E$407,'2- Journal entrées et sorties'!D$11:D$407,D438)) | G438: =IF(D438="","",SUMIFS('2- Journal entrées et sorties'!F$11:F$507,'2- Journal entrées et sorties'!D$11:D$507,D438)) | H438: =IF(D438="","",E438+F438-G438)
D439: =IF('1- Base de données articles'!B467="","",'1- Base de données articles'!B467) | F439: =IF(C439="","",SUMIFS('2- Journal entrées et sorties'!E$11:E$407,'2- Journal entrées et sorties'!D$11:D$407,D439)) | G439: =IF(D439="","",SUMIFS('2- Journal entrées et sorties'!F$11:F$507,'2- Journal entrées et sorties'!D$11:D$507,D439))
D440: =IF('1- Base de données articles'!B468="","",'1- Base de données articles'!B468) | F440: =IF(C440="","",SUMIFS('2- Journal entrées et sorties'!E$11:E$407,'2- Journal entrées et sorties'!D$11:D$407,D440)) | G440: =IF(D440="","",SUMIFS('2- Journal entrées et sorties'!F$11:F$507,'2- Journal entrées et sorties'!D$11:D$507,D440))
D441: =IF('1- Base de données articles'!B469="","",'1- Base de données articles'!B469) | F441: =IF(C441="","",SUMIFS('2- Journal entrées et sorties'!E$11:E$407,'2- Journal entrées et sorties'!D$11:D$407,D441)) | G441: =IF(D441="","",SUMIFS('2- Journal entrées et sorties'!F$11:F$507,'2- Journal entrées et sorties'!D$11:D$507,D441))
D442: =IF('1- Base de données articles'!B470="","",'1- Base de données articles'!B470) | F442: =IF(C442="","",SUMIFS('2- Journal entrées et sorties'!E$11:E$407,'2- Journal entrées et sorties'!D$11:D$407,D442)) | G442: =IF(D442="","",SUMIFS('2- Journal entrées et sorties'!F$11:F$507,'2- Journal entrées et sorties'!D$11:D$507,D442))
F443: =IF(C443="","",SUMIFS('2- Journal entrées et sorties'!E$11:E$407,'2- Journal entrées et sorties'!D$11:D$407,D443)) | G443: =IF(D443="","",SUMIFS('2- Journal entrées et sorties'!F$11:F$507,'2- Journal entrées et sorties'!D$11:D$507,D443))
F444: =IF(C444="","",SUMIFS('2- Journal entrées et sorties'!E$11:E$407,'2- Journal entrées et sorties'!D$11:D$407,D444))
F445: =IF(C445="","",SUMIFS('2- Journal entrées et sorties'!E$11:E$407,'2- Journal entrées et sorties'!D$11:D$407,D445))
F446: =IF(C446="","",SUMIFS('2- Journal entrées et sorties'!E$11:E$407,'2- Journal entrées et sorties'!D$11:D$407,D446))

Sheet 4- Bon de commande
E1: Navigation
E2: > Acceder à la notice
E3: > Accéder à la base de données
E4: > Ajouter des entrées ou des sorties
E5: > Vérifier l'état des stocks
E6: > Editer un bon de Commande
E7: > Signaler une Commande
C8: Bon de Commande TP SOINS Enfant
C10: Professeur : | E10: Classe ou groupe : 2 ASSP | F10: Date de commande : | G10: Séquence pédagogique du : (date et heure)
C12: Zone de stockage de la marchandise: 206 | E12: Commande effectuée sur le drive le: | F12: Date de livraison souhaitée: | G12: Livraison en salle 208 effectuée le:
B14: A transmettre 8 jours minimum avant la date de livraison souhaitée. La commande se fait par Mme Bozon en grande partie sur le "Drive hyper U" de Montmorot.
B15: Réf. | C15: Description Produits | F15: Quantité demandée | G15: Remarques
G255: =IF(#REF!="","",SUMIFS('2- Journal entrées et sorties'!F$11:F$507,'2- Journal entrées et sorties'!D$11:D$507,#REF!)) -> #REF!
G256: =IF(#REF!="","",SUMIFS('2- Journal entrées et sorties'!F$11:F$507,'2- Journal entrées et sorties'!D$11:D$507,#REF!)) -> #REF!
F257: =IF(E257="","",SUMIFS('2- Journal entrées et sorties'!E$11:E$407,'2- Journal entrées et sorties'!D$11:D$407,#REF!)) | G257: =IF(#REF!="","",SUMIFS('2- Journal entrées et sorties'!F$11:F$507,'2- Journal entrées et sorties'!D$11:D$507,#REF!)) -> #REF! | H257: =IF(#REF!="","",#REF!+F257-G255) -> #REF!
F258: =IF(E258="","",SUMIFS('2- Journal entrées et sorties'!E$11:E$407,'2- Journal entrées et sorties'!D$11:D$407,#REF!)) | G258: =IF(#REF!="","",SUMIFS('2- Journal entrées et sorties'!F$11:F$507,'2- Journal entrées et sorties'!D$11:D$507,#REF!)) -> #REF! | H258: =IF(#REF!="","",#REF!+F258-G256) -> #REF!
F259: =IF(E259="","",SUMIFS('2- Journal entrées et sorties'!E$11:E$407,'2- Journal entrées et sorties'!D$11:D$407,#REF!)) | G259: =IF(#REF!="","",SUMIFS('2- Journal entrées et sorties'!F$11:F$507,'2- Journal entrées et sorties'!D$11:D$507,#REF!)) -> #REF! | H259: =IF(#REF!="","",#REF!+F259-G257) -> #REF!
F260: =IF(E260="","",SUMIFS('2- Journal entrées et sorties'!E$11:E$407,'2- Journal entrées et sorties'!D$11:D$407,#REF!)) | G260: =IF(#REF!="","",SUMIFS('2- Journal entrées et sorties'!F$11:F$507,'2- Journal entrées et sorties'!D$11:D$507,#REF!)) -> #REF! | H260: =IF(#REF!="","",#REF!+F260-G258) -> #REF!
F261: =IF(E261="","",SUMIFS('2- Journal entrées et sorties'!E$11:E$407,'2- Journal entrées et sorties'!D$11:D$407,#REF!)) | G261: =IF(#REF!="","",SUMIFS('2- Journal entrées et sorties'!F$11:F$507,'2- Journal entrées et sorties'!D$11:D$507,#REF!)) -> #REF! | H261: =IF(#REF!="","",#REF!+F261-G259) -> #REF!
F262: =IF(E262="","",SUMIFS('2- Journal entrées et sorties'!E$11:E$407,'2- Journal entrées et sorties'!D$11:D$407,#REF!)) | G262: =IF(#REF!="","",SUMIFS('2- Journal entrées et sorties'!F$11:F$507,'2- Journal entrées et sorties'!D$11:D$507,#REF!)) -> #REF! | H262: =IF(#REF!="","",#REF!+F262-G260) -> #REF!
F263: =IF(E263="","",SUMIFS('2- Journal entrées et sorties'!E$11:E$407,'2- Journal entrées et sorties'!D$11:D$407,#REF!)) | G263: =IF(#REF!="","",SUMIFS('2- Journal entrées et sorties'!F$11:F$507,'2- Journal entrées et sorties'!D$11:D$507,#REF!)) -> #REF! | H263: =IF(#REF!="","",#REF!+F263-G261) -> #REF!
F264: =IF(E264="","",SUMIFS('2- Journal entrées et sorties'!E$11:E$407,'2- Journal entrées et sorties'!D$11:D$407,#REF!)) | G264: =IF(#REF!="","",SUMIFS('2- Journal entrées et sorties'!F$11:F$507,'2- Journal entrées et sorties'!D$11:D$507,#REF!)) -> #REF! | H264: =IF(#REF!="","",#REF!+F264-G262) -> #REF!
F265: =IF(E265="","",SUMIFS('2- Journal entrées et sorties'!E$11:E$407,'2- Journal entrées et sorties'!D$11:D$407,#REF!)) | G265: =IF(#REF!="","",SUMIFS('2- Journal entrées et sorties'!F$11:F$507,'2- Journal entrées et sorties'!D$11:D$507,#REF!)) -> #REF! | H265: =IF(#REF!="","",#REF!+F265-G263) -> #REF!
F266: =IF(E266="","",SUMIFS('2- Journal entrées et sorties'!E$11:E$407,'2- Journal entrées et sorties'!D$11:D$407,#REF!)) | G266: =IF(#REF!="","",SUMIFS('2- Journal entrées et sorties'!F$11:F$507,'2- Journal entrées et sorties'!D$11:D$507,#REF!)) -> #REF! | H266: =IF(#REF!="","",#REF!+F266-G264) -> #REF!
F267: =IF(E267="","",SUMIFS('2- Journal entrées et sorties'!E$11:E$407,'2- Journal entrées et sorties'!D$11:D$407,#REF!)) | G267: =IF(#REF!="","",SUMIFS('2- Journal entrées et sorties'!F$11:F$507,'2- Journal entrées et sorties'!D$11:D$507,#REF!)) -> #REF! | H267: =IF(#REF!="","",#REF!+F267-G265) -> #REF!
F268: =IF(E268="","",SUMIFS('2- Journal entrées et sorties'!E$11:E$407,'2- Journal entrées et sorties'!D$11:D$407,#REF!)) | G268: =IF(#REF!="","",SUMIFS('2- Journal entrées et sorties'!F$11:F$507,'2- Journal entrées et sorties'!D$11:D$507,#REF!)) -> #REF! | H268: =IF(#REF!="","",#REF!+F268-G266) -> #REF!
... F456: =IF(E456="","",SUMIFS('2- Journal entrées et sorties'!E$11:E$407,'2- Journal entrées et sorties'!D$11:D$407,#REF!)) | G456: =IF(#REF!="","",SUMIFS('2- Journal entrées et sorties'!F$11:F$507,'2- Journal entrées et sorties'!D$11:D$507,#REF!)) -> #REF! | H456: =IF(#REF!="","",#REF!+F456-G454) -> #REF!
F457: =IF(E457="","",SUMIFS('2- Journal entrées et sorties'!E$11:E$407,'2- Journal entrées et sorties'!D$11:D$407,#REF!)) | G457: =IF(#REF!="","",SUMIFS('2- Journal entrées et sorties'!F$11:F$507,'2- Journal entrées et sorties'!D$11:D$507,#REF!)) -> #REF!
F458: =IF(E458="","",SUMIFS('2- Journal entrées et sorties'!E$11:E$407,'2- Journal entrées et sorties'!D$11:D$407,#REF!)) | G458: =IF(#REF!="","",SUMIFS('2- Journal entrées et sorties'!F$11:F$507,'2- Journal entrées et sorties'!D$11:D$507,#REF!)) -> #REF!
F459: =IF(E459="","",SUMIFS('2- Journal entrées et sorties'!E$11:E$407,'2- Journal entrées et sorties'!D$11:D$407,#REF!)) | G459: =IF(#REF!="","",SUMIFS('2- Journal entrées et sorties'!F$11:F$507,'2- Journal entrées et sorties'!D$11:D$507,#REF!)) -> #REF!
F460: =IF(E460="","",SUMIFS('2- Journal entrées et sorties'!E$11:E$407,'2- Journal entrées et sorties'!D$11:D$407,#REF!))
F461: =IF(E461="","",SUMIFS('2- Journal entrées et sorties'!E$11:E$407,'2- Journal entrées et sorties'!D$11:D$407,#REF!))
F462: =IF(E462="","",SUMIFS('2- Journal entrées et sorties'!E$11:E$407,'2- Journal entrées et sorties'!D$11:D$407,#REF!))
F463: =IF(E463="","",SUMIFS('2- Journal entrées et sorties'!E$11:E$407,'2- Journal entrées et sorties'!D$11:D$407,#REF!))
F464: =IF(E464="","",SUMIFS('2- Journal entrées et sorties'!E$11:E$407,'2- Journal entrées et sorties'!D$11:D$407,#REF!))

Sheet 5- Commande passée
C1: Navigation
C2: > Acceder à la notice
C3: > Accéder à la base de données
C4: > Ajouter des entrées ou des sorties
C5: > Vérifier l'état des stocks
C6: > Editer un bon de Commande
C7: > Signaler une Commande
B9: COMMANDE PASSEES
B11: Date | C11: Professeur
C73: =IF('1- Base de données articles'!C71="","",'1- Base de données articles'!C71)
C74: =IF('1- Base de données articles'!C72="","",'1- Base de données articles'!C72)
C75: =IF('1- Base de données articles'!C73="","",'1- Base de données articles'!C73)
C76: =IF('1- Base de données articles'!C74="","",'1- Base de données articles'!C74)
C77: =IF('1- Base de données articles'!C75="","",'1- Base de données articles'!C75)
C78: =IF('1- Base de données articles'!C76="","",'1- Base de données articles'!C76)
C79: =IF('1- Base de données articles'!C77="","",'1- Base de données articles'!C77)
C80: =IF('1- Base de données articles'!C78="","",'1- Base de données articles'!C78)
C81: =IF('1- Base de données articles'!C79="","",'1- Base de données articles'!C79)
C82: =IF('1- Base de données articles'!C80="","",'1- Base de données articles'!C80)
C83: =IF('1- Base de données articles'!C81="","",'1- Base de données articles'!C81)
C84: =IF('1- Base de données articles'!C82="","",'1- Base de données articles'!C82)
... C206: =IF('1- Base de données articles'!C204="","",'1- Base de données articles'!C204)
D269: =IF(C269="","",SUMIFS('2- Journal entrées et sorties'!E$11:E$407,'2- Journal entrées et sorties'!D$11:D$407,#REF!)) | E269: =IF(#REF!="","",SUMIFS('2- Journal entrées et sorties'!F$11:F$507,'2- Journal entrées et sorties'!D$11:D$507,#REF!)) -> #REF! | F269: =IF(#REF!="","",#REF!+D269-E269) -> #REF!
D270: =IF(C270="","",SUMIFS('2- Journal entrées et sorties'!E$11:E$407,'2- Journal entrées et sorties'!D$11:D$407,#REF!)) | E270: =IF(#REF!="","",SUMIFS('2- Journal entrées et sorties'!F$11:F$507,'2- Journal entrées et sorties'!D$11:D$507,#REF!)) -> #REF! | F270: =IF(#REF!="","",#REF!+D270-E270) -> #REF!
D271: =IF(C271="","",SUMIFS('2- Journal entrées et sorties'!E$11:E$407,'2- Journal entrées et sorties'!D$11:D$407,#REF!)) | E271: =IF(#REF!="","",SUMIFS('2- Journal entrées et sorties'!F$11:F$507,'2- Journal entrées et sorties'!D$11:D$507,#REF!)) -> #REF! | F271: =IF(#REF!="","",#REF!+D271-E271) -> #REF!
D272: =IF(C272="","",SUMIFS('2- Journal entrées et sorties'!E$11:E$407,'2- Journal entrées et sorties'!D$11:D$407,#REF!)) | E272: =IF(#REF!="","",SUMIFS('2- Journal entrées et sorties'!F$11:F$507,'2- Journal entrées et sorties'!D$11:D$507,#REF!)) -> #REF! | F272: =IF(#REF!="","",#REF!+D272-E272) -> #REF!
D273: =IF(C273="","",SUMIFS('2- Journal entrées et sorties'!E$11:E$407,'2- Journal entrées et sorties'!D$11:D$407,#REF!)) | E273: =IF(#REF!="","",SUMIFS('2- Journal entrées et sorties'!F$11:F$507,'2- Journal entrées et sorties'!D$11:D$507,#REF!)) -> #REF! | F273: =IF(#REF!="","",#REF!+D273-E273) -> #REF!
D274: =IF(C274="","",SUMIFS('2- Journal entrées et sorties'!E$11:E$407,'2- Journal entrées et sorties'!D$11:D$407,#REF!)) | E274: =IF(#REF!="","",SUMIFS('2- Journal entrées et sorties'!F$11:F$507,'2- Journal entrées et sorties'!D$11:D$507,#REF!)) -> #REF! | F274: =IF(#REF!="","",#REF!+D274-E274) -> #REF!
D275: =IF(C275="","",SUMIFS('2- Journal entrées et sorties'!E$11:E$407,'2- Journal entrées et sorties'!D$11:D$407,#REF!)) | E275: =IF(#REF!="","",SUMIFS('2- Journal entrées et sorties'!F$11:F$507,'2- Journal entrées et sorties'!D$11:D$507,#REF!)) -> #REF! | F275: =IF(#REF!="","",#REF!+D275-E275) -> #REF!
D276: =IF(C276="","",SUMIFS('2- Journal entrées et sorties'!E$11:E$407,'2- Journal entrées et sorties'!D$11:D$407,#REF!)) | E276: =IF(#REF!="","",SUMIFS('2- Journal entrées et sorties'!F$11:F$507,'2- Journal entrées et sorties'!D$11:D$507,#REF!)) -> #REF! | F276: =IF(#REF!="","",#REF!+D276-E276) -> #REF!
D277: =IF(C277="","",SUMIFS('2- Journal entrées et sorties'!E$11:E$407,'2- Journal entrées et sorties'!D$11:D$407,#REF!)) | E277: =IF(#REF!="","",SUMIFS('2- Journal entrées et sorties'!F$11:F$507,'2- Journal entrées et sorties'!D$11:D$507,#REF!)) -> #REF! | F277: =IF(#REF!="","",#REF!+D277-E277) -> #REF!
D278: =IF(C278="","",SUMIFS('2- Journal entrées et sorties'!E$11:E$407,'2- Journal entrées et sorties'!D$11:D$407,#REF!)) | E278: =IF(#REF!="","",SUMIFS('2- Journal entrées et sorties'!F$11:F$507,'2- Journal entrées et sorties'!D$11:D$507,#REF!)) -> #REF! | F278: =IF(#REF!="","",#REF!+D278-E278) -> #REF!
D279: =IF(C279="","",SUMIFS('2- Journal entrées et sorties'!E$11:E$407,'2- Journal entrées et sorties'!D$11:D$407,#REF!)) | E279: =IF(#REF!="","",SUMIFS('2- Journal entrées et sorties'!F$11:F$507,'2- Journal entrées et sorties'!D$11:D$507,#REF!)) -> #REF! | F279: =IF(#REF!="","",#REF!+D279-E279) -> #REF!
D280: =IF(C280="","",SUMIFS('2- Journal entrées et sorties'!E$11:E$407,'2- Journal entrées et sorties'!D$11:D$407,#REF!)) | E280: =IF(#REF!="","",SUMIFS('2- Journal entrées et sorties'!F$11:F$507,'2- Journal entrées et sorties'!D$11:D$507,#REF!)) -> #REF! | F280: =IF(#REF!="","",#REF!+D280-E280) -> #REF!
... D468: =IF(C468="","",SUMIFS('2- Journal entrées et sorties'!E$11:E$407,'2- Journal entrées et sorties'!D$11:D$407,#REF!)) | E468: =IF(#REF!="","",SUMIFS('2- Journal entrées et sorties'!F$11:F$507,'2- Journal entrées et sorties'!D$11:D$507,#REF!)) -> #REF! | F468: =IF(#REF!="","",#REF!+D468-E468) -> #REF!
D469: =IF(C469="","",SUMIFS('2- Journal entrées et sorties'!E$11:E$407,'2- Journal entrées et sorties'!D$11:D$407,#REF!)) | E469: =IF(#REF!="","",SUMIFS('2- Journal entrées et sorties'!F$11:F$507,'2- Journal entrées et sorties'!D$11:D$507,#REF!)) -> #REF!
D470: =IF(C470="","",SUMIFS('2- Journal entrées et sorties'!E$11:E$407,'2- Journal entrées et sorties'!D$11:D$407,#REF!)) | E470: =IF(#REF!="","",SUMIFS('2- Journal entrées et sorties'!F$11:F$507,'2- Journal entrées et sorties'!D$11:D$507,#REF!)) -> #REF!
D471: =IF(C471="","",SUMIFS('2- Journal entrées et sorties'!E$11:E$407,'2- Journal entrées et sorties'!D$11:D$407,#REF!)) | E471: =IF(#REF!="","",SUMIFS('2- Journal entrées et sorties'!F$11:F$507,'2- Journal entrées et sorties'!D$11:D$507,#REF!)) -> #REF!
D472: =IF(C472="","",SUMIFS('2- Journal entrées et sorties'!E$11:E$407,'2- Journal entrées et sorties'!D$11:D$407,#REF!)) | E472: =IF(#REF!="","",SUMIFS('2- Journal entrées et sorties'!F$11:F$507,'2- Journal entrées et sorties'!D$11:D$507,#REF!)) -> #REF!
D473: =IF(C473="","",SUMIFS('2- Journal entrées et sorties'!E$11:E$407,'2- Journal entrées et sorties'!D$11:D$407,#REF!)) | E473: =IF(#REF!="","",SUMIFS('2- Journal entrées et sorties'!F$11:F$507,'2- Journal entrées et sorties'!D$11:D$507,#REF!)) -> #REF!
D474: =IF(C474="","",SUMIFS('2- Journal entrées et sorties'!E$11:E$407,'2- Journal entrées et sorties'!D$11:D$407,#REF!))
D475: =IF(C475="","",SUMIFS('2- Journal entrées et sorties'!E$11:E$407,'2- Journal entrées et sorties'!D$11:D$407,#REF!))
D476: =IF(C476="","",SUMIFS('2- Journal entrées et sorties'!E$11:E$407,'2- Journal entrées et sorties'!D$11:D$407,#REF!))

Sheet Feuil1
A1: Formule | B1: Description | C1: Résultat
A2: =ROW() -> 2 | B2: Ligne à laquelle la formule apparaît. | C2: 2
A3: =IF('2- Journal entrées et sorties'!$D11=CELL('1- Base de données articles'!C12:C36),"","") -> #VALUE! | B3: Ligne de la référence. | C3: 10
