Workbook
Name Mois: OFFSET(TB!$B$6,TB!$G$2,0,0)

Sheet Test
K1: Adresse Maison | L1: 18 Allée des Pins, 35136 Saint-Jacques-de-la-Lande, France | O1: Total carburant versé | P1: =+SUMIFS(I:I,$C:$C,"total général") -> 0 | S1: Distance Aller & Retour Maison /Chantier | T1: Kilométrage parcouru heure de travail | U1: Kilométrage Perso | V1: Total distance parcouru
K2: Adresse Travail | L2: 1 r Louis Pasteur, 44119 Treillières, France | R2: Affectation kilométrage parcouru / mois | S2: =+SUMIFS(S:S,$C:$C,"total général") -> 0 | T2: =+SUMIFS(T:T,$C:$C,"total général") -> 0 | U2: =+SUMIFS(U:U,$C:$C,"total général") -> 0 | V2: =+SUMIFS(V:V,$C:$C,"total général") -> 0
R3: Pourcentage distance parcouru | S3: =S2/$V$2 -> #DIV/0! | T3: =T2/$V$2 -> #DIV/0! | U3: =U2/$V$2 -> #DIV/0! | V3: =V2/$V$2 -> #DIV/0!
O4: 1 | P4: 7 | R4: Cout trajet parcouru | S4: =(S2*6/100)*2 -> 0 | T4: =(T2*6/100)*2 -> 0 | U4: =(U2*6/100)*2 -> 0 | V4: =(V2*6/100)*2 -> 0
R5: Total temp perdu | V5: =SUM(P10:P37) -> -4.9833333
R6: Ecart cout total distance parcouru par rapport au montant versé | V6: =P1-V4 -> 0
C8: Somme de Distance parcourue (kilomètres) | H8: Type produit | I8: A | J8: A | K8: A | L8: M | M8: M | N8: M | O8: A | P8: A | Q8: A | R8: A | S8: A | T8: A | U8: A | V8: A
C9: Matricule_F | D9: Type véhicule | E9: Consommation moyenne | F9: Date | G9: Jour_F | H9: Distance parcouru | I9: Gazole versé | J9: Démarrage véhicule | K9: Arret final | L9: Début travail | M9: Fin travail | N9: Heure retour maison | O9: Total heure travaillé | P9: temp perdu | Q9: Distance aller | R9: Distance Retour | S9: Distance Aller & Retour Maison /Chantier | T9: Kilométrage parcouru heure de travail | U9: Kilométrage Perso | V9: Total distance parcouru | W9: Commentaire | X9: Adresse_Début_travail | Y9: Adresse_Fin_travail | Z9: Adresse_Début_travail
A10: =IF(F10="","",MONTH(F10)) -> #VALUE! | B10: =COUNTIF(#REF!,$C$10&F10) -> #REF! | E10: 6 | F10: (vide) | H10: 0 | I10: 0 | J10: 08:08 | K10: 18:28 | L10: 0.38263889 | M10: 0.72361111 | N10: 0.76944444 | O10: 8.1833333 | P10: -1.1833333 | Q10: 97.2 | R10: 98.8 | S10: 196 | T10: 6.7 | U10: 0 | V10: 202.7 | X10: =+HOUR(L10)+MINUTE(L10)/60 -> 9.1833333 | Y10: =+HOUR(M10)+MINUTE(M10)/60 -> 17.366667 | Z10: =+HOUR(N10)+MINUTE(N10)/60 -> 18.466667
A11: =IF(F11="","",MONTH(F11)) -> 6 | B11: =COUNTIF(#REF!,$C$10&F11) -> #REF! | C11: FR-726-MA | D11: RENAULT KANGOO | E11: 6 | F11: 44713 | G11: mer | H11: 202.7 | I11: 83.94 | J11: 08:03 | K11: 20:27 | L11: 0.38055556 | M11: 0.69791667 | N11: 0.75486111 | O11: 7.6166667 | P11: -0.61666667 | Q11: 97.2 | R11: 99.1 | S11: 196.3 | T11: 6.5 | U11: 28.4 | V11: 231.2 | X11: =+HOUR(L11)+MINUTE(L11)/60 -> 9.1333333 | Y11: =+HOUR(M11)+MINUTE(M11)/60 -> 16.75 | Z11: =+HOUR(N11)+MINUTE(N11)/60 -> 18.116667
A12: =IF(F12="","",MONTH(F12)) -> 6 | B12: =COUNTIF(#REF!,$C$10&F12) -> #REF! | F12: 44714 | G12: jeu | H12: 231.2 | I12: 0 | J12: 08:08 | K12: 18:39 | L12: 0.38541667 | M12: 0.70625 | N12: 0.76666667 | O12: 7.7 | P12: -0.7 | Q12: 97.3 | R12: 98.6 | S12: 195.9 | T12: 61.4 | U12: 0 | V12: 257.3 | X12: =+HOUR(L12)+MINUTE(L12)/60 -> 9.25 | Y12: =+HOUR(M12)+MINUTE(M12)/60 -> 16.95 | Z12: =+HOUR(N12)+MINUTE(N12)/60 -> 18.4
A13: =IF(F13="","",MONTH(F13)) -> 6 | B13: =COUNTIF(#REF!,$C$10&F13) -> #REF! | F13: 44715 | G13: ven | H13: 257.3 | I13: 0 | J13: 08:41 | K13: 16:00 | L13: - | M13: - | N13: - | O13: - | P13: - | Q13: 0 | R13: 0 | S13: 0 | T13: 0 | U13: 43.5 | V13: 43.5 | X13: =+HOUR(L13)+MINUTE(L13)/60 -> #VALUE! | Y13: =+HOUR(M13)+MINUTE(M13)/60 -> #VALUE! | Z13: =+HOUR(N13)+MINUTE(N13)/60 -> #VALUE!
A14: =IF(F14="","",MONTH(F14)) -> 6 | B14: =COUNTIF(#REF!,$C$10&F14) -> #REF! | F14: 44716 | G14: sam | H14: 43.5 | I14: 0 | J14: 13:26 | K14: 15:33 | L14: - | M14: - | N14: - | O14: - | P14: - | Q14: 0 | R14: 0 | S14: 0 | T14: 0 | U14: 158.7 | V14: 158.7 | X14: =+HOUR(L14)+MINUTE(L14)/60 -> #VALUE! | Y14: =+HOUR(M14)+MINUTE(M14)/60 -> #VALUE! | Z14: =+HOUR(N14)+MINUTE(N14)/60 -> #VALUE!
A15: =IF(F15="","",MONTH(F15)) -> 6 | B15: =COUNTIF(#REF!,$C$10&F15) -> #REF! | F15: 44717 | G15: dim | H15: 158.7 | I15: 0 | J15: - | K15: - | L15: - | M15: - | N15: - | O15: - | P15: - | Q15: 0 | R15: 0 | S15: 0 | T15: 0 | U15: 0 | V15: 0 | X15: =+HOUR(L15)+MINUTE(L15)/60 -> #VALUE! | Y15: =+HOUR(M15)+MINUTE(M15)/60 -> #VALUE! | Z15: =+HOUR(N15)+MINUTE(N15)/60 -> #VALUE!
A16: =IF(F16="","",MONTH(F16)) -> 6 | B16: =COUNTIF(#REF!,$C$10&F16) -> #REF! | F16: 44718 | G16: lun | H16: 0 | I16: 0 | J16: - | K16: - | L16: - | M16: - | N16: - | O16: - | P16: - | Q16: 0 | R16: 0 | S16: 0 | T16: 0 | U16: 0 | V16: 0 | X16: =+HOUR(L16)+MINUTE(L16)/60 -> #VALUE! | Y16: =+HOUR(M16)+MINUTE(M16)/60 -> #VALUE! | Z16: =+HOUR(N16)+MINUTE(N16)/60 -> #VALUE!
A17: =IF(F17="","",MONTH(F17)) -> 6 | B17: =COUNTIF(#REF!,$C$10&F17) -> #REF! | F17: 44719 | G17: mar | H17: 0 | I17: 0 | J17: - | K17: - | L17: - | M17: - | N17: - | O17: - | P17: - | Q17: 0 | R17: 0 | S17: 0 | T17: 0 | U17: 0 | V17: 0 | X17: =+HOUR(L17)+MINUTE(L17)/60 -> #VALUE! | Y17: =+HOUR(M17)+MINUTE(M17)/60 -> #VALUE! | Z17: =+HOUR(N17)+MINUTE(N17)/60 -> #VALUE!
A18: =IF(F18="","",MONTH(F18)) -> 6 | B18: =COUNTIF(#REF!,$C$10&F18) -> #REF! | F18: 44720 | G18: mer | H18: 0 | I18: 0 | J18: - | K18: - | L18: - | M18: - | N18: - | O18: - | P18: - | Q18: 0 | R18: 0 | S18: 0 | T18: 0 | U18: 0 | V18: 0 | X18: =+HOUR(L18)+MINUTE(L18)/60 -> #VALUE! | Y18: =+HOUR(M18)+MINUTE(M18)/60 -> #VALUE! | Z18: =+HOUR(N18)+MINUTE(N18)/60 -> #VALUE!
A19: =IF(F19="","",MONTH(F19)) -> 6 | B19: =COUNTIF(#REF!,$C$10&F19) -> #REF! | F19: 44721 | G19: jeu | H19: 0 | I19: 0 | J19: - | K19: - | L19: - | M19: - | N19: - | O19: - | P19: - | Q19: 0 | R19: 0 | S19: 0 | T19: 0 | U19: 0 | V19: 0 | X19: =+HOUR(L19)+MINUTE(L19)/60 -> #VALUE! | Y19: =+HOUR(M19)+MINUTE(M19)/60 -> #VALUE! | Z19: =+HOUR(N19)+MINUTE(N19)/60 -> #VALUE!
A20: =IF(F20="","",MONTH(F20)) -> 6 | B20: =COUNTIF(#REF!,$C$10&F20) -> #REF! | F20: 44722 | G20: ven | H20: 0 | I20: 0 | J20: - | K20: - | L20: - | M20: - | N20: - | O20: - | P20: - | Q20: 0 | R20: 0 | S20: 0 | T20: 0 | U20: 0 | V20: 0 | X20: =+HOUR(L20)+MINUTE(L20)/60 -> #VALUE! | Y20: =+HOUR(M20)+MINUTE(M20)/60 -> #VALUE! | Z20: =+HOUR(N20)+MINUTE(N20)/60 -> #VALUE!
A21: =IF(F21="","",MONTH(F21)) -> 6 | B21: =COUNTIF(#REF!,$C$10&F21) -> #REF! | F21: 44723 | G21: sam | H21: 0 | I21: 0 | J21: 10:06 | K21: 01:48 | L21: - | M21: - | N21: - | O21: - | P21: - | Q21: 0 | R21: 0 | S21: 0 | T21: 0 | U21: 162 | V21: 162 | X21: =+HOUR(L21)+MINUTE(L21)/60 -> #VALUE! | Y21: =+HOUR(M21)+MINUTE(M21)/60 -> #VALUE! | Z21: =+HOUR(N21)+MINUTE(N21)/60 -> #VALUE!
A22: =IF(F22="","",MONTH(F22)) -> 6 | B22: =COUNTIF(#REF!,$C$10&F22) -> #REF! | F22: 44724 | G22: dim | H22: 162 | I22: 0 | J22: 01:51 | K22: 18:27 | L22: 0.45833333 | M22: 0.71736111 | N22: 0.72083333 | O22: 6.2166667 | P22: 0.78333333 | Q22: 97.4 | R22: 0 | S22: 97.4 | T22: 0 | U22: 98.6 | V22: 196 | X22: =+HOUR(L22)+MINUTE(L22)/60 -> 11 | Y22: =+HOUR(M22)+MINUTE(M22)/60 -> 17.216667 | Z22: =+HOUR(N22)+MINUTE(N22)/60 -> 17.3
A23: =IF(F23="","",MONTH(F23)) -> 6 | B23: =COUNTIF(#REF!,$C$10&F23) -> #REF! | F23: 44725 | G23: lun | H23: 196 | I23: 92.71 | J23: 07:48 | K23: 15:02 | L23: 0.37569444 | M23: 0.60416667 | N23: 0.62569444 | O23: 5.4833333 | P23: 1.5166667 | Q23: 95 | R23: 33.2 | S23: 128.2 | T23: 80.5 | U23: 0 | V23: 208.7 | X23: =+HOUR(L23)+MINUTE(L23)/60 -> 9.0166667 | Y23: =+HOUR(M23)+MINUTE(M23)/60 -> 14.5 | Z23: =+HOUR(N23)+MINUTE(N23)/60 -> 15.016667
A24: =IF(F24="","",MONTH(F24)) -> 6 | B24: =COUNTIF(#REF!,$C$10&F24) -> #REF! | F24: 44726 | G24: mar | H24: 208.7 | I24: 0 | J24: 08:12 | K24: 10:46 | L24: - | M24: - | N24: - | O24: - | P24: - | Q24: 0 | R24: 0 | S24: 0 | T24: 0 | U24: 21.4 | V24: 21.4 | X24: =+HOUR(L24)+MINUTE(L24)/60 -> #VALUE! | Y24: =+HOUR(M24)+MINUTE(M24)/60 -> #VALUE! | Z24: =+HOUR(N24)+MINUTE(N24)/60 -> #VALUE!
A25: =IF(F25="","",MONTH(F25)) -> 6 | B25: =COUNTIF(#REF!,$C$10&F25) -> #REF! | F25: 44727 | G25: mer | H25: 21.4 | I25: 0 | J25: - | K25: - | L25: - | M25: - | N25: - | O25: - | P25: - | Q25: 0 | R25: 0 | S25: 0 | T25: 0 | U25: 0 | V25: 0 | X25: =+HOUR(L25)+MINUTE(L25)/60 -> #VALUE! | Y25: =+HOUR(M25)+MINUTE(M25)/60 -> #VALUE! | Z25: =+HOUR(N25)+MINUTE(N25)/60 -> #VALUE!
A26: =IF(F26="","",MONTH(F26)) -> 6 | B26: =COUNTIF(#REF!,$C$10&F26) -> #REF! | F26: 44728 | G26: jeu | H26: 0 | I26: 0 | J26: 08:07 | K26: 15:29 | L26: 0.38402778 | M26: 14!44 | N26: 0.64513889 | O26: - | P26: - | Q26: 97.1 | R26: 0 | S26: 97.1 | T26: 0 | U26: 0 | V26: 97.1 | X26: =+HOUR(L26)+MINUTE(L26)/60 -> 9.2166667 | Y26: =+HOUR(M26)+MINUTE(M26)/60 -> #VALUE! | Z26: =+HOUR(N26)+MINUTE(N26)/60 -> 15.483333
A27: =IF(F27="","",MONTH(F27)) -> 6 | B27: =COUNTIF(#REF!,$C$10&F27) -> #REF! | F27: 44729 | G27: ven | H27: 264.8 | I27: 0 | J27: - | K27: - | L27: - | M27: - | N27: - | O27: - | P27: - | Q27: 0 | R27: 0 | S27: 0 | T27: 0 | U27: 0 | V27: 0 | X27: =+HOUR(L27)+MINUTE(L27)/60 -> #VALUE! | Y27: =+HOUR(M27)+MINUTE(M27)/60 -> #VALUE! | Z27: =+HOUR(N27)+MINUTE(N27)/60 -> #VALUE!
A28: =IF(F28="","",MONTH(F28)) -> 6 | B28: =COUNTIF(#REF!,$C$10&F28) -> #REF! | F28: 44730 | G28: sam | H28: 0 | I28: 0 | J28: 08:28 | K28: 17:36 | L28: - | M28: - | N28: - | O28: - | P28: - | Q28: 0 | R28: 0 | S28: 0 | T28: 0 | U28: 33.3 | V28: 33.3 | X28: =+HOUR(L28)+MINUTE(L28)/60 -> #VALUE! | Y28: =+HOUR(M28)+MINUTE(M28)/60 -> #VALUE! | Z28: =+HOUR(N28)+MINUTE(N28)/60 -> #VALUE!
A29: =IF(F29="","",MONTH(F29)) -> 6 | B29: =COUNTIF(#REF!,$C$10&F29) -> #REF! | F29: 44731 | G29: dim | H29: 33.3 | I29: 0 | J29: 08:04 | K29: 20:47 | L29: 0.38333333 | M29: 0.71527778 | N29: 0.76111111 | O29: 7.9666667 | P29: -0.96666667 | Q29: 97.1 | R29: 98.6 | S29: 195.7 | T29: 0 | U29: 12.3 | V29: 208 | X29: =+HOUR(L29)+MINUTE(L29)/60 -> 9.2 | Y29: =+HOUR(M29)+MINUTE(M29)/60 -> 17.166667 | Z29: =+HOUR(N29)+MINUTE(N29)/60 -> 18.266667
A30: =IF(F30="","",MONTH(F30)) -> 6 | B30: =COUNTIF(#REF!,$C$10&F30) -> #REF! | F30: 44732 | G30: lun | H30: 208 | I30: 0 | J30: 08:05 | K30: 18:34 | L30: 0.38125 | M30: 0.72152778 | N30: 0.77361111 | O30: 8.1666667 | P30: -1.1666667 | Q30: 97 | R30: 98.6 | S30: 195.6 | T30: 14.8 | U30: 0 | V30: 210.4 | X30: =+HOUR(L30)+MINUTE(L30)/60 -> 9.15 | Y30: =+HOUR(M30)+MINUTE(M30)/60 -> 17.316667 | Z30: =+HOUR(N30)+MINUTE(N30)/60 -> 18.566667
A31: =IF(F31="","",MONTH(F31)) -> 6 | B31: =COUNTIF(#REF!,$C$10&F31) -> #REF! | F31: 44733 | G31: mar | H31: 210.4 | I31: 0 | J31: 08:05 | K31: 17:07 | L31: 0.38125 | M31: 0.66666667 | N31: 0.71319444 | O31: 6.85 | P31: 0.15 | Q31: 97 | R31: 98.7 | S31: 195.7 | T31: 0 | U31: 0 | V31: 195.7 | X31: =+HOUR(L31)+MINUTE(L31)/60 -> 9.15 | Y31: =+HOUR(M31)+MINUTE(M31)/60 -> 16 | Z31: =+HOUR(N31)+MINUTE(N31)/60 -> 17.116667
A32: =IF(F32="","",MONTH(F32)) -> 6 | B32: =COUNTIF(#REF!,$C$10&F32) -> #REF! | F32: 44734 | G32: mer | H32: 195.7 | I32: 0 | J32: 08:04 | K32: 18:32 | L32: 0.39097222 | M32: 0.72638889 | N32: 0.77222222 | O32: 8.05 | P32: -1.05 | Q32: 106.4 | R32: 98.7 | S32: 205.1 | T32: 6.5 | U32: 0 | V32: 211.6 | X32: =+HOUR(L32)+MINUTE(L32)/60 -> 9.3833333 | Y32: =+HOUR(M32)+MINUTE(M32)/60 -> 17.433333 | Z32: =+HOUR(N32)+MINUTE(N32)/60 -> 18.533333
A33: =IF(F33="","",MONTH(F33)) -> 6 | B33: =COUNTIF(#REF!,$C$10&F33) -> #REF! | F33: 44735 | G33: jeu | H33: 211.6 | I33: 0 | J33: 08:07 | K33: 18:04 | L33: 0.38263889 | M33: 0.70833333 | N33: 0.75277778 | O33: 7.8166667 | P33: -0.81666667 | Q33: 97.1 | R33: 98.8 | S33: 195.9 | T33: 0 | U33: 0 | V33: 195.9 | X33: =+HOUR(L33)+MINUTE(L33)/60 -> 9.1833333 | Y33: =+HOUR(M33)+MINUTE(M33)/60 -> 17 | Z33: =+HOUR(N33)+MINUTE(N33)/60 -> 18.066667
A34: =IF(F34="","",MONTH(F34)) -> 6 | B34: =COUNTIF(#REF!,$C$10&F34) -> #REF! | F34: 44736 | G34: ven | H34: 195.9 | I34: 0 | J34: - | K34: - | L34: - | M34: - | N34: - | O34: - | P34: - | Q34: 0 | R34: 0 | S34: 0 | T34: 0 | U34: 0 | V34: 0 | X34: =+HOUR(L34)+MINUTE(L34)/60 -> #VALUE! | Y34: =+HOUR(M34)+MINUTE(M34)/60 -> #VALUE! | Z34: =+HOUR(N34)+MINUTE(N34)/60 -> #VALUE!
A35: =IF(F35="","",MONTH(F35)) -> 6 | B35: =COUNTIF(#REF!,$C$10&F35) -> #REF! | F35: 44737 | G35: sam | H35: 0 | I35: 0 | J35: - | K35: - | L35: - | M35: - | N35: - | O35: - | P35: - | Q35: 0 | R35: 0 | S35: 0 | T35: 0 | U35: 0 | V35: 0 | X35: =+HOUR(L35)+MINUTE(L35)/60 -> #VALUE! | Y35: =+HOUR(M35)+MINUTE(M35)/60 -> #VALUE! | Z35: =+HOUR(N35)+MINUTE(N35)/60 -> #VALUE!
A36: =IF(F36="","",MONTH(F36)) -> 6 | B36: =COUNTIF(#REF!,$C$10&F36) -> #REF! | F36: 44738 | G36: dim | H36: 0 | I36: 0 | J36: 08:03 | K36: 21:38 | L36: 0.40069444 | M36: 0.73125 | N36: 0.77777778 | O36: 7.9333333 | P36: -0.93333333 | Q36: 97.2 | R36: 98.7 | S36: 195.9 | T36: 0 | U36: 22.4 | V36: 218.3 | X36: =+HOUR(L36)+MINUTE(L36)/60 -> 9.6166667 | Y36: =+HOUR(M36)+MINUTE(M36)/60 -> 17.55 | Z36: =+HOUR(N36)+MINUTE(N36)/60 -> 18.666667
A37: =IF(F37="","",MONTH(F37)) -> 6 | B37: =COUNTIF(#REF!,$C$10&F37) -> #REF! | F37: 44739 | G37: lun | H37: 218.3 | I37: 0 | J37: 08:08 | K37: 09:16 | L37: 0.38611111 | M37: - | N37: - | O37: - | P37: - | Q37: 97.1 | R37: 0 | S37: 97.1 | T37: 0 | U37: 0 | V37: 0 | X37: =+HOUR(L37)+MINUTE(L37)/60 -> 9.2666667 | Y37: =+HOUR(M37)+MINUTE(M37)/60 -> #VALUE! | Z37: =+HOUR(N37)+MINUTE(N37)/60 -> #VALUE!
A38: =IF(F38="","",MONTH(F38)) -> 6 | B38: =COUNTIF(#REF!,$C$10&F38) -> #REF! | F38: 44740 | G38: mar | H38: 97.1 | I38: 0 | J38: - | K38: - | L38: 0.42777778 | M38: - | N38: - | O38: - | P38: - | Q38: 0 | R38: 0 | S38: 0 | T38: 0 | U38: 0 | V38: 0 | Z38: =+HOUR(N38)+MINUTE(N38)/60 -> #VALUE!
A39: =IF(F39="","",MONTH(F39)) -> 1 | B39: =COUNTIF(#REF!,$C$10&F39) -> #REF! | F39: 44562 | G39: sam | H39: 0 | I39: 0 | J39: 12:07 | K39: 12:42 | L39: 0.46944444 | M39: - | N39: - | O39: - | P39: - | Q39: 0 | R39: 0 | S39: 0 | T39: 0 | U39: 0 | V39: 0 | Z39: =+HOUR(N39)+MINUTE(N39)/60 -> #VALUE!
A40: =IF(F40="","",MONTH(F40)) -> 1 | B40: =COUNTIF(#REF!,$C$10&F40) -> #REF! | F40: 44563 | G40: dim | H40: 22.6 | I40: 0 | J40: 07:52 | K40: 19:49 | L40: 0.51111111 | M40: - | N40: - | O40: - | P40: - | Q40: 0 | R40: 0 | S40: 0 | T40: 0 | U40: 0 | V40: 0 | Z40: =+HOUR(N40)+MINUTE(N40)/60 -> #VALUE!
A41: =IF(F41="","",MONTH(F41)) -> 1 | B41: =COUNTIF(#REF!,$C$10&F41) -> #REF! | F41: 44564 | G41: lun | H41: 204.8 | I41: 0 | J41: 07:58 | K41: 18:39 | L41: 0.55277778 | M41: - | N41: - | O41: - | P41: - | Q41: 0 | R41: 0 | S41: 0 | T41: 0 | U41: 0 | V41: 0
...

Sheet TB
F2: Mois Dispo | G2: 8 | O2: 1 | P2: Janvier
O3: 2 | P3: Février
O4: 3 | P4: Mars
O5: 4 | P5: Avril
A6: Mois | B6: =+IF(B7="","",VLOOKUP(B7,$O:$P,2,0)) -> Janvier | C6: =+IF(C7="","",VLOOKUP(C7,$O:$P,2,0)) -> Février | D6: =+IF(D7="","",VLOOKUP(D7,$O:$P,2,0)) -> Mars | E6: =+IF(E7="","",VLOOKUP(E7,$O:$P,2,0)) -> Avril | F6: =+IF(F7="","",VLOOKUP(F7,$O:$P,2,0)) -> Mai | G6: =+IF(G7="","",VLOOKUP(G7,$O:$P,2,0)) -> Juin | H6: =+IF(H7="","",VLOOKUP(H7,$O:$P,2,0)) -> Juillet | I6: =+IF(I7="","",VLOOKUP(I7,$O:$P,2,0)) -> Août | ... M6: =+IF(M7="","",VLOOKUP(M7,$O:$P,2,0)) | O6: 5 | P6: Mai
B7: =+IF(G2="","",1) -> 1 | C7: =IFERROR(IF(B7+1>$G$2,"",B7+1),"") -> 2 | D7: =IFERROR(IF(C7+1>$G$2,"",C7+1),"") -> 3 | E7: =IFERROR(IF(D7+1>$G$2,"",D7+1),"") -> 4 | F7: =IFERROR(IF(E7+1>$G$2,"",E7+1),"") -> 5 | G7: =IFERROR(IF(F7+1>$G$2,"",F7+1),"") -> 6 | H7: =IFERROR(IF(G7+1>$G$2,"",G7+1),"") -> 7 | I7: =IFERROR(IF(H7+1>$G$2,"",H7+1),"") -> 8 | J7: =IFERROR(IF(I7+1>$G$2,"",I7+1),"") | ... M7: =IFERROR(IF(L7+1>$G$2,"",L7+1),"") | O7: 6 | P7: Juin
A8: Distance Aller & Retour Maison /Chantier | B8: =IF(B7="","",SUMIFS(Test!$S:$S,Test!$A:$A,TB!B$7)) -> 0 | C8: =IF(C7="","",SUMIFS(Test!$S:$S,Test!$A:$A,TB!C$7)) -> 0 | D8: =IF(D7="","",SUMIFS(Test!$S:$S,Test!$A:$A,TB!D$7)) -> 0 | E8: =IF(E7="","",SUMIFS(Test!$S:$S,Test!$A:$A,TB!E$7)) -> 0 | F8: =IF(F7="","",SUMIFS(Test!$S:$S,Test!$A:$A,TB!F$7)) -> 2191.9 | G8: =IF(G7="","",SUMIFS(Test!$S:$S,Test!$A:$A,TB!G$7)) -> 1995.9 | H8: =IF(H7="","",SUMIFS(Test!$S:$S,Test!$A:$A,TB!H$7)) -> 0 | I8: =IF(I7="","",SUMIFS(Test!$S:$S,Test!$A:$A,TB!I$7)) -> 0 | ... M8: =IF(M7="","",SUMIFS(Test!$S:$S,Test!$A:$A,TB!M$7)) | O8: 7 | P8: Juillet
A9: Kilométrage parcouru heure de travail | B9: =IF(B7="","",SUMIFS(Test!$T:$T,Test!$A:$A,TB!B$7)) -> 0 | C9: =IF(C7="","",SUMIFS(Test!$T:$T,Test!$A:$A,TB!C$7)) -> 0 | D9: =IF(D7="","",SUMIFS(Test!$T:$T,Test!$A:$A,TB!D$7)) -> 0 | E9: =IF(E7="","",SUMIFS(Test!$T:$T,Test!$A:$A,TB!E$7)) -> 0 | F9: =IF(F7="","",SUMIFS(Test!$T:$T,Test!$A:$A,TB!F$7)) -> 176.4 | G9: =IF(G7="","",SUMIFS(Test!$T:$T,Test!$A:$A,TB!G$7)) -> 169.7 | H9: =IF(H7="","",SUMIFS(Test!$T:$T,Test!$A:$A,TB!H$7)) -> 0 | I9: =IF(I7="","",SUMIFS(Test!$T:$T,Test!$A:$A,TB!I$7)) -> 0 | ... M9: =IF(M7="","",SUMIFS(Test!$T:$T,Test!$A:$A,TB!M$7)) | O9: 8 | P9: Août
A10: Kilométrage Perso | B10: =IF(B7="","",SUMIFS(Test!$U:$U,Test!$A:$A,TB!B$7)) -> 0 | C10: =IF(C7="","",SUMIFS(Test!$U:$U,Test!$A:$A,TB!C$7)) -> 0 | D10: =IF(D7="","",SUMIFS(Test!$U:$U,Test!$A:$A,TB!D$7)) -> 0 | E10: =IF(E7="","",SUMIFS(Test!$U:$U,Test!$A:$A,TB!E$7)) -> 0 | F10: =IF(F7="","",SUMIFS(Test!$U:$U,Test!$A:$A,TB!F$7)) -> 580.6 | G10: =IF(G7="","",SUMIFS(Test!$U:$U,Test!$A:$A,TB!G$7)) -> 580.6 | H10: =IF(H7="","",SUMIFS(Test!$U:$U,Test!$A:$A,TB!H$7)) -> 0 | I10: =IF(I7="","",SUMIFS(Test!$U:$U,Test!$A:$A,TB!I$7)) -> 0 | ... M10: =IF(M7="","",SUMIFS(Test!$U:$U,Test!$A:$A,TB!M$7)) | O10: 9 | P10: Septembre
A11: Total distance parcouru | B11: =IF(B7="","",SUMIFS(Test!$V:$V,Test!$A:$A,TB!B$7)) -> 0 | C11: =IF(C7="","",SUMIFS(Test!$V:$V,Test!$A:$A,TB!C$7)) -> 0 | D11: =IF(D7="","",SUMIFS(Test!$V:$V,Test!$A:$A,TB!D$7)) -> 0 | E11: =IF(E7="","",SUMIFS(Test!$V:$V,Test!$A:$A,TB!E$7)) -> 0 | F11: =IF(F7="","",SUMIFS(Test!$V:$V,Test!$A:$A,TB!F$7)) -> 2851.8 | G11: =IF(G7="","",SUMIFS(Test!$V:$V,Test!$A:$A,TB!G$7)) -> 2649.1 | H11: =IF(H7="","",SUMIFS(Test!$V:$V,Test!$A:$A,TB!H$7)) -> 0 | I11: =IF(I7="","",SUMIFS(Test!$V:$V,Test!$A:$A,TB!I$7)) -> 0 | ... M11: =IF(M7="","",SUMIFS(Test!$V:$V,Test!$A:$A,TB!M$7)) | O11: 10 | P11: Octobre
A12: Taux Distance aller/retour maison par rapport à la distance totale | B12: =IFERROR(B8/B11,"") | C12: =IFERROR(C8/C11,"") | D12: =IFERROR(D8/D11,"") | E12: =IFERROR(E8/E11,"") | F12: =IFERROR(F8/F11,"") -> 0.76860229 | G12: =IFERROR(G8/G11,"") -> 0.75342569 | H12: =IFERROR(H8/H11,"") | I12: =IFERROR(I8/I11,"") | ... M12: =IFERROR(M8/M11,"") | O12: 11 | P12: Novembre
A13: Taux Distance Parcourue Heure de travail par rapport à la distance totale | B13: =IFERROR(B9/B11,"") | C13: =IFERROR(C9/C11,"") | D13: =IFERROR(D9/D11,"") | E13: =IFERROR(E9/E11,"") | F13: =IFERROR(F9/F11,"") -> 0.06185567 | G13: =IFERROR(G9/G11,"") -> 0.064059492 | H13: =IFERROR(H9/H11,"") | I13: =IFERROR(I9/I11,"") | ... M13: =IFERROR(M9/M11,"") | O13: 12 | P13: Décembre
A14: Taux Distance Kilométrage personnel par rapport à la distance totale | B14: =IFERROR(B10/B11,"") | C14: =IFERROR(C10/C11,"") | D14: =IFERROR(D10/D11,"") | E14: =IFERROR(E10/E11,"") | F14: =IFERROR(F10/F11,"") -> 0.20359071 | G14: =IFERROR(G10/G11,"") -> 0.21916877 | H14: =IFERROR(H10/H11,"") | I14: =IFERROR(I10/I11,"") | ... N14: =IFERROR(N10/N11,"")
A15: Coût trajet parcouru (Distance aller retour maison) | B15: =IFERROR(B8*6*2/100,"") -> 0 | C15: =IFERROR(C8*6*2/100,"") -> 0 | D15: =IFERROR(D8*6*2/100,"") -> 0 | E15: =IFERROR(E8*6*2/100,"") -> 0 | F15: =IFERROR(F8*6*2/100,"") -> 263.028 | G15: =IFERROR(G8*6*2/100,"") -> 239.508 | H15: =IFERROR(H8*6*2/100,"") -> 0 | I15: =IFERROR(I8*6*2/100,"") -> 0 | ... M15: =IFERROR(M8*6*2/100,"")
A16: Coût trajet parcouru (Heure de travail) | B16: =IFERROR(B9*6*2/100,"") -> 0 | C16: =IFERROR(C9*6*2/100,"") -> 0 | D16: =IFERROR(D9*6*2/100,"") -> 0 | E16: =IFERROR(E9*6*2/100,"") -> 0 | F16: =IFERROR(F9*6*2/100,"") -> 21.168 | G16: =IFERROR(G9*6*2/100,"") -> 20.364 | H16: =IFERROR(H9*6*2/100,"") -> 0 | I16: =IFERROR(I9*6*2/100,"") -> 0 | ... M16: =IFERROR(M9*6*2/100,"")
A17: Coût trajet parcouru (Kilométrage Perso) | B17: =IFERROR(B10*6*2/100,"") -> 0 | C17: =IFERROR(C10*6*2/100,"") -> 0 | D17: =IFERROR(D10*6*2/100,"") -> 0 | E17: =IFERROR(E10*6*2/100,"") -> 0 | F17: =IFERROR(F10*6*2/100,"") -> 69.672 | G17: =IFERROR(G10*6*2/100,"") -> 69.672 | H17: =IFERROR(H10*6*2/100,"") -> 0 | I17: =IFERROR(I10*6*2/100,"") -> 0 | ... M17: =IFERROR(M10*6*2/100,"")
