Workbook
Name Activités: Options!$A$2:$A$11
Name Autre: Options!$D$2:$D$4
Name ListeActivites: OFFSET(Options!$A$2,0,0,Options!$B$1,1)
Name TA: Options!$A$2:$A$10

Sheet Fiche 
A2: INVENTAIRE / FICHE ACTIVITÉ
A4: Activité | D4: Date
A5: SPORTS IN USA | D5: =TODAY() -> 43797
A7: Autre
A8: COMMUNICATION
A10: Description | B10: Préparation Quantité Initiale | C10: Vérification Quantité Sortante | D10: Rangement Vérification
A11: =IFERROR(INDEX(Activités!$A:$BG,3+ROW('Fiche '!A11)-ROW('Fiche '!$A$11),1+COLUMN('Fiche '!A11)-COLUMN('Fiche '!$A$11)+3*(MATCH('Fiche '!$A$5,ListeActivites,0)-1)),"") -> Fléchettes | B11: =IFERROR(INDEX(Activités!$A:$BG,3+ROW('Fiche '!B11)-ROW('Fiche '!$A$11),1+COLUMN('Fiche '!B11)-COLUMN('Fiche '!$A$11)+3*(MATCH('Fiche '!$A$5,ListeActivites,0)-1)),"") -> 0 | C11: ❏ | D11: ❏
A12: =IFERROR(INDEX(Activités!$A:$BG,3+ROW('Fiche '!A12)-ROW('Fiche '!$A$11),1+COLUMN('Fiche '!A12)-COLUMN('Fiche '!$A$11)+3*(MATCH('Fiche '!$A$5,ListeActivites,0)-1)),"") -> Panneaux supports cibles fléchettes | B12: =IFERROR(INDEX(Activités!$A:$BG,3+ROW('Fiche '!B12)-ROW('Fiche '!$A$11),1+COLUMN('Fiche '!B12)-COLUMN('Fiche '!$A$11)+3*(MATCH('Fiche '!$A$5,ListeActivites,0)-1)),"") -> 2 | C12: ❏ | D12: ❏
A13: =IFERROR(INDEX(Activités!$A:$BG,3+ROW('Fiche '!A13)-ROW('Fiche '!$A$11),1+COLUMN('Fiche '!A13)-COLUMN('Fiche '!$A$11)+3*(MATCH('Fiche '!$A$5,ListeActivites,0)-1)),"") -> Cibles fléchettes | B13: =IFERROR(INDEX(Activités!$A:$BG,3+ROW('Fiche '!B13)-ROW('Fiche '!$A$11),1+COLUMN('Fiche '!B13)-COLUMN('Fiche '!$A$11)+3*(MATCH('Fiche '!$A$5,ListeActivites,0)-1)),"") -> 0 | C13: ❏ | D13: ❏
A14: =IFERROR(INDEX(Activités!$A:$BG,3+ROW('Fiche '!A14)-ROW('Fiche '!$A$11),1+COLUMN('Fiche '!A14)-COLUMN('Fiche '!$A$11)+3*(MATCH('Fiche '!$A$5,ListeActivites,0)-1)),"") -> Poids lestage | B14: =IFERROR(INDEX(Activités!$A:$BG,3+ROW('Fiche '!B14)-ROW('Fiche '!$A$11),1+COLUMN('Fiche '!B14)-COLUMN('Fiche '!$A$11)+3*(MATCH('Fiche '!$A$5,ListeActivites,0)-1)),"") -> 0 | C14: ❏ | D14: ❏
A15: =IFERROR(INDEX(Activités!$A:$BG,3+ROW('Fiche '!A15)-ROW('Fiche '!$A$11),1+COLUMN('Fiche '!A15)-COLUMN('Fiche '!$A$11)+3*(MATCH('Fiche '!$A$5,ListeActivites,0)-1)),"") -> Fléchettes | B15: =IFERROR(INDEX(Activités!$A:$BG,3+ROW('Fiche '!B15)-ROW('Fiche '!$A$11),1+COLUMN('Fiche '!B15)-COLUMN('Fiche '!$A$11)+3*(MATCH('Fiche '!$A$5,ListeActivites,0)-1)),"") -> 0 | C15: ❏ | D15: ❏
A16: =IFERROR(INDEX(Activités!$A:$BG,3+ROW('Fiche '!A16)-ROW('Fiche '!$A$11),1+COLUMN('Fiche '!A16)-COLUMN('Fiche '!$A$11)+3*(MATCH('Fiche '!$A$5,ListeActivites,0)-1)),"") -> Piles | B16: =IFERROR(INDEX(Activités!$A:$BG,3+ROW('Fiche '!B16)-ROW('Fiche '!$A$11),1+COLUMN('Fiche '!B16)-COLUMN('Fiche '!$A$11)+3*(MATCH('Fiche '!$A$5,ListeActivites,0)-1)),"") -> 0 | C16: ❏ | D16: ❏
A17: =IFERROR(INDEX(Activités!$A:$BG,3+ROW('Fiche '!A17)-ROW('Fiche '!$A$11),1+COLUMN('Fiche '!A17)-COLUMN('Fiche '!$A$11)+3*(MATCH('Fiche '!$A$5,ListeActivites,0)-1)),"") -> Jeux WII | B17: =IFERROR(INDEX(Activités!$A:$BG,3+ROW('Fiche '!B17)-ROW('Fiche '!$A$11),1+COLUMN('Fiche '!B17)-COLUMN('Fiche '!$A$11)+3*(MATCH('Fiche '!$A$5,ListeActivites,0)-1)),"") -> 0 | C17: ❏ | D17: ❏
A18: =IFERROR(INDEX(Activités!$A:$BG,3+ROW('Fiche '!A18)-ROW('Fiche '!$A$11),1+COLUMN('Fiche '!A18)-COLUMN('Fiche '!$A$11)+3*(MATCH('Fiche '!$A$5,ListeActivites,0)-1)),"") -> Télévision | B18: =IFERROR(INDEX(Activités!$A:$BG,3+ROW('Fiche '!B18)-ROW('Fiche '!$A$11),1+COLUMN('Fiche '!B18)-COLUMN('Fiche '!$A$11)+3*(MATCH('Fiche '!$A$5,ListeActivites,0)-1)),"") -> 1 | C18: ❏ | D18: ❏
A19: =IFERROR(INDEX(Activités!$A:$BG,3+ROW('Fiche '!A19)-ROW('Fiche '!$A$11),1+COLUMN('Fiche '!A19)-COLUMN('Fiche '!$A$11)+3*(MATCH('Fiche '!$A$5,ListeActivites,0)-1)),"") -> Rallonge | B19: =IFERROR(INDEX(Activités!$A:$BG,3+ROW('Fiche '!B19)-ROW('Fiche '!$A$11),1+COLUMN('Fiche '!B19)-COLUMN('Fiche '!$A$11)+3*(MATCH('Fiche '!$A$5,ListeActivites,0)-1)),"") -> 0 | C19: ❏ | D19: ❏
A20: =IFERROR(INDEX(Activités!$A:$BG,3+ROW('Fiche '!A20)-ROW('Fiche '!$A$11),1+COLUMN('Fiche '!A20)-COLUMN('Fiche '!$A$11)+3*(MATCH('Fiche '!$A$5,ListeActivites,0)-1)),"") -> Console WII | B20: =IFERROR(INDEX(Activités!$A:$BG,3+ROW('Fiche '!B20)-ROW('Fiche '!$A$11),1+COLUMN('Fiche '!B20)-COLUMN('Fiche '!$A$11)+3*(MATCH('Fiche '!$A$5,ListeActivites,0)-1)),"") -> 3 | C20: ❏ | D20: ❏
A21: =IFERROR(INDEX(Activités!$A:$BG,3+ROW('Fiche '!A21)-ROW('Fiche '!$A$11),1+COLUMN('Fiche '!A21)-COLUMN('Fiche '!$A$11)+3*(MATCH('Fiche '!$A$5,ListeActivites,0)-1)),"") -> Manettes de wii | B21: =IFERROR(INDEX(Activités!$A:$BG,3+ROW('Fiche '!B21)-ROW('Fiche '!$A$11),1+COLUMN('Fiche '!B21)-COLUMN('Fiche '!$A$11)+3*(MATCH('Fiche '!$A$5,ListeActivites,0)-1)),"") -> 6 | C21: ❏ | D21: ❏
A22: =IFERROR(INDEX(Activités!$A:$BG,3+ROW('Fiche '!A22)-ROW('Fiche '!$A$11),1+COLUMN('Fiche '!A22)-COLUMN('Fiche '!$A$11)+3*(MATCH('Fiche '!$A$5,ListeActivites,0)-1)),"") -> Support volants de wii | B22: =IFERROR(INDEX(Activités!$A:$BG,3+ROW('Fiche '!B22)-ROW('Fiche '!$A$11),1+COLUMN('Fiche '!B22)-COLUMN('Fiche '!$A$11)+3*(MATCH('Fiche '!$A$5,ListeActivites,0)-1)),"") -> 9 | C22: ❏ | D22: ❏
... A94: =IFERROR(INDEX(Activités!$A:$BG,3+ROW('Fiche '!A94)-ROW('Fiche '!$A$11),1+COLUMN('Fiche '!A94)-COLUMN('Fiche '!$A$11)+3*(MATCH('Fiche '!$A$5,ListeActivites,0)-1)),"") -> 0 | B94: =IFERROR(INDEX(Activités!$A:$BG,3+ROW('Fiche '!B94)-ROW('Fiche '!$A$11),1+COLUMN('Fiche '!B94)-COLUMN('Fiche '!$A$11)+3*(MATCH('Fiche '!$A$5,ListeActivites,0)-1)),"") -> 0 | C94: ❏ | D94: ❏

Sheet Activités
A1: SPORT IN USA | D1: GRAFFI'TEAM | G1: SURVIE | J1: OVAL'TEAM | M1: EN PLEIN DANS LE MILLE | P1: CONSTRUC'TEAM | S1: SOLIDARI'TEAM | V1: LE TOUR DES SENS | Y1: INSPECT'TEAM | AB1: SPORT
A2: Description | B2: Quantité | D2: Description | E2: Quantité | G2: Description | H2: Quantité | J2: Description | K2: Quantité | M2: Description | N2: Quantité | P2: Description | Q2: Quantité | S2: Description | T2: Quantité | V2: Description | W2: Quantité | Y2: Description | Z2: Quantité | AB2: Description | AC2: Quantité | AE2: Description | AF2: Quantité | AH2: Description | AI2: Quantité | AK2: Description | AL2: Quantité | AN2: Description | AO2: Quantité | AQ2: Description | AR2: Quantité | AT2: Description | AU2: Quantité | AW2: Description | AX2: Quantité | AZ2: Description | BA2: Quantité | BC2: Description | BD2: Quantité | BF2: Description | BG2: Quantité
A3: Fléchettes | D3: FRESQUE + LIVE PAINTING | G3: Trousse de secours | J3: Ballon de rugby | P3: LEGO | Y3: Casquettes police | AB3: Volants badminton
A4: Panneaux supports cibles fléchettes | B4: 2 | D4: Bache classique | G4: Extincteurs | P4: Boites de lego | AB4: Cones
A5: Cibles fléchettes | D5: Bache absorbante | G5: Tenues de camouflage | P5: Foulards | AB5: Ballons de rugby
A6: Poids lestage | D6: Scotch peinture | G6: Arcs | P6: Modes d'emploi triés | AB6: Coupelles
A7: Fléchettes | D7: Scotch orange | G7: Brancards | P7: Billets | AB7: Sacs de percussion
A8: Piles | D8: Poteaux | E8: 6 | G8: Allumes feu | P8: Plateaux | AB8: Pack d'eau
A9: Jeux WII | D9: Parpaing | E9: 6 | P9: Sacs plastiques de rangement | AB9: Pharmacies
A10: Télévision | B10: 1 | D10: Panneaux PVC 3x2 | E10: 2 | P10: Tirelires | AB10: Grands piquets en bois
A11: Rallonge | D11: Velcro | AB11: Petits piquets en bois
A12: Console WII | B12: 3 | D12: Bombe de peinture fresque | P12: QUIZZ | AB12: Paniers de basket + Tige métalique + roues
A13: Manettes de wii | B13: 6 | D13: Capse jaune (bombe peinture) | P13: Ordinateur Portable | AB13: Mini cages
A14: Support volants de wii | B14: 9 | D14: Table | E14: 1 | P14: Zapette | AB14: Cibles badminton
A15: Housse de protection de wii | B15: 3 | D15: Boîte de gants | E15: 1 | P15: Enceinte avec ses cables | AB15: Sac mini ballons rugby
A16: Cable HDMI | B16: 1 | D16: GoPro | E16: 1 | P16: Stylos + Blocs-notes | AB16: Piquets jaunes avec pointe
A17: Piles | D17: Vernis | AB17: Piquets jaune sans pointe
A18: Alimentation Wii | B18: 3 | D18: Rouleaux (vernis) | P18: TANGRAM | AB18: Arcs
A19: Drapeau quadrillage arrivée noir | B19: 1 | D19: Bombe de peinture livepainting | P19: Boites de pièces | AB19: Flèches
A20: Drapeaux sports mécaniques | B20: 3 | D20: Capse noir | P20: Boites modèles à reproduire | AB20: Arcs à main
A21: Joystick | B21: 1 | D21: Chevalet | E21: 1 | P21: Boite modèles réponses | AB21: Flèches spéciales
A22: Capteur Wii | B22: 3 | D22: Visserie | E22: Boîte | AB22: Sarbacanes + fléchettes
A23: Quizz | D23: Trousse à outils | E23: 1 | P23: FLÉCHETTES | AB23: Protections avant bras arc
A24: Enceinte | D24: Planche akylux | E24: 1 | P24: Poteaux en bois | AB24: Cibles fléchettes
A25: Rallonge | D25: Essuis-tout | E25: Rouleau | P25: Supports Cibles | AB25: Filet badminton
A26: Cable jack | P26: Viseries | AB26: Raquettes Badminton
A27: Ordinateur | B27: 1 | P27: Lestes | AB27: Crosses hockey sur gazon
A28: Zapette | B28: 1 | P28: Cibles électroniques | AB28: Parcours hockey sur gazon
A29: Divers | P29: Fléchettes | AB29: Balles de golf
A30: Drapeaux équipes sportives USA | B30: 11 | P30: Piles | AB30: Parcours de golf
A31: Drapeaux américains | B31: 4 | AB31: Clubs de golf
A32: Maillots équipes sportives USA | B32: 7 | P32: WII | AB32: Cibles électroniques fléchettes
A33: Jetons de poker | P33: Télé (Pieds/Télécommande/Vices/Piles) | AB33: Cibles non électroniques fléchettes
A34: Tour de cou / Badges | P34: Console de jeu | AB34: Cibles golf
A35: Jarres en verre / couvercle plastique | B35: 20 | P35: Chargeur secteur | AB35: Raquettes bleues ?
A36: Batte de baseball | B36: 1 | P36: Capteur de Wii | AB36: Supports cibles fléchettes
A37: balles de baseball | B37: 10 | P37: Cables d'alimentation / Connexion | AB37: Supports piquets jaunes
A38: Ballon de football américain | B38: 1 | P38: Manettes | AB38: Piquets arc de clercle jaunes
A39: Gant de baseball | B39: 1 | P39: Volants | AB39: Cibles arc
A40: Casque football américain | B40: 1 | P40: Piles | AB40: Cordes noires battle drop
...

Sheet Autres 
A1: Communication | D1: Décoration | G1: Logistique
A2: Flamme | D2: Nappe | G2: Visserie
A3: Leste
A4: Polo
A5: Sweat Gris
A6: Sono

Sheet Options
A1: Type d'activités | B1: =COUNTA(A2:A1048576) -> 10 | D1: Autre
A2: SPORTS IN USA | D2: COMMUNICATION
A3: GRAFFI'TEAM | D3: DÉCORATION
A4: SURVIE | D4: LOGISTIQUE
A5: OVAL TEAM
A6: EN PLEIN DANS LE MILLE
A7: CONSTRUC'TEAM
A8: SOLIDARI'TEAM
A9: LE TOUR DES SENS
A10: INSPECT'TEAM
A11: SPORT
