Workbook
Name Activités: Paramètres!$A$2:$A$25
Name ListeActivites: OFFSET(Paramètres!$A$2,0,0,Paramètres!$B$1,1)

Sheet Fiche - Activité
A2: FICHE ACTIVITÉ
A4: Activité | E4: Date
A5: ALL IN SURVIE | E5: =TODAY() -> 43917
A8: Description | B8: Préparation Quantité Définie | C8: Vérification Matériels | D8: Rangement Matériels | E8: Observation
A9: =IFERROR(INDEX(Activités!$A:$DZ,3+ROW('Fiche - Activité'!A9)-ROW('Fiche - Activité'!$A$9),1+COLUMN('Fiche - Activité'!A9)-COLUMN('Fiche - Activité'!$A$9)+3*(MATCH('Fiche - Activité'!$A$5,ListeActivites,0)-1)),"") -> FRESQUE + LIVE PAINTING | B9: =IFERROR(INDEX(Activités!$A:$DZ,3+ROW('Fiche - Activité'!B9)-ROW('Fiche - Activité'!$A$9),1+COLUMN('Fiche - Activité'!B9)-COLUMN('Fiche - Activité'!$A$9)+3*(MATCH('Fiche - Activité'!$A$5,ListeActivites,0)-1)),"") -> 0 | C9: ❏ | D9: ❏
A10: =IFERROR(INDEX(Activités!$A:$DZ,3+ROW('Fiche - Activité'!A10)-ROW('Fiche - Activité'!$A$9),1+COLUMN('Fiche - Activité'!A10)-COLUMN('Fiche - Activité'!$A$9)+3*(MATCH('Fiche - Activité'!$A$5,ListeActivites,0)-1)),"") -> Bache classique | B10: =IFERROR(INDEX(Activités!$A:$DZ,3+ROW('Fiche - Activité'!B10)-ROW('Fiche - Activité'!$A$9),1+COLUMN('Fiche - Activité'!B10)-COLUMN('Fiche - Activité'!$A$9)+3*(MATCH('Fiche - Activité'!$A$5,ListeActivites,0)-1)),"") -> 0 | C10: ❏ | D10: ❏
A11: =IFERROR(INDEX(Activités!$A:$DZ,3+ROW('Fiche - Activité'!A11)-ROW('Fiche - Activité'!$A$9),1+COLUMN('Fiche - Activité'!A11)-COLUMN('Fiche - Activité'!$A$9)+3*(MATCH('Fiche - Activité'!$A$5,ListeActivites,0)-1)),"") -> Bache absorbante | B11: =IFERROR(INDEX(Activités!$A:$DZ,3+ROW('Fiche - Activité'!B11)-ROW('Fiche - Activité'!$A$9),1+COLUMN('Fiche - Activité'!B11)-COLUMN('Fiche - Activité'!$A$9)+3*(MATCH('Fiche - Activité'!$A$5,ListeActivites,0)-1)),"") -> 0 | C11: ❏ | D11: ❏
A12: =IFERROR(INDEX(Activités!$A:$DZ,3+ROW('Fiche - Activité'!A12)-ROW('Fiche - Activité'!$A$9),1+COLUMN('Fiche - Activité'!A12)-COLUMN('Fiche - Activité'!$A$9)+3*(MATCH('Fiche - Activité'!$A$5,ListeActivites,0)-1)),"") -> Scotch peinture | B12: =IFERROR(INDEX(Activités!$A:$DZ,3+ROW('Fiche - Activité'!B12)-ROW('Fiche - Activité'!$A$9),1+COLUMN('Fiche - Activité'!B12)-COLUMN('Fiche - Activité'!$A$9)+3*(MATCH('Fiche - Activité'!$A$5,ListeActivites,0)-1)),"") -> 0 | C12: ❏ | D12: ❏
A13: =IFERROR(INDEX(Activités!$A:$DZ,3+ROW('Fiche - Activité'!A13)-ROW('Fiche - Activité'!$A$9),1+COLUMN('Fiche - Activité'!A13)-COLUMN('Fiche - Activité'!$A$9)+3*(MATCH('Fiche - Activité'!$A$5,ListeActivites,0)-1)),"") -> Scotch orange | B13: =IFERROR(INDEX(Activités!$A:$DZ,3+ROW('Fiche - Activité'!B13)-ROW('Fiche - Activité'!$A$9),1+COLUMN('Fiche - Activité'!B13)-COLUMN('Fiche - Activité'!$A$9)+3*(MATCH('Fiche - Activité'!$A$5,ListeActivites,0)-1)),"") -> 0 | C13: ❏ | D13: ❏
A14: =IFERROR(INDEX(Activités!$A:$DZ,3+ROW('Fiche - Activité'!A14)-ROW('Fiche - Activité'!$A$9),1+COLUMN('Fiche - Activité'!A14)-COLUMN('Fiche - Activité'!$A$9)+3*(MATCH('Fiche - Activité'!$A$5,ListeActivites,0)-1)),"") -> Poteaux | B14: =IFERROR(INDEX(Activités!$A:$DZ,3+ROW('Fiche - Activité'!B14)-ROW('Fiche - Activité'!$A$9),1+COLUMN('Fiche - Activité'!B14)-COLUMN('Fiche - Activité'!$A$9)+3*(MATCH('Fiche - Activité'!$A$5,ListeActivites,0)-1)),"") -> 0 | C14: ❏ | D14: ❏
A15: =IFERROR(INDEX(Activités!$A:$DZ,3+ROW('Fiche - Activité'!A15)-ROW('Fiche - Activité'!$A$9),1+COLUMN('Fiche - Activité'!A15)-COLUMN('Fiche - Activité'!$A$9)+3*(MATCH('Fiche - Activité'!$A$5,ListeActivites,0)-1)),"") -> Parpaing | B15: =IFERROR(INDEX(Activités!$A:$DZ,3+ROW('Fiche - Activité'!B15)-ROW('Fiche - Activité'!$A$9),1+COLUMN('Fiche - Activité'!B15)-COLUMN('Fiche - Activité'!$A$9)+3*(MATCH('Fiche - Activité'!$A$5,ListeActivites,0)-1)),"") -> 0 | C15: ❏ | D15: ❏
A16: =IFERROR(INDEX(Activités!$A:$DZ,3+ROW('Fiche - Activité'!A16)-ROW('Fiche - Activité'!$A$9),1+COLUMN('Fiche - Activité'!A16)-COLUMN('Fiche - Activité'!$A$9)+3*(MATCH('Fiche - Activité'!$A$5,ListeActivites,0)-1)),"") -> Panneaux PVC 3x2 | B16: =IFERROR(INDEX(Activités!$A:$DZ,3+ROW('Fiche - Activité'!B16)-ROW('Fiche - Activité'!$A$9),1+COLUMN('Fiche - Activité'!B16)-COLUMN('Fiche - Activité'!$A$9)+3*(MATCH('Fiche - Activité'!$A$5,ListeActivites,0)-1)),"") -> 0 | C16: ❏ | D16: ❏
A17: =IFERROR(INDEX(Activités!$A:$DZ,3+ROW('Fiche - Activité'!A17)-ROW('Fiche - Activité'!$A$9),1+COLUMN('Fiche - Activité'!A17)-COLUMN('Fiche - Activité'!$A$9)+3*(MATCH('Fiche - Activité'!$A$5,ListeActivites,0)-1)),"") -> Velcro | B17: =IFERROR(INDEX(Activités!$A:$DZ,3+ROW('Fiche - Activité'!B17)-ROW('Fiche - Activité'!$A$9),1+COLUMN('Fiche - Activité'!B17)-COLUMN('Fiche - Activité'!$A$9)+3*(MATCH('Fiche - Activité'!$A$5,ListeActivites,0)-1)),"") -> 0 | C17: ❏ | D17: ❏
A18: =IFERROR(INDEX(Activités!$A:$DZ,3+ROW('Fiche - Activité'!A18)-ROW('Fiche - Activité'!$A$9),1+COLUMN('Fiche - Activité'!A18)-COLUMN('Fiche - Activité'!$A$9)+3*(MATCH('Fiche - Activité'!$A$5,ListeActivites,0)-1)),"") -> Bombe de peinture fresque | B18: =IFERROR(INDEX(Activités!$A:$DZ,3+ROW('Fiche - Activité'!B18)-ROW('Fiche - Activité'!$A$9),1+COLUMN('Fiche - Activité'!B18)-COLUMN('Fiche - Activité'!$A$9)+3*(MATCH('Fiche - Activité'!$A$5,ListeActivites,0)-1)),"") -> 0 | C18: ❏ | D18: ❏
A19: =IFERROR(INDEX(Activités!$A:$DZ,3+ROW('Fiche - Activité'!A19)-ROW('Fiche - Activité'!$A$9),1+COLUMN('Fiche - Activité'!A19)-COLUMN('Fiche - Activité'!$A$9)+3*(MATCH('Fiche - Activité'!$A$5,ListeActivites,0)-1)),"") -> Capse jaune (bombe peinture) | B19: =IFERROR(INDEX(Activités!$A:$DZ,3+ROW('Fiche - Activité'!B19)-ROW('Fiche - Activité'!$A$9),1+COLUMN('Fiche - Activité'!B19)-COLUMN('Fiche - Activité'!$A$9)+3*(MATCH('Fiche - Activité'!$A$5,ListeActivites,0)-1)),"") -> 0 | C19: ❏ | D19: ❏
A20: =IFERROR(INDEX(Activités!$A:$DZ,3+ROW('Fiche - Activité'!A20)-ROW('Fiche - Activité'!$A$9),1+COLUMN('Fiche - Activité'!A20)-COLUMN('Fiche - Activité'!$A$9)+3*(MATCH('Fiche - Activité'!$A$5,ListeActivites,0)-1)),"") -> Table | B20: =IFERROR(INDEX(Activités!$A:$DZ,3+ROW('Fiche - Activité'!B20)-ROW('Fiche - Activité'!$A$9),1+COLUMN('Fiche - Activité'!B20)-COLUMN('Fiche - Activité'!$A$9)+3*(MATCH('Fiche - Activité'!$A$5,ListeActivites,0)-1)),"") -> 0 | C20: ❏ | D20: ❏
... A189: =IFERROR(INDEX(Activités!$A:$DZ,3+ROW('Fiche - Activité'!A189)-ROW('Fiche - Activité'!$A$9),1+COLUMN('Fiche - Activité'!A189)-COLUMN('Fiche - Activité'!$A$9)+3*(MATCH('Fiche - Activité'!$A$5,ListeActivites,0)-1)),"") -> 0 | B189: =IFERROR(INDEX(Activités!$A:$DZ,3+ROW('Fiche - Activité'!B189)-ROW('Fiche - Activité'!$A$9),1+COLUMN('Fiche - Activité'!B189)-COLUMN('Fiche - Activité'!$A$9)+3*(MATCH('Fiche - Activité'!$A$5,ListeActivites,0)-1)),"") -> 0 | C189: ❏ | D189: ❏

Sheet Activités
A1: SPORT IN USA | D1: GRAFFI'TEAM | G1: ALL IN SURVIE | J1: OVAL'TEAM | M1: DANS LE MILLE | P1: CONSTRUC'TEAM | S1: SOLIDARI'TEAM | V1: SENSI'TEAM | Y1: INSPEC'TEAM | AB1: SPORT | AE1: ALL IN GAME | AH1: WALL PAINTING | AK1: FRESQUE PARITICIPATIVE | AN1: LIVE PAINTING | AQ1: STREET'ARTWORK | AT1: COMIC'STRIPS | AW1: TRAP'CAMP | AZ1: ENQUÊTE JAUNE & BLEUE | BC1: ENIGMA'TEAM | BF1: RACING'TEAM | BI1: DEFI DU STADE | BL1: KOHL'N'TEAM | BO1: CIRCUS GAME | BR1: QUIZZ'Y | BU1: BLIND'ZIK
A2: Description | B2: Quantité | D2: Description | E2: Quantité | G2: Description | H2: Quantité | J2: Description | K2: Quantité | M2: Description | N2: Quantité | P2: Description | Q2: Quantité | S2: Description | T2: Quantité | V2: Description | W2: Quantité | Y2: Description | Z2: Quantité | AB2: Description | AC2: Quantité | AE2: Description | AF2: Quantité | AH2: Description | AI2: Quantité | AK2: Description | AL2: Quantité | AN2: Description | AO2: Quantité | AQ2: Description | AR2: Quantité | AT2: Description | AU2: Quantité | AW2: Description | AX2: Quantité | AZ2: Description | BA2: Quantité | BC2: Description | BD2: Quantité | BF2: Description | BG2: Quantité | BI2: Description | BJ2: Quantité | BL2: Description | BM2: Quantité | BO2: Description | BP2: Quantité | BR2: Description | BS2: Quantité | BU2: Description | BV2: Quantité
A3: Fléchettes | D3: FRESQUE + LIVE PAINTING | G3: Tente | J3: Ballon de rugby T4 + T5 (avec sac de rangement) | M3: Cibles | P3: LEGO | S3: JEUX EN BOIS | V3: Odeur A | Y3: Mallette | AB3: Volants badminton | AE3: Ballon rugby | AH3: toiles | AK3: Bombe de peinture | AN3: Bombe de peinture | AQ3: Bombe de peinture | AT3: Crayons | AW3: Fusils | AZ3: Escape Room ASM | BC3: Escape Room | BF3: Voitures | BI3: multiples jeux | BL3: Totem | BO3: Cirque* | BR3: Quizz ABC | BU3: Quizz musique
A4: Panneaux supports cibles fléchettes | B4: 2 | D4: Bache classique | G4: Hache | J4: Cône rigide | M4: Fléchettes | P4: Boites de lego | S4: Maison de poupée | V4: Odeur B | Y4: Loupe | AB4: Cones | AE4: fléchettes | AH4: peintures | AN4: Baches | AQ4: Baches | AT4: Gommes | AW4: Raquettes | BC4: Indices | BL4: Foulards | BR4: télé | BU4: Buzzer
A5: Cibles fléchettes | D5: Bache absorbante | G5: Briquet | J5: Cône souple | M5: Fusils | P5: Foulards | S5: château fort | V5: Odeur C | Y5: Test | AB5: Ballons de rugby | AE5: ballon foot | AH5: Bompe de peinture | AQ5: Toiles | AT5: Papier A4 | AW5: Cordes | BR5: zapette
A6: Poids lestage | D6: Scotch peinture | G6: Branche | J6: Cône Coupelle | P6: Modes d'emploi triés | S6: Ecurie | V6: Odeur D | AB6: Coupelles
A7: Fléchettes | D7: Scotch orange | G7: Corde | J7: Pompe gonflage | P7: Billets | AB7: Sacs de percussion
A8: Piles | D8: Poteaux | J8: Sifflet | P8: Plateaux | S8: DECORATION | AB8: Pack d'eau
A9: Jeux WII | D9: Parpaing | J9: Body Armor | P9: Sacs plastiques de rangement | S9: Lego | AB9: Pharmacies
A10: Télévision | B10: 1 | D10: Panneaux PVC 3x2 | J10: Sac de percussion | P10: Tirelires | S10: Meubles en bois | AB10: Grands piquets en bois
A11: Rallonge | D11: Velcro | J11: Sac de placage | AB11: Petits piquets en bois
A12: Console WII | B12: 3 | D12: Bombe de peinture fresque | J12: Echelle de rythme | P12: QUIZZ | S12: MATERIELS COLLAGE | AB12: Paniers de basket + Tige métalique + roues
A13: Manettes de wii | B13: 6 | D13: Capse jaune (bombe peinture) | J13: Cerceaux | P13: Ordinateur Portable | S13: Gant en tissu | AB13: Mini cages
A14: Support volants de wii | B14: 9 | D14: Table | J14: Pharmacie | P14: Zapette | S14: Colle | AB14: Cibles badminton
A15: Housse de protection de wii | B15: 3 | D15: Boîte de gants | J15: Tee | P15: Enceinte avec ses cables | S15: Colle en spray | AB15: Sac mini ballons rugby
A16: Cable HDMI | B16: 1 | D16: GoPro | J16: Poteaux de rugby gonflable | P16: Stylos + Blocs-notes | S16: Pinceaux | AB16: Piquets jaunes avec pointe
A17: Piles | D17: Vernis | J17: Chasuble | S17: Pistolet à colle | AB17: Piquets jaune sans pointe
A18: Alimentation Wii | B18: 3 | D18: Rouleaux (vernis) | J18: Galon lesté | P18: TANGRAM | S18: Planche à découper | AB18: Arcs
A19: Drapeau quadrillage arrivée noir | B19: 1 | D19: Bombe de peinture livepainting | J19: Galon pointé | P19: Boites de pièces | S19: Cutters | AB19: Flèches
A20: Drapeaux sports mécaniques | B20: 3 | D20: Capse noir | J20: Leste à galon | P20: Boites modèles à reproduire | S20: Pompes de peinture | AB20: Arcs à main
A21: Joystick | B21: 1 | D21: Chevalet | J21: Attache galon | P21: Boite modèles réponses | S21: Ciseaux | AB21: Flèches spéciales
A22: Capteur Wii | B22: 3 | D22: Visserie | J22: Pack d'eau | S22: Crayons gris | AB22: Sarbacanes + fléchettes
A23: Quizz | D23: Trousse à outils | P23: FLÉCHETTES | S23: Taille crayon | AB23: Protections avant bras arc
A24: Enceinte | D24: Planche akylux | P24: Poteaux en bois | S24: Mètres | AB24: Cibles fléchettes
A25: Rallonge | D25: Essuis-tout | P25: Supports Cibles | S25: Papiers de ponçage | AB25: Filet badminton
A26: Cable jack | P26: Viseries | S26: Eponges | AB26: Raquettes Badminton
A27: Ordinateur | B27: 1 | P27: Lestes | S27: Feuilles blanches | AB27: Crosses hockey sur gazon
A28: Zapette | B28: 1 | P28: Cibles électroniques | S28: Gommes | AB28: Parcours hockey sur gazon
A29: Divers | P29: Fléchettes | S29: Règles | AB29: Balles de golf
A30: Drapeaux équipes sportives USA | B30: 11 | P30: Piles | S30: Scotch peinture | AB30: Parcours de golf
A31: Drapeaux américains | B31: 4 | AB31: Clubs de golf
A32: Maillots équipes sportives USA | B32: 7 | P32: WII | S32: PROTECTION | AB32: Cibles électroniques fléchettes
A33: Jetons de poker | P33: Télé (Pieds/Télécommande/Vices/Piles) | S33: Bache protection | AB33: Cibles non électroniques fléchettes
A34: Tour de cou / Badges | P34: Console de jeu | S34: Blouse protection | AB34: Cibles golf
A35: Jarres en verre / couvercle plastique | B35: 20 | P35: Chargeur secteur | S35: Papier absorbant | AB35: Raquettes bleues ?
A36: Batte de baseball | B36: 1 | P36: Capteur de Wii | S36: Bache absorbante | AB36: Supports cibles fléchettes
A37: balles de baseball | B37: 10 | P37: Cables d'alimentation / Connexion | S37: Gants en plastique | AB37: Supports piquets jaunes
A38: Ballon de football américain | B38: 1 | P38: Manettes | S38: Sac poubelle | AB38: Piquets arc de clercle jaunes
A39: Gant de baseball | B39: 1 | P39: Volants | S39: White Spirit | AB39: Cibles arc
A40: Casque football américain | B40: 1 | P40: Piles | S40: Calendrier de protection | AB40: Cordes noires battle drop
...

Sheet Paramètres
A1: Type d'activités | B1: =COUNTA(A2:A50) -> 24
A2: ALL IN GAME
A3: ALL IN SURVIE
A4: BLIND ZIK
A5: CIRCUS GAME
A6: COMIC'STIPS
A7: CONSTRUC'TEAM
A8: DANS LE MILLE
A9: DEFI DU STADE
A10: ENIGMA'TEAM
A11: ENQUÊTE JAUNE & BLEUE
A12: FRESQUE PAINTING
A13: GRAFFI'TEAM
... A25: WALL PAINTING
