Workbook

Sheet Effectif 03-22
A1: Nom | B1: Prénom | C1: Ligne Enfant 1 | D1: Nom_Enfant_1 | E1: Prénom_Enfant_1 | F1: Date_Naissance_1 | G1: Ligne Enfant 2 | H1: Nom_Enfant_2 | I1: Prénom_Enfant_2 | J1: Date_Naissance_2
A2: Martin | B2: Jean Luc | C2: {=MATCH($A2&$B2,Enfants!A:A&Enfants!B:B,0)} -> 2 | D2: {=IFERROR(INDEX(Enfants!$A:$G,C2,COLUMN(Enfants!$E$1)),"Aucune")} -> Martin | E2: {=IFERROR(INDEX(Enfants!$A:$G,C2,COLUMN(Enfants!$F$1)),"Aucune")} -> Lucille | F2: {=IFERROR(INDEX(Enfants!$A:$G,C2,COLUMN(Enfants!$G$1)),"Aucune")} -> 36668 | G2: {=C2+MATCH(A2&B2,OFFSET(Enfants!$A$1,'Effectif 03-22'!C2,0,COUNTIF(Enfants!A:A,"<>")) & OFFSET(Enfants!$A$1,'Effectif 03-22'!C2,1,COUNTIF(Enfants!A:A,"<>")),0)} -> 3 | H2: {=IFERROR(INDEX(Enfants!$A:$G,G2,COLUMN(Enfants!$E$1)),"Aucune")} -> Martin | I2: {=IFERROR(INDEX(Enfants!$A:$G,G2,COLUMN(Enfants!$F$1)),"Aucune")} -> Lucas | J2: {=IFERROR(INDEX(Enfants!$A:$G,G2,COLUMN(Enfants!$G$1)),"Aucune")} -> 35727
A3: Dupont | B3: Thierry | C3: {=MATCH($A3&$B3,Enfants!A:A&Enfants!B:B,0)} -> 4 | D3: {=IFERROR(INDEX(Enfants!$A:$G,C3,COLUMN(Enfants!$E$1)),"Aucune")} -> Dupont | E3: {=IFERROR(INDEX(Enfants!$A:$G,C3,COLUMN(Enfants!$F$1)),"Aucune")} -> ANTHONY | F3: {=IFERROR(INDEX(Enfants!$A:$G,C3,COLUMN(Enfants!$G$1)),"Aucune")} -> 33919 | G3: {=C3+MATCH(A3&B3,OFFSET(Enfants!$A$1,'Effectif 03-22'!C3,0,COUNTIF(Enfants!A:A,"<>")) & OFFSET(Enfants!$A$1,'Effectif 03-22'!C3,1,COUNTIF(Enfants!A:A,"<>")),0)} -> 5 | H3: {=IFERROR(INDEX(Enfants!$A:$G,G3,COLUMN(Enfants!$E$1)),"Aucune")} -> Dupont | I3: {=IFERROR(INDEX(Enfants!$A:$G,G3,COLUMN(Enfants!$F$1)),"Aucune")} -> CYRIELLE | J3: {=IFERROR(INDEX(Enfants!$A:$G,G3,COLUMN(Enfants!$G$1)),"Aucune")} -> 35262
A4: Henry | B4: Veronique | C4: {=MATCH($A4&$B4,Enfants!A:A&Enfants!B:B,0)} -> 6 | D4: {=IFERROR(INDEX(Enfants!$A:$G,C4,COLUMN(Enfants!$E$1)),"Aucune")} -> Henry | E4: {=IFERROR(INDEX(Enfants!$A:$G,C4,COLUMN(Enfants!$F$1)),"Aucune")} -> GUILLAUME | F4: {=IFERROR(INDEX(Enfants!$A:$G,C4,COLUMN(Enfants!$G$1)),"Aucune")} -> 32288 | G4: {=C4+MATCH(A4&B4,OFFSET(Enfants!$A$1,'Effectif 03-22'!C4,0,COUNTIF(Enfants!A:A,"<>")) & OFFSET(Enfants!$A$1,'Effectif 03-22'!C4,1,COUNTIF(Enfants!A:A,"<>")),0)} -> 7 | H4: {=IFERROR(INDEX(Enfants!$A:$G,G4,COLUMN(Enfants!$E$1)),"Aucune")} -> Henry | I4: {=IFERROR(INDEX(Enfants!$A:$G,G4,COLUMN(Enfants!$F$1)),"Aucune")} -> LUDIVINE | J4: {=IFERROR(INDEX(Enfants!$A:$G,G4,COLUMN(Enfants!$G$1)),"Aucune")} -> 33483

Sheet Enfants
A1: Nom | B1: Prénom | C1: Centre de coûts | D1: Type de contrat | E1: Nom | F1: Prénom | G1: Né(e) le
A2: Martin | B2: Jean Luc | E2: Martin | F2: Lucille | G2: 36668
A3: Martin | B3: Jean Luc | E3: Martin | F3: Lucas | G3: 35727
A4: Dupont | B4: Thierry | E4: Dupont | F4: ANTHONY | G4: 33919
A5: Dupont | B5: Thierry | E5: Dupont | F5: CYRIELLE | G5: 35262
A6: Henry | B6: Veronique | E6: Henry | F6: GUILLAUME | G6: 32288
A7: Henry | B7: Veronique | E7: Henry | F7: LUDIVINE | G7: 33483
A8: Henry | B8: Veronique | E8: Henry | F8: Céline | G8: 31292
A9: Martin | B9: Josiane | E9: Martin | F9: Corinne | G9: 44542
