Workbook

Sheet JEUDI S-1
A1: 45582
A2: TYPE | B2: NOM | E2: TOTAL | F2: 0.20833333 | G2: 0.25 | H2: 0.29166667 | I2: 0.33333333 | J2: 0.375 | K2: 0.41666667 | L2: 0.45833333 | M2: 0.5 | N2: 0.54166667 | O2: 0.58333333 | P2: 0.625 | Q2: 0.66666667 | R2: 0.70833333 | S2: 0.75 | T2: 0.79166667 | U2: 0.83333333 | V2: 0.875 | W2: 0.91666667 | X2: 0.95833333
A4: NOIR | B4: PIERRE MARTIN | E4: =COUNTIF(F4:X4,"X") -> 3 | F4: X | O4: X | X4: X
A5: BLANC | B5: JACQUES MARTIN | E5: =COUNTIF(F5:X5,"X") -> 2 | G5: X | P5: X
A6: ROUGE | B6: ROBERT MARTIN | E6: =COUNTIF(F6:X6,"X") -> 2 | H6: X | Q6: X
A7: NOIR | B7: SANDRA MARTIN | E7: =COUNTIF(F7:X7,"X") -> 2 | I7: X | R7: X
A8: BLANC | B8: BENJAMIN MARTIN | E8: =COUNTIF(F8:X8,"X") -> 2 | J8: X | S8: X
A9: ROUGE | B9: JOSETTE MARTIN | E9: =COUNTIF(F9:X9,"X") -> 2 | K9: X | T9: X
A10: NOIR | B10: LAURENT MARTIN | E10: =COUNTIF(F10:X10,"X") -> 2 | L10: X | U10: X
A11: BLANC | B11: LOIC MARTIN | E11: =COUNTIF(F11:X11,"X") -> 2 | M11: X | V11: X
A12: ROUGE | B12: PIERRE MARTIN | E12: =COUNTIF(F12:X12,"X") -> 2 | N12: X | W12: X
E13: =COUNTIF(F13:X13,"X") -> 0
E14: =COUNTIF(F14:X14,"X") -> 0
E15: =COUNTIF(F15:X15,"X") -> 0
E16: =COUNTIF(F16:X16,"X") -> 0
E17: =COUNTIF(F17:X17,"X") -> 0
E18: =COUNTIF(F18:X18,"X") -> 0
E19: =COUNTIF(F19:X19,"X") -> 0
E20: =COUNTIF(F20:X20,"X") -> 0
E21: =COUNTIF(F21:X21,"X") -> 0
E22: =COUNTIF(F22:X22,"X") -> 0
E23: =SUM(E4:E22) -> 19

Sheet VENDREDI
A1: 45583
A2: TYPE | B2: NOM | E2: TOTAL | F2: 0.20833333 | G2: 0.25 | H2: 0.29166667 | I2: 0.33333333 | J2: 0.375 | K2: 0.41666667 | L2: 0.45833333 | M2: 0.5 | N2: 0.54166667 | O2: 0.58333333 | P2: 0.625 | Q2: 0.66666667 | R2: 0.70833333 | S2: 0.75 | T2: 0.79166667 | U2: 0.83333333 | V2: 0.875 | W2: 0.91666667 | X2: 0.95833333
A4: NOIR | B4: PIERRE MARTIN | E4: =COUNTIF(F4:X4,"X") -> 0 | F4: =IF(AND(F$2='JEUDI S-1'!F$2,$B4='JEUDI S-1'!$B4,'JEUDI S-1'!F4="X"),"Y","N") -> Y | G4: =IF(AND(G$2='JEUDI S-1'!G$2,$B4='JEUDI S-1'!$B4,'JEUDI S-1'!G4="X"),"Y","N") -> N | H4: =IF(AND(H$2='JEUDI S-1'!H$2,$B4='JEUDI S-1'!$B4,'JEUDI S-1'!H4="X"),"Y","N") -> N | I4: =IF(AND(I$2='JEUDI S-1'!I$2,$B4='JEUDI S-1'!$B4,'JEUDI S-1'!I4="X"),"Y","N") -> N | J4: =IF(AND(J$2='JEUDI S-1'!J$2,$B4='JEUDI S-1'!$B4,'JEUDI S-1'!J4="X"),"Y","N") -> N | K4: =IF(AND(K$2='JEUDI S-1'!K$2,$B4='JEUDI S-1'!$B4,'JEUDI S-1'!K4="X"),"Y","N") -> N | L4: =IF(AND(L$2='JEUDI S-1'!L$2,$B4='JEUDI S-1'!$B4,'JEUDI S-1'!L4="X"),"Y","N") -> N | M4: =IF(AND(M$2='JEUDI S-1'!M$2,$B4='JEUDI S-1'!$B4,'JEUDI S-1'!M4="X"),"Y","N") -> N | ... X4: =IF(AND(X$2='JEUDI S-1'!X$2,$B4='JEUDI S-1'!$B4,'JEUDI S-1'!X4="X"),"Y","N") -> Y
A5: BLANC | B5: JEAN ROBERT | E5: =COUNTIF(F5:X5,"X") -> 0 | F5: =IF(AND(F$2='JEUDI S-1'!F$2,$B5='JEUDI S-1'!$B5,'JEUDI S-1'!F5="X"),"Y","N") -> N | G5: =IF(AND(G$2='JEUDI S-1'!G$2,$B5='JEUDI S-1'!$B5,'JEUDI S-1'!G5="X"),"Y","N") -> N | H5: =IF(AND(H$2='JEUDI S-1'!H$2,$B5='JEUDI S-1'!$B5,'JEUDI S-1'!H5="X"),"Y","N") -> N | I5: =IF(AND(I$2='JEUDI S-1'!I$2,$B5='JEUDI S-1'!$B5,'JEUDI S-1'!I5="X"),"Y","N") -> N | J5: =IF(AND(J$2='JEUDI S-1'!J$2,$B5='JEUDI S-1'!$B5,'JEUDI S-1'!J5="X"),"Y","N") -> N | K5: =IF(AND(K$2='JEUDI S-1'!K$2,$B5='JEUDI S-1'!$B5,'JEUDI S-1'!K5="X"),"Y","N") -> N | L5: =IF(AND(L$2='JEUDI S-1'!L$2,$B5='JEUDI S-1'!$B5,'JEUDI S-1'!L5="X"),"Y","N") -> N | M5: =IF(AND(M$2='JEUDI S-1'!M$2,$B5='JEUDI S-1'!$B5,'JEUDI S-1'!M5="X"),"Y","N") -> N | ... X5: =IF(AND(X$2='JEUDI S-1'!X$2,$B5='JEUDI S-1'!$B5,'JEUDI S-1'!X5="X"),"Y","N") -> N
A6: ROUGE | B6: ROBERT MARTIN | E6: =COUNTIF(F6:X6,"X") -> 0 | F6: =IF(AND(F$2='JEUDI S-1'!F$2,$B6='JEUDI S-1'!$B6,'JEUDI S-1'!F6="X"),"Y","N") -> N | G6: =IF(AND(G$2='JEUDI S-1'!G$2,$B6='JEUDI S-1'!$B6,'JEUDI S-1'!G6="X"),"Y","N") -> N | H6: =IF(AND(H$2='JEUDI S-1'!H$2,$B6='JEUDI S-1'!$B6,'JEUDI S-1'!H6="X"),"Y","N") -> Y | I6: =IF(AND(I$2='JEUDI S-1'!I$2,$B6='JEUDI S-1'!$B6,'JEUDI S-1'!I6="X"),"Y","N") -> N | J6: =IF(AND(J$2='JEUDI S-1'!J$2,$B6='JEUDI S-1'!$B6,'JEUDI S-1'!J6="X"),"Y","N") -> N | K6: =IF(AND(K$2='JEUDI S-1'!K$2,$B6='JEUDI S-1'!$B6,'JEUDI S-1'!K6="X"),"Y","N") -> N | L6: =IF(AND(L$2='JEUDI S-1'!L$2,$B6='JEUDI S-1'!$B6,'JEUDI S-1'!L6="X"),"Y","N") -> N | M6: =IF(AND(M$2='JEUDI S-1'!M$2,$B6='JEUDI S-1'!$B6,'JEUDI S-1'!M6="X"),"Y","N") -> N | ... X6: =IF(AND(X$2='JEUDI S-1'!X$2,$B6='JEUDI S-1'!$B6,'JEUDI S-1'!X6="X"),"Y","N") -> N
A7: NOIR | B7: SANDRA ROBERT | E7: =COUNTIF(F7:X7,"X") -> 0 | F7: =IF(AND(F$2='JEUDI S-1'!F$2,$B7='JEUDI S-1'!$B7,'JEUDI S-1'!F7="X"),"Y","N") -> N | G7: =IF(AND(G$2='JEUDI S-1'!G$2,$B7='JEUDI S-1'!$B7,'JEUDI S-1'!G7="X"),"Y","N") -> N | H7: =IF(AND(H$2='JEUDI S-1'!H$2,$B7='JEUDI S-1'!$B7,'JEUDI S-1'!H7="X"),"Y","N") -> N | I7: =IF(AND(I$2='JEUDI S-1'!I$2,$B7='JEUDI S-1'!$B7,'JEUDI S-1'!I7="X"),"Y","N") -> N | J7: =IF(AND(J$2='JEUDI S-1'!J$2,$B7='JEUDI S-1'!$B7,'JEUDI S-1'!J7="X"),"Y","N") -> N | K7: =IF(AND(K$2='JEUDI S-1'!K$2,$B7='JEUDI S-1'!$B7,'JEUDI S-1'!K7="X"),"Y","N") -> N | L7: =IF(AND(L$2='JEUDI S-1'!L$2,$B7='JEUDI S-1'!$B7,'JEUDI S-1'!L7="X"),"Y","N") -> N | M7: =IF(AND(M$2='JEUDI S-1'!M$2,$B7='JEUDI S-1'!$B7,'JEUDI S-1'!M7="X"),"Y","N") -> N | ... X7: =IF(AND(X$2='JEUDI S-1'!X$2,$B7='JEUDI S-1'!$B7,'JEUDI S-1'!X7="X"),"Y","N") -> N
A8: BLANC | B8: BENJAMIN ROBERT | E8: =COUNTIF(F8:X8,"X") -> 0 | F8: =IF(AND(F$2='JEUDI S-1'!F$2,$B8='JEUDI S-1'!$B8,'JEUDI S-1'!F8="X"),"Y","N") -> N | G8: =IF(AND(G$2='JEUDI S-1'!G$2,$B8='JEUDI S-1'!$B8,'JEUDI S-1'!G8="X"),"Y","N") -> N | H8: =IF(AND(H$2='JEUDI S-1'!H$2,$B8='JEUDI S-1'!$B8,'JEUDI S-1'!H8="X"),"Y","N") -> N | I8: =IF(AND(I$2='JEUDI S-1'!I$2,$B8='JEUDI S-1'!$B8,'JEUDI S-1'!I8="X"),"Y","N") -> N | J8: =IF(AND(J$2='JEUDI S-1'!J$2,$B8='JEUDI S-1'!$B8,'JEUDI S-1'!J8="X"),"Y","N") -> N | K8: =IF(AND(K$2='JEUDI S-1'!K$2,$B8='JEUDI S-1'!$B8,'JEUDI S-1'!K8="X"),"Y","N") -> N | L8: =IF(AND(L$2='JEUDI S-1'!L$2,$B8='JEUDI S-1'!$B8,'JEUDI S-1'!L8="X"),"Y","N") -> N | M8: =IF(AND(M$2='JEUDI S-1'!M$2,$B8='JEUDI S-1'!$B8,'JEUDI S-1'!M8="X"),"Y","N") -> N | ... X8: =IF(AND(X$2='JEUDI S-1'!X$2,$B8='JEUDI S-1'!$B8,'JEUDI S-1'!X8="X"),"Y","N") -> N
A9: ROUGE | B9: JOSETTE MARTIN | E9: =COUNTIF(F9:X9,"X") -> 0 | F9: =IF(AND(F$2='JEUDI S-1'!F$2,$B9='JEUDI S-1'!$B9,'JEUDI S-1'!F9="X"),"Y","N") -> N | G9: =IF(AND(G$2='JEUDI S-1'!G$2,$B9='JEUDI S-1'!$B9,'JEUDI S-1'!G9="X"),"Y","N") -> N | H9: =IF(AND(H$2='JEUDI S-1'!H$2,$B9='JEUDI S-1'!$B9,'JEUDI S-1'!H9="X"),"Y","N") -> N | I9: =IF(AND(I$2='JEUDI S-1'!I$2,$B9='JEUDI S-1'!$B9,'JEUDI S-1'!I9="X"),"Y","N") -> N | J9: =IF(AND(J$2='JEUDI S-1'!J$2,$B9='JEUDI S-1'!$B9,'JEUDI S-1'!J9="X"),"Y","N") -> N | K9: =IF(AND(K$2='JEUDI S-1'!K$2,$B9='JEUDI S-1'!$B9,'JEUDI S-1'!K9="X"),"Y","N") -> Y | L9: =IF(AND(L$2='JEUDI S-1'!L$2,$B9='JEUDI S-1'!$B9,'JEUDI S-1'!L9="X"),"Y","N") -> N | M9: =IF(AND(M$2='JEUDI S-1'!M$2,$B9='JEUDI S-1'!$B9,'JEUDI S-1'!M9="X"),"Y","N") -> N | ... X9: =IF(AND(X$2='JEUDI S-1'!X$2,$B9='JEUDI S-1'!$B9,'JEUDI S-1'!X9="X"),"Y","N") -> N
A10: NOIR | B10: LAURENT MARTIN | E10: =COUNTIF(F10:X10,"X") -> 0 | F10: =IF(AND(F$2='JEUDI S-1'!F$2,$B10='JEUDI S-1'!$B10,'JEUDI S-1'!F10="X"),"Y","N") -> N | G10: =IF(AND(G$2='JEUDI S-1'!G$2,$B10='JEUDI S-1'!$B10,'JEUDI S-1'!G10="X"),"Y","N") -> N | H10: =IF(AND(H$2='JEUDI S-1'!H$2,$B10='JEUDI S-1'!$B10,'JEUDI S-1'!H10="X"),"Y","N") -> N | I10: =IF(AND(I$2='JEUDI S-1'!I$2,$B10='JEUDI S-1'!$B10,'JEUDI S-1'!I10="X"),"Y","N") -> N | J10: =IF(AND(J$2='JEUDI S-1'!J$2,$B10='JEUDI S-1'!$B10,'JEUDI S-1'!J10="X"),"Y","N") -> N | K10: =IF(AND(K$2='JEUDI S-1'!K$2,$B10='JEUDI S-1'!$B10,'JEUDI S-1'!K10="X"),"Y","N") -> N | L10: =IF(AND(L$2='JEUDI S-1'!L$2,$B10='JEUDI S-1'!$B10,'JEUDI S-1'!L10="X"),"Y","N") -> Y | M10: =IF(AND(M$2='JEUDI S-1'!M$2,$B10='JEUDI S-1'!$B10,'JEUDI S-1'!M10="X"),"Y","N") -> N | ... X10: =IF(AND(X$2='JEUDI S-1'!X$2,$B10='JEUDI S-1'!$B10,'JEUDI S-1'!X10="X"),"Y","N") -> N
A11: BLANC | B11: LOIC MARTIN | E11: =COUNTIF(F11:X11,"X") -> 0 | F11: =IF(AND(F$2='JEUDI S-1'!F$2,$B11='JEUDI S-1'!$B11,'JEUDI S-1'!F11="X"),"Y","N") -> N | G11: =IF(AND(G$2='JEUDI S-1'!G$2,$B11='JEUDI S-1'!$B11,'JEUDI S-1'!G11="X"),"Y","N") -> N | H11: =IF(AND(H$2='JEUDI S-1'!H$2,$B11='JEUDI S-1'!$B11,'JEUDI S-1'!H11="X"),"Y","N") -> N | I11: =IF(AND(I$2='JEUDI S-1'!I$2,$B11='JEUDI S-1'!$B11,'JEUDI S-1'!I11="X"),"Y","N") -> N | J11: =IF(AND(J$2='JEUDI S-1'!J$2,$B11='JEUDI S-1'!$B11,'JEUDI S-1'!J11="X"),"Y","N") -> N | K11: =IF(AND(K$2='JEUDI S-1'!K$2,$B11='JEUDI S-1'!$B11,'JEUDI S-1'!K11="X"),"Y","N") -> N | L11: =IF(AND(L$2='JEUDI S-1'!L$2,$B11='JEUDI S-1'!$B11,'JEUDI S-1'!L11="X"),"Y","N") -> N | M11: =IF(AND(M$2='JEUDI S-1'!M$2,$B11='JEUDI S-1'!$B11,'JEUDI S-1'!M11="X"),"Y","N") -> Y | ... X11: =IF(AND(X$2='JEUDI S-1'!X$2,$B11='JEUDI S-1'!$B11,'JEUDI S-1'!X11="X"),"Y","N") -> N
A12: ROUGE | B12: PIERRE MARTIN | E12: =COUNTIF(F12:X12,"X") -> 0 | F12: =IF(AND(F$2='JEUDI S-1'!F$2,$B12='JEUDI S-1'!$B12,'JEUDI S-1'!F12="X"),"Y","N") -> N | G12: =IF(AND(G$2='JEUDI S-1'!G$2,$B12='JEUDI S-1'!$B12,'JEUDI S-1'!G12="X"),"Y","N") -> N | H12: =IF(AND(H$2='JEUDI S-1'!H$2,$B12='JEUDI S-1'!$B12,'JEUDI S-1'!H12="X"),"Y","N") -> N | I12: =IF(AND(I$2='JEUDI S-1'!I$2,$B12='JEUDI S-1'!$B12,'JEUDI S-1'!I12="X"),"Y","N") -> N | J12: =IF(AND(J$2='JEUDI S-1'!J$2,$B12='JEUDI S-1'!$B12,'JEUDI S-1'!J12="X"),"Y","N") -> N | K12: =IF(AND(K$2='JEUDI S-1'!K$2,$B12='JEUDI S-1'!$B12,'JEUDI S-1'!K12="X"),"Y","N") -> N | L12: =IF(AND(L$2='JEUDI S-1'!L$2,$B12='JEUDI S-1'!$B12,'JEUDI S-1'!L12="X"),"Y","N") -> N | M12: =IF(AND(M$2='JEUDI S-1'!M$2,$B12='JEUDI S-1'!$B12,'JEUDI S-1'!M12="X"),"Y","N") -> N | ... X12: =IF(AND(X$2='JEUDI S-1'!X$2,$B12='JEUDI S-1'!$B12,'JEUDI S-1'!X12="X"),"Y","N") -> N
E13: =COUNTIF(F13:X13,"X") -> 0 | F13: =IF(AND(F$2='JEUDI S-1'!F$2,$B13='JEUDI S-1'!$B13,'JEUDI S-1'!F13="X"),"Y","N") -> N | G13: =IF(AND(G$2='JEUDI S-1'!G$2,$B13='JEUDI S-1'!$B13,'JEUDI S-1'!G13="X"),"Y","N") -> N | H13: =IF(AND(H$2='JEUDI S-1'!H$2,$B13='JEUDI S-1'!$B13,'JEUDI S-1'!H13="X"),"Y","N") -> N | I13: =IF(AND(I$2='JEUDI S-1'!I$2,$B13='JEUDI S-1'!$B13,'JEUDI S-1'!I13="X"),"Y","N") -> N | J13: =IF(AND(J$2='JEUDI S-1'!J$2,$B13='JEUDI S-1'!$B13,'JEUDI S-1'!J13="X"),"Y","N") -> N | K13: =IF(AND(K$2='JEUDI S-1'!K$2,$B13='JEUDI S-1'!$B13,'JEUDI S-1'!K13="X"),"Y","N") -> N | L13: =IF(AND(L$2='JEUDI S-1'!L$2,$B13='JEUDI S-1'!$B13,'JEUDI S-1'!L13="X"),"Y","N") -> N | M13: =IF(AND(M$2='JEUDI S-1'!M$2,$B13='JEUDI S-1'!$B13,'JEUDI S-1'!M13="X"),"Y","N") -> N | ... X13: =IF(AND(X$2='JEUDI S-1'!X$2,$B13='JEUDI S-1'!$B13,'JEUDI S-1'!X13="X"),"Y","N") -> N
E14: =COUNTIF(F14:X14,"X") -> 0 | F14: =IF(AND(F$2='JEUDI S-1'!F$2,$B14='JEUDI S-1'!$B14,'JEUDI S-1'!F14="X"),"Y","N") -> N | G14: =IF(AND(G$2='JEUDI S-1'!G$2,$B14='JEUDI S-1'!$B14,'JEUDI S-1'!G14="X"),"Y","N") -> N | H14: =IF(AND(H$2='JEUDI S-1'!H$2,$B14='JEUDI S-1'!$B14,'JEUDI S-1'!H14="X"),"Y","N") -> N | I14: =IF(AND(I$2='JEUDI S-1'!I$2,$B14='JEUDI S-1'!$B14,'JEUDI S-1'!I14="X"),"Y","N") -> N | J14: =IF(AND(J$2='JEUDI S-1'!J$2,$B14='JEUDI S-1'!$B14,'JEUDI S-1'!J14="X"),"Y","N") -> N | K14: =IF(AND(K$2='JEUDI S-1'!K$2,$B14='JEUDI S-1'!$B14,'JEUDI S-1'!K14="X"),"Y","N") -> N | L14: =IF(AND(L$2='JEUDI S-1'!L$2,$B14='JEUDI S-1'!$B14,'JEUDI S-1'!L14="X"),"Y","N") -> N | M14: =IF(AND(M$2='JEUDI S-1'!M$2,$B14='JEUDI S-1'!$B14,'JEUDI S-1'!M14="X"),"Y","N") -> N | ... X14: =IF(AND(X$2='JEUDI S-1'!X$2,$B14='JEUDI S-1'!$B14,'JEUDI S-1'!X14="X"),"Y","N") -> N
E15: =COUNTIF(F15:X15,"X") -> 0 | F15: =IF(AND(F$2='JEUDI S-1'!F$2,$B15='JEUDI S-1'!$B15,'JEUDI S-1'!F15="X"),"Y","N") -> N | G15: =IF(AND(G$2='JEUDI S-1'!G$2,$B15='JEUDI S-1'!$B15,'JEUDI S-1'!G15="X"),"Y","N") -> N | H15: =IF(AND(H$2='JEUDI S-1'!H$2,$B15='JEUDI S-1'!$B15,'JEUDI S-1'!H15="X"),"Y","N") -> N | I15: =IF(AND(I$2='JEUDI S-1'!I$2,$B15='JEUDI S-1'!$B15,'JEUDI S-1'!I15="X"),"Y","N") -> N | J15: =IF(AND(J$2='JEUDI S-1'!J$2,$B15='JEUDI S-1'!$B15,'JEUDI S-1'!J15="X"),"Y","N") -> N | K15: =IF(AND(K$2='JEUDI S-1'!K$2,$B15='JEUDI S-1'!$B15,'JEUDI S-1'!K15="X"),"Y","N") -> N | L15: =IF(AND(L$2='JEUDI S-1'!L$2,$B15='JEUDI S-1'!$B15,'JEUDI S-1'!L15="X"),"Y","N") -> N | M15: =IF(AND(M$2='JEUDI S-1'!M$2,$B15='JEUDI S-1'!$B15,'JEUDI S-1'!M15="X"),"Y","N") -> N | ... X15: =IF(AND(X$2='JEUDI S-1'!X$2,$B15='JEUDI S-1'!$B15,'JEUDI S-1'!X15="X"),"Y","N") -> N
E16: =COUNTIF(F16:X16,"X") -> 0 | F16: =IF(AND(F$2='JEUDI S-1'!F$2,$B16='JEUDI S-1'!$B16,'JEUDI S-1'!F16="X"),"Y","N") -> N | G16: =IF(AND(G$2='JEUDI S-1'!G$2,$B16='JEUDI S-1'!$B16,'JEUDI S-1'!G16="X"),"Y","N") -> N | H16: =IF(AND(H$2='JEUDI S-1'!H$2,$B16='JEUDI S-1'!$B16,'JEUDI S-1'!H16="X"),"Y","N") -> N | I16: =IF(AND(I$2='JEUDI S-1'!I$2,$B16='JEUDI S-1'!$B16,'JEUDI S-1'!I16="X"),"Y","N") -> N | J16: =IF(AND(J$2='JEUDI S-1'!J$2,$B16='JEUDI S-1'!$B16,'JEUDI S-1'!J16="X"),"Y","N") -> N | K16: =IF(AND(K$2='JEUDI S-1'!K$2,$B16='JEUDI S-1'!$B16,'JEUDI S-1'!K16="X"),"Y","N") -> N | L16: =IF(AND(L$2='JEUDI S-1'!L$2,$B16='JEUDI S-1'!$B16,'JEUDI S-1'!L16="X"),"Y","N") -> N | M16: =IF(AND(M$2='JEUDI S-1'!M$2,$B16='JEUDI S-1'!$B16,'JEUDI S-1'!M16="X"),"Y","N") -> N | ... X16: =IF(AND(X$2='JEUDI S-1'!X$2,$B16='JEUDI S-1'!$B16,'JEUDI S-1'!X16="X"),"Y","N") -> N
E17: =COUNTIF(F17:X17,"X") -> 0 | F17: =IF(AND(F$2='JEUDI S-1'!F$2,$B17='JEUDI S-1'!$B17,'JEUDI S-1'!F17="X"),"Y","N") -> N | G17: =IF(AND(G$2='JEUDI S-1'!G$2,$B17='JEUDI S-1'!$B17,'JEUDI S-1'!G17="X"),"Y","N") -> N | H17: =IF(AND(H$2='JEUDI S-1'!H$2,$B17='JEUDI S-1'!$B17,'JEUDI S-1'!H17="X"),"Y","N") -> N | I17: =IF(AND(I$2='JEUDI S-1'!I$2,$B17='JEUDI S-1'!$B17,'JEUDI S-1'!I17="X"),"Y","N") -> N | J17: =IF(AND(J$2='JEUDI S-1'!J$2,$B17='JEUDI S-1'!$B17,'JEUDI S-1'!J17="X"),"Y","N") -> N | K17: =IF(AND(K$2='JEUDI S-1'!K$2,$B17='JEUDI S-1'!$B17,'JEUDI S-1'!K17="X"),"Y","N") -> N | L17: =IF(AND(L$2='JEUDI S-1'!L$2,$B17='JEUDI S-1'!$B17,'JEUDI S-1'!L17="X"),"Y","N") -> N | M17: =IF(AND(M$2='JEUDI S-1'!M$2,$B17='JEUDI S-1'!$B17,'JEUDI S-1'!M17="X"),"Y","N") -> N | ... X17: =IF(AND(X$2='JEUDI S-1'!X$2,$B17='JEUDI S-1'!$B17,'JEUDI S-1'!X17="X"),"Y","N") -> N
E18: =COUNTIF(F18:X18,"X") -> 0 | F18: =IF(AND(F$2='JEUDI S-1'!F$2,$B18='JEUDI S-1'!$B18,'JEUDI S-1'!F18="X"),"Y","N") -> N | G18: =IF(AND(G$2='JEUDI S-1'!G$2,$B18='JEUDI S-1'!$B18,'JEUDI S-1'!G18="X"),"Y","N") -> N | H18: =IF(AND(H$2='JEUDI S-1'!H$2,$B18='JEUDI S-1'!$B18,'JEUDI S-1'!H18="X"),"Y","N") -> N | I18: =IF(AND(I$2='JEUDI S-1'!I$2,$B18='JEUDI S-1'!$B18,'JEUDI S-1'!I18="X"),"Y","N") -> N | J18: =IF(AND(J$2='JEUDI S-1'!J$2,$B18='JEUDI S-1'!$B18,'JEUDI S-1'!J18="X"),"Y","N") -> N | K18: =IF(AND(K$2='JEUDI S-1'!K$2,$B18='JEUDI S-1'!$B18,'JEUDI S-1'!K18="X"),"Y","N") -> N | L18: =IF(AND(L$2='JEUDI S-1'!L$2,$B18='JEUDI S-1'!$B18,'JEUDI S-1'!L18="X"),"Y","N") -> N | M18: =IF(AND(M$2='JEUDI S-1'!M$2,$B18='JEUDI S-1'!$B18,'JEUDI S-1'!M18="X"),"Y","N") -> N | ... X18: =IF(AND(X$2='JEUDI S-1'!X$2,$B18='JEUDI S-1'!$B18,'JEUDI S-1'!X18="X"),"Y","N") -> N
E19: =COUNTIF(F19:X19,"X") -> 0 | F19: =IF(AND(F$2='JEUDI S-1'!F$2,$B19='JEUDI S-1'!$B19,'JEUDI S-1'!F19="X"),"Y","N") -> N | G19: =IF(AND(G$2='JEUDI S-1'!G$2,$B19='JEUDI S-1'!$B19,'JEUDI S-1'!G19="X"),"Y","N") -> N | H19: =IF(AND(H$2='JEUDI S-1'!H$2,$B19='JEUDI S-1'!$B19,'JEUDI S-1'!H19="X"),"Y","N") -> N | I19: =IF(AND(I$2='JEUDI S-1'!I$2,$B19='JEUDI S-1'!$B19,'JEUDI S-1'!I19="X"),"Y","N") -> N | J19: =IF(AND(J$2='JEUDI S-1'!J$2,$B19='JEUDI S-1'!$B19,'JEUDI S-1'!J19="X"),"Y","N") -> N | K19: =IF(AND(K$2='JEUDI S-1'!K$2,$B19='JEUDI S-1'!$B19,'JEUDI S-1'!K19="X"),"Y","N") -> N | L19: =IF(AND(L$2='JEUDI S-1'!L$2,$B19='JEUDI S-1'!$B19,'JEUDI S-1'!L19="X"),"Y","N") -> N | M19: =IF(AND(M$2='JEUDI S-1'!M$2,$B19='JEUDI S-1'!$B19,'JEUDI S-1'!M19="X"),"Y","N") -> N | ... X19: =IF(AND(X$2='JEUDI S-1'!X$2,$B19='JEUDI S-1'!$B19,'JEUDI S-1'!X19="X"),"Y","N") -> N
E20: =COUNTIF(F20:X20,"X") -> 0 | F20: =IF(AND(F$2='JEUDI S-1'!F$2,$B20='JEUDI S-1'!$B20,'JEUDI S-1'!F20="X"),"Y","N") -> N | G20: =IF(AND(G$2='JEUDI S-1'!G$2,$B20='JEUDI S-1'!$B20,'JEUDI S-1'!G20="X"),"Y","N") -> N | H20: =IF(AND(H$2='JEUDI S-1'!H$2,$B20='JEUDI S-1'!$B20,'JEUDI S-1'!H20="X"),"Y","N") -> N | I20: =IF(AND(I$2='JEUDI S-1'!I$2,$B20='JEUDI S-1'!$B20,'JEUDI S-1'!I20="X"),"Y","N") -> N | J20: =IF(AND(J$2='JEUDI S-1'!J$2,$B20='JEUDI S-1'!$B20,'JEUDI S-1'!J20="X"),"Y","N") -> N | K20: =IF(AND(K$2='JEUDI S-1'!K$2,$B20='JEUDI S-1'!$B20,'JEUDI S-1'!K20="X"),"Y","N") -> N | L20: =IF(AND(L$2='JEUDI S-1'!L$2,$B20='JEUDI S-1'!$B20,'JEUDI S-1'!L20="X"),"Y","N") -> N | M20: =IF(AND(M$2='JEUDI S-1'!M$2,$B20='JEUDI S-1'!$B20,'JEUDI S-1'!M20="X"),"Y","N") -> N | ... X20: =IF(AND(X$2='JEUDI S-1'!X$2,$B20='JEUDI S-1'!$B20,'JEUDI S-1'!X20="X"),"Y","N") -> N
E21: =COUNTIF(F21:X21,"X") -> 0 | F21: =IF(AND(F$2='JEUDI S-1'!F$2,$B21='JEUDI S-1'!$B21,'JEUDI S-1'!F21="X"),"Y","N") -> N | G21: =IF(AND(G$2='JEUDI S-1'!G$2,$B21='JEUDI S-1'!$B21,'JEUDI S-1'!G21="X"),"Y","N") -> N | H21: =IF(AND(H$2='JEUDI S-1'!H$2,$B21='JEUDI S-1'!$B21,'JEUDI S-1'!H21="X"),"Y","N") -> N | I21: =IF(AND(I$2='JEUDI S-1'!I$2,$B21='JEUDI S-1'!$B21,'JEUDI S-1'!I21="X"),"Y","N") -> N | J21: =IF(AND(J$2='JEUDI S-1'!J$2,$B21='JEUDI S-1'!$B21,'JEUDI S-1'!J21="X"),"Y","N") -> N | K21: =IF(AND(K$2='JEUDI S-1'!K$2,$B21='JEUDI S-1'!$B21,'JEUDI S-1'!K21="X"),"Y","N") -> N | L21: =IF(AND(L$2='JEUDI S-1'!L$2,$B21='JEUDI S-1'!$B21,'JEUDI S-1'!L21="X"),"Y","N") -> N | M21: =IF(AND(M$2='JEUDI S-1'!M$2,$B21='JEUDI S-1'!$B21,'JEUDI S-1'!M21="X"),"Y","N") -> N | ... X21: =IF(AND(X$2='JEUDI S-1'!X$2,$B21='JEUDI S-1'!$B21,'JEUDI S-1'!X21="X"),"Y","N") -> N
E22: =COUNTIF(F22:X22,"X") -> 0 | F22: =IF(AND(F$2='JEUDI S-1'!F$2,$B22='JEUDI S-1'!$B22,'JEUDI S-1'!F22="X"),"Y","N") -> N | G22: =IF(AND(G$2='JEUDI S-1'!G$2,$B22='JEUDI S-1'!$B22,'JEUDI S-1'!G22="X"),"Y","N") -> N | H22: =IF(AND(H$2='JEUDI S-1'!H$2,$B22='JEUDI S-1'!$B22,'JEUDI S-1'!H22="X"),"Y","N") -> N | I22: =IF(AND(I$2='JEUDI S-1'!I$2,$B22='JEUDI S-1'!$B22,'JEUDI S-1'!I22="X"),"Y","N") -> N | J22: =IF(AND(J$2='JEUDI S-1'!J$2,$B22='JEUDI S-1'!$B22,'JEUDI S-1'!J22="X"),"Y","N") -> N | K22: =IF(AND(K$2='JEUDI S-1'!K$2,$B22='JEUDI S-1'!$B22,'JEUDI S-1'!K22="X"),"Y","N") -> N | L22: =IF(AND(L$2='JEUDI S-1'!L$2,$B22='JEUDI S-1'!$B22,'JEUDI S-1'!L22="X"),"Y","N") -> N | M22: =IF(AND(M$2='JEUDI S-1'!M$2,$B22='JEUDI S-1'!$B22,'JEUDI S-1'!M22="X"),"Y","N") -> N | ... X22: =IF(AND(X$2='JEUDI S-1'!X$2,$B22='JEUDI S-1'!$B22,'JEUDI S-1'!X22="X"),"Y","N") -> N
E23: =SUM(E4:E22) -> 0
