Workbook
Name Jaune: #REF!
Name Orange: #REF!
Name SaufD: #REF!
Name Vert: #REF!

Sheet Feuil1
A1: N°01 RLT OTCM 2019 | E1: Semaine 03
E2: L | F2: ma | G2: me | H2: J | I2: V | J2: S | K2: Di
E3: 43752 | F3: =IF(E3="","",E3+1) -> 43753 | G3: =IF(F3="","",F3+1) -> 43754 | H3: =IF(G3="","",G3+1) -> 43755 | I3: =IF(H3="","",H3+1) -> 43756 | J3: =IF(I3="","",I3+1) -> 43757 | K3: =IF(J3="","",J3+1) -> 43758
B4: A | C4: 2170 | D4: 2 | E4: D | F4: D | G4: D | H4: D | I4: D | J4: R | K4: RH
B5: B | C5: 3057 | D5: 1 | E5: D | F5: A04 | G5: D | H5: D | I5: D | J5: R | K5: RH
B6: C | C6: 4290 | D6: 4 | E6: D | F6: D | G6: D | H6: D | I6: D | J6: R | K6: RH
A7: A | B7: D | C7: 1946 | D7: 5 | E7: D | F7: D | G7: D | H7: D | I7: D | J7: R | K7: RH
B8: E | C8: 3423 | D8: 6 | E8: D | F8: D | G8: D | H8: D | I8: R | J8: R | K8: RH
B9: F | C9: 2409 | D9: 1 | E9: D | F9: D | G9: D | H9: D | I9: D | J9: R | K9: RH
B10: G | C10: 2336 | D10: 2 | E10: D | F10: D | G10: D | H10: D | I10: D | J10: R | K10: RH
B11: H | C11: 4499 | D11: 3 | E11: D | F11: D | G11: D | H11: D | I11: D | J11: R | K11: RH
B12: I | C12: 1673 | E12: A5 | F12: A5 | G12: R | H12: A10 | I12: A10 | J12: A10 | K12: RH
E13: L | F13: ma | G13: me | H13: J | I13: V | J13: S | K13: Di
E14: =IF(E$3="","",E$3) -> 43752 | F14: =IF(E$14="","",E$14+1) -> 43753 | G14: =IF(F$14="","",F$14+1) -> 43754 | H14: =IF(G$14="","",G$14+1) -> 43755 | I14: =IF(H$14="","",H$14+1) -> 43756 | J14: =IF(I$14="","",I$14+1) -> 43757 | K14: =IF(J$14="","",J$14+1) -> 43758
B15: J | C15: 2749 | D15: 2 | E15: M1 | F15: M1 | G15: A1 | H15: N1 | I15: RLT | J15: R | K15: RH
B16: K | C16: 2108 | D16: 1 | E16: M03 | F16: M6 | G16: A6 | H16: D | I16: RLT | J16: R | K16: RH
B17: L | C17: 2437 | D17: 4 | E17: M5 | F17: M5 | G17: A5 | H17: N5 | I17: RLT | J17: R | K17: RH
A18: B | B18: M | C18: 1661 | D18: 5 | E18: M9 | F18: D | G18: D | H18: D | I18: D | J18: R | K18: RH
B19: N | C19: 3356 | D19: 6 | E19: M0 | F19: M0 | G19: A0 | H19: N0 | I19: RLT | J19: R | K19: RH
B20: O | C20: 2905 | D20: 1 | E20: M10 | F20: M2 | G20: A2 | H20: N2 | I20: RLT | J20: R | K20: RH
B21: P | C21: 2511 | D21: 2 | E21: M3 | F21: M9 | G21: A3 | H21: N3 | I21: RLT | J21: R | K21: RH
B22: Q | C22: 4858 | D22: 3 | E22: M4 | F22: M4 | G22: A4 | H22: N4 | I22: RLT | J22: R | K22: RH
B23: R | C23: 1901 | E23: M7 | F23: M7 | G23: M7 | H23: M7 | I23: M3 | J23: R | K23: RH
E24: L | F24: ma | G24: me | H24: J | I24: V | J24: S | K24: Di
E25: =IF(E$3="","",E$3) -> 43752 | F25: =IF(E$14="","",E$14+1) -> 43753 | G25: =IF(F$14="","",F$14+1) -> 43754 | H25: =IF(G$14="","",G$14+1) -> 43755 | I25: =IF(H$14="","",H$14+1) -> 43756 | J25: =IF(I$14="","",I$14+1) -> 43757 | K25: =IF(J$14="","",J$14+1) -> 43758
B26: S | C26: 2095 | D26: 2 | E26: A6 | F26: A6 | G26: N03 | H26: RLT | I26: RLT | J26: R | K26: RH
B27: T | C27: 2335 | D27: 1 | E27: A7 | F27: A7 | G27: N1 | H27: N03 | I27: RLT | J27: R | K27: RH
B28: U | C28: 4250 | D28: 4 | E28: A10 | F28: A10 | G28: N5 | H28: RLT | I28: RLT | J28: R | K28: RH
A29: C | B29: V | C29: 1971 | D29: 5 | E29: A0 | F29: A0 | G29: N0 | H29: RLT | I29: RLT | J29: R | K29: RH
B30: W | C30: 2548 | D30: 6 | E30: A8 | F30: A8 | G30: A7 | H30: RLT | I30: RLT | J30: R | K30: RH
B31: X | C31: 1072 | D31: 1 | E31: A9 | F31: A9 | G31: N2 | H31: RLT | I31: RLT | J31: R | K31: RH
B32: Y | C32: 2748 | D32: 2 | E32: A3 | F32: A3 | G32: N3 | H32: RLT | I32: RLT | J32: R | K32: RH
B33: Z | C33: 4339 | D33: 3 | E33: A4 | F33: A4 | G33: N4 | H33: RLT | I33: RLT | J33: R | K33: RH
B34: AA | C34: 1922 | E34: M6 | F34: RLT | G34: A9 | H34: A9 | I34: A9 | J34: R | K34: RH
E35: L | F35: ma | G35: me | H35: J | I35: V | J35: S | K35: Di
E36: =IF(E$3="","",E$3) -> 43752 | F36: =IF(E$14="","",E$14+1) -> 43753 | G36: =IF(F$14="","",F$14+1) -> 43754 | H36: =IF(G$14="","",G$14+1) -> 43755 | I36: =IF(H$14="","",H$14+1) -> 43756 | J36: =IF(I$14="","",I$14+1) -> 43757 | K36: =IF(J$14="","",J$14+1) -> 43758
B37: BB | C37: 2105 | D37: 2 | E37: N1 | F37: N03 | G37: RLT | H37: R | I37: RH | J37: M1 | K37: M1
B38: CC | C38: 2735 | D38: 1 | E38: N03 | F38: N1 | G38: RLT | H38: RLT | I38: RLT | J38: R | K38: RH
B39: DD | C39: 1675 | D39: 4 | E39: N4 | F39: N4 | G39: RLT | H39: RLT | I39: RLT | J39: R | K39: RH
A40: D | B40: EE | C40: 4322 | D40: 5 | E40: N5 | F40: N5 | G40: RLT | H40: R | I40: RH | J40: M8 | K40: M8
...

Sheet Feuil4
A1: Feuille de service
A3: 43752
A5: M | B5: Mat. | C5: Nom | G5: Travail | H5: H. début | J5: H. fin | K5: Site | M5: Commentaires
C7: =IFERROR(INDEX(Feuil1!$B$4:$BA$88,MATCH(Feuil4!$K7,Feuil1!$B$4:$B$88,0),MATCH(Feuil4!$A$3,Feuil1!$E$3:$BA$3,0)),"") -> M | G7: CPFI0545 | H7: 05:45 | J7: 13:00 | K7: M
C8: =IFERROR(INDEX(Feuil1!$B$4:$BA$88,MATCH(Feuil4!$K8,Feuil1!$B$4:$B$88,0),MATCH(Feuil4!$A$3,Feuil1!$E$3:$BA$3,0)),"") | G8: OMFI0545 | H8: 05:45 | J8: 13:00 | K8: DM | M8: DISPO
C9: =IFERROR(INDEX(Feuil1!$B$4:$BA$88,MATCH(Feuil4!$K9,Feuil1!$B$4:$B$88,0),MATCH(Feuil4!$A$3,Feuil1!$E$3:$BA$3,0)),"") | G9: OMFI0545 | H9: 05:45 | J9: 13:00 | K9: M01
C10: =IFERROR(INDEX(Feuil1!$B$4:$BA$88,MATCH(Feuil4!$K10,Feuil1!$B$4:$B$88,0),MATCH(Feuil4!$A$3,Feuil1!$E$3:$BA$3,0)),"") | G10: OMFI0545 | H10: 05:45 | J10: 13:00 | K10: M02
C11: =IFERROR(INDEX(Feuil1!$B$4:$BA$88,MATCH(Feuil4!$K11,Feuil1!$B$4:$B$88,0),MATCH(Feuil4!$A$3,Feuil1!$E$3:$BA$3,0)),"") | G11: OMFI0545 | H11: 05:45 | J11: 13:00 | K11: M03
C12: =IFERROR(INDEX(Feuil1!$B$4:$BA$88,MATCH(Feuil4!$K12,Feuil1!$B$4:$B$88,0),MATCH(Feuil4!$A$3,Feuil1!$E$3:$BA$3,0)),"") | G12: OMFI0545 | H12: 05:45 | J12: 13:00 | K12: M04
C13: =IFERROR(INDEX(Feuil1!$B$4:$BA$88,MATCH(Feuil4!$K13,Feuil1!$B$4:$B$88,0),MATCH(Feuil4!$A$3,Feuil1!$E$3:$BA$3,0)),"") | G13: OTFI0545 | H13: 05:45 | J13: 13:00 | K13: M0
C14: =IFERROR(INDEX(Feuil1!$B$4:$BA$88,MATCH(Feuil4!$K14,Feuil1!$B$4:$B$88,0),MATCH(Feuil4!$A$3,Feuil1!$E$3:$BA$3,0)),"") | G14: OTFI0545 | H14: 05:45 | J14: 13:00 | K14: M1
C15: =IFERROR(INDEX(Feuil1!$B$4:$BA$88,MATCH(Feuil4!$K15,Feuil1!$B$4:$B$88,0),MATCH(Feuil4!$A$3,Feuil1!$E$3:$BA$3,0)),"") | G15: OTFI0545 | H15: 05:45 | J15: 13:00 | K15: M2
C16: =IFERROR(INDEX(Feuil1!$B$4:$BA$88,MATCH(Feuil4!$K16,Feuil1!$B$4:$B$88,0),MATCH(Feuil4!$A$3,Feuil1!$E$3:$BA$3,0)),"") | G16: OTFI0545 | H16: 05:45 | J16: 13:00 | K16: M3
C17: =IFERROR(INDEX(Feuil1!$B$4:$BA$88,MATCH(Feuil4!$K17,Feuil1!$B$4:$B$88,0),MATCH(Feuil4!$A$3,Feuil1!$E$3:$BA$3,0)),"") | G17: OTFI0545 | H17: 05:45 | J17: 13:00 | K17: M4
C18: =IFERROR(INDEX(Feuil1!$B$4:$BA$88,MATCH(Feuil4!$K18,Feuil1!$B$4:$B$88,0),MATCH(Feuil4!$A$3,Feuil1!$E$3:$BA$3,0)),"") | G18: OTFI0545 | H18: 05:45 | J18: 13:00 | K18: M5
C19: =IFERROR(INDEX(Feuil1!$B$4:$BA$88,MATCH(Feuil4!$K19,Feuil1!$B$4:$B$88,0),MATCH(Feuil4!$A$3,Feuil1!$E$3:$BA$3,0)),"") | G19: OTFI0545 | H19: 05:45 | J19: 13:00 | K19: M6
C20: =IFERROR(INDEX(Feuil1!$B$4:$BA$88,MATCH(Feuil4!$K20,Feuil1!$B$4:$B$88,0),MATCH(Feuil4!$A$3,Feuil1!$E$3:$BA$3,0)),"") | G20: OTFI0545 | H20: 05:45 | J20: 13:00 | K20: M7
... C22: =IFERROR(INDEX(Feuil1!$B$4:$BA$88,MATCH(Feuil4!$K22,Feuil1!$B$4:$B$88,0),MATCH(Feuil4!$A$3,Feuil1!$E$3:$BA$3,0)),"") | G22: OTFI0545 | H22: 05:45 | J22: 13:00 | K22: M10
A24: D | B24: Mat. | C24: Nom | G24: Travail | H24: H. début | J24: H. fin | K24: Site | M24: Commentaires
C26: =IFERROR(INDEX(Feuil1!$E$4:$BA$88,MATCH(Feuil4!K$12,Feuil1!$B$4:$B$88,0),MATCH(Feuil4!#REF!,Feuil1!$E$3:$BA$3,0)),"") | G26: CPFD0800 | H26: 08:00 | J26: 16:15 | K26: D
C27: =IFERROR(INDEX(Feuil1!$E$4:$BA$88,MATCH(Feuil4!K$12,Feuil1!$B$4:$B$88,0),MATCH(Feuil4!#REF!,Feuil1!$E$3:$BA$3,0)),"") | G27: OMD0800 | H27: 08:00 | J27: 16:15 | K27: D
C28: =IFERROR(INDEX(Feuil1!$E$4:$BA$88,MATCH(Feuil4!K$12,Feuil1!$B$4:$B$88,0),MATCH(Feuil4!#REF!,Feuil1!$E$3:$BA$3,0)),"") | G28: OMD0800 | H28: 08:00 | J28: 16:15 | K28: D
C29: =IFERROR(INDEX(Feuil1!$E$4:$BA$88,MATCH(Feuil4!K$12,Feuil1!$B$4:$B$88,0),MATCH(Feuil4!$A20,Feuil1!$E$3:$BA$3,0)),"") | G29: OMD0800 | H29: 08:00 | J29: 16:15 | K29: D
C30: =IFERROR(INDEX(Feuil1!$E$4:$BA$88,MATCH(Feuil4!K$12,Feuil1!$B$4:$B$88,0),MATCH(Feuil4!$A21,Feuil1!$E$3:$BA$3,0)),"") | G30: OMD0800 | H30: 08:00 | J30: 16:15 | K30: D
C31: =IFERROR(INDEX(Feuil1!$E$4:$BA$88,MATCH(Feuil4!K$12,Feuil1!$B$4:$B$88,0),MATCH(Feuil4!$A22,Feuil1!$E$3:$BA$3,0)),"") | G31: OMD0800 | H31: 08:00 | J31: 16:15 | K31: D
C32: =IFERROR(INDEX(Feuil1!$E$4:$BA$88,MATCH(Feuil4!K$12,Feuil1!$B$4:$B$88,0),MATCH(Feuil4!#REF!,Feuil1!$E$3:$BA$3,0)),"") | G32: OMD0800 | H32: 08:00 | J32: 16:15 | K32: D
C33: =IFERROR(INDEX(Feuil1!$E$4:$BA$88,MATCH(Feuil4!K$12,Feuil1!$B$4:$B$88,0),MATCH(Feuil4!#REF!,Feuil1!$E$3:$BA$3,0)),"") | G33: OMD0800 | H33: 08:00 | J33: 16:15 | K33: D
C34: =IFERROR(INDEX(Feuil1!$E$4:$BA$88,MATCH(Feuil4!K$12,Feuil1!$B$4:$B$88,0),MATCH(Feuil4!#REF!,Feuil1!$E$3:$BA$3,0)),"") | G34: OMD0800 | H34: 08:00 | J34: 16:15 | K34: D
C35: =IFERROR(INDEX(Feuil1!$E$4:$BA$88,MATCH(Feuil4!K$12,Feuil1!$B$4:$B$88,0),MATCH(Feuil4!$A26,Feuil1!$E$3:$BA$3,0)),"") | G35: OTD0803 | H35: 08:00 | J35: 16:21 | K35: FC
C36: =IFERROR(INDEX(Feuil1!$E$4:$BA$88,MATCH(Feuil4!K$12,Feuil1!$B$4:$B$88,0),MATCH(Feuil4!$A27,Feuil1!$E$3:$BA$3,0)),"") | G36: OTD0803 | H36: 08:00 | J36: 16:21 | K36: FC
C37: =IFERROR(INDEX(Feuil1!$E$4:$BA$88,MATCH(Feuil4!K$12,Feuil1!$B$4:$B$88,0),MATCH(Feuil4!$A28,Feuil1!$E$3:$BA$3,0)),"") | G37: OTD0803 | H37: 08:00 | J37: 16:21 | K37: FC
C38: =IFERROR(INDEX(Feuil1!$E$4:$BA$88,MATCH(Feuil4!K$12,Feuil1!$B$4:$B$88,0),MATCH(Feuil4!#REF!,Feuil1!$E$3:$BA$3,0)),"") | G38: OTD0803 | H38: 08:00 | J38: 16:21 | K38: FC
C39: =IFERROR(INDEX(Feuil1!$E$4:$BA$88,MATCH(Feuil4!K$12,Feuil1!$B$4:$B$88,0),MATCH(Feuil4!#REF!,Feuil1!$E$3:$BA$3,0)),"") | G39: OTD0803 | H39: 08:00 | J39: 16:21 | K39: FC
C40: =IFERROR(INDEX(Feuil1!$E$4:$BA$88,MATCH(Feuil4!K$12,Feuil1!$B$4:$B$88,0),MATCH(Feuil4!#REF!,Feuil1!$E$3:$BA$3,0)),"") | G40: OTD0803 | H40: 08:00 | J40: 16:21 | K40: FC
C41: =IFERROR(INDEX(Feuil1!$E$4:$BA$88,MATCH(Feuil4!K$12,Feuil1!$B$4:$B$88,0),MATCH(Feuil4!$A32,Feuil1!$E$3:$BA$3,0)),"") | G41: OTD0803 | H41: 08:00 | J41: 16:21 | K41: FC
A43: A | B43: Mat. | C43: Nom | G43: Travail | H43: H. début | J43: H. fin | K43: Site | M43: Commentaires
C45: =IFERROR(INDEX(Feuil1!$E$4:$BA$88,MATCH(Feuil4!K$12,Feuil1!$B$4:$B$88,0),MATCH(Feuil4!#REF!,Feuil1!$E$3:$BA$3,0)),"") | G45: CPFI1245 | H45: 05:45 | J45: 13:00 | K45: A
C46: =IFERROR(INDEX(Feuil1!$E$4:$BA$88,MATCH(Feuil4!K$12,Feuil1!$B$4:$B$88,0),MATCH(Feuil4!#REF!,Feuil1!$E$3:$BA$3,0)),"") | G46: OMFI1245 | H46: 05:45 | J46: 13:00 | K46: DA | M46: DISPO
C47: =IFERROR(INDEX(Feuil1!$E$4:$BA$88,MATCH(Feuil4!K$12,Feuil1!$B$4:$B$88,0),MATCH(Feuil4!#REF!,Feuil1!$E$3:$BA$3,0)),"") | G47: OMFI1245 | H47: 05:45 | J47: 13:00 | K47: A01
C48: =IFERROR(INDEX(Feuil1!$E$4:$BA$88,MATCH(Feuil4!K$12,Feuil1!$B$4:$B$88,0),MATCH(Feuil4!$A39,Feuil1!$E$3:$BA$3,0)),"") | G48: OMFI1245 | H48: 05:45 | J48: 13:00 | K48: A02
...
