Workbook
Name Jaune: #REF!
Name Orange: #REF!
Name SaufD: #REF!
Name Vert: #REF!

Sheet Feuil1
A1: N°01 RLT OTCM 2019 | E1: Semaine 03
E2: L | F2: ma | G2: me | H2: J | I2: V | J2: S | K2: Di
E3: 43752 | F3: =IF(E3="","",E3+1) -> 43753 | G3: =IF(F3="","",F3+1) -> 43754 | H3: =IF(G3="","",G3+1) -> 43755 | I3: =IF(H3="","",H3+1) -> 43756 | J3: =IF(I3="","",I3+1) -> 43757 | K3: =IF(J3="","",J3+1) -> 43758
B4: A | C4: 2170 | D4: 2 | E4: D | F4: D | G4: D | H4: D | I4: D | J4: R | K4: RH
B5: B | C5: 3057 | D5: 1 | E5: D | F5: A04 | G5: D | H5: D | I5: D | J5: R | K5: RH
B6: C | C6: 4290 | D6: 4 | E6: D | F6: D | G6: D | H6: D | I6: D | J6: R | K6: RH
A7: A | B7: D | C7: 1946 | D7: 5 | E7: D | F7: D | G7: D | H7: D | I7: D | J7: R | K7: RH
B8: E | C8: 3423 | D8: 6 | E8: D | F8: D | G8: D | H8: D | I8: R | J8: R | K8: RH
B9: F | C9: 2409 | D9: 1 | E9: D | F9: D | G9: D | H9: D | I9: D | J9: R | K9: RH
B10: G | C10: 2336 | D10: 2 | E10: D | F10: D | G10: D | H10: D | I10: D | J10: R | K10: RH
B11: H | C11: 4499 | D11: 3 | E11: D | F11: D | G11: D | H11: D | I11: D | J11: R | K11: RH
B12: I | C12: 1673 | E12: A5 | F12: A5 | G12: R | H12: A10 | I12: A10 | J12: A10 | K12: RH
E13: L | F13: ma | G13: me | H13: J | I13: V | J13: S | K13: Di
E14: =IF(E$3="","",E$3) -> 43752 | F14: =IF(E$14="","",E$14+1) -> 43753 | G14: =IF(F$14="","",F$14+1) -> 43754 | H14: =IF(G$14="","",G$14+1) -> 43755 | I14: =IF(H$14="","",H$14+1) -> 43756 | J14: =IF(I$14="","",I$14+1) -> 43757 | K14: =IF(J$14="","",J$14+1) -> 43758
B15: J | C15: 2749 | D15: 2 | E15: M1 | F15: M1 | G15: A1 | H15: N1 | I15: RLT | J15: R | K15: RH
B16: K | C16: 2108 | D16: 1 | E16: M03 | F16: M6 | G16: A6 | H16: D | I16: RLT | J16: R | K16: RH
B17: L | C17: 2437 | D17: 4 | E17: M5 | F17: M5 | G17: A5 | H17: N5 | I17: RLT | J17: R | K17: RH
A18: B | B18: M | C18: 1661 | D18: 5 | E18: M9 | F18: D | G18: D | H18: D | I18: D | J18: R | K18: RH
B19: N | C19: 3356 | D19: 6 | E19: M0 | F19: M0 | G19: A0 | H19: N0 | I19: RLT | J19: R | K19: RH
B20: O | C20: 2905 | D20: 1 | E20: M10 | F20: M2 | G20: A2 | H20: N2 | I20: RLT | J20: R | K20: RH
B21: P | C21: 2511 | D21: 2 | E21: M3 | F21: M9 | G21: A3 | H21: N3 | I21: RLT | J21: R | K21: RH
B22: Q | C22: 4858 | D22: 3 | E22: M4 | F22: M4 | G22: A4 | H22: N4 | I22: RLT | J22: R | K22: RH
B23: R | C23: 1901 | E23: M7 | F23: M7 | G23: M7 | H23: M7 | I23: M3 | J23: R | K23: RH
E24: L | F24: ma | G24: me | H24: J | I24: V | J24: S | K24: Di
E25: =IF(E$3="","",E$3) -> 43752 | F25: =IF(E$14="","",E$14+1) -> 43753 | G25: =IF(F$14="","",F$14+1) -> 43754 | H25: =IF(G$14="","",G$14+1) -> 43755 | I25: =IF(H$14="","",H$14+1) -> 43756 | J25: =IF(I$14="","",I$14+1) -> 43757 | K25: =IF(J$14="","",J$14+1) -> 43758
B26: S | C26: 2095 | D26: 2 | E26: A6 | F26: A6 | G26: N03 | H26: RLT | I26: RLT | J26: R | K26: RH
B27: T | C27: 2335 | D27: 1 | E27: A7 | F27: A7 | G27: N1 | H27: N03 | I27: RLT | J27: R | K27: RH
B28: U | C28: 4250 | D28: 4 | E28: A10 | F28: A10 | G28: N5 | H28: RLT | I28: RLT | J28: R | K28: RH
A29: C | B29: V | C29: 1971 | D29: 5 | E29: A0 | F29: A0 | G29: N0 | H29: RLT | I29: RLT | J29: R | K29: RH
B30: W | C30: 2548 | D30: 6 | E30: A8 | F30: A8 | G30: A7 | H30: RLT | I30: RLT | J30: R | K30: RH
B31: X | C31: 1072 | D31: 1 | E31: A9 | F31: A9 | G31: N2 | H31: RLT | I31: RLT | J31: R | K31: RH
B32: Y | C32: 2748 | D32: 2 | E32: A3 | F32: A3 | G32: N3 | H32: RLT | I32: RLT | J32: R | K32: RH
B33: Z | C33: 4339 | D33: 3 | E33: A4 | F33: A4 | G33: N4 | H33: RLT | I33: RLT | J33: R | K33: RH
B34: AA | C34: 1922 | E34: M6 | F34: RLT | G34: A9 | H34: A9 | I34: A9 | J34: R | K34: RH
E35: L | F35: ma | G35: me | H35: J | I35: V | J35: S | K35: Di
E36: =IF(E$3="","",E$3) -> 43752 | F36: =IF(E$14="","",E$14+1) -> 43753 | G36: =IF(F$14="","",F$14+1) -> 43754 | H36: =IF(G$14="","",G$14+1) -> 43755 | I36: =IF(H$14="","",H$14+1) -> 43756 | J36: =IF(I$14="","",I$14+1) -> 43757 | K36: =IF(J$14="","",J$14+1) -> 43758
B37: BB | C37: 2105 | D37: 2 | E37: N1 | F37: N03 | G37: RLT | H37: R | I37: RH | J37: M1 | K37: M1
B38: CC | C38: 2735 | D38: 1 | E38: N03 | F38: N1 | G38: RLT | H38: RLT | I38: RLT | J38: R | K38: RH
B39: DD | C39: 1675 | D39: 4 | E39: N4 | F39: N4 | G39: RLT | H39: RLT | I39: RLT | J39: R | K39: RH
A40: D | B40: EE | C40: 4322 | D40: 5 | E40: N5 | F40: N5 | G40: RLT | H40: R | I40: RH | J40: M8 | K40: M8
B41: FF | C41: 4636 | D41: 6 | E41: N0 | F41: N0 | G41: RLT | H41: R | I41: RH | J41: M0 | K41: M0
B42: GG | C42: 2289 | D42: 1 | E42: N2 | F42: N2 | G42: RLT | H42: R | I42: RH | J42: M2 | K42: M2
B43: HH | C43: 3112 | D43: 2 | E43: D | F43: D | G43: D | H43: D | I43: D | J43: R | K43: RH
B44: II | C44: 4988 | D44: 3 | E44: N3 | F44: N3 | G44: RLT | H44: R | I44: RH | J44: M3 | K44: M3
B45: JJ | C45: 1856 | E45: A1 | F45: A1 | G45: R | H45: RH | I45: M4 | J45: M4 | K45: M4
E46: L | F46: ma | G46: me | H46: J | I46: V | J46: S | K46: Di
E47: =IF(E$3="","",E$3) -> 43752 | F47: =IF(E$14="","",E$14+1) -> 43753 | G47: =IF(F$14="","",F$14+1) -> 43754 | H47: =IF(G$14="","",G$14+1) -> 43755 | I47: =IF(H$14="","",H$14+1) -> 43756 | J47: =IF(I$14="","",I$14+1) -> 43757 | K47: =IF(J$14="","",J$14+1) -> 43758
B48: KK | C48: 2551 | D48: 2 | E48: RLT | F48: RLT | G48: R | H48: RH | I48: M5 | J48: A5 | K48: A5
B49: LL | C49: 1871 | D49: 1 | E49: RLT | F49: RLT | G49: R | H49: RH | I49: M1 | J49: A4 | K49: A4
B50: MM | C50: 4788 | D50: 4 | E50: D | F50: D | G50: D | H50: D | I50: D | J50: R | K50: RH
A51: E | B51: NN | C51: 4105 | D51: 5 | E51: RLT | F51: RLT | G51: RLT | H51: R | I51: M9 | J51: M10 | K51: RH
B52: OO | C52: 1430 | D52: 6 | E52: RLT | F52: RLT | G52: R | H52: RH | I52: M0 | J52: A0 | K52: A0
B53: PP | C53: 1557 | D53: 1 | E53: RLT | F53: RLT | G53: R | H53: RH | I53: M2 | J53: A2 | K53: A2
B54: QQ | C54: 4003 | D54: 2 | E54: RLT | F54: RLT | G54: R | H54: RH | I54: M7 | J54: A9 | K54: RLT
B55: RR | C55: 3113 | D55: 3 | E55: RLT | F55: RLT | G55: R | H55: RH | I55: M10 | J55: A3 | K55: A3
B56: SS | C56: 3049 | E56: D | F56: M3 | G56: A8 | H56: R | I56: RH | J56: A1 | K56: A1
E57: L | F57: ma | G57: me | H57: J | I57: V | J57: S | K57: Di
E58: =IF(E$3="","",E$3) -> 43752 | F58: =IF(E$14="","",E$14+1) -> 43753 | G58: =IF(F$14="","",F$14+1) -> 43754 | H58: =IF(G$14="","",G$14+1) -> 43755 | I58: =IF(H$14="","",H$14+1) -> 43756 | J58: =IF(I$14="","",I$14+1) -> 43757 | K58: =IF(J$14="","",J$14+1) -> 43758
B59: TT | C59: 2071 | D59: 2 | E59: R | F59: RH | G59: M4 | H59: M4 | I59: A1 | J59: N1 | K59: N03
B60: UU | C60: 2904 | D60: 1 | E60: R | F60: RH | G60: M3 | H60: M3 | I60: A0 | J60: N0 | K60: N0
B61: VV | C61: 2254 | D61: 4 | E61: R | F61: RH | G61: M6 | H61: M6 | I61: A7 | J61: A7 | K61: RLT
A62: F | B62: WW | C62: 1687 | D62: 5 | E62: R | F62: RH | G62: M5 | H62: M5 | I62: A5 | J62: N5 | K62: N5
B63: XX | C63: 4093 | D63: 6 | E63: R | F63: RH | G63: M9 | H63: A7 | I63: A2 | J63: N2 | K63: N2
B64: YY | C64: 3618 | D64: 1 | E64: R | F64: RH | G64: M2 | H64: M2 | I64: A6 | J64: A6 | K64: N1
B65: ZZ | C65: 3021 | D65: 2 | E65: R | F65: RH | G65: M10 | H65: M10 | I65: A3 | J65: N3 | K65: N3
B66: AAA | C66: 3796 | D66: 3 | E66: R | F66: RH | G66: M1 | H66: M1 | I66: A4 | J66: N4 | K66: N4
B67: BBB | C67: 3402 | E67: M2 | F67: M10 | G67: M0 | H67: M0 | I67: M6 | J67: R | K67: RH
E68: L | F68: ma | G68: me | H68: J | I68: V | J68: S | K68: Di
E69: =IF(E$3="","",E$3) -> 43752 | F69: =IF(E$14="","",E$14+1) -> 43753 | G69: =IF(F$14="","",F$14+1) -> 43754 | H69: =IF(G$14="","",G$14+1) -> 43755 | I69: =IF(H$14="","",H$14+1) -> 43756 | J69: =IF(I$14="","",I$14+1) -> 43757 | K69: =IF(J$14="","",J$14+1) -> 43758
B70: CCC | C70: 2039 | D70: 2 | E70: D | F70: FC | G70: RLT | H70: A0 | I70: N0 | J70: R | K70: RH
B71: DDD | C71: 2068 | D71: 1 | E71: D | F71: FC | G71: A10 | H71: A8 | I71: N2 | J71: R | K71: RH
B72: EEE | C72: 3536 | D72: 4 | E72: D | F72: D | G72: FC | H72: A5 | I72: N5 | J72: R | K72: RH
A73: G | B73: FFF | C73: 1249 | D73: 5 | E73: RLT | F73: D | G73: FC | H73: A1 | I73: N1 | J73: R | K73: RH
B74: GGG | C74: 4191 | D74: 6 | E74: D | F74: FC | G74: D | H74: M9 | I74: RLT | J74: R | K74: RH
B75: HHH | C75: 2104 | D75: 1 | E75: RLT | F75: FC | G75: D | H75: A3 | I75: N3 | J75: R | K75: RH
B76: III | C76: 3174 | D76: 2 | E76: RLT | F76: D | G76: FC | H76: A4 | I76: N4 | J76: R | K76: RH
B77: JJJ | C77: 3303 | D77: 3 | E77: D | F77: FC | G77: D | H77: A6 | I77: RLT | J77: R | K77: RH
B78: KKK | C78: 1189 | E78: A2 | F78: A2 | G78: FC | H78: A2 | I78: A8 | J78: R | K78: RH
B80: LLL | C80: 4312 | D80: C
B81: MMM | C81: 1769 | D81: G
B82: NNN | C82: 2182 | D82: C
B83: OOO | C83: 3402 | D83: F
B84: PPP | C84: 1478 | D84: G
B85: QQQ | C85: 2255
B86: RRR | C86: 1662
B87: SSS | C87: 2260 | I87: RLT | J87: R | K87: RH
B88: TTT | C88: 1471 | D88: F2 | I88: RLT | J88: R | K88: RH

Sheet Feuil4
A1: Feuille de service
A3: 43752
A5: M | B5: Mat. | C5: Nom | G5: Travail | H5: H. début | J5: H. fin | K5: Site | M5: Commentaires
C7: =IFERROR(INDEX(Feuil1!$B$4:$BA$88,MATCH(Feuil4!$K7,Feuil1!$B$4:$B$88,0),MATCH(Feuil4!$A$3,Feuil1!$E$3:$BA$3,0)),"") -> M | G7: CPFI0545 | H7: 05:45 | J7: 13:00 | K7: M
C8: =IFERROR(INDEX(Feuil1!$B$4:$BA$88,MATCH(Feuil4!$K8,Feuil1!$B$4:$B$88,0),MATCH(Feuil4!$A$3,Feuil1!$E$3:$BA$3,0)),"") | G8: OMFI0545 | H8: 05:45 | J8: 13:00 | K8: DM | M8: DISPO
C9: =IFERROR(INDEX(Feuil1!$B$4:$BA$88,MATCH(Feuil4!$K9,Feuil1!$B$4:$B$88,0),MATCH(Feuil4!$A$3,Feuil1!$E$3:$BA$3,0)),"") | G9: OMFI0545 | H9: 05:45 | J9: 13:00 | K9: M01
C10: =IFERROR(INDEX(Feuil1!$B$4:$BA$88,MATCH(Feuil4!$K10,Feuil1!$B$4:$B$88,0),MATCH(Feuil4!$A$3,Feuil1!$E$3:$BA$3,0)),"") | G10: OMFI0545 | H10: 05:45 | J10: 13:00 | K10: M02
C11: =IFERROR(INDEX(Feuil1!$B$4:$BA$88,MATCH(Feuil4!$K11,Feuil1!$B$4:$B$88,0),MATCH(Feuil4!$A$3,Feuil1!$E$3:$BA$3,0)),"") | G11: OMFI0545 | H11: 05:45 | J11: 13:00 | K11: M03
C12: =IFERROR(INDEX(Feuil1!$B$4:$BA$88,MATCH(Feuil4!$K12,Feuil1!$B$4:$B$88,0),MATCH(Feuil4!$A$3,Feuil1!$E$3:$BA$3,0)),"") | G12: OMFI0545 | H12: 05:45 | J12: 13:00 | K12: M04
C13: =IFERROR(INDEX(Feuil1!$B$4:$BA$88,MATCH(Feuil4!$K13,Feuil1!$B$4:$B$88,0),MATCH(Feuil4!$A$3,Feuil1!$E$3:$BA$3,0)),"") | G13: OTFI0545 | H13: 05:45 | J13: 13:00 | K13: M0
C14: =IFERROR(INDEX(Feuil1!$B$4:$BA$88,MATCH(Feuil4!$K14,Feuil1!$B$4:$B$88,0),MATCH(Feuil4!$A$3,Feuil1!$E$3:$BA$3,0)),"") | G14: OTFI0545 | H14: 05:45 | J14: 13:00 | K14: M1
C15: =IFERROR(INDEX(Feuil1!$B$4:$BA$88,MATCH(Feuil4!$K15,Feuil1!$B$4:$B$88,0),MATCH(Feuil4!$A$3,Feuil1!$E$3:$BA$3,0)),"") | G15: OTFI0545 | H15: 05:45 | J15: 13:00 | K15: M2
C16: =IFERROR(INDEX(Feuil1!$B$4:$BA$88,MATCH(Feuil4!$K16,Feuil1!$B$4:$B$88,0),MATCH(Feuil4!$A$3,Feuil1!$E$3:$BA$3,0)),"") | G16: OTFI0545 | H16: 05:45 | J16: 13:00 | K16: M3
C17: =IFERROR(INDEX(Feuil1!$B$4:$BA$88,MATCH(Feuil4!$K17,Feuil1!$B$4:$B$88,0),MATCH(Feuil4!$A$3,Feuil1!$E$3:$BA$3,0)),"") | G17: OTFI0545 | H17: 05:45 | J17: 13:00 | K17: M4
C18: =IFERROR(INDEX(Feuil1!$B$4:$BA$88,MATCH(Feuil4!$K18,Feuil1!$B$4:$B$88,0),MATCH(Feuil4!$A$3,Feuil1!$E$3:$BA$3,0)),"") | G18: OTFI0545 | H18: 05:45 | J18: 13:00 | K18: M5
C19: =IFERROR(INDEX(Feuil1!$B$4:$BA$88,MATCH(Feuil4!$K19,Feuil1!$B$4:$B$88,0),MATCH(Feuil4!$A$3,Feuil1!$E$3:$BA$3,0)),"") | G19: OTFI0545 | H19: 05:45 | J19: 13:00 | K19: M6
C20: =IFERROR(INDEX(Feuil1!$B$4:$BA$88,MATCH(Feuil4!$K20,Feuil1!$B$4:$B$88,0),MATCH(Feuil4!$A$3,Feuil1!$E$3:$BA$3,0)),"") | G20: OTFI0545 | H20: 05:45 | J20: 13:00 | K20: M7
... C22: =IFERROR(INDEX(Feuil1!$B$4:$BA$88,MATCH(Feuil4!$K22,Feuil1!$B$4:$B$88,0),MATCH(Feuil4!$A$3,Feuil1!$E$3:$BA$3,0)),"") | G22: OTFI0545 | H22: 05:45 | J22: 13:00 | K22: M10
A24: D | B24: Mat. | C24: Nom | G24: Travail | H24: H. début | J24: H. fin | K24: Site | M24: Commentaires
C26: =IFERROR(INDEX(Feuil1!$E$4:$BA$88,MATCH(Feuil4!K$12,Feuil1!$B$4:$B$88,0),MATCH(Feuil4!#REF!,Feuil1!$E$3:$BA$3,0)),"") | G26: CPFD0800 | H26: 08:00 | J26: 16:15 | K26: D
C27: =IFERROR(INDEX(Feuil1!$E$4:$BA$88,MATCH(Feuil4!K$12,Feuil1!$B$4:$B$88,0),MATCH(Feuil4!#REF!,Feuil1!$E$3:$BA$3,0)),"") | G27: OMD0800 | H27: 08:00 | J27: 16:15 | K27: D
C28: =IFERROR(INDEX(Feuil1!$E$4:$BA$88,MATCH(Feuil4!K$12,Feuil1!$B$4:$B$88,0),MATCH(Feuil4!#REF!,Feuil1!$E$3:$BA$3,0)),"") | G28: OMD0800 | H28: 08:00 | J28: 16:15 | K28: D
C29: =IFERROR(INDEX(Feuil1!$E$4:$BA$88,MATCH(Feuil4!K$12,Feuil1!$B$4:$B$88,0),MATCH(Feuil4!$A20,Feuil1!$E$3:$BA$3,0)),"") | G29: OMD0800 | H29: 08:00 | J29: 16:15 | K29: D
C30: =IFERROR(INDEX(Feuil1!$E$4:$BA$88,MATCH(Feuil4!K$12,Feuil1!$B$4:$B$88,0),MATCH(Feuil4!$A21,Feuil1!$E$3:$BA$3,0)),"") | G30: OMD0800 | H30: 08:00 | J30: 16:15 | K30: D
C31: =IFERROR(INDEX(Feuil1!$E$4:$BA$88,MATCH(Feuil4!K$12,Feuil1!$B$4:$B$88,0),MATCH(Feuil4!$A22,Feuil1!$E$3:$BA$3,0)),"") | G31: OMD0800 | H31: 08:00 | J31: 16:15 | K31: D
C32: =IFERROR(INDEX(Feuil1!$E$4:$BA$88,MATCH(Feuil4!K$12,Feuil1!$B$4:$B$88,0),MATCH(Feuil4!#REF!,Feuil1!$E$3:$BA$3,0)),"") | G32: OMD0800 | H32: 08:00 | J32: 16:15 | K32: D
C33: =IFERROR(INDEX(Feuil1!$E$4:$BA$88,MATCH(Feuil4!K$12,Feuil1!$B$4:$B$88,0),MATCH(Feuil4!#REF!,Feuil1!$E$3:$BA$3,0)),"") | G33: OMD0800 | H33: 08:00 | J33: 16:15 | K33: D
C34: =IFERROR(INDEX(Feuil1!$E$4:$BA$88,MATCH(Feuil4!K$12,Feuil1!$B$4:$B$88,0),MATCH(Feuil4!#REF!,Feuil1!$E$3:$BA$3,0)),"") | G34: OMD0800 | H34: 08:00 | J34: 16:15 | K34: D
C35: =IFERROR(INDEX(Feuil1!$E$4:$BA$88,MATCH(Feuil4!K$12,Feuil1!$B$4:$B$88,0),MATCH(Feuil4!$A26,Feuil1!$E$3:$BA$3,0)),"") | G35: OTD0803 | H35: 08:00 | J35: 16:21 | K35: FC
C36: =IFERROR(INDEX(Feuil1!$E$4:$BA$88,MATCH(Feuil4!K$12,Feuil1!$B$4:$B$88,0),MATCH(Feuil4!$A27,Feuil1!$E$3:$BA$3,0)),"") | G36: OTD0803 | H36: 08:00 | J36: 16:21 | K36: FC
C37: =IFERROR(INDEX(Feuil1!$E$4:$BA$88,MATCH(Feuil4!K$12,Feuil1!$B$4:$B$88,0),MATCH(Feuil4!$A28,Feuil1!$E$3:$BA$3,0)),"") | G37: OTD0803 | H37: 08:00 | J37: 16:21 | K37: FC
C38: =IFERROR(INDEX(Feuil1!$E$4:$BA$88,MATCH(Feuil4!K$12,Feuil1!$B$4:$B$88,0),MATCH(Feuil4!#REF!,Feuil1!$E$3:$BA$3,0)),"") | G38: OTD0803 | H38: 08:00 | J38: 16:21 | K38: FC
C39: =IFERROR(INDEX(Feuil1!$E$4:$BA$88,MATCH(Feuil4!K$12,Feuil1!$B$4:$B$88,0),MATCH(Feuil4!#REF!,Feuil1!$E$3:$BA$3,0)),"") | G39: OTD0803 | H39: 08:00 | J39: 16:21 | K39: FC
C40: =IFERROR(INDEX(Feuil1!$E$4:$BA$88,MATCH(Feuil4!K$12,Feuil1!$B$4:$B$88,0),MATCH(Feuil4!#REF!,Feuil1!$E$3:$BA$3,0)),"") | G40: OTD0803 | H40: 08:00 | J40: 16:21 | K40: FC
C41: =IFERROR(INDEX(Feuil1!$E$4:$BA$88,MATCH(Feuil4!K$12,Feuil1!$B$4:$B$88,0),MATCH(Feuil4!$A32,Feuil1!$E$3:$BA$3,0)),"") | G41: OTD0803 | H41: 08:00 | J41: 16:21 | K41: FC
A43: A | B43: Mat. | C43: Nom | G43: Travail | H43: H. début | J43: H. fin | K43: Site | M43: Commentaires
C45: =IFERROR(INDEX(Feuil1!$E$4:$BA$88,MATCH(Feuil4!K$12,Feuil1!$B$4:$B$88,0),MATCH(Feuil4!#REF!,Feuil1!$E$3:$BA$3,0)),"") | G45: CPFI1245 | H45: 05:45 | J45: 13:00 | K45: A
C46: =IFERROR(INDEX(Feuil1!$E$4:$BA$88,MATCH(Feuil4!K$12,Feuil1!$B$4:$B$88,0),MATCH(Feuil4!#REF!,Feuil1!$E$3:$BA$3,0)),"") | G46: OMFI1245 | H46: 05:45 | J46: 13:00 | K46: DA | M46: DISPO
C47: =IFERROR(INDEX(Feuil1!$E$4:$BA$88,MATCH(Feuil4!K$12,Feuil1!$B$4:$B$88,0),MATCH(Feuil4!#REF!,Feuil1!$E$3:$BA$3,0)),"") | G47: OMFI1245 | H47: 05:45 | J47: 13:00 | K47: A01
C48: =IFERROR(INDEX(Feuil1!$E$4:$BA$88,MATCH(Feuil4!K$12,Feuil1!$B$4:$B$88,0),MATCH(Feuil4!$A39,Feuil1!$E$3:$BA$3,0)),"") | G48: OMFI1245 | H48: 05:45 | J48: 13:00 | K48: A02
C49: =IFERROR(INDEX(Feuil1!$E$4:$BA$88,MATCH(Feuil4!K$12,Feuil1!$B$4:$B$88,0),MATCH(Feuil4!$A40,Feuil1!$E$3:$BA$3,0)),"") | G49: OMFI1245 | H49: 05:45 | J49: 13:00 | K49: A03
C50: =IFERROR(INDEX(Feuil1!$E$4:$BA$88,MATCH(Feuil4!K$12,Feuil1!$B$4:$B$88,0),MATCH(Feuil4!$A41,Feuil1!$E$3:$BA$3,0)),"") | G50: OMFI1245 | H50: 05:45 | J50: 13:00 | K50: A04
C51: =IFERROR(INDEX(Feuil1!$E$4:$BA$88,MATCH(Feuil4!K$12,Feuil1!$B$4:$B$88,0),MATCH(Feuil4!#REF!,Feuil1!$E$3:$BA$3,0)),"") | G51: OTFI1245 | H51: 12:45 | J51: 20:00 | K51: DA | M51: DISPO
C52: =IFERROR(INDEX(Feuil1!$E$4:$BA$88,MATCH(Feuil4!K$12,Feuil1!$B$4:$B$88,0),MATCH(Feuil4!#REF!,Feuil1!$E$3:$BA$3,0)),"") | G52: OTFI1245 | H52: 12:45 | J52: 20:00 | K52: A0
C53: =IFERROR(INDEX(Feuil1!$E$4:$BA$88,MATCH(Feuil4!K$12,Feuil1!$B$4:$B$88,0),MATCH(Feuil4!#REF!,Feuil1!$E$3:$BA$3,0)),"") | G53: OTFI1245 | H53: 12:45 | J53: 20:00 | K53: A1
C54: =IFERROR(INDEX(Feuil1!$E$4:$BA$88,MATCH(Feuil4!K$12,Feuil1!$B$4:$B$88,0),MATCH(Feuil4!$A45,Feuil1!$E$3:$BA$3,0)),"") | G54: OTFI1245 | H54: 12:45 | J54: 20:00 | K54: A2
C55: =IFERROR(INDEX(Feuil1!$E$4:$BA$88,MATCH(Feuil4!K$12,Feuil1!$B$4:$B$88,0),MATCH(Feuil4!$A46,Feuil1!$E$3:$BA$3,0)),"") | G55: OTFI1245 | H55: 12:45 | J55: 20:00 | K55: A3
C56: =IFERROR(INDEX(Feuil1!$E$4:$BA$88,MATCH(Feuil4!K$12,Feuil1!$B$4:$B$88,0),MATCH(Feuil4!$A47,Feuil1!$E$3:$BA$3,0)),"") | G56: OTFI1245 | H56: 12:45 | J56: 20:00 | K56: A4
C57: =IFERROR(INDEX(Feuil1!$E$4:$BA$88,MATCH(Feuil4!K$12,Feuil1!$B$4:$B$88,0),MATCH(Feuil4!#REF!,Feuil1!$E$3:$BA$3,0)),"") | G57: OTFI1245 | H57: 12:45 | J57: 20:00 | K57: A5
C58: =IFERROR(INDEX(Feuil1!$E$4:$BA$88,MATCH(Feuil4!K$12,Feuil1!$B$4:$B$88,0),MATCH(Feuil4!#REF!,Feuil1!$E$3:$BA$3,0)),"") | G58: OTFI1245 | H58: 12:45 | J58: 20:00 | K58: A6
C59: =IFERROR(INDEX(Feuil1!$E$4:$BA$88,MATCH(Feuil4!K$12,Feuil1!$B$4:$B$88,0),MATCH(Feuil4!#REF!,Feuil1!$E$3:$BA$3,0)),"") | G59: OTFI1245 | H59: 12:45 | J59: 20:00 | K59: A7
C60: =IFERROR(INDEX(Feuil1!$E$4:$BA$88,MATCH(Feuil4!K$12,Feuil1!$B$4:$B$88,0),MATCH(Feuil4!$A51,Feuil1!$E$3:$BA$3,0)),"") | G60: OTFI1245 | H60: 12:45 | J60: 20:00 | K60: A8
C61: =IFERROR(INDEX(Feuil1!$E$4:$BA$88,MATCH(Feuil4!K$12,Feuil1!$B$4:$B$88,0),MATCH(Feuil4!$A52,Feuil1!$E$3:$BA$3,0)),"") | G61: OTFI1245 | H61: 12:45 | J61: 20:00 | K61: A9
C62: =IFERROR(INDEX(Feuil1!$E$4:$BA$88,MATCH(Feuil4!K$12,Feuil1!$B$4:$B$88,0),MATCH(Feuil4!$A53,Feuil1!$E$3:$BA$3,0)),"") | G62: OTFI1245 | H62: 12:45 | J62: 20:00 | K62: A10
A64: N | B64: Mat. | C64: Nom | G64: Travail | H64: H. début | J64: H. fin | K64: Site | M64: Commentaires
C66: =IFERROR(INDEX(Feuil1!$E$4:$BA$88,MATCH(Feuil4!K$12,Feuil1!$B$4:$B$88,0),MATCH(Feuil4!#REF!,Feuil1!$E$3:$BA$3,0)),"") | G66: CPFI1945 | H66: 19:45 | J66: 30:00 | K66: N
C67: =IFERROR(INDEX(Feuil1!$E$4:$BA$88,MATCH(Feuil4!K$12,Feuil1!$B$4:$B$88,0),MATCH(Feuil4!#REF!,Feuil1!$E$3:$BA$3,0)),"") | G67: OMFI1945 | H67: 19:45 | J67: 30:00 | K67: N01
C68: =IFERROR(INDEX(Feuil1!$E$4:$BA$88,MATCH(Feuil4!K$12,Feuil1!$B$4:$B$88,0),MATCH(Feuil4!#REF!,Feuil1!$E$3:$BA$3,0)),"") | G68: OMFI1945 | H68: 19:45 | J68: 30:00 | K68: N02
C69: =IFERROR(INDEX(Feuil1!$E$4:$BA$88,MATCH(Feuil4!K$12,Feuil1!$B$4:$B$88,0),MATCH(Feuil4!#REF!,Feuil1!$E$3:$BA$3,0)),"") | G69: OMFI1945 | H69: 19:45 | J69: 30:00 | K69: N03
C70: =IFERROR(INDEX(Feuil1!$E$4:$BA$88,MATCH(Feuil4!K$12,Feuil1!$B$4:$B$88,0),MATCH(Feuil4!#REF!,Feuil1!$E$3:$BA$3,0)),"") | G70: OMFI1945 | H70: 19:45 | J70: 30:00 | K70: N04
C71: =IFERROR(INDEX(Feuil1!$E$4:$BA$88,MATCH(Feuil4!K$12,Feuil1!$B$4:$B$88,0),MATCH(Feuil4!#REF!,Feuil1!$E$3:$BA$3,0)),"") | G71: OTFI1945 | H71: 19:45 | J71: 30:00 | K71: N0
C72: =IFERROR(INDEX(Feuil1!$E$4:$BA$88,MATCH(Feuil4!K$12,Feuil1!$B$4:$B$88,0),MATCH(Feuil4!#REF!,Feuil1!$E$3:$BA$3,0)),"") | G72: OTFI1945 | H72: 19:45 | J72: 30:00 | K72: N1
C73: =IFERROR(INDEX(Feuil1!$E$4:$BA$88,MATCH(Feuil4!K$12,Feuil1!$B$4:$B$88,0),MATCH(Feuil4!#REF!,Feuil1!$E$3:$BA$3,0)),"") | G73: OTFI1945 | H73: 19:45 | J73: 30:00 | K73: N2
C74: =IFERROR(INDEX(Feuil1!$E$4:$BA$88,MATCH(Feuil4!K$12,Feuil1!$B$4:$B$88,0),MATCH(Feuil4!#REF!,Feuil1!$E$3:$BA$3,0)),"") | G74: OTFI1945 | H74: 19:45 | J74: 30:00 | K74: N3
C75: =IFERROR(INDEX(Feuil1!$E$4:$BA$88,MATCH(Feuil4!K$12,Feuil1!$B$4:$B$88,0),MATCH(Feuil4!#REF!,Feuil1!$E$3:$BA$3,0)),"") | G75: OTFI1945 | H75: 19:45 | J75: 30:00 | K75: N4
C76: =IFERROR(INDEX(Feuil1!$E$4:$BA$88,MATCH(Feuil4!K$12,Feuil1!$B$4:$B$88,0),MATCH(Feuil4!#REF!,Feuil1!$E$3:$BA$3,0)),"") | G76: OTFI1945 | H76: 19:45 | J76: 30:00 | K76: N5
A78: =A3+1 -> 43753
A80: M | B80: Mat. | C80: Nom | G80: Travail | H80: H. début | J80: H. fin | K80: Site | M80: Commentaires
C82: =IFERROR(INDEX(Feuil1!$E$4:$BA$88,MATCH(Feuil4!K$12,Feuil1!$B$4:$B$88,0),MATCH(Feuil4!#REF!,Feuil1!$E$3:$BA$3,0)),"") | G82: CPFI0545 | H82: 05:45 | J82: 13:00 | K82: M
C83: =IFERROR(INDEX(Feuil1!$E$4:$BA$88,MATCH(Feuil4!K$12,Feuil1!$B$4:$B$88,0),MATCH(Feuil4!#REF!,Feuil1!$E$3:$BA$3,0)),"") | G83: OMFI0545 | H83: 05:45 | J83: 13:00 | K83: DM | M83: DISPO
C84: =IFERROR(INDEX(Feuil1!$E$4:$BA$88,MATCH(Feuil4!K$12,Feuil1!$B$4:$B$88,0),MATCH(Feuil4!#REF!,Feuil1!$E$3:$BA$3,0)),"") | G84: OMFI0545 | H84: 05:45 | J84: 13:00 | K84: M01
C85: =IFERROR(INDEX(Feuil1!$E$4:$BA$88,MATCH(Feuil4!K$12,Feuil1!$B$4:$B$88,0),MATCH(Feuil4!#REF!,Feuil1!$E$3:$BA$3,0)),"") | G85: OMFI0545 | H85: 05:45 | J85: 13:00 | K85: M02
C86: =IFERROR(INDEX(Feuil1!$E$4:$BA$88,MATCH(Feuil4!K$12,Feuil1!$B$4:$B$88,0),MATCH(Feuil4!#REF!,Feuil1!$E$3:$BA$3,0)),"") | G86: OMFI0545 | H86: 05:45 | J86: 13:00 | K86: M03
C87: =IFERROR(INDEX(Feuil1!$E$4:$BA$88,MATCH(Feuil4!K$12,Feuil1!$B$4:$B$88,0),MATCH(Feuil4!#REF!,Feuil1!$E$3:$BA$3,0)),"") | G87: OMFI0545 | H87: 05:45 | J87: 13:00 | K87: M04
C88: =IFERROR(INDEX(Feuil1!$E$4:$BA$88,MATCH(Feuil4!K$12,Feuil1!$B$4:$B$88,0),MATCH(Feuil4!#REF!,Feuil1!$E$3:$BA$3,0)),"") | G88: OTFI0545 | H88: 05:45 | J88: 13:00 | K88: DM | M88: DISPO
C89: =IFERROR(INDEX(Feuil1!$E$4:$BA$88,MATCH(Feuil4!K$12,Feuil1!$B$4:$B$88,0),MATCH(Feuil4!#REF!,Feuil1!$E$3:$BA$3,0)),"") | G89: OTFI0545 | H89: 05:45 | J89: 13:00 | K89: M0
C90: =IFERROR(INDEX(Feuil1!$E$4:$BA$88,MATCH(Feuil4!K$12,Feuil1!$B$4:$B$88,0),MATCH(Feuil4!#REF!,Feuil1!$E$3:$BA$3,0)),"") | G90: OTFI0545 | H90: 05:45 | J90: 13:00 | K90: M1
C91: =IFERROR(INDEX(Feuil1!$E$4:$BA$88,MATCH(Feuil4!K$12,Feuil1!$B$4:$B$88,0),MATCH(Feuil4!#REF!,Feuil1!$E$3:$BA$3,0)),"") | G91: OTFI0545 | H91: 05:45 | J91: 13:00 | K91: M2
C92: =IFERROR(INDEX(Feuil1!$E$4:$BA$88,MATCH(Feuil4!K$12,Feuil1!$B$4:$B$88,0),MATCH(Feuil4!#REF!,Feuil1!$E$3:$BA$3,0)),"") | G92: OTFI0545 | H92: 05:45 | J92: 13:00 | K92: M3
C93: =IFERROR(INDEX(Feuil1!$E$4:$BA$88,MATCH(Feuil4!K$12,Feuil1!$B$4:$B$88,0),MATCH(Feuil4!#REF!,Feuil1!$E$3:$BA$3,0)),"") | G93: OTFI0545 | H93: 05:45 | J93: 13:00 | K93: M4
C94: =IFERROR(INDEX(Feuil1!$E$4:$BA$88,MATCH(Feuil4!K$12,Feuil1!$B$4:$B$88,0),MATCH(Feuil4!#REF!,Feuil1!$E$3:$BA$3,0)),"") | G94: OTFI0545 | H94: 05:45 | J94: 13:00 | K94: M5
C95: =IFERROR(INDEX(Feuil1!$E$4:$BA$88,MATCH(Feuil4!K$12,Feuil1!$B$4:$B$88,0),MATCH(Feuil4!#REF!,Feuil1!$E$3:$BA$3,0)),"") | G95: OTFI0545 | H95: 05:45 | J95: 13:00 | K95: M6
C96: =IFERROR(INDEX(Feuil1!$E$4:$BA$88,MATCH(Feuil4!K$12,Feuil1!$B$4:$B$88,0),MATCH(Feuil4!#REF!,Feuil1!$E$3:$BA$3,0)),"") | G96: OTFI0545 | H96: 05:45 | J96: 13:00 | K96: M7
C97: =IFERROR(INDEX(Feuil1!$E$4:$BA$88,MATCH(Feuil4!K$12,Feuil1!$B$4:$B$88,0),MATCH(Feuil4!#REF!,Feuil1!$E$3:$BA$3,0)),"") | G97: OTFI0545 | H97: 05:45 | J97: 13:00 | K97: M9
C98: =IFERROR(INDEX(Feuil1!$E$4:$BA$88,MATCH(Feuil4!K$12,Feuil1!$B$4:$B$88,0),MATCH(Feuil4!#REF!,Feuil1!$E$3:$BA$3,0)),"") | G98: OTFI0545 | H98: 05:45 | J98: 13:00 | K98: M10
A100: D | B100: Mat. | C100: Nom | G100: Travail | H100: H. début | J100: H. fin | K100: Site | M100: Commentaires
C102: =IFERROR(INDEX(Feuil1!$E$4:$BA$88,MATCH(Feuil4!K$12,Feuil1!$B$4:$B$88,0),MATCH(Feuil4!#REF!,Feuil1!$E$3:$BA$3,0)),"") | K102: D
C103: =IFERROR(INDEX(Feuil1!$E$4:$BA$88,MATCH(Feuil4!K$12,Feuil1!$B$4:$B$88,0),MATCH(Feuil4!#REF!,Feuil1!$E$3:$BA$3,0)),"") | G103: CPFD0800 | H103: 08:00 | J103: 16:15 | K103: D
C104: =IFERROR(INDEX(Feuil1!$E$4:$BA$88,MATCH(Feuil4!K$12,Feuil1!$B$4:$B$88,0),MATCH(Feuil4!#REF!,Feuil1!$E$3:$BA$3,0)),"") | G104: CPFD0800 | H104: 08:00 | J104: 16:15 | K104: D
C105: =IFERROR(INDEX(Feuil1!$E$4:$BA$88,MATCH(Feuil4!K$12,Feuil1!$B$4:$B$88,0),MATCH(Feuil4!#REF!,Feuil1!$E$3:$BA$3,0)),"") | G105: OMD0800 | H105: 08:00 | J105: 16:15 | K105: D
C106: =IFERROR(INDEX(Feuil1!$E$4:$BA$88,MATCH(Feuil4!K$12,Feuil1!$B$4:$B$88,0),MATCH(Feuil4!#REF!,Feuil1!$E$3:$BA$3,0)),"") | G106: OMD0800 | H106: 08:00 | J106: 16:15 | K106: D
C107: =IFERROR(INDEX(Feuil1!$E$4:$BA$88,MATCH(Feuil4!K$12,Feuil1!$B$4:$B$88,0),MATCH(Feuil4!#REF!,Feuil1!$E$3:$BA$3,0)),"") | G107: OMD0800 | H107: 08:00 | J107: 16:15 | K107: D
C108: =IFERROR(INDEX(Feuil1!$E$4:$BA$88,MATCH(Feuil4!K$12,Feuil1!$B$4:$B$88,0),MATCH(Feuil4!#REF!,Feuil1!$E$3:$BA$3,0)),"") | G108: OMD0800 | H108: 08:00 | J108: 16:15 | K108: D
C109: =IFERROR(INDEX(Feuil1!$E$4:$BA$88,MATCH(Feuil4!K$12,Feuil1!$B$4:$B$88,0),MATCH(Feuil4!#REF!,Feuil1!$E$3:$BA$3,0)),"") | G109: OMD0800 | H109: 08:00 | J109: 16:15 | K109: D
C110: =IFERROR(INDEX(Feuil1!$E$4:$BA$88,MATCH(Feuil4!K$12,Feuil1!$B$4:$B$88,0),MATCH(Feuil4!#REF!,Feuil1!$E$3:$BA$3,0)),"") | G110: OMD0800 | H110: 08:00 | J110: 16:15 | K110: D
C111: =IFERROR(INDEX(Feuil1!$E$4:$BA$88,MATCH(Feuil4!K$12,Feuil1!$B$4:$B$88,0),MATCH(Feuil4!#REF!,Feuil1!$E$3:$BA$3,0)),"") | G111: OMD0800 | H111: 08:00 | J111: 16:15 | K111: FC
C112: =IFERROR(INDEX(Feuil1!$E$4:$BA$88,MATCH(Feuil4!K$12,Feuil1!$B$4:$B$88,0),MATCH(Feuil4!#REF!,Feuil1!$E$3:$BA$3,0)),"") | G112: OMD0800 | H112: 08:00 | J112: 16:15 | K112: FC
C113: =IFERROR(INDEX(Feuil1!$E$4:$BA$88,MATCH(Feuil4!K$12,Feuil1!$B$4:$B$88,0),MATCH(Feuil4!#REF!,Feuil1!$E$3:$BA$3,0)),"") | G113: OTD0803 | H113: 08:00 | J113: 16:21 | K113: FC
C114: =IFERROR(INDEX(Feuil1!$E$4:$BA$88,MATCH(Feuil4!K$12,Feuil1!$B$4:$B$88,0),MATCH(Feuil4!#REF!,Feuil1!$E$3:$BA$3,0)),"") | G114: OTD0803 | H114: 08:00 | J114: 16:21 | K114: FC
... C117: =IFERROR(INDEX(Feuil1!$E$4:$BA$88,MATCH(Feuil4!K$12,Feuil1!$B$4:$B$88,0),MATCH(Feuil4!#REF!,Feuil1!$E$3:$BA$3,0)),"") | G117: OTD0803 | H117: 08:00 | J117: 16:21 | K117: FC
...
