Workbook
Name Code: 'STOCK BAR'!#REF!
Name Designation: 'STOCK BAR'!$B:$B
Name FEVRIER: 'STOCK BAR'!#REF!
Name ode: 'STOCK BAR'!#REF!
Name prix: 'STOCK BAR'!$C:$C
Name References: 'STOCK BAR'!#REF!

Sheet STOCK BAR
A1: L E R E N D E Z - V O U S
A2: GESTION DE STOCK BAR
H3: VIN ROUGE
A4: Date | B4: Désignation | C4: Prix Achat | D4: Quantité | E4: Mini | F4: Rupture | H4: Date | I4: Désignation | J4: Prix Achat | K4: Quantité | L4: Mini | M4: Rupture
A5: =IF(B5="","",NOW()) | H5: =IF(I5="","",NOW())
A6: =IF(B6="","",NOW()) | H6: =IF(I6="","",NOW())
A7: =IF(B7="","",NOW()) | H7: =IF(I7="","",NOW())
A8: =IF(B8="","",NOW()) | H8: =IF(I8="","",NOW())
A9: =IF(B9="","",NOW()) | H9: =IF(I9="","",NOW())
A10: =IF(B10="","",NOW()) | H10: =IF(I10="","",NOW())
A11: =IF(B11="","",NOW()) | H11: =IF(I11="","",NOW())
A12: =IF(B12="","",NOW()) | H12: =IF(I12="","",NOW())
A13: =IF(B13="","",NOW()) | H13: =IF(I13="","",NOW())
A14: =IF(B14="","",NOW()) | H14: =IF(I14="","",NOW())
A15: =IF(B15="","",NOW()) | H15: =IF(I15="","",NOW())
A16: =IF(B16="","",NOW()) | H16: =IF(I16="","",NOW())
... A20: =IF(B20="","",NOW()) | H20: =IF(I20="","",NOW())
A24: BIERE | H24: VIN BLANC
A25: Date | B25: Désignation | C25: Prix Achat | D25: Quantité | E25: Mini | F25: Rupture | H25: Date | I25: Désignation | J25: Prix Achat | K25: Quantité | L25: Mini | M25: Rupture
A26: =IF(B26="","",NOW()) | H26: =IF(I26="","",NOW())
A27: =IF(B27="","",NOW()) | H27: =IF(I27="","",NOW())
A28: =IF(B28="","",NOW()) | H28: =IF(I28="","",NOW())
A29: =IF(B29="","",NOW()) | H29: =IF(I29="","",NOW())
A30: =IF(B30="","",NOW()) | H30: =IF(I30="","",NOW())
A31: =IF(B31="","",NOW()) | H31: =IF(I31="","",NOW())
A32: =IF(B32="","",NOW()) | H32: =IF(I32="","",NOW())
A33: =IF(B33="","",NOW()) | H33: =IF(I33="","",NOW())
A34: =IF(B34="","",NOW()) | H34: =IF(I34="","",NOW())
A35: =IF(B35="","",NOW()) | H35: =IF(I35="","",NOW())
A36: =IF(B36="","",NOW()) | H36: =IF(I36="","",NOW())
A37: =IF(B37="","",NOW()) | H37: =IF(I37="","",NOW())
... A41: =IF(B41="","",NOW()) | H41: =IF(I41="","",NOW())
A45: EAU | H45: Aperitif
A46: Date | B46: Désignation | C46: Prix Achat | D46: Quantité | E46: Mini | F46: Rupture | H46: Date | I46: Désignation | J46: Prix Achat | K46: Quantité | L46: Mini | M46: Rupture
A47: =IF(B47="","",NOW()) | H47: =IF(I47="","",NOW())
A48: =IF(B48="","",NOW()) | H48: =IF(I48="","",NOW())
A49: =IF(B49="","",NOW()) | H49: =IF(I49="","",NOW())
A50: =IF(B50="","",NOW()) | H50: =IF(I50="","",NOW())
A51: =IF(B51="","",NOW()) | H51: =IF(I51="","",NOW())
A52: =IF(B52="","",NOW()) | H52: =IF(I52="","",NOW())
A53: =IF(B53="","",NOW()) | H53: =IF(I53="","",NOW())
A54: =IF(B54="","",NOW()) | H54: =IF(I54="","",NOW())
A55: =IF(B55="","",NOW()) | H55: =IF(I55="","",NOW())
A56: =IF(B56="","",NOW()) | H56: =IF(I56="","",NOW())
A57: =IF(B57="","",NOW()) | H57: =IF(I57="","",NOW())
A58: =IF(B58="","",NOW()) | H58: =IF(I58="","",NOW())
... A62: =IF(B62="","",NOW()) | H62: =IF(I62="","",NOW())
A66: Champagne / Mousseux | H66: Wisky / Scotch
A67: Date | B67: Désignation | C67: Prix Achat | D67: Quantité | E67: Mini | F67: Rupture | H67: Date | I67: Désignation | J67: Prix Achat | K67: Quantité | L67: Mini | M67: Rupture
A68: =IF(B68="","",NOW()) | H68: =IF(I68="","",NOW())
A69: =IF(B69="","",NOW()) | H69: =IF(I69="","",NOW())
A70: =IF(B70="","",NOW()) | H70: =IF(I70="","",NOW())
A71: =IF(B71="","",NOW()) | H71: =IF(I71="","",NOW())
A72: =IF(B72="","",NOW()) | H72: =IF(I72="","",NOW())
A73: =IF(B73="","",NOW()) | H73: =IF(I73="","",NOW())
A74: =IF(B74="","",NOW()) | H74: =IF(I74="","",NOW())
A75: =IF(B75="","",NOW()) | H75: =IF(I75="","",NOW())
A76: =IF(B76="","",NOW()) | H76: =IF(I76="","",NOW())
A77: =IF(B77="","",NOW()) | H77: =IF(I77="","",NOW())
A78: =IF(B78="","",NOW()) | H78: =IF(I78="","",NOW())
A79: =IF(B79="","",NOW()) | H79: =IF(I79="","",NOW())
... A83: =IF(B83="","",NOW()) | H83: =IF(I83="","",NOW())

Sheet STOCK RESTO
A1: L E R E N D E Z - V O U S
A2: GESTION DE STOCK RESTO
A3: Légumes | H3: Volailles
A4: Date | B4: Désignation | C4: Prix d'achat | D4: Quantité | E4: Mini | F4: Rupture | H4: Date | I4: Désignation | J4: Prix d'achat | K4: Quantité | L4: Mini | M4: Rupture
A5: =IF(B5="","",NOW()) | H5: =IF(I5="","",NOW())
A6: =IF(B6="","",NOW()) | H6: =IF(I6="","",NOW())
A7: =IF(B7="","",NOW()) | H7: =IF(I7="","",NOW())
A8: =IF(B8="","",NOW()) | H8: =IF(I8="","",NOW())
A9: =IF(B9="","",NOW()) | H9: =IF(I9="","",NOW())
A10: =IF(B10="","",NOW()) | H10: =IF(I10="","",NOW())
A11: =IF(B11="","",NOW()) | H11: =IF(I11="","",NOW())
A12: =IF(B12="","",NOW()) | H12: =IF(I12="","",NOW())
A13: =IF(B13="","",NOW()) | H13: =IF(I13="","",NOW())
A14: =IF(B14="","",NOW()) | H14: =IF(I14="","",NOW())
A15: =IF(B15="","",NOW()) | H15: =IF(I15="","",NOW())
A16: =IF(B16="","",NOW()) | H16: =IF(I16="","",NOW())
... A22: =IF(B22="","",NOW()) | H22: =IF(I22="","",NOW())
A26: Céréales | H26: Poissons
A27: Date | B27: Désignation | C27: Prix d'achat | D27: Quantité | E27: Mini | F27: Rupture | H27: Date | I27: Désignation | J27: Prix d'achat | K27: Quantité | L27: Mini | M27: Rupture
A28: =IF(B28="","",NOW()) | H28: =IF(I28="","",NOW())
A29: =IF(B29="","",NOW()) | H29: =IF(I29="","",NOW())
A30: =IF(B30="","",NOW()) | H30: =IF(I30="","",NOW())
A31: =IF(B31="","",NOW()) | H31: =IF(I31="","",NOW())
A32: =IF(B32="","",NOW()) | H32: =IF(I32="","",NOW())
A33: =IF(B33="","",NOW()) | H33: =IF(I33="","",NOW())
A34: =IF(B34="","",NOW()) | H34: =IF(I34="","",NOW())
A35: =IF(B35="","",NOW()) | H35: =IF(I35="","",NOW())
A36: =IF(B36="","",NOW()) | H36: =IF(I36="","",NOW())
A37: =IF(B37="","",NOW()) | H37: =IF(I37="","",NOW())
A38: =IF(B38="","",NOW()) | H38: =IF(I38="","",NOW())
A39: =IF(B39="","",NOW()) | H39: =IF(I39="","",NOW())
... A43: =IF(B43="","",NOW()) | H43: =IF(I43="","",NOW())
A47: Viande Rouge | H47: Divers
A48: Date | B48: Désignation | C48: Prix d'achat | D48: Quantité | E48: Mini | F48: Rupture | H48: Date | I48: Désignation | J48: Prix d'achat | K48: Quantité | L48: Mini | M48: Rupture
A49: =IF(B49="","",NOW()) | H49: =IF(I49="","",NOW())
A50: =IF(B50="","",NOW()) | H50: =IF(I50="","",NOW())
A51: =IF(B51="","",NOW()) | H51: =IF(I51="","",NOW())
A52: =IF(B52="","",NOW()) | H52: =IF(I52="","",NOW())
A53: =IF(B53="","",NOW()) | H53: =IF(I53="","",NOW())
A54: =IF(B54="","",NOW()) | H54: =IF(I54="","",NOW())
A55: =IF(B55="","",NOW()) | H55: =IF(I55="","",NOW())
A56: =IF(B56="","",NOW()) | H56: =IF(I56="","",NOW())
A57: =IF(B57="","",NOW()) | H57: =IF(I57="","",NOW())
A58: =IF(B58="","",NOW()) | H58: =IF(I58="","",NOW())
A59: =IF(B59="","",NOW()) | H59: =IF(I59="","",NOW())
A60: =IF(B60="","",NOW()) | H60: =IF(I60="","",NOW())
... A65: =IF(B65="","",NOW()) | H65: =IF(I65="","",NOW())
A69: Fruits | H69: Pains
A70: Date | B70: Désignation | C70: Prix d'achat | D70: Quantité | E70: Mini | F70: Rupture | H70: Date | I70: Désignation | J70: Prix d'achat | K70: Quantité | L70: Mini | M70: Rupture
A71: =IF(B71="","",NOW()) | H71: =IF(I71="","",NOW())
A72: =IF(B72="","",NOW()) | H72: =IF(I72="","",NOW())
A73: =IF(B73="","",NOW()) | H73: =IF(I73="","",NOW())
A74: =IF(B74="","",NOW()) | H74: =IF(I74="","",NOW())
A75: =IF(B75="","",NOW()) | H75: =IF(I75="","",NOW())
A76: =IF(B76="","",NOW()) | H76: =IF(I76="","",NOW())
A77: =IF(B77="","",NOW()) | H77: =IF(I77="","",NOW())
A78: =IF(B78="","",NOW()) | H78: =IF(I78="","",NOW())
A79: =IF(B79="","",NOW()) | H79: =IF(I79="","",NOW())
A80: =IF(B80="","",NOW()) | H80: =IF(I80="","",NOW())
A81: =IF(B81="","",NOW()) | H81: =IF(I81="","",NOW())
A82: =IF(B82="","",NOW()) | H82: =IF(I82="","",NOW())
... A88: =IF(B88="","",NOW()) | H88: =IF(I88="","",NOW())

Sheet MENU RESTO
A1: M E N U R E S T O
A2: Désignation | B2: Type | C2: Prix
A3: Calamar frit + Mayo +
A4: Chawarma + Poulet
A5: Chawarma + Viande
A6: Chiffonade de Jambon + Melon
A7: Cote de veau + purée de pomme de terre
A8: Couscous Royal
A9: Escabeche de filet de Maquereaux + Salade verte aux tomates
A10: Foie gras
A11: Gigot d'agneaux + Frite / Alloco
A12: Homard braisé
A13: Mangue + Avocat + Tomate
A14: MENU BAR : Entrée-Plat / Plat-Désert
... A35: Steack + Frite

Sheet PARAMETRES
A1: Entrée | C1: Tomates | E1: Poulet chair | G1: Riz | I1: Sol | K1: Steack | M1: Œufs | O1: Baguette | Q1: Mangues | S1: Fanta
A2: Plat | C2: Oignons | E2: Poulet local | G2: Couscous | I2: Garbas | K2: Cote de veaux | M2: Chocolat noir | O2: Pain burger | Q2: Banane douce | S2: Coca
A3: Désert | C3: Ail | E3: pintade | G3: Farine | I3: Homard | K3: Gigot d'agneaux | M3: Chocolat blanc | O3: Pain chawarma | Q3: Ananas | S3: Sprite
A4: Amuse-bouche | C4: Persil | E4: Caille | G4: Attieke | I4: Calamar | K4: Souris d'agneaux | M4: Beurre | Q4: Pommes | S4: Moka
C5: Epinard | E5: Lapin | I5: Saumon | M5: Gelatine | Q5: Melon | S5: Youki
C6: Gombo | E6: Gesier de volailles | I6: Maquereaux | M6: Sel | Q6: Coco | S6: Tonic
C7: Aubergine violet | E7: Foie gras | I7: Poisson fumé | M7: Sucre | Q7: Fraise | S7: Coca Zero
C8: Aubergine | I8: Capitaine | M8: Ketchup | Q8: Papaye | S8: Fanta cocktail
C9: Feuille d'aubergine | I9: Thon | M9: Moutarde | Q9: Goyave | S9: Youki cocktail
C10: Haricot verts | I10: Machoiron | M10: Mayonnaise | Q10: Pamplemousse
C11: Haricot | I11: Carpe | M11: Huile | Q11: Grenadine | S11: Beaufort
C12: Oseille | I12: Crevette | Q12: Peche | S12: Brakina
C13: Carotte | Q13: Passion | S13: Liffe
C14: Poireaux | Q14: Abricot | S14: Corona
C15: Poivrons
C16: Pomme de terre | S16: Gin
C17: Igname | S17: Martini
C18: Banane plantain | S18: Baylaise
S20: Jack Daniel
S21: Johny Walker
S22: Vodka
S24: Lafi
S25: Vittel
S27: Gin
S28: Martini
S29: Baylaise

Sheet VENTES
A1: L E R E N D E Z - V O U S
A3: VENTES BAR | F3: T.V | G3: VENTES RESTO
A5: TOTAL BAR = | C5: =SUM(E7:E19) -> 0 | F5: =IF(OR(C5,I5)="","",C5+I5) -> 0 | G5: TOTAL RESTO = | I5: =SUM(K7:K19) -> 0
A6: DATE | B6: DESIGNATION | C6: QUANTITE | D6: PRIX.U | E6: PRIX TOTAL | G6: DATE | H6: DESIGNATION | I6: QUANTITE | J6: PRIX.U | K6: PRIX TOTAL
A7: 43748 | D7: =IF(B7="","",VLOOKUP(B7,'STOCK BAR'!B:C,2,0)) | E7: =IF(B7="","",C7*D7) | G7: =IF(B7="","",TODAY()) | K7: =IF(H7="","",I7*J7)
D8: =IF(B8="","",VLOOKUP(B8,'STOCK BAR'!B:C,2,0)) | E8: =IF(B8="","",C8*D8) | G8: =IF(H8="","",TODAY()) | J8: =IF(H8="","",VLOOKUP(H8,'STOCK RESTO'!B:C,2,0)) | K8: =IF(H8="","",I8*J8)
A9: =IF(B9="","",TODAY()) | E9: =IF(B9="","",C9*D9) | G9: =IF(H9="","",TODAY()) | J9: =IF(H9="","",VLOOKUP(H9,'STOCK RESTO'!B:C,2,0)) | K9: =IF(H9="","",I9*J9)
A10: =IF(B10="","",TODAY()) | D10: =IF(B10="","",VLOOKUP(B10,'STOCK BAR'!B:C,2,0)) | E10: =IF(B10="","",C10*D10) | G10: =IF(H10="","",TODAY()) | J10: =IF(H10="","",VLOOKUP(H10,'STOCK RESTO'!B:C,2,0)) | K10: =IF(H10="","",I10*J10)
A11: =IF(B11="","",TODAY()) | D11: =IF(B11="","",VLOOKUP(B11,'STOCK BAR'!B:C,2,0)) | E11: =IF(B11="","",C11*D11) | G11: =IF(H11="","",TODAY()) | J11: =IF(H11="","",VLOOKUP(H11,'STOCK RESTO'!B:C,2,0)) | K11: =IF(H11="","",I11*J11)
A12: =IF(B12="","",TODAY()) | D12: =IF(B12="","",VLOOKUP(B12,'STOCK BAR'!B:C,2,0)) | E12: =IF(B12="","",C12*D12) | G12: =IF(H12="","",TODAY()) | J12: =IF(H12="","",VLOOKUP(H12,'STOCK RESTO'!B:C,2,0)) | K12: =IF(H12="","",I12*J12)
A13: =IF(B13="","",TODAY()) | D13: =IF(B13="","",VLOOKUP(B13,'STOCK BAR'!B:C,2,0)) | E13: =IF(B13="","",C13*D13) | G13: =IF(H13="","",TODAY()) | J13: =IF(H13="","",VLOOKUP(H13,'STOCK RESTO'!B:C,2,0)) | K13: =IF(H13="","",I13*J13)
A14: =IF(B14="","",TODAY()) | D14: =IF(B14="","",VLOOKUP(B14,'STOCK BAR'!B:C,2,0)) | E14: =IF(B14="","",C14*D14) | G14: =IF(H14="","",TODAY()) | J14: =IF(H14="","",VLOOKUP(H14,'STOCK RESTO'!B:C,2,0)) | K14: =IF(H14="","",I14*J14)
A15: =IF(B15="","",TODAY()) | D15: =IF(B15="","",VLOOKUP(B15,'STOCK BAR'!B:C,2,0)) | E15: =IF(B15="","",C15*D15) | G15: =IF(H15="","",TODAY()) | J15: =IF(H15="","",VLOOKUP(H15,'STOCK RESTO'!B:C,2,0)) | K15: =IF(H15="","",I15*J15)
A16: =IF(B16="","",TODAY()) | D16: =IF(B16="","",VLOOKUP(B16,'STOCK BAR'!B:C,2,0)) | E16: =IF(B16="","",C16*D16) | G16: =IF(H16="","",TODAY()) | J16: =IF(H16="","",VLOOKUP(H16,'STOCK RESTO'!B:C,2,0)) | K16: =IF(H16="","",I16*J16)
A17: =IF(B17="","",TODAY()) | D17: =IF(B17="","",VLOOKUP(B17,'STOCK BAR'!B:C,2,0)) | E17: =IF(B17="","",C17*D17) | G17: =IF(H17="","",TODAY()) | J17: =IF(H17="","",VLOOKUP(H17,'STOCK RESTO'!B:C,2,0)) | K17: =IF(H17="","",I17*J17)
A18: =IF(B18="","",TODAY()) | D18: =IF(B18="","",VLOOKUP(B18,'STOCK BAR'!B:C,2,0)) | E18: =IF(B18="","",C18*D18) | G18: =IF(H18="","",TODAY()) | J18: =IF(H18="","",VLOOKUP(H18,'STOCK RESTO'!B:C,2,0)) | K18: =IF(H18="","",I18*J18)
A19: =IF(B19="","",TODAY()) | D19: =IF(B19="","",VLOOKUP(B19,'STOCK BAR'!B:C,2,0)) | E19: =IF(B19="","",C19*D19) | G19: =IF(H19="","",TODAY()) | J19: =IF(H19="","",VLOOKUP(H19,'STOCK RESTO'!B:C,2,0)) | K19: =IF(H19="","",I19*J19)
