Workbook

Sheet Feuil1
B1: Planning Intérimaires
B3: Aujourd'hui | C3: =TODAY() -> 43774 | H3: M | I3: Mission | L3: C | M3: Congé | P3: A | Q3: Arret | S3: I | T3: Indisponible
A5: Periode du besoin
A6: Date début | B6: 43780
A7: Date fin | B7: 43789
D9: 43770 | E9: 43771 | F9: 43772 | G9: 43773 | H9: 43774 | I9: 43775 | J9: 43776 | K9: 43777 | L9: 43778 | M9: 43779 | N9: 43780 | O9: 43781 | P9: 43782 | Q9: 43783 | R9: 43784 | S9: 43785 | T9: 43786 | U9: 43787 | V9: 43788 | W9: 43789 | X9: 43790 | Y9: 43791 | Z9: 43792 | AA9: 43793 | AB9: 43794 | AC9: 43795 | AD9: 43796 | AE9: 43797 | AF9: 43798 | AG9: 43799 | AH9: 43800 | AI9: 43801 | AJ9: 43802 | AK9: 43803 | AL9: 43804 | AM9: 43805 | AN9: 43806 | AO9: 43807 | AP9: 43808 | AQ9: 43809 | AR9: 43810 | AS9: 43811 | AT9: 43812 | AU9: 43813 | AV9: 43814 | AW9: 43815 | AX9: 43816 | AY9: 43817 | AZ9: 43818 | BA9: 43819 | BB9: 43820 | BC9: 43821 | BD9: 43822 | BE9: 43823 | BF9: 43824 | BG9: 43825 | BH9: 43826 | BI9: 43827 | BJ9: 43828 | BK9: 43829 | BL9: 43830 | BM9: 43831 | BN9: 43832 | BO9: 43833 | BP9: 43834 | BQ9: 43835 | BR9: 43836 | BS9: 43837 | BT9: 43838 | BU9: 43839 | BV9: 43840 | BW9: 43841 | BX9: 43842 | BY9: 43843 | BZ9: 43844 | CA9: 43845 | CB9: 43846 | CC9: 43847 | CD9: 43848 | CE9: 43849 | CF9: 43850 | CG9: 43851 | CH9: 43852 | CI9: 43853 | CJ9: 43854 | CK9: 43855 | CL9: 43856 | CM9: 43857 | CN9: 43858 | CO9: 43859 | CP9: 43860 | CQ9: 43861 | CR9: 43862 | CS9: 43863 | CT9: 43864 | CU9: 43865 | CV9: 43866 | CW9: 43867 | CX9: 43868 | CY9: 43869 | CZ9: 43870 | DA9: 43871 | DB9: 43872 | DC9: 43873 | DD9: 43874 | DE9: 43875 | DF9: 43876 | DG9: 43877 | DH9: 43878 | DI9: 43879 | DJ9: 43880 | DK9: 43881 | DL9: 43882 | DM9: 43883 | DN9: 43884 | DO9: 43885 | DP9: 43886 | DQ9: 43887 | DR9: 43888 | DS9: 43889 | DT9: 43890 | DU9: 43891 | DV9: 43892 | DW9: 43893 | DX9: 43894 | DY9: 43895 | DZ9: 43896 | EA9: 43897 | EB9: 43898 | EC9: 43899 | ED9: 43900 | EE9: 43901 | EF9: 43902 | EG9: 43903 | EH9: 43904 | EI9: 43905 | EJ9: 43906 | EK9: 43907 | EL9: 43908 | EM9: 43909 | EN9: 43910 | EO9: 43911 | EP9: 43912 | EQ9: 43913 | ER9: 43914 | ES9: 43915 | ET9: 43916 | EU9: 43917 | EV9: 43918 | EW9: 43919 | EX9: 43920 | EY9: 43921 | EZ9: 43922 | FA9: 43923 | FB9: 43924 | FC9: 43925 | FD9: 43926 | FE9: 43927 | FF9: 43928 | FG9: 43929 | FH9: 43930 | FI9: 43931 | FJ9: 43932 | FK9: 43933 | FL9: 43934 | FM9: 43935 | FN9: 43936 | FO9: 43937 | FP9: 43938 | FQ9: 43939 | FR9: 43940 | FS9: 43941 | FT9: 43942 | FU9: 43943 | FV9: 43944 | FW9: 43945 | FX9: 43946 | FY9: 43947 | FZ9: 43948 | GA9: 43949 | GB9: 43950 | GC9: 43951 | GD9: 43952 | GE9: 43953 | GF9: 43954 | GG9: 43955 | GH9: 43956 | GI9: 43957 | GJ9: 43958 | GK9: 43959 | GL9: 43960 | GM9: 43961 | GN9: 43962 | GO9: 43963 | GP9: 43964 | GQ9: 43965 | GR9: 43966 | GS9: 43967 | GT9: 43968 | GU9: 43969 | GV9: 43970 | GW9: 43971 | GX9: 43972 | GY9: 43973 | GZ9: 43974 | HA9: 43975 | HB9: 43976 | HC9: 43977 | HD9: 43978 | HE9: 43979 | HF9: 43980 | HG9: 43981 | HH9: 43982 | HI9: 43983 | HJ9: 43984 | HK9: 43985 | HL9: 43986 | HM9: 43987 | HN9: 43988 | HO9: 43989 | HP9: 43990 | HQ9: 43991 | HR9: 43992 | HS9: 43993 | HT9: 43994 | HU9: 43995 | HV9: 43996 | HW9: 43997 | HX9: 43998 | HY9: 43999 | HZ9: 44000 | IA9: 44001 | IB9: 44002 | IC9: 44003 | ID9: 44004 | IE9: 44005 | IF9: 44006 | IG9: 44007 | IH9: 44008 | II9: 44009 | IJ9: 44010 | IK9: 44011 | IL9: 44012 | IM9: 44013 | IN9: 44014 | IO9: 44015 | IP9: 44016 | IQ9: 44017 | IR9: 44018 | IS9: 44019 | IT9: 44020 | IU9: 44021 | IV9: 44022 | IW9: 44023 | IX9: 44024 | IY9: 44025 | IZ9: 44026 | JA9: 44027 | JB9: 44028 | JC9: 44029 | JD9: 44030 | JE9: 44031 | JF9: 44032 | JG9: 44033 | JH9: 44034 | JI9: 44035 | JJ9: 44036 | JK9: 44037 | JL9: 44038 | JM9: 44039 | JN9: 44040 | JO9: 44041 | JP9: 44042 | JQ9: 44043 | JR9: 44044 | JS9: 44045 | JT9: 44046 | JU9: 44047 | JV9: 44048 | JW9: 44049 | JX9: 44050 | JY9: 44051 | JZ9: 44052 | KA9: 44053 | KB9: 44054 | KC9: 44055 | KD9: 44056 | KE9: 44057 | KF9: 44058 | KG9: 44059 | KH9: 44060 | KI9: 44061 | KJ9: 44062 | KK9: 44063 | KL9: 44064 | KM9: 44065 | KN9: 44066 | KO9: 44067 | KP9: 44068 | KQ9: 44069 | KR9: 44070 | KS9: 44071 | KT9: 44072 | KU9: 44073 | KV9: 44074 | KW9: 44075 | KX9: 44076 | KY9: 44077 | KZ9: 44078 | LA9: 44079 | LB9: 44080 | LC9: 44081 | LD9: 44082 | LE9: 44083 | LF9: 44084 | LG9: 44085 | LH9: 44086 | LI9: 44087 | LJ9: 44088 | LK9: 44089 | LL9: 44090 | LM9: 44091 | LN9: 44092 | LO9: 44093 | LP9: 44094 | LQ9: 44095 | LR9: 44096 | LS9: 44097 | LT9: 44098 | LU9: 44099 | LV9: 44100 | LW9: 44101 | LX9: 44102 | LY9: 44103 | LZ9: 44104 | MA9: 44105 | MB9: 44106 | MC9: 44107 | MD9: 44108 | ME9: 44109 | MF9: 44110 | MG9: 44111 | MH9: 44112 | MI9: 44113 | MJ9: 44114 | MK9: 44115 | ML9: 44116 | MM9: 44117 | MN9: 44118 | MO9: 44119 | MP9: 44120 | MQ9: 44121 | MR9: 44122 | MS9: 44123 | MT9: 44124 | MU9: 44125 | MV9: 44126 | MW9: 44127 | MX9: 44128 | MY9: 44129 | MZ9: 44130 | NA9: 44131 | NB9: 44132 | NC9: 44133 | ND9: 44134 | NE9: 44135
D10: =IF(D12="L","S "&WEEKNUM(D9),"") | E10: =IF(E12="L","S "&WEEKNUM(E9),"") | F10: =IF(F12="L","S "&WEEKNUM(F9),"") | G10: =IF(G12="L","S "&WEEKNUM(G9),"") -> S 45 | H10: =IF(H12="L","S "&WEEKNUM(H9),"") | I10: =IF(I12="L","S "&WEEKNUM(I9),"") | J10: =IF(J12="L","S "&WEEKNUM(J9),"") | K10: =IF(K12="L","S "&WEEKNUM(K9),"") | ... NE10: =IF(NE12="L","S "&WEEKNUM(NE9),"")
D11: =DAY(D9) -> 1 | E11: =DAY(E9) -> 2 | F11: =DAY(F9) -> 3 | G11: =DAY(G9) -> 4 | H11: =DAY(H9) -> 5 | I11: =DAY(I9) -> 6 | J11: =DAY(J9) -> 7 | K11: =DAY(K9) -> 8 | ... NE11: =DAY(NE9) -> 31
C12: Intérimaires | D12: =CHOOSE(WEEKDAY(D9),"D","L","M","M","J","V","S") -> V | E12: =CHOOSE(WEEKDAY(E9),"D","L","M","M","J","V","S") -> S | F12: =CHOOSE(WEEKDAY(F9),"D","L","M","M","J","V","S") -> D | G12: =CHOOSE(WEEKDAY(G9),"D","L","M","M","J","V","S") -> L | H12: =CHOOSE(WEEKDAY(H9),"D","L","M","M","J","V","S") -> M | I12: =CHOOSE(WEEKDAY(I9),"D","L","M","M","J","V","S") -> M | J12: =CHOOSE(WEEKDAY(J9),"D","L","M","M","J","V","S") -> J | K12: =CHOOSE(WEEKDAY(K9),"D","L","M","M","J","V","S") -> V | ... NE12: =CHOOSE(WEEKDAY(NE9),"D","L","M","M","J","V","S") -> S
C13: =IF(Feuil2!B3<>"",Feuil2!B3,"") -> Intérimaire 1 | G13: M | H13: M | I13: M | J13: M | K13: M | N13: C | O13: C | P13: C | Q13: C | R13: C | U13: C | V13: C | W13: C | X13: C | Y13: C | AB13: M | AC13: M | AD13: M | AE13: M | AF13: M | AI13: M | AJ13: M | AK13: M | AL13: M | AM13: M | AP13: M | AQ13: M | AR13: M | AS13: M | AT13: M | AW13: M | AX13: M | AY13: M | AZ13: M | BA13: M | BD13: M | BE13: M | BF13: M | BG13: M | BH13: M | BK13: M | BL13: M | BM13: M | BN13: M | BO13: M
C14: =IF(Feuil2!B4<>"",Feuil2!B4,"") -> Intérimaire 2 | G14: M | H14: M | I14: M | J14: M | K14: M | N14: M | O14: M | P14: M | Q14: M | R14: M | U14: M | V14: M | W14: M | X14: M | Y14: M | AB14: M | AC14: M | AD14: M | AE14: M | AF14: M | AI14: M | AJ14: M | AK14: M | AL14: M | AM14: M | AP14: M | AQ14: M | AR14: M | AS14: M | AT14: M
C15: =IF(Feuil2!B5<>"",Feuil2!B5,"") -> Intérimaire 3 | AD15: M | AE15: M | AI15: I | AJ15: I | AK15: I | AL15: I | AM15: I
C16: =IF(Feuil2!B6<>"",Feuil2!B6,"") -> Intérimaire 4 | G16: M | H16: M | I16: M | J16: M | K16: M | N16: I | O16: I | P16: I | Q16: I | R16: I | W16: I | X16: I | Y16: I | AB16: I | AI16: M | AJ16: M | AK16: M | AL16: M | AM16: M
C17: =IF(Feuil2!B7<>"",Feuil2!B7,"") -> Intérimaire 5 | D17: A | G17: A | H17: A | I17: A | X17: M | Y17: M | AC17: M | AD17: M
C18: =IF(Feuil2!B8<>"",Feuil2!B8,"") -> Intérimaire 6 | P18: M | Q18: M | U18: M | V18: M | W18: M | X18: M | Y18: M | AB18: C | AC18: C | AD18: C | AE18: C | AF18: C
C19: =IF(Feuil2!B9<>"",Feuil2!B9,"") -> Intérimaire 7 | G19: M | H19: M | I19: M | J19: M | K19: M | R19: M | U19: M | V19: M | W19: M | X19: M | Y19: M | AB19: M | AC19: M | AD19: M | AE19: M | AF19: M | AI19: M | AJ19: M | AK19: M | AL19: M | AM19: M | AP19: M | AQ19: M | AR19: M | AS19: M | AT19: M | AW19: M | AX19: M | AY19: M | AZ19: M | BA19: M
C20: =IF(Feuil2!B10<>"",Feuil2!B10,"") -> Intérimaire 8 | G20: M | H20: M | I20: M | J20: M | K20: M
C21: =IF(Feuil2!B11<>"",Feuil2!B11,"") -> Intérimaire 9 | G21: I | H21: I | I21: I | J21: I | K21: I | P21: M | U21: M | V21: M | W21: M | X21: M | Y21: M | AB21: I | AC21: I | AD21: I | AE21: I | AF21: I
C22: =IF(Feuil2!B12<>"",Feuil2!B12,"") -> Intérimaire 10 | G22: M | H22: M | I22: M | J22: M | K22: M | O22: M | P22: M | R22: M | U22: I
C23: =IF(Feuil2!B13<>"",Feuil2!B13,"") -> Intérimaire 11 | N23: C | O23: C | P23: C | Q23: C | R23: C | V23: I
C24: =IF(Feuil2!B14<>"",Feuil2!B14,"") -> Intérimaire 12 | W24: I
C25: =IF(Feuil2!B15<>"",Feuil2!B15,"") -> Intérimaire 13 | G25: M | H25: M | I25: M | J25: M | K25: M | X25: I
C26: =IF(Feuil2!B16<>"",Feuil2!B16,"") -> Intérimaire 14 | Y26: I
C27: =IF(Feuil2!B17<>"",Feuil2!B17,"") -> Intérimaire 15 | N27: C | O27: C | P27: C | Q27: C | R27: C | U27: M | V27: M | W27: M | X27: M | Y27: M
C28: =IF(Feuil2!B18<>"",Feuil2!B18,"") -> Intérimaire 16 | I28: C | J28: C | K28: C | N28: C | U28: M | V28: M | W28: M | X28: M | Y28: M
C29: =IF(Feuil2!B19<>"",Feuil2!B19,"") -> Intérimaire 17
C30: =IF(Feuil2!B20<>"",Feuil2!B20,"") -> Intérimaire 18
C31: =IF(Feuil2!B21<>"",Feuil2!B21,"") -> Intérimaire 19
C32: =IF(Feuil2!B22<>"",Feuil2!B22,"") -> Intérimaire 20
C33: =IF(Feuil2!B23<>"",Feuil2!B23,"") -> Intérimaire 21
C34: =IF(Feuil2!B24<>"",Feuil2!B24,"") -> Intérimaire 22
C35: =IF(Feuil2!B25<>"",Feuil2!B25,"") -> Intérimaire 23
C36: =IF(Feuil2!B26<>"",Feuil2!B26,"") -> Intérimaire 24
C37: =IF(Feuil2!B27<>"",Feuil2!B27,"") -> Intérimaire 25
C38: =IF(Feuil2!B28<>"",Feuil2!B28,"") -> Intérimaire 26
C39: =IF(Feuil2!B29<>"",Feuil2!B29,"") -> Intérimaire 27
C40: =IF(Feuil2!B30<>"",Feuil2!B30,"") -> Intérimaire 28
... C112: =IF(Feuil2!B102<>"",Feuil2!B102,"") -> Intérimaire 100

Sheet Feuil2
B2: Nom intérimaire | C2: Adresse postale | D2: Code Postal | E2: Ville | F2: Téléphone
B3: Intérimaire 1 | C3: 1 rue de strasbourg | D3: 67000 | E3: Strasbourg | F3: 0689711457
B4: Intérimaire 2 | C4: 2 rue de strasbourg | D4: 67000 | E4: Strasbourg | F4: 0667461861
B5: Intérimaire 3 | C5: 3 rue de strasbourg | D5: 67000 | E5: Strasbourg | F5: 0645212265
B6: Intérimaire 4 | C6: 4 rue de strasbourg | D6: 67000 | E6: Strasbourg | F6: 0622962669
B7: Intérimaire 5 | C7: 5 rue de strasbourg | D7: 67000 | E7: Strasbourg | F7: 0600713073
B8: Intérimaire 6 | C8: 6 rue de strasbourg | D8: 67000 | E8: Strasbourg | F8: 0678463477
B9: Intérimaire 7 | C9: 7 rue de strasbourg | D9: 67000 | E9: Strasbourg | F9: 0656213881
B10: Intérimaire 8 | C10: 8 rue de strasbourg | D10: 67000 | E10: Strasbourg | F10: 0633964285
B11: Intérimaire 9 | C11: 9 rue de strasbourg | D11: 67000 | E11: Strasbourg | F11: 0611714689
B12: Intérimaire 10 | C12: 10 rue de Paris | D12: 75000 | E12: Paris | F12: 0612233445
B13: Intérimaire 11 | C13: 11 rue de Paris | D13: 75000 | E13: Paris | F13: 0613243546
B14: Intérimaire 12 | C14: 12 rue de Paris | D14: 75000 | E14: Paris | F14: 0614253647
... B42: Intérimaire 40 | C42: 40 rue de Bordeaux | D42: 33000 | E42: Bordeaux | F42: 0642536475
B43: Intérimaire 41
B44: Intérimaire 42
B45: Intérimaire 43
B46: Intérimaire 44
B47: Intérimaire 45
B48: Intérimaire 46
B49: Intérimaire 47
B50: Intérimaire 48
B51: Intérimaire 49
B52: Intérimaire 50
B53: Intérimaire 51
B54: Intérimaire 52
... B102: Intérimaire 100

Sheet Feuil3
