Workbook
Name analytique: [1]!Tableau5[ID]
Name compte: [1]!Tableau1[N° compte]
Name debut: [1]SOCIETE!$C$14
Name fin: [1]SOCIETE!$C$15
Name frsclt: [1]!Tableau4[Frs / Clts]
Name Langue: [2]Menu!$D$4
Name nomenclature: [1]!Tableau2[ID]
Name PCG: [3]Ecriture!#REF!
Name plan_comptable: [3]PCG!$A$3:$A$109
Name Segment_Année: #N/A
Name Segment_Désignation_compte: #N/A
Name Segment_FRS_CLT: #N/A

Sheet BR
E5: BILAN
A6: ACTIF | G6: Exercice N | I6: Exercice N-1 | K6: PASSIF | R6: Exercice N | S6: Exercice N-1
F7: Brut | G7: Amortissements et provisions (à déduire) | H7: Net | I7: Net | R7: Net | S7: Net
A8: Capital souscrit - non appelé | F8: =+SUMIF([1]PCG!J:J,BR!A8,[1]PCG!E:E) -> 0 | G8: =-SUMIF([1]PCG!J:J,"DAP - "&BR!A8,[1]PCG!E:E) -> 0 | H8: =+F8-G8 -> 0 | I8: =+SUMIF([1]PCG!J:J,BR!A8,[1]PCG!F:F)+SUMIF([1]PCG!J:J,"DAP - "&BR!A8,[1]PCG!F:F) -> 0 | K8: CAPITAUX PROPRES*
A9: ACTIF IMMOBILISE (a) | F9: =+SUMIF([1]PCG!J:J,BR!A9,[1]PCG!E:E) -> 0 | G9: =-SUMIF([1]PCG!J:J,"DAP - "&BR!A9,[1]PCG!E:E) -> 0 | H9: =+F9-G9 -> 0 | I9: =+SUMIF([1]PCG!J:J,BR!A9,[1]PCG!F:F)+SUMIF([1]PCG!J:J,"DAP - "&BR!A9,[1]PCG!F:F) -> 0 | K9: Capital [dont versé : 500] (a) | R9: =+SUMIF([1]PCG!J:J,BR!K9,[1]PCG!E:E) -> 0 | S9: =+SUMIF([1]PCG!J:J,BR!K9,[1]PCG!F:F) -> 0
A10: Immobilisations incorporelles: | F10: =+SUMIF([1]PCG!J:J,BR!A10,[1]PCG!E:E) -> 0 | G10: =-SUMIF([1]PCG!J:J,"DAP - "&BR!A10,[1]PCG!E:E) -> 0 | H10: =+F10-G10 -> 0 | I10: =+SUMIF([1]PCG!J:J,BR!A10,[1]PCG!F:F)+SUMIF([1]PCG!J:J,"DAP - "&BR!A10,[1]PCG!F:F) -> 0 | K10: Primes d'émission, de fusion, d'apport, | R10: =+SUMIF([1]PCG!J:J,BR!K10,[1]PCG!E:E) -> 0 | S10: =+SUMIF([1]PCG!J:J,BR!K10,[1]PCG!F:F) -> 0
A11: =+B11 -> Frais d'établissement | B11: Frais d'établissement | F11: =+SUMIF([1]PCG!J:J,BR!A11,[1]PCG!E:E) -> 0 | G11: =-SUMIF([1]PCG!J:J,"DAP - "&BR!A11,[1]PCG!E:E) -> 0 | H11: =+F11-G11 -> 0 | I11: =+SUMIF([1]PCG!J:J,BR!A11,[1]PCG!F:F)+SUMIF([1]PCG!J:J,"DAP - "&BR!A11,[1]PCG!F:F) -> 0 | K11: Ecart de réévaluation (b) | R11: =+SUMIF([1]PCG!J:J,BR!K11,[1]PCG!E:E) -> 0 | S11: =+SUMIF([1]PCG!J:J,BR!K11,[1]PCG!F:F) -> 0
A12: =+B12 -> Frais de recherche et de développement | B12: Frais de recherche et de développement | F12: =+SUMIF([1]PCG!J:J,BR!A12,[1]PCG!E:E) -> 0 | G12: =-SUMIF([1]PCG!J:J,"DAP - "&BR!A12,[1]PCG!E:E) -> 0 | H12: =+F12-G12 -> 0 | I12: =+SUMIF([1]PCG!J:J,BR!A12,[1]PCG!F:F)+SUMIF([1]PCG!J:J,"DAP - "&BR!A12,[1]PCG!F:F) -> 0 | K12: Ecart d'équivalence (c) | R12: =+SUMIF([1]PCG!J:J,BR!K12,[1]PCG!E:E) -> 0 | S12: =+SUMIF([1]PCG!J:J,BR!K12,[1]PCG!F:F) -> 0
A13: =+B13 -> Concessions, brevets, licences, marques, procédés, logiciels, droits et valeurs similaires | B13: Concessions, brevets, licences, marques, procédés, logiciels, droits et valeurs similaires | F13: =+SUMIF([1]PCG!J:J,BR!A13,[1]PCG!E:E) -> 0 | G13: =-SUMIF([1]PCG!J:J,"DAP - "&BR!A13,[1]PCG!E:E) -> 0 | H13: =+F13-G13 -> 0 | I13: =+SUMIF([1]PCG!J:J,BR!A13,[1]PCG!F:F)+SUMIF([1]PCG!J:J,"DAP - "&BR!A13,[1]PCG!F:F) -> 0 | K13: Réserves: | R13: =+SUMIF([1]PCG!J:J,BR!K13,[1]PCG!E:E) -> 0 | S13: =+SUMIF([1]PCG!J:J,BR!K13,[1]PCG!F:F) -> 0
A14: =+B14 -> Fonds commercial (1) | B14: Fonds commercial (1) | F14: =+SUMIF([1]PCG!J:J,BR!A14,[1]PCG!E:E) -> 0 | G14: =-SUMIF([1]PCG!J:J,"DAP - "&BR!A14,[1]PCG!E:E) -> 0 | H14: =+F14-G14 -> 0 | I14: =+SUMIF([1]PCG!J:J,BR!A14,[1]PCG!F:F)+SUMIF([1]PCG!J:J,"DAP - "&BR!A14,[1]PCG!F:F) -> 0 | K14: =+L14 -> Réserve légale | L14: Réserve légale | R14: =+SUMIF([1]PCG!J:J,BR!K14,[1]PCG!E:E) -> 0 | S14: =+SUMIF([1]PCG!J:J,BR!K14,[1]PCG!F:F) -> 0
A15: =+B15 -> Autres immobilisations incorporelles | B15: Autres immobilisations incorporelles | F15: =+SUMIF([1]PCG!J:J,BR!A15,[1]PCG!E:E) -> 0 | G15: =-SUMIF([1]PCG!J:J,"DAP - "&BR!A15,[1]PCG!E:E) -> 0 | H15: =+F15-G15 -> 0 | I15: =+SUMIF([1]PCG!J:J,BR!A15,[1]PCG!F:F)+SUMIF([1]PCG!J:J,"DAP - "&BR!A15,[1]PCG!F:F) -> 0 | K15: =+L15 -> Réserves statutaires ou contractuelles | L15: Réserves statutaires ou contractuelles | R15: =+SUMIF([1]PCG!J:J,BR!K15,[1]PCG!E:E) -> 0 | S15: =+SUMIF([1]PCG!J:J,BR!K15,[1]PCG!F:F) -> 0
A16: =+B16 -> Immobilisations incorporelles en cours | B16: Immobilisations incorporelles en cours | F16: =+SUMIF([1]PCG!J:J,BR!A16,[1]PCG!E:E) -> 0 | G16: =-SUMIF([1]PCG!J:J,"DAP - "&BR!A16,[1]PCG!E:E) -> 0 | H16: =+F16-G16 -> 0 | I16: =+SUMIF([1]PCG!J:J,BR!A16,[1]PCG!F:F)+SUMIF([1]PCG!J:J,"DAP - "&BR!A16,[1]PCG!F:F) -> 0 | K16: =+L16 -> Réserves réglementées | L16: Réserves réglementées | R16: =+SUMIF([1]PCG!J:J,BR!K16,[1]PCG!E:E) -> 0 | S16: =+SUMIF([1]PCG!J:J,BR!K16,[1]PCG!F:F) -> 0
A17: =+B17 -> Avances et acomptes sur immobilisations incorporelles | B17: Avances et acomptes sur immobilisations incorporelles | F17: =+SUMIF([1]PCG!J:J,BR!A17,[1]PCG!E:E) -> 0 | G17: =-SUMIF([1]PCG!J:J,"DAP - "&BR!A17,[1]PCG!E:E) -> 0 | H17: =+F17-G17 -> 0 | I17: =+SUMIF([1]PCG!J:J,BR!A17,[1]PCG!F:F)+SUMIF([1]PCG!J:J,"DAP - "&BR!A17,[1]PCG!F:F) -> 0 | K17: =+L17 -> Autres réserves | L17: Autres réserves | R17: =+SUMIF([1]PCG!J:J,BR!K17,[1]PCG!E:E) -> 0 | S17: =+SUMIF([1]PCG!J:J,BR!K17,[1]PCG!F:F) -> 0
A18: Immobilisations corporelles: | F18: =+SUMIF([1]PCG!J:J,BR!A18,[1]PCG!E:E) -> 0 | G18: =-SUMIF([1]PCG!J:J,"DAP - "&BR!A18,[1]PCG!E:E) -> 0 | H18: =+F18-G18 -> 0 | I18: =+SUMIF([1]PCG!J:J,BR!A18,[1]PCG!F:F)+SUMIF([1]PCG!J:J,"DAP - "&BR!A18,[1]PCG!F:F) -> 0 | K18: Report à nouveau (d) | R18: =+SUMIF([1]PCG!J:J,BR!K18,[1]PCG!E:E) -> 0 | S18: =+SUMIF([1]PCG!J:J,BR!K18,[1]PCG!F:F) -> 0
A19: =+B19 -> Terrains | B19: Terrains | F19: =+SUMIF([1]PCG!J:J,BR!A19,[1]PCG!E:E) -> 0 | G19: =-SUMIF([1]PCG!J:J,"DAP - "&BR!A19,[1]PCG!E:E) -> 0 | H19: =+F19-G19 -> 0 | I19: =+SUMIF([1]PCG!J:J,BR!A19,[1]PCG!F:F)+SUMIF([1]PCG!J:J,"DAP - "&BR!A19,[1]PCG!F:F) -> 0 | K19: Résultat de l'exercice [bénéfice ou perte] (e) | R19: =+IF(R92>0,-R92,H96) -> 0 | S19: =+SUMIF([1]PCG!J:J,BR!K19,[1]PCG!F:F) -> 0
A20: =+B20 -> Constructions | B20: Constructions | F20: =+SUMIF([1]PCG!J:J,BR!A20,[1]PCG!E:E) -> 0 | G20: =-SUMIF([1]PCG!J:J,"DAP - "&BR!A20,[1]PCG!E:E) -> 0 | H20: =+F20-G20 -> 0 | I20: =+SUMIF([1]PCG!J:J,BR!A20,[1]PCG!F:F)+SUMIF([1]PCG!J:J,"DAP - "&BR!A20,[1]PCG!F:F) -> 0 | K20: Subventions d'investissement | R20: =+SUMIF([1]PCG!J:J,BR!K20,[1]PCG!E:E) -> 0 | S20: =+SUMIF([1]PCG!J:J,BR!K20,[1]PCG!F:F) -> 0
A21: =+B21 -> Installations techniques, matériels, et outillage industriels | B21: Installations techniques, matériels, et outillage industriels | F21: =+SUMIF([1]PCG!J:J,BR!A21,[1]PCG!E:E) -> 0 | G21: =-SUMIF([1]PCG!J:J,"DAP - "&BR!A21,[1]PCG!E:E) -> 0 | H21: =+F21-G21 -> 0 | I21: =+SUMIF([1]PCG!J:J,BR!A21,[1]PCG!F:F)+SUMIF([1]PCG!J:J,"DAP - "&BR!A21,[1]PCG!F:F) -> 0 | K21: Provisions réglementées | R21: =+SUMIF([1]PCG!J:J,BR!K21,[1]PCG!E:E) -> 0 | S21: =+SUMIF([1]PCG!J:J,BR!K21,[1]PCG!F:F) -> 0
A22: =+B22 -> Autres immobilisations corporelles | B22: Autres immobilisations corporelles | F22: =+SUMIF([1]PCG!J:J,BR!A22,[1]PCG!E:E) -> 0 | G22: =-SUMIF([1]PCG!J:J,"DAP - "&BR!A22,[1]PCG!E:E) -> 0 | H22: =+F22-G22 -> 0 | I22: =+SUMIF([1]PCG!J:J,BR!A22,[1]PCG!F:F)+SUMIF([1]PCG!J:J,"DAP - "&BR!A22,[1]PCG!F:F) -> 0 | N22: Total I | R22: =+SUM(R8:R21) -> 0 | S22: =+SUM(S8:S21) -> 0
A23: =+B23 -> Immobilisations corporelles en cours | B23: Immobilisations corporelles en cours | F23: =+SUMIF([1]PCG!J:J,BR!A23,[1]PCG!E:E) -> 0 | G23: =-SUMIF([1]PCG!J:J,"DAP - "&BR!A23,[1]PCG!E:E) -> 0 | H23: =+F23-G23 -> 0 | I23: =+SUMIF([1]PCG!J:J,BR!A23,[1]PCG!F:F)+SUMIF([1]PCG!J:J,"DAP - "&BR!A23,[1]PCG!F:F) -> 0 | K23: PROVISIONS POUR RISQUES ET CHARGES | R23: =+SUMIF([1]PCG!J:J,BR!K23,[1]PCG!E:E) -> 0 | S23: =+SUMIF([1]PCG!J:J,BR!K23,[1]PCG!F:F) -> 0
A24: =+B24 -> Avances et acomptes sur immobilisations corporelles | B24: Avances et acomptes sur immobilisations corporelles | F24: =+SUMIF([1]PCG!J:J,BR!A24,[1]PCG!E:E) -> 0 | G24: =-SUMIF([1]PCG!J:J,"DAP - "&BR!A24,[1]PCG!E:E) -> 0 | H24: =+F24-G24 -> 0 | I24: =+SUMIF([1]PCG!J:J,BR!A24,[1]PCG!F:F)+SUMIF([1]PCG!J:J,"DAP - "&BR!A24,[1]PCG!F:F) -> 0 | K24: Provisions pour risques | R24: =+SUMIF([1]PCG!J:J,BR!K24,[1]PCG!E:E) -> 0 | S24: =+SUMIF([1]PCG!J:J,BR!K24,[1]PCG!F:F) -> 0
A25: Immobilisations financières (2): | F25: =+SUMIF([1]PCG!J:J,BR!A25,[1]PCG!E:E) -> 0 | G25: =-SUMIF([1]PCG!J:J,"DAP - "&BR!A25,[1]PCG!E:E) -> 0 | H25: =+F25-G25 -> 0 | I25: =+SUMIF([1]PCG!J:J,BR!A25,[1]PCG!F:F)+SUMIF([1]PCG!J:J,"DAP - "&BR!A25,[1]PCG!F:F) -> 0 | K25: Provisions pour charges | R25: =+SUMIF([1]PCG!J:J,BR!K25,[1]PCG!E:E) -> 0 | S25: =+SUMIF([1]PCG!J:J,BR!K25,[1]PCG!F:F) -> 0
A26: =+B26 -> Participations (b) | B26: Participations (b) | F26: =+SUMIF([1]PCG!J:J,BR!A26,[1]PCG!E:E) -> 0 | G26: =-SUMIF([1]PCG!J:J,"DAP - "&BR!A26,[1]PCG!E:E) -> 0 | H26: =+F26-G26 -> 0 | I26: =+SUMIF([1]PCG!J:J,BR!A26,[1]PCG!F:F)+SUMIF([1]PCG!J:J,"DAP - "&BR!A26,[1]PCG!F:F) -> 0 | N26: Total II | R26: =+R25+R24 -> 0 | S26: =+S25+S24 -> 0
A27: =+B27 -> Créances rattachées à des participations | B27: Créances rattachées à des participations | F27: =+SUMIF([1]PCG!J:J,BR!A27,[1]PCG!E:E) -> 0 | G27: =-SUMIF([1]PCG!J:J,"DAP - "&BR!A27,[1]PCG!E:E) -> 0 | H27: =+F27-G27 -> 0 | I27: =+SUMIF([1]PCG!J:J,BR!A27,[1]PCG!F:F)+SUMIF([1]PCG!J:J,"DAP - "&BR!A27,[1]PCG!F:F) -> 0 | K27: DETTES (1) (g) | R27: =+SUMIF([1]PCG!J:J,BR!K27,[1]PCG!E:E) -> 0 | S27: =+SUMIF([1]PCG!J:J,BR!K27,[1]PCG!F:F) -> 0
A28: =+B28 -> Titres immobilisés de l'activité de portefeuille | B28: Titres immobilisés de l'activité de portefeuille | F28: =+SUMIF([1]PCG!J:J,BR!A28,[1]PCG!E:E) -> 0 | G28: =-SUMIF([1]PCG!J:J,"DAP - "&BR!A28,[1]PCG!E:E) -> 0 | H28: =+F28-G28 -> 0 | I28: =+SUMIF([1]PCG!J:J,BR!A28,[1]PCG!F:F)+SUMIF([1]PCG!J:J,"DAP - "&BR!A28,[1]PCG!F:F) -> 0 | K28: Emprunts obligataires convertibles | R28: =+SUMIF([1]PCG!J:J,BR!K28,[1]PCG!E:E) -> 0 | S28: =+SUMIF([1]PCG!J:J,BR!K28,[1]PCG!F:F) -> 0
A29: =+B29 -> Autres titres immobilisés | B29: Autres titres immobilisés | F29: =+SUMIF([1]PCG!J:J,BR!A29,[1]PCG!E:E) -> 0 | G29: =-SUMIF([1]PCG!J:J,"DAP - "&BR!A29,[1]PCG!E:E) -> 0 | H29: =+F29-G29 -> 0 | I29: =+SUMIF([1]PCG!J:J,BR!A29,[1]PCG!F:F)+SUMIF([1]PCG!J:J,"DAP - "&BR!A29,[1]PCG!F:F) -> 0 | K29: Autres emprunts obligataires | R29: =+SUMIF([1]PCG!J:J,BR!K29,[1]PCG!E:E) -> 0 | S29: =+SUMIF([1]PCG!J:J,BR!K29,[1]PCG!F:F) -> 0
A30: =+B30 -> Prêts | B30: Prêts | F30: =+SUMIF([1]PCG!J:J,BR!A30,[1]PCG!E:E) -> 0 | G30: =-SUMIF([1]PCG!J:J,"DAP - "&BR!A30,[1]PCG!E:E) -> 0 | H30: =+F30-G30 -> 0 | I30: =+SUMIF([1]PCG!J:J,BR!A30,[1]PCG!F:F)+SUMIF([1]PCG!J:J,"DAP - "&BR!A30,[1]PCG!F:F) -> 0 | K30: Emprunts et dettes auprès établissements de crédits (2) | R30: =+SUMIF([1]PCG!J:J,BR!K30,[1]PCG!E:E) -> 0 | S30: =+SUMIF([1]PCG!J:J,BR!K30,[1]PCG!F:F) -> 0
A31: =+B31 -> Autres immobilisations financières | B31: Autres immobilisations financières | F31: =+SUMIF([1]PCG!J:J,BR!A31,[1]PCG!E:E) -> 0 | G31: =-SUMIF([1]PCG!J:J,"DAP - "&BR!A31,[1]PCG!E:E) -> 0 | H31: =+F31-G31 -> 0 | I31: =+SUMIF([1]PCG!J:J,BR!A31,[1]PCG!F:F)+SUMIF([1]PCG!J:J,"DAP - "&BR!A31,[1]PCG!F:F) -> 0 | K31: Emprunts et dettes financières diverses (3) | R31: =+SUMIF([1]PCG!J:J,BR!K31,[1]PCG!E:E) -> 0 | S31: =+SUMIF([1]PCG!J:J,BR!K31,[1]PCG!F:F) -> 0
D32: Total I | F32: =+SUM(F8:F31) -> 0 | G32: =+SUM(G8:G31) -> 0 | H32: =+SUM(H8:H31) -> 0 | I32: =+SUM(I8:I31) -> 0 | K32: Avances et acomptes reçues sur commandes en cours | R32: =+SUMIF([1]PCG!J:J,BR!K32,[1]PCG!E:E) -> 0 | S32: =+SUMIF([1]PCG!J:J,BR!K32,[1]PCG!F:F) -> 0
F33: =+SUMIF([1]PCG!J:J,BR!A33,[1]PCG!E:E) -> 0 | G33: =-SUMIF([1]PCG!J:J,"DAP - "&BR!A33,[1]PCG!E:E) -> 0 | H33: =+F33-G33 -> 0 | I33: =+SUMIF([1]PCG!J:J,BR!A33,[1]PCG!F:F)+SUMIF([1]PCG!J:J,"DAP - "&BR!A33,[1]PCG!F:F) -> 0 | K33: Dettes Fournisseurs et Comptes rattachés (f) | R33: =-SUMIF([1]PCG!J:J,BR!K33,[1]PCG!E:E) -> -100 | S33: =+SUMIF([1]PCG!J:J,BR!K33,[1]PCG!F:F) -> 0
A34: ACTIF CIRCULANT | F34: =+SUMIF([1]PCG!J:J,BR!A34,[1]PCG!E:E) -> 0 | G34: =-SUMIF([1]PCG!J:J,"DAP - "&BR!A34,[1]PCG!E:E) -> 0 | H34: =+F34-G34 -> 0 | I34: =+SUMIF([1]PCG!J:J,BR!A34,[1]PCG!F:F)+SUMIF([1]PCG!J:J,"DAP - "&BR!A34,[1]PCG!F:F) -> 0 | K34: Dettes fiscales et sociales | R34: =+SUMIF([1]PCG!J:J,BR!K34,[1]PCG!E:E) -> 0 | S34: =+SUMIF([1]PCG!J:J,BR!K34,[1]PCG!F:F) -> 0
A35: Stocks et en-cours (a): | F35: =+SUMIF([1]PCG!J:J,BR!A35,[1]PCG!E:E) -> 0 | G35: =-SUMIF([1]PCG!J:J,"DAP - "&BR!A35,[1]PCG!E:E) -> 0 | H35: =+F35-G35 -> 0 | I35: =+SUMIF([1]PCG!J:J,BR!A35,[1]PCG!F:F)+SUMIF([1]PCG!J:J,"DAP - "&BR!A35,[1]PCG!F:F) -> 0 | K35: Dettes sur immobilisations et Comptes rattachés | R35: =+SUMIF([1]PCG!J:J,BR!K35,[1]PCG!E:E) -> 0 | S35: =+SUMIF([1]PCG!J:J,BR!K35,[1]PCG!F:F) -> 0
A36: =+B36 -> Matières premières et autres approvisionnements | B36: Matières premières et autres approvisionnements | F36: =+SUMIF([1]PCG!J:J,BR!A36,[1]PCG!E:E) -> 0 | G36: =-SUMIF([1]PCG!J:J,"DAP - "&BR!A36,[1]PCG!E:E) -> 0 | H36: =+F36-G36 -> 0 | I36: =+SUMIF([1]PCG!J:J,BR!A36,[1]PCG!F:F)+SUMIF([1]PCG!J:J,"DAP - "&BR!A36,[1]PCG!F:F) -> 0 | K36: Autres dettes | R36: =+SUMIF([1]PCG!J:J,BR!K36,[1]PCG!E:E) -> 0 | S36: =+SUMIF([1]PCG!J:J,BR!K36,[1]PCG!F:F) -> 0
A37: =+B37 -> En cours de production [biens et services] (c) | B37: En cours de production [biens et services] (c) | F37: =+SUMIF([1]PCG!J:J,BR!A37,[1]PCG!E:E) -> 0 | G37: =-SUMIF([1]PCG!J:J,"DAP - "&BR!A37,[1]PCG!E:E) -> 0 | H37: =+F37-G37 -> 0 | I37: =+SUMIF([1]PCG!J:J,BR!A37,[1]PCG!F:F)+SUMIF([1]PCG!J:J,"DAP - "&BR!A37,[1]PCG!F:F) -> 0 | K37: Instruments de trésorerie | R37: =+SUMIF([1]PCG!J:J,BR!K37,[1]PCG!E:E) -> 0 | S37: =+SUMIF([1]PCG!J:J,BR!K37,[1]PCG!F:F) -> 0
A38: =+B38 -> Produits intermédiaires et finis | B38: Produits intermédiaires et finis | F38: =+SUMIF([1]PCG!J:J,BR!A38,[1]PCG!E:E) -> 0 | G38: =-SUMIF([1]PCG!J:J,"DAP - "&BR!A38,[1]PCG!E:E) -> 0 | H38: =+F38-G38 -> 0 | I38: =+SUMIF([1]PCG!J:J,BR!A38,[1]PCG!F:F)+SUMIF([1]PCG!J:J,"DAP - "&BR!A38,[1]PCG!F:F) -> 0 | K38: Produits constatés d'avance (1) | R38: =+SUMIF([1]PCG!J:J,BR!K38,[1]PCG!E:E) -> 0 | S38: =+SUMIF([1]PCG!J:J,BR!K38,[1]PCG!F:F) -> 0
A39: =+B39 -> Marchandises | B39: Marchandises | F39: =+SUMIF([1]PCG!J:J,BR!A39,[1]PCG!E:E) -> 0 | G39: =-SUMIF([1]PCG!J:J,"DAP - "&BR!A39,[1]PCG!E:E) -> 0 | H39: =+F39-G39 -> 0 | I39: =+SUMIF([1]PCG!J:J,BR!A39,[1]PCG!F:F)+SUMIF([1]PCG!J:J,"DAP - "&BR!A39,[1]PCG!F:F) -> 0 | N39: TOTAL III | R39: =+SUM(R28:R38) -> -100 | S39: =+SUMIF([1]PCG!J:J,BR!K39,[1]PCG!F:F) -> 0
A40: Avances et acomptes versés sur commandes | F40: =+SUMIF([1]PCG!J:J,BR!A40,[1]PCG!E:E) -> 0 | G40: =-SUMIF([1]PCG!J:J,"DAP - "&BR!A40,[1]PCG!E:E) -> 0 | H40: =+F40-G40 -> 0 | I40: =+SUMIF([1]PCG!J:J,BR!A40,[1]PCG!F:F)+SUMIF([1]PCG!J:J,"DAP - "&BR!A40,[1]PCG!F:F) -> 0 | K40: Ecarts de conversion passif | N40: (IV) | R40: =+SUMIF([1]PCG!J:J,BR!K40,[1]PCG!E:E) -> 0 | S40: =+SUMIF([1]PCG!J:J,BR!K40,[1]PCG!F:F) -> 0
A41: Créances (3): | F41: =+SUMIF([1]PCG!J:J,BR!A41,[1]PCG!E:E) -> 0 | G41: =-SUMIF([1]PCG!J:J,"DAP - "&BR!A41,[1]PCG!E:E) -> 0 | H41: =+F41-G41 -> 0 | I41: =+SUMIF([1]PCG!J:J,BR!A41,[1]PCG!F:F)+SUMIF([1]PCG!J:J,"DAP - "&BR!A41,[1]PCG!F:F) -> 0 | N41: TOTAL GENERAL (I+II+III+IV) | R41: =+R40+R39++R26+R22 -> -100 | S41: =+SUMIF([1]PCG!J:J,BR!K41,[1]PCG!F:F) -> 0
A42: =+B42 -> Créances clients (a) et comptes rattachés (d) | B42: Créances clients (a) et comptes rattachés (d) | F42: =+SUMIF([1]PCG!J:J,BR!A42,[1]PCG!E:E) -> 0 | G42: =-SUMIF([1]PCG!J:J,"DAP - "&BR!A42,[1]PCG!E:E) -> 0 | H42: =+F42-G42 -> 0 | I42: =+SUMIF([1]PCG!J:J,BR!A42,[1]PCG!F:F)+SUMIF([1]PCG!J:J,"DAP - "&BR!A42,[1]PCG!F:F) -> 0 | R42: =+SUMIF([1]PCG!R:R,BR!K42,[1]PCG!E:E) -> 0
A43: =+B43 -> Autres créances d'exploitation | B43: Autres créances d'exploitation | F43: =+SUMIF([1]PCG!J:J,BR!A43,[1]PCG!E:E) -> 0 | G43: =-SUMIF([1]PCG!J:J,"DAP - "&BR!A43,[1]PCG!E:E) -> 0 | H43: =+F43-G43 -> 0 | I43: =+SUMIF([1]PCG!J:J,BR!A43,[1]PCG!F:F)+SUMIF([1]PCG!J:J,"DAP - "&BR!A43,[1]PCG!F:F) -> 0 | K43: (1) | L43: Dont à plus d'un an
A44: =+B44 -> Capital souscrit - appelé, non versé | B44: Capital souscrit - appelé, non versé | F44: =+SUMIF([1]PCG!J:J,BR!A44,[1]PCG!E:E) -> 0 | G44: =-SUMIF([1]PCG!J:J,"DAP - "&BR!A44,[1]PCG!E:E) -> 0 | H44: =+F44-G44 -> 0 | I44: =+SUMIF([1]PCG!J:J,BR!A44,[1]PCG!F:F)+SUMIF([1]PCG!J:J,"DAP - "&BR!A44,[1]PCG!F:F) -> 0 | L44: Dont à moins d'un an
...
