Workbook

Sheet Feuil1
B2: BOUTIQUE | E2: BOU
B3: Vendue | C3: REF | D3: LIBELLE | E3: CA HT
B4: =+LARGE(Feuil2!C:C,2) -> 6 | C4: =+_xlfn.XLOOKUP(B4,Feuil2!C:C,Feuil2!A:A) -> 10252 | D4: =+_xlfn.XLOOKUP(C4,Feuil2!A:A,Feuil2!B:B) -> Doudou Babynat Panda Gris Plat - P'tit Panda
B5: =+LARGE(Feuil2!C:C,3) -> 6 | C5: =+_xlfn.XLOOKUP(B5,Feuil2!C:C,Feuil2!A:A) -> 10252 | D5: =+_xlfn.XLOOKUP(C5,Feuil2!A:A,Feuil2!B:B) -> Doudou Babynat Panda Gris Plat - P'tit Panda
B6: =+LARGE(Feuil2!C:C,4) -> 5 | C6: =+_xlfn.XLOOKUP(B6,Feuil2!C:C,Feuil2!A:A) -> 9362 | D6: =+_xlfn.XLOOKUP(C6,Feuil2!A:A,Feuil2!B:B) -> doudou Nicotoy Souris Bleu Tonal verso Gris Mickey Plat
B7: =+LARGE(Feuil2!C:C,5) -> 5 | C7: =+_xlfn.XLOOKUP(B7,Feuil2!C:C,Feuil2!A:A) -> 9362 | D7: =+_xlfn.XLOOKUP(C7,Feuil2!A:A,Feuil2!B:B) -> doudou Nicotoy Souris Bleu Tonal verso Gris Mickey Plat
B8: =+LARGE(Feuil2!C:C,6) -> 4 | C8: =+_xlfn.XLOOKUP(B8,Feuil2!C:C,Feuil2!A:A) -> 10258 | D8: =+_xlfn.XLOOKUP(C8,Feuil2!A:A,Feuil2!B:B) -> Doudou Babynat Singe Marron Paresseux Pantin - Les Petits Voyageurs
B10: SITE
B11: Vendue | C11: REF | D11: LIBELLE
B12: =+LARGE(Feuil2!D:D,2) -> 3 | C12: =+_xlfn.XLOOKUP(B12,Feuil2!D:D,Feuil2!A:A) -> 10260 | D12: =+_xlfn.XLOOKUP(C12,Feuil2!A:A,Feuil2!B:B) -> Doudou Babynat Chat Rose Attache tÃ©tine - Pollen
B13: =+LARGE(Feuil2!D:D,3) -> 2 | C13: =+_xlfn.XLOOKUP(B13,Feuil2!D:D,Feuil2!A:A) -> 10250 | D13: =+_xlfn.XLOOKUP(C13,Feuil2!A:A,Feuil2!B:B) -> Doudou Babynat Ours Gris Plat - Pap'ours
B14: =+LARGE(Feuil2!D:D,4) -> 2 | C14: =+_xlfn.XLOOKUP(B14,Feuil2!D:D,Feuil2!A:A) -> 10250 | D14: =+_xlfn.XLOOKUP(C14,Feuil2!A:A,Feuil2!B:B) -> Doudou Babynat Ours Gris Plat - Pap'ours
B15: =+LARGE(Feuil2!D:D,5) -> 2 | C15: =+_xlfn.XLOOKUP(B15,Feuil2!D:D,Feuil2!A:A) -> 10250 | D15: =+_xlfn.XLOOKUP(C15,Feuil2!A:A,Feuil2!B:B) -> Doudou Babynat Ours Gris Plat - Pap'ours
B16: =+LARGE(Feuil2!D:D,6) -> 2 | C16: =+_xlfn.XLOOKUP(B16,Feuil2!D:D,Feuil2!A:A) -> 10250 | D16: =+_xlfn.XLOOKUP(C16,Feuil2!A:A,Feuil2!B:B) -> Doudou Babynat Ours Gris Plat - Pap'ours

Sheet Feuil2
A1: Date | B1: (Tous)
A2: Mois (Date) | B2: mai
A3: Jours (Date) | B3: (Tous)
A5: Qtées | C5: MP
A6: REF | B6: LIBELLE | C6: BOU | D6: SITE
A7: 2749 | B7: Doudou Tex Ane Bleu plat | D7: 1
A8: 3357 | B8: doudou Kingbear Ours Rose lune etoile jaune Plat | D8: 1
A9: 3533 | B9: Doudou Nicotoy Lapin Rose Cuddles plat | C9: 1
A10: 4523 | B10: Doudou Liliputiens Pingouin Bleu L'oreal L'oreal Pantin | D10: 1
A11: 5308 | B11: doudou Babynat Chat Rose Super Doudou Plat
A12: 5414 | B12: Doudou CP international Vache Jaune salopette orange etoile saumon Hochet | D12: 1
A13: 5726 | B13: doudou Doudou et compagnie Ane Bleu DC2288 Graine de doudou plat
A14: 6050 | B14: Doudou Cades Ours Marron Pantin
A15: 6269 | B15: doudou Babynat Lapin Marron BN664 Les Flocons Pantin | D15: 1
A16: 6413 | B16: doudou Doudou et compagnie Poupee Rose Les Demoiselles Poupee
A17: 6581 | B17: doudou Doudou et compagnie Poupee Marron Western DC2781 25cms Les Demoiselles Poupee
A18: 6626 | B18: doudou Babynat Lapin Blanc BN051 Les Flocons Plat
A19: 6632 | B19: doudou Babynat Lapin Blanc BN664 Les Flocons Pantin
A20: 6834 | B20: Doudou et Compagnie demoiselle poupÃ©e DC2771 Blanche Rose
A21: 7030 | B21: Doudou BNP paribas Tortue Gris Pantin
A22: 7095 | B22: Doudou Nattou Lapin Rose Lapidou Pantin | C22: 2
A23: 7426 | B23: doudou Babynat Renard Orange BN0113 Les Poupis Pantin | D23: 1
A24: 7429 | B24: doudou Babynat Lapin Rose liberty BN0111 Les Poupis Plat
A25: 7436 | B25: doudou Babynat Ours Rose BN0137 Les Luminescents Pantin
A26: 7439 | B26: doudou Babynat Ours chat Rose BN0138 Les Luminescents Plat | D26: 1
A27: 7440 | B27: doudou Babynat Ours Gris BN0138 Les Luminescents Plat
A28: 7441 | B28: doudou Babynat Lapin Bleu BN0138 Les Luminescents Plat
A29: 7758 | B29: doudou Doudou et compagnie Renard Orange dentition hochet DC3006 Magic Activite
A30: 7928 | B30: doudou Histoire d'ours Chien Blanc dans son sac argentÃ© 18cms OH1022 Oh studio Pantin | C30: 1
A31: 7945 | B31: doudou Babynat Lapin Gris mouchoir 15cms BN0221 Malow Pantin | D31: 1
A32: 7948 | B32: doudou Babynat Lapin Rose Guimauve 28 cms BN0219 Malow Plat | C32: 1
A33: 7949 | B33: doudou Babynat Hippo Blanc mouchoir feuille vert BN048 Bazile Pantin | C33: 2
A34: 8171 | B34: doudou Doudou et compagnie Chien Vert DC3082 Toopi & Nonette Marionnette
A35: 8172 | B35: doudou Doudou et compagnie Chien Rose DC3083 Toopi & Nonette Marionnette
A36: 8425 | B36: Doudou Nicotoy / Kitchoun Ours deguise en lapin gris marron plat
A37: 8733 | B37: doudou Babynat Lapin Marron 15cms BN3521 Les Naturels Pantin
A38: 8810 | B38: doudou Histoire d'ours Mini Licorne Rose Porte ClÃ©s
A39: 8847 | B39: Doudou Nicotoy Lapin Marron Assis Billes 20cms Lapin assis Pantin | C39: 2
A40: 8923 | B40: doudou Doudou et compagnie Licorne Blanc Lucie Arc en Ciel DC3312 Licorne Plat
A41: 8947 | B41: doudou Babynat Chat Rose BN0136 Les Luminescents Attache Tetine | C41: 1
A42: 9028 | B42: doudou Babynat Poussin Rose Fushia dans l'Å“uf mouchoir blanc Poussin de PÃ¢ques Pantin | D42: 1
A43: 9157 | B43: doudou Babynat Lapin Gris Reglisse 15cms BN0304 Les Toudoux
A44: 9212 | B44: doudou Doudou et compagnie Chien Bleu DC3053 Lovely Veilleuse
A45: 9220 | B45: doudou Doudou et compagnie Herisson Rose DC3052 Lovely Veilleuse
A46: 9296 | B46: doudou Histoire d'ours Autruche Noir 30cms Glitter Pantin | C46: 1
A47: 9362 | B47: doudou Nicotoy Souris Bleu Tonal verso Gris Mickey Plat | C47: 5
A48: 9438 | B48: doudou Noukies Oiseau Bleu Mini Charlie Musical | D48: 1
A49: 9580 | B49: doudou Babynat Lapin Bleu BN0415 Poupi Plat
A50: 9582 | B50: doudou Babynat Chouette Rose BN0377 Lou Plat | D50: 1
A51: 9585 | B51: doudou Babynat Ours Beige Bleu BN0382 Frisounours Plat
A52: 9589 | B52: doudou Kaloo Raton Laveur Beige Medium 34cms Filoo Pantin | C52: 2
A53: 9630 | B53: doudou Doudou et compagnie Chien Blanc avec Doudou 15cms DC2890 Choupidoudou Pantin
A54: 9683 | B54: doudou Nicotoy Disney Minnie Gris Lange Plat
A55: 9711 | B55: doudou Babynat Lion Marron Savane Marionnette
A56: 9713 | B56: doudou Babynat Crocodile Bleu Vert Savane marionnette
A57: 9727 | B57: doudou Babynat Lapin Rose Les Calins Plat
A58: 9794 | B58: doudou disney lange Gris Mickey Lange Etoile Mickey Plat
A59: 9808 | B59: doudou Noukies Singe Blanc Paresseux Tidou Moris & Sacha Plat
A60: 9840 | B60: Doudou Moulin Roty Elephant Jaune Bebe marionnette
A61: 9895 | B61: doudou disney Elephant Dumbo Gris lange Plat
A62: 9902 | B62: doudou Babynat Hippopotame Bleu Vert BN0362 Bazile & Zoe Plat
A63: 9972 | B63: doudou Doudou et Compagnie Poupee Rose Pretty Demoiselle de doudou Pantin
A64: 10147 | B64: Doudou Babynat Chat Gris BN0310 Attache Tetine - Les Cometes | D64: 1
A65: 10250 | B65: Doudou Babynat Ours Gris Plat - Pap'ours | D65: 2
A66: 10252 | B66: Doudou Babynat Panda Gris Plat - P'tit Panda | C66: 6
A67: 10258 | B67: Doudou Babynat Singe Marron Paresseux Pantin - Les Petits Voyageurs | C67: 4
A68: 10260 | B68: Doudou Babynat Chat Rose Attache tÃ©tine - Pollen | C68: 1 | D68: 3
A69: 10263 | B69: Doudou Babynat Chien Bleu Attache tÃ©tine - Pepin
A70: 10265 | B70: Doudou Babynat Herisson Vert Attache tÃ©tine - Les Super doudous | D70: 2
A71: 10267 | B71: Doudou Babynat Souris Rose Attache tÃ©tine - Les Super doudous | D71: 1
A72: 10272 | B72: Doudou Doudou et compagnie ours Taupe Plat - J'aime mon doudou
A73: 10273 | B73: Doudou Doudou et compagnie Ours Blanc Pantin - Unicef | C73: 1
A74: 10298 | B74: Doudou Doudou et compagnie Hippocampe Rose Pantin - Sous l'Ocean
A75: 10304 | B75: Doudou et compagnie Loup Bleu Plat - Tiwipi | C75: 1
A76: 10318 | B76: Doudou Doudou et compagnie Lapin Bleu Matelot pantin - Poudre de Perlidoudou
A77: 10350 | B77: Doudou Mots d'enfants Ours Gris Bleu DÃ©guisÃ© en lapin Plat - Luminescent
A78: 10362 | B78: Doudou Disney Elephant Beige Plat - Dumbo
A79: 10407 | B79: Doudou Nattou Cheval Beige Plat - Tim & Tiloo | C79: 3
A80: 10422 | B80: Doudou Maisons du Monde PoupÃ©e Colette Rose Pantin -
A81: 10453 | B81: Doudou Nattou Lapin Rose en Bois hochet - Nature
A82: 10454 | B82: Doudou Nattou Rose coeur Musical - | C82: 1
A83: 10458 | B83: Doudou Nattou Loup Bleu Attache tÃ©tine - Tim & Tiloo | C83: 2
A84: 10462 | B84: Doudou Nattou Loup Bleu Musical - Tim & Tiloo | C84: 1
A85: 10466 | B85: Doudou Nattou Faon Rose Attache tÃ©tine - Fanny & Oscar
A86: 10473 | B86: Doudou Nattou Lapin Rose Tricot Plat - Lapidou | C86: 1
A87: 10484 | B87: Doudou Nattou Pieuvre Rose ActivitÃ© - Lapidou
A88: 10489 | B88: Doudou Nattou Elephant Vert Anneau de dentition - Lapidou
A89: 10494 | B89: Doudou Babynat Licorne Rose Plat - Licorne | C89: 5
A90: 10500 | B90: Doudou Doudou et compagnie Plat - Mon petit Koala Yoca
A91: 10505 | B91: Doudou Doudou et compagnie Poussin Rose Fushia dans son Å“uf Pantin - Poussin
A92: 10529 | B92: Doudou et compagnie Ours Bleu Pantin - Collection | C92: 1
A93: 10544 | B93: Doudou Doudou et compagnie PoupÃ©e Rose Swing Mlle ChloÃ© PoupÃ©e - Les demoiselles
A94: 10610 | B94: Doudou Disney Chat Blanc Les aristochats Lange Plat - Marie
A95: 10633 | B95: Doudou Nicotoy Lapin Blanc Robe Pantin - Ballerina | C95: 1
A96: 10683 | B96: Doudou Babynat Elephant Rose Attache tÃ©tine - Edgar & Eglantine | C96: 1
A97: 10684 | B97: Doudou Babynat Elephant Rose Pantin - Edgar & Eglantine | D97: 1
A98: 10685 | B98: Doudou Babynat Elephant Rose Plat - Edgar & Eglantine
A99: 10688 | B99: Doudou Babynat Elephant Bleu Attache tÃ©tine - Edgar & Eglantine | C99: 4 | D99: 2
A100: 10692 | B100: Doudou Babynat Ours Gris Plat - Les Luminescents
A101: 10695 | B101: Doudou Babynat Ours Gris Pantin - Les Luminescents
...
