Workbook
Name Année: CALENDRIER!$W$4

Sheet SAISIE
B7: EMPLOYE
B12: DATE DE DEBUT
C13: SAISIR LA DATE DE DEBUT DES CONGES SOUHAITES
B18: DATE DE FIN
C19: SAISIR LA DATE DE FIN DES CONGES SOUHAITES

Sheet CALENDRIER
B4: PREVISIONNEL CONGES MAGASIN | Q4: ANNEE | W4: 2023
C6: =LISTES!B3 -> EMPLOYE 1 | D6: =LISTES!B4 -> EMPLOYE 2 | E6: =LISTES!B5 -> EMPLOYE 3 | F6: =LISTES!B6 -> EMPLOYE 4 | G6: =LISTES!B7 -> EMPLOYE 5 | H6: =LISTES!B8 -> EMPLOYE 6 | J6: =LISTES!B3 -> EMPLOYE 1 | K6: =LISTES!B4 -> EMPLOYE 2 | L6: =LISTES!B5 -> EMPLOYE 3 | M6: =LISTES!B6 -> EMPLOYE 4 | N6: =LISTES!B7 -> EMPLOYE 5 | O6: =LISTES!B8 -> EMPLOYE 6 | Q6: =LISTES!B3 -> EMPLOYE 1 | R6: =LISTES!B4 -> EMPLOYE 2 | S6: =LISTES!B5 -> EMPLOYE 3 | T6: =LISTES!B6 -> EMPLOYE 4 | U6: =LISTES!B7 -> EMPLOYE 5 | V6: =LISTES!B8 -> EMPLOYE 6 | X6: =LISTES!B3 -> EMPLOYE 1 | Y6: =LISTES!B4 -> EMPLOYE 2 | Z6: =LISTES!B5 -> EMPLOYE 3 | AA6: =LISTES!B6 -> EMPLOYE 4 | AB6: =LISTES!B7 -> EMPLOYE 5 | AC6: =LISTES!B8 -> EMPLOYE 6 | AE6: =LISTES!B3 -> EMPLOYE 1 | AF6: =LISTES!B4 -> EMPLOYE 2 | AG6: =LISTES!B5 -> EMPLOYE 3 | AH6: =LISTES!B6 -> EMPLOYE 4 | AI6: =LISTES!B7 -> EMPLOYE 5 | AJ6: =LISTES!B8 -> EMPLOYE 6 | AL6: =LISTES!B3 -> EMPLOYE 1 | AM6: =LISTES!B4 -> EMPLOYE 2 | AN6: =LISTES!B5 -> EMPLOYE 3 | AO6: =LISTES!B6 -> EMPLOYE 4 | AP6: =LISTES!B7 -> EMPLOYE 5 | AQ6: =LISTES!B8 -> EMPLOYE 6
B7: 36526 | I7: 36557 | P7: 36586 | W7: 36617 | AD7: 36647 | AK7: 36678
B8: {=_xlfn.SEQUENCE(DAY(DATE($W$4,MONTH(B7)+1,1)-1),1,DATE($W$4,MONTH(B7),1),1)} -> 44927 | I8: {=_xlfn.SEQUENCE(DAY(DATE($W$4,MONTH(I7)+1,1)-1),1,DATE($W$4,MONTH(I7),1),1)} -> 44958 | P8: {=_xlfn.SEQUENCE(DAY(DATE($W$4,MONTH(P7)+1,1)-1),1,DATE($W$4,MONTH(P7),1),1)} -> 44986 | W8: {=_xlfn.SEQUENCE(DAY(DATE($W$4,MONTH(W7)+1,1)-1),1,DATE($W$4,MONTH(W7),1),1)} -> 45017 | AD8: {=_xlfn.SEQUENCE(DAY(DATE($W$4,MONTH(AD7)+1,1)-1),1,DATE($W$4,MONTH(AD7),1),1)} -> 45047 | AK8: {=_xlfn.SEQUENCE(DAY(DATE($W$4,MONTH(AK7)+1,1)-1),1,DATE($W$4,MONTH(AK7),1),1)} -> 45078
B9: 44928 | I9: 44959 | P9: 44987 | W9: 45018 | AD9: 45048 | AK9: 45079
B10: 44929 | I10: 44960 | P10: 44988 | W10: 45019 | AD10: 45049 | AK10: 45080
B11: 44930 | I11: 44961 | P11: 44989 | W11: 45020 | AD11: 45050 | AK11: 45081
B12: 44931 | I12: 44962 | P12: 44990 | W12: 45021 | AD12: 45051 | AK12: 45082
B13: 44932 | I13: 44963 | P13: 44991 | W13: 45022 | AD13: 45052 | AK13: 45083
B14: 44933 | I14: 44964 | P14: 44992 | W14: 45023 | AD14: 45053 | AK14: 45084
B15: 44934 | I15: 44965 | P15: 44993 | W15: 45024 | AD15: 45054 | AK15: 45085
B16: 44935 | I16: 44966 | P16: 44994 | W16: 45025 | AD16: 45055 | AK16: 45086
B17: 44936 | I17: 44967 | P17: 44995 | W17: 45026 | AD17: 45056 | AK17: 45087
B18: 44937 | I18: 44968 | P18: 44996 | W18: 45027 | AD18: 45057 | AK18: 45088
B19: 44938 | I19: 44969 | P19: 44997 | W19: 45028 | AD19: 45058 | AK19: 45089
B20: 44939 | I20: 44970 | P20: 44998 | W20: 45029 | AD20: 45059 | AK20: 45090
... B35: 44954 | I35: 44985 | P35: 45013 | W35: 45044 | AD35: 45074 | AK35: 45105
B36: 44955 | P36: 45014 | W36: 45045 | AD36: 45075 | AK36: 45106
B37: 44956 | P37: 45015 | W37: 45046 | AD37: 45076 | AK37: 45107
B38: 44957 | P38: 45016 | AD38: 45077
B39: 36708 | I39: 36739 | P39: 36770 | W39: 36800 | AD39: 36831 | AK39: 36861
B40: {=_xlfn.SEQUENCE(DAY(DATE($W$4,MONTH(B39)+1,1)-1),1,DATE($W$4,MONTH(B39),1),1)} -> 45108 | I40: {=_xlfn.SEQUENCE(DAY(DATE($W$4,MONTH(I39)+1,1)-1),1,DATE($W$4,MONTH(I39),1),1)} -> 45139 | P40: {=_xlfn.SEQUENCE(DAY(DATE($W$4,MONTH(P39)+1,1)-1),1,DATE($W$4,MONTH(P39),1),1)} -> 45170 | W40: {=_xlfn.SEQUENCE(DAY(DATE($W$4,MONTH(W39)+1,1)-1),1,DATE($W$4,MONTH(W39),1),1)} -> 45200 | AD40: {=_xlfn.SEQUENCE(DAY(DATE($W$4,MONTH(AD39)+1,1)-1),1,DATE($W$4,MONTH(AD39),1),1)} -> 45231 | AK40: {=_xlfn.SEQUENCE(DAY(DATE($W$4,MONTH(AK39)+1,1)-1),1,DATE($W$4,MONTH(AK39),1),1)} -> 45261
B41: 45109 | I41: 45140 | P41: 45171 | W41: 45201 | AD41: 45232 | AK41: 45262
B42: 45110 | I42: 45141 | P42: 45172 | W42: 45202 | AD42: 45233 | AK42: 45263
B43: 45111 | I43: 45142 | P43: 45173 | W43: 45203 | AD43: 45234 | AK43: 45264
B44: 45112 | I44: 45143 | P44: 45174 | W44: 45204 | AD44: 45235 | AK44: 45265
B45: 45113 | I45: 45144 | P45: 45175 | W45: 45205 | AD45: 45236 | AK45: 45266
B46: 45114 | I46: 45145 | P46: 45176 | W46: 45206 | AD46: 45237 | AK46: 45267
B47: 45115 | I47: 45146 | P47: 45177 | W47: 45207 | AD47: 45238 | AK47: 45268
B48: 45116 | I48: 45147 | P48: 45178 | W48: 45208 | AD48: 45239 | AK48: 45269
B49: 45117 | I49: 45148 | P49: 45179 | W49: 45209 | AD49: 45240 | AK49: 45270
B50: 45118 | I50: 45149 | P50: 45180 | W50: 45210 | AD50: 45241 | AK50: 45271
B51: 45119 | I51: 45150 | P51: 45181 | W51: 45211 | AD51: 45242 | AK51: 45272
B52: 45120 | I52: 45151 | P52: 45182 | W52: 45212 | AD52: 45243 | AK52: 45273
... B69: 45137 | I69: 45168 | P69: 45199 | W69: 45229 | AD69: 45260 | AK69: 45290
B70: 45138 | I70: 45169 | W70: 45230 | AK70: 45291
C71: =LISTES!B3 -> EMPLOYE 1 | D71: =LISTES!B4 -> EMPLOYE 2 | E71: =LISTES!B5 -> EMPLOYE 3 | F71: =LISTES!B6 -> EMPLOYE 4 | G71: =LISTES!B7 -> EMPLOYE 5 | H71: =LISTES!B8 -> EMPLOYE 6 | J71: =LISTES!B3 -> EMPLOYE 1 | K71: =LISTES!B4 -> EMPLOYE 2 | L71: =LISTES!B5 -> EMPLOYE 3 | M71: =LISTES!B6 -> EMPLOYE 4 | N71: =LISTES!B7 -> EMPLOYE 5 | O71: =LISTES!B8 -> EMPLOYE 6 | Q71: =LISTES!B3 -> EMPLOYE 1 | R71: =LISTES!B4 -> EMPLOYE 2 | S71: =LISTES!B5 -> EMPLOYE 3 | T71: =LISTES!B6 -> EMPLOYE 4 | U71: =LISTES!B7 -> EMPLOYE 5 | V71: =LISTES!B8 -> EMPLOYE 6 | X71: =LISTES!B3 -> EMPLOYE 1 | Y71: =LISTES!B4 -> EMPLOYE 2 | Z71: =LISTES!B5 -> EMPLOYE 3 | AA71: =LISTES!B6 -> EMPLOYE 4 | AB71: =LISTES!B7 -> EMPLOYE 5 | AC71: =LISTES!B8 -> EMPLOYE 6 | AE71: =LISTES!B3 -> EMPLOYE 1 | AF71: =LISTES!B4 -> EMPLOYE 2 | AG71: =LISTES!B5 -> EMPLOYE 3 | AH71: =LISTES!B6 -> EMPLOYE 4 | AI71: =LISTES!B7 -> EMPLOYE 5 | AJ71: =LISTES!B8 -> EMPLOYE 6 | AL71: CHASTAING | AM71: =LISTES!B4 -> EMPLOYE 2 | AN71: =LISTES!B5 -> EMPLOYE 3 | AO71: =LISTES!B6 -> EMPLOYE 4 | AP71: =LISTES!B7 -> EMPLOYE 5 | AQ71: =LISTES!B8 -> EMPLOYE 6

Sheet JOURS FERIES
B3: JOUR DE L'AN | C3: =DATE(Année,1,1) -> 44927
B4: Pâques | C4: =ROUND(DATE(Année,4,MOD(234-11*MOD(Année,19),30))/7,0)*7-6 -> 45025 | D4: dimanche qui suit la 1e lune de printemps
B5: LUNDI DE Pâques | C5: =C4+1 -> 45026 | D5: 1 jour apres paques
B6: FETE DU TRAVAIL | C6: =DATE(Année,5,1) -> 45047
B7: VICTOIRE DE 1945 | C7: =DATE(Année,5,8) -> 45054
B8: ASCENSION | C8: =C4+39 -> 45064 | D8: 39 jour apres paques
B9: PENTECOTE | C9: =C4+49 -> 45074 | D9: 49 jour apres paques
B10: LUNDI DE PENTECOTE | C10: =C4+50 -> 45075 | D10: 50 jour apres paques
B11: FETE NATIONALE | C11: =DATE(Année,7,14) -> 45121
B12: ASSOMPTION | C12: =DATE(Année,8,15) -> 45153
B13: TOUSSAINT | C13: =DATE(Année,11,1) -> 45231
B14: ARMISTICE 1918 | C14: =DATE(Année,11,11) -> 45241
B15: NOEL | C15: =DATE(Année,12,25) -> 45285

Sheet LISTES
B3: EMPLOYE 1
B4: EMPLOYE 2
B5: EMPLOYE 3
B6: EMPLOYE 4
B7: EMPLOYE 5
B8: EMPLOYE 6

Sheet EMPLOYE 1
A1: DATE DE DEBUT | B1: DATE DE FIN | C1: NOMBRE DE JOURS | D1: DATE DE SAISIE

Sheet EMPLOYE 2
A1: DATE DE DEBUT | B1: DATE DE FIN | C1: NOMBRE DE JOURS | D1: DATE DE SAISIE

Sheet EMPLOYE 3
A1: DATE DE DEBUT | B1: DATE DE FIN | C1: NOMBRE DE JOURS | D1: DATE DE SAISIE

Sheet EMPLOYE 4
A1: DATE DE DEBUT | B1: DATE DE FIN | C1: NOMBRE DE JOURS | D1: DATE DE SAISIE

Sheet EMPLOYE 5
A1: DATE DE DEBUT | B1: DATE DE FIN | C1: NOMBRE DE JOURS | D1: DATE DE SAISIE

Sheet EMPLOYE 6
A1: DATE DE DEBUT | B1: DATE DE FIN | C1: NOMBRE DE JOURS | D1: DATE DE SAISIE
