Workbook

Sheet EXTRACTION
A1: DEMANDE | B1: DATE
A2: =[1]ActiveSheet!B2 -> 11111 | B2: =[1]ActiveSheet!A2 -> 43831
A3: =[1]ActiveSheet!B3 -> 11113 | B3: =[1]ActiveSheet!A3 -> 43832
A4: =[1]ActiveSheet!B4 -> 11154 | B4: =[1]ActiveSheet!A4 -> 43834
A5: =[1]ActiveSheet!B5 -> 11635 | B5: =[1]ActiveSheet!A5 -> 44292
A6: =[1]ActiveSheet!B6 -> 32459 | B6: =[1]ActiveSheet!A6 -> 44413
A7: =[1]ActiveSheet!B7 -> 33756 | B7: =[1]ActiveSheet!A7 -> 44475
A8: =[1]ActiveSheet!B8 -> 0 | B8: =[1]ActiveSheet!A8 -> 0
A9: =[1]ActiveSheet!B9 -> 0 | B9: =[1]ActiveSheet!A9 -> 0
A10: =[1]ActiveSheet!B10 -> 0 | B10: =[1]ActiveSheet!A10 -> 0
A11: =[1]ActiveSheet!B11 -> 0 | B11: =[1]ActiveSheet!A11 -> 0
A12: =[1]ActiveSheet!B12 -> 0 | B12: =[1]ActiveSheet!A12 -> 0
A13: =[1]ActiveSheet!B13 -> 0 | B13: =[1]ActiveSheet!A13 -> 0
... A401: =[1]ActiveSheet!B401 -> 0 | B401: =[1]ActiveSheet!A401 -> 0

Sheet SUIVI
A1: DEMANDE | B1: DATE | C1: FOURNISSEUR | D1: ACTION | E1: EMPLOYE | F1: ETAT | G1: STATUT | I1: A TRAITER
A2: 11111 | B2: 43831 | C2: XXX | D2: AAAAAAAAAA | E2: E2 | F2: EN COURS DE TRAITEMENT | G2: =IF(ISERROR(VLOOKUP(Tableau2[[#This Row],[DEMANDE]],EXTRACTION!$A$1:$B$401,1,FALSE)),"SOLDEE","") | I2: EN COURS DE TRAITEMENT
A3: 11113 | B3: 43832 | C3: YYY | D3: BBBBBBBBBBB | E3: E5 | F3: EN ATTENTE DE RECEPTION | G3: =IF(ISERROR(VLOOKUP(Tableau2[[#This Row],[DEMANDE]],EXTRACTION!$A$1:$B$401,1,FALSE)),"SOLDEE","") | I3: EN ATTENTE DE RECEPTION
A4: 58590 | B4: 44233 | C4: ZZZ | D4: CCCCCCCCCCC | E4: E6 | G4: =IF(ISERROR(VLOOKUP(Tableau2[[#This Row],[DEMANDE]],EXTRACTION!$A$1:$B$401,1,FALSE)),"SOLDEE","") -> SOLDEE | I4: OK
G5: =IF(ISERROR(VLOOKUP(Tableau2[[#This Row],[DEMANDE]],EXTRACTION!$A$1:$B$401,1,FALSE)),"SOLDEE","") | I5: SOLDEE
G6: =IF(ISERROR(VLOOKUP(Tableau2[[#This Row],[DEMANDE]],EXTRACTION!$A$1:$B$401,1,FALSE)),"SOLDEE","")
G7: =IF(ISERROR(VLOOKUP(Tableau2[[#This Row],[DEMANDE]],EXTRACTION!$A$1:$B$401,1,FALSE)),"SOLDEE","")
G8: =IF(ISERROR(VLOOKUP(Tableau2[[#This Row],[DEMANDE]],EXTRACTION!$A$1:$B$401,1,FALSE)),"SOLDEE","")
G9: =IF(ISERROR(VLOOKUP(Tableau2[[#This Row],[DEMANDE]],EXTRACTION!$A$1:$B$401,1,FALSE)),"SOLDEE","") | I9: E1
G10: =IF(ISERROR(VLOOKUP(Tableau2[[#This Row],[DEMANDE]],EXTRACTION!$A$1:$B$401,1,FALSE)),"SOLDEE","") | I10: E2
G11: =IF(ISERROR(VLOOKUP(Tableau2[[#This Row],[DEMANDE]],EXTRACTION!$A$1:$B$401,1,FALSE)),"SOLDEE","") | I11: E3
G12: =IF(ISERROR(VLOOKUP(Tableau2[[#This Row],[DEMANDE]],EXTRACTION!$A$1:$B$401,1,FALSE)),"SOLDEE","") | I12: E4
G13: =IF(ISERROR(VLOOKUP(Tableau2[[#This Row],[DEMANDE]],EXTRACTION!$A$1:$B$401,1,FALSE)),"SOLDEE","") | I13: E5
G14: =IF(ISERROR(VLOOKUP(Tableau2[[#This Row],[DEMANDE]],EXTRACTION!$A$1:$B$401,1,FALSE)),"SOLDEE","") | I14: E6
G15: =IF(ISERROR(VLOOKUP(Tableau2[[#This Row],[DEMANDE]],EXTRACTION!$A$1:$B$401,1,FALSE)),"SOLDEE","") | I15: E7
G16: =IF(ISERROR(VLOOKUP(Tableau2[[#This Row],[DEMANDE]],EXTRACTION!$A$1:$B$401,1,FALSE)),"SOLDEE","")
G17: =IF(ISERROR(VLOOKUP(Tableau2[[#This Row],[DEMANDE]],EXTRACTION!$A$1:$B$401,1,FALSE)),"SOLDEE","")
G18: =IF(ISERROR(VLOOKUP(Tableau2[[#This Row],[DEMANDE]],EXTRACTION!$A$1:$B$401,1,FALSE)),"SOLDEE","")
G19: =IF(ISERROR(VLOOKUP(Tableau2[[#This Row],[DEMANDE]],EXTRACTION!$A$1:$B$401,1,FALSE)),"SOLDEE","")
G20: =IF(ISERROR(VLOOKUP(Tableau2[[#This Row],[DEMANDE]],EXTRACTION!$A$1:$B$401,1,FALSE)),"SOLDEE","")
G21: =IF(ISERROR(VLOOKUP(Tableau2[[#This Row],[DEMANDE]],EXTRACTION!$A$1:$B$401,1,FALSE)),"SOLDEE","")
G22: =IF(ISERROR(VLOOKUP(Tableau2[[#This Row],[DEMANDE]],EXTRACTION!$A$1:$B$401,1,FALSE)),"SOLDEE","")
G23: =IF(ISERROR(VLOOKUP(Tableau2[[#This Row],[DEMANDE]],EXTRACTION!$A$1:$B$401,1,FALSE)),"SOLDEE","")
G24: =IF(ISERROR(VLOOKUP(Tableau2[[#This Row],[DEMANDE]],EXTRACTION!$A$1:$B$401,1,FALSE)),"SOLDEE","")
G25: =IF(ISERROR(VLOOKUP(Tableau2[[#This Row],[DEMANDE]],EXTRACTION!$A$1:$B$401,1,FALSE)),"SOLDEE","")
G26: =IF(ISERROR(VLOOKUP(Tableau2[[#This Row],[DEMANDE]],EXTRACTION!$A$1:$B$401,1,FALSE)),"SOLDEE","")
G27: =IF(ISERROR(VLOOKUP(Tableau2[[#This Row],[DEMANDE]],EXTRACTION!$A$1:$B$401,1,FALSE)),"SOLDEE","")
... G301: =IF(ISERROR(VLOOKUP(Tableau2[[#This Row],[DEMANDE]],EXTRACTION!$A$1:$B$401,1,FALSE)),"SOLDEE","")

Sheet DEMANDES SOLDEES
A1: DEMANDE | B1: DATE | C1: FOURNISSEUR | D1: ACTION | E1: EMPLOYE | F1: ETAT | G1: STATUT
