Workbook

Sheet donnés de base
B1: MARQUE | C1: TYPE MATERIEL | D1: MODELE | E1: TYPE MATERIEL | F1: PUISSANCE | J1: PRIX | K1: PA | L1: METRE | M1: NBRE DE CORPS | N1: NBRE DE RANG | O1: L | P1: T | Q1: NRE DE DISQUE | R1: M³(S) | S1: MM | T1: M³(J) | U1: NBRE RAMPES | V1: PIEUX | W1: NBRE ESSIEUX | X1: m2 | Y1: RAV | Z1: BAT SURF | AA1: PA UTIL | AB1: MAN | AC1: GAIN
A2: 1 | B2: BECKER | C2: DÉCHAUMEUR FORESTIER BECKER | D2: CRABE | E2: DÉCHAUMEUR FORESTIER | F2: 130 | G2: ch | H2: =F2&" "&G2 -> 130 ch | I2: 4 | J2: 11475 | K2: 1200 | L2: 2.25 | Q2: 10 | Z2: 9 | AA2: 0.75
B3: BECKER
B4: BECKER
A7: 2 | B7: FREIGHTLINER | C7: TRACTEUR ROUTIER FREIGHTLINER | D7: ARGOSY | E7: TRACTEUR ROUTIER | F7: 475 | G7: ch | H7: =F7&" "&G7 -> 475 ch | I7: 2 | J7: 74000 | K7: 16800 | Z7: 20
B8: FREIGHTLINER
B9: FREIGHTLINER

Sheet Feuil2
B3: MODELE | C3: TYPE MATERIEL | D3: PUISSANCE | H3: PRIX | I3: PA
B4: CRABE | C4: =VLOOKUP($B$4,'donnés de base'!D:K,2,0) -> DÉCHAUMEUR FORESTIER | D4: =VLOOKUP(B4,'donnés de base'!D:K,3,0) -> 130 | E4: =VLOOKUP(B4,'donnés de base'!D:K,4,0) -> ch | F4: =VLOOKUP(B4,'donnés de base'!D:K,5,0) -> 130 ch | G4: =VLOOKUP(B4,'donnés de base'!D:K,6,0) -> 4 | H4: =VLOOKUP(B4,'donnés de base'!D:K,7,0) -> 11475 | I4: =VLOOKUP(B4,'donnés de base'!D:K,8,0) -> 1200
C5: =VLOOKUP($B$4,'donnés de base'!$D:$K,2,0) -> DÉCHAUMEUR FORESTIER | D5: =VLOOKUP($B$4,'donnés de base'!$D:$K,3,0) -> 130 | E5: =VLOOKUP($B$4,'donnés de base'!$D:$K,4,0) -> ch | F5: =VLOOKUP($B$4,'donnés de base'!$D:$K,5,0) -> 130 ch | G5: =VLOOKUP($B$4,'donnés de base'!$D:$K,6,0) -> 4 | H5: =VLOOKUP($B$4,'donnés de base'!$D:$K,7,0) -> 11475 | I5: =VLOOKUP($B$4,'donnés de base'!$D:$K,8,0) -> 1200
C6: =VLOOKUP($B$4,'donnés de base'!$D:$K,2,0) -> DÉCHAUMEUR FORESTIER | D6: =VLOOKUP($B$4,'donnés de base'!$D:$K,3,0) -> 130 | E6: =VLOOKUP($B$4,'donnés de base'!$D:$K,4,0) -> ch | F6: =VLOOKUP($B$4,'donnés de base'!$D:$K,5,0) -> 130 ch | G6: =VLOOKUP($B$4,'donnés de base'!$D:$K,6,0) -> 4 | H6: =VLOOKUP($B$4,'donnés de base'!$D:$K,7,0) -> 11475 | I6: =VLOOKUP($B$4,'donnés de base'!$D:$K,8,0) -> 1200
C7: =VLOOKUP($B$4,'donnés de base'!$D:$K,2,0) -> DÉCHAUMEUR FORESTIER | D7: =VLOOKUP($B$4,'donnés de base'!$D:$K,3,0) -> 130 | E7: =VLOOKUP($B$4,'donnés de base'!$D:$K,4,0) -> ch | F7: =VLOOKUP($B$4,'donnés de base'!$D:$K,5,0) -> 130 ch | G7: =VLOOKUP($B$4,'donnés de base'!$D:$K,6,0) -> 4 | H7: =VLOOKUP($B$4,'donnés de base'!$D:$K,7,0) -> 11475 | I7: =VLOOKUP($B$4,'donnés de base'!$D:$K,8,0) -> 1200
B9: ARGOSY | C9: =VLOOKUP(B9,'donnés de base'!D:K,2,0) -> TRACTEUR ROUTIER | D9: =VLOOKUP(B9,'donnés de base'!D:K,3,0) -> 475 | E9: =VLOOKUP(B9,'donnés de base'!D:K,4,0) -> ch | F9: =VLOOKUP(B9,'donnés de base'!D:K,5,0) -> 475 ch | G9: =VLOOKUP(B9,'donnés de base'!D:K,6,0) -> 2 | H9: =VLOOKUP(B9,'donnés de base'!D:K,7,0) -> 74000 | I9: =VLOOKUP(B9,'donnés de base'!D:K,8,0) -> 16800
C10: =VLOOKUP(B10,'donnés de base'!D:K,2,0) -> #N/A | D10: =VLOOKUP(B10,'donnés de base'!D:K,3,0) -> #N/A | E10: =VLOOKUP(B10,'donnés de base'!D:K,4,0) -> #N/A | F10: =VLOOKUP(B10,'donnés de base'!D:K,5,0) -> #N/A | G10: =VLOOKUP(B10,'donnés de base'!D:K,6,0) -> #N/A | H10: =VLOOKUP(B10,'donnés de base'!D:K,7,0) -> #N/A | I10: =VLOOKUP(B10,'donnés de base'!D:K,8,0) -> #N/A
