Workbook
Name ChoixCPT: 'Ventilation par compte'!#REF!
Name Compte: SAISIE!$D$1:$D$287
Name COMPTES: 'N° des Comptes'!$F$1:$F$42

Sheet SAISIE
A1: Date | B1: Section | C1: Désignation de l'opération | D1: Compte | E1: B / L | F1: Règlement | G1: Relevé Banque | H1: Montant | K1: b CIN | L1: l CIN | M1: 421000 | N1: 431100 | O1: 437300 | P1: 437350 | Q1: 437400 | R1: 437800 | S1: 442100 | T1: 467010 | U1: 467020 | V1: 467030 | W1: 467050 | X1: 467080 | Y1: 467100 | Z1: 467110 | AA1: 467120 | AB1: 467130 | AC1: 467140 | AD1: 467180 | AE1: 467190 | AF1: 467220 | AG1: 471000 | AH1: 580000 | AI1: 606400 | AJ1: 615500 | AK1: 616000 | AL1: 618500 | AM1: 622600 | AN1: 625700 | AO1: 626000 | AP1: 626500 | AQ1: 627800 | AR1: 641100 | AS1: 645100 | AT1: 645300 | AU1: 645350 | AV1: 645400 | AW1: 645800 | AX1: 648000 | AY1: 791180 | AZ1: 791181 | BA1: 791240
A2: 43710 | B2: Comité directeur | C2: Virt du Cpte Livret | D2: 580000 | E2: b CIN | F2: Virement | G2: 1909 | H2: 10000 | I2: =D2&"_"&COUNTIF($D$1:D2,D2) -> 580000_1 | K2: =IF(SAISIE!$E2="b CIN",ROW(),"") -> 2 | L2: =IF(SAISIE!$E2="l CIN",ROW(),"") | M2: =IF(Compte=M$1,ROW(),"") | N2: =IF(Compte=N$1,ROW(),"") | O2: =IF(Compte=O$1,ROW(),"") | P2: =IF(Compte=P$1,ROW(),"") | Q2: =IF(Compte=Q$1,ROW(),"") | R2: =IF(Compte=R$1,ROW(),"") | S2: =IF(Compte=S$1,ROW(),"") | T2: =IF(Compte=T$1,ROW(),"") | ... BA2: =IF(Compte=BA$1,ROW(),"")
A3: 43710 | B3: Comité directeur | C3: Virt au Cpte Courant | D3: 580000 | E3: l CIN | F3: Virement | G3: 1909 | H3: 10000 | I3: =D3&"_"&COUNTIF($D$1:D3,D3) -> 580000_2 | K3: =IF(SAISIE!$E3="b CIN",ROW(),"") | L3: =IF(SAISIE!$E3="l CIN",ROW(),"") -> 3 | M3: =IF(Compte=M$1,ROW(),"") | N3: =IF(Compte=N$1,ROW(),"") | O3: =IF(Compte=O$1,ROW(),"") | P3: =IF(Compte=P$1,ROW(),"") | Q3: =IF(Compte=Q$1,ROW(),"") | R3: =IF(Compte=R$1,ROW(),"") | S3: =IF(Compte=S$1,ROW(),"") | T3: =IF(Compte=T$1,ROW(),"") | ... BA3: =IF(Compte=BA$1,ROW(),"")
A4: 43710 | B4: Athlétisme | C4: Subv 2018-2019 | D4: 467010 | E4: b CIN | F4: Virement | G4: 1909 | I4: =D4&"_"&COUNTIF($D$1:D4,D4) -> 467010_1 | K4: =IF(SAISIE!$E4="b CIN",ROW(),"") -> 4 | L4: =IF(SAISIE!$E4="l CIN",ROW(),"") | M4: =IF(Compte=M$1,ROW(),"") | N4: =IF(Compte=N$1,ROW(),"") | O4: =IF(Compte=O$1,ROW(),"") | P4: =IF(Compte=P$1,ROW(),"") | Q4: =IF(Compte=Q$1,ROW(),"") | R4: =IF(Compte=R$1,ROW(),"") | S4: =IF(Compte=S$1,ROW(),"") | T4: =IF(Compte=T$1,ROW(),"") -> 4 | ... BA4: =IF(Compte=BA$1,ROW(),"")
A5: 43711 | B5: Natation | C5: Rbt location minibus FACT 54 | D5: 791180 | E5: b CIN | F5: Virement | G5: 1909 | I5: =D5&"_"&COUNTIF($D$1:D5,D5) -> 791180_1 | K5: =IF(SAISIE!$E5="b CIN",ROW(),"") -> 5 | L5: =IF(SAISIE!$E5="l CIN",ROW(),"") | M5: =IF(Compte=M$1,ROW(),"") | N5: =IF(Compte=N$1,ROW(),"") | O5: =IF(Compte=O$1,ROW(),"") | P5: =IF(Compte=P$1,ROW(),"") | Q5: =IF(Compte=Q$1,ROW(),"") | R5: =IF(Compte=R$1,ROW(),"") | S5: =IF(Compte=S$1,ROW(),"") | T5: =IF(Compte=T$1,ROW(),"") | ... BA5: =IF(Compte=BA$1,ROW(),"")
A6: 43711 | B6: Natation | C6: Rbt location minibus FACT 50 | D6: 791180 | E6: b CIN | F6: Virement | G6: 1909 | I6: =D6&"_"&COUNTIF($D$1:D6,D6) -> 791180_2 | K6: =IF(SAISIE!$E6="b CIN",ROW(),"") -> 6 | L6: =IF(SAISIE!$E6="l CIN",ROW(),"") | M6: =IF(Compte=M$1,ROW(),"") | N6: =IF(Compte=N$1,ROW(),"") | O6: =IF(Compte=O$1,ROW(),"") | P6: =IF(Compte=P$1,ROW(),"") | Q6: =IF(Compte=Q$1,ROW(),"") | R6: =IF(Compte=R$1,ROW(),"") | S6: =IF(Compte=S$1,ROW(),"") | T6: =IF(Compte=T$1,ROW(),"") | ... BA6: =IF(Compte=BA$1,ROW(),"")
A7: 43711 | B7: Natation | C7: Rbt URSSAF 1èr trim | D7: 467100 | E7: b CIN | F7: Virement | G7: 1909 | I7: =D7&"_"&COUNTIF($D$1:D7,D7) -> 467100_1 | K7: =IF(SAISIE!$E7="b CIN",ROW(),"") -> 7 | L7: =IF(SAISIE!$E7="l CIN",ROW(),"") | M7: =IF(Compte=M$1,ROW(),"") | N7: =IF(Compte=N$1,ROW(),"") | O7: =IF(Compte=O$1,ROW(),"") | P7: =IF(Compte=P$1,ROW(),"") | Q7: =IF(Compte=Q$1,ROW(),"") | R7: =IF(Compte=R$1,ROW(),"") | S7: =IF(Compte=S$1,ROW(),"") | T7: =IF(Compte=T$1,ROW(),"") | ... BA7: =IF(Compte=BA$1,ROW(),"")
A8: 43711 | B8: Natation | C8: Rbt Pole Emploi 1er trim | D8: 467110 | E8: b CIN | F8: Virement | G8: 1909 | I8: =D8&"_"&COUNTIF($D$1:D8,D8) -> 467110_1 | K8: =IF(SAISIE!$E8="b CIN",ROW(),"") -> 8 | L8: =IF(SAISIE!$E8="l CIN",ROW(),"") | M8: =IF(Compte=M$1,ROW(),"") | N8: =IF(Compte=N$1,ROW(),"") | O8: =IF(Compte=O$1,ROW(),"") | P8: =IF(Compte=P$1,ROW(),"") | Q8: =IF(Compte=Q$1,ROW(),"") | R8: =IF(Compte=R$1,ROW(),"") | S8: =IF(Compte=S$1,ROW(),"") | T8: =IF(Compte=T$1,ROW(),"") | ... BA8: =IF(Compte=BA$1,ROW(),"")
A9: 43711 | B9: Natation | C9: Rbt Humanis 1er trim | D9: 467120 | E9: b CIN | F9: Virement | G9: 1909 | I9: =D9&"_"&COUNTIF($D$1:D9,D9) -> 467120_1 | K9: =IF(SAISIE!$E9="b CIN",ROW(),"") -> 9 | L9: =IF(SAISIE!$E9="l CIN",ROW(),"") | M9: =IF(Compte=M$1,ROW(),"") | N9: =IF(Compte=N$1,ROW(),"") | O9: =IF(Compte=O$1,ROW(),"") | P9: =IF(Compte=P$1,ROW(),"") | Q9: =IF(Compte=Q$1,ROW(),"") | R9: =IF(Compte=R$1,ROW(),"") | S9: =IF(Compte=S$1,ROW(),"") | T9: =IF(Compte=T$1,ROW(),"") | ... BA9: =IF(Compte=BA$1,ROW(),"")
A10: 43711 | B10: Natation | C10: Rbt location minibus FACT 43 | D10: 791180 | E10: b CIN | F10: Virement | G10: 1909 | I10: =D10&"_"&COUNTIF($D$1:D10,D10) -> 791180_3 | K10: =IF(SAISIE!$E10="b CIN",ROW(),"") -> 10 | L10: =IF(SAISIE!$E10="l CIN",ROW(),"") | M10: =IF(Compte=M$1,ROW(),"") | N10: =IF(Compte=N$1,ROW(),"") | O10: =IF(Compte=O$1,ROW(),"") | P10: =IF(Compte=P$1,ROW(),"") | Q10: =IF(Compte=Q$1,ROW(),"") | R10: =IF(Compte=R$1,ROW(),"") | S10: =IF(Compte=S$1,ROW(),"") | T10: =IF(Compte=T$1,ROW(),"") | ... BA10: =IF(Compte=BA$1,ROW(),"")
A11: 43711 | B11: Natation | C11: Rbt URSSAF 2è trim | D11: 467100 | E11: b CIN | F11: Virement | G11: 1909 | I11: =D11&"_"&COUNTIF($D$1:D11,D11) -> 467100_2 | K11: =IF(SAISIE!$E11="b CIN",ROW(),"") -> 11 | L11: =IF(SAISIE!$E11="l CIN",ROW(),"") | M11: =IF(Compte=M$1,ROW(),"") | N11: =IF(Compte=N$1,ROW(),"") | O11: =IF(Compte=O$1,ROW(),"") | P11: =IF(Compte=P$1,ROW(),"") | Q11: =IF(Compte=Q$1,ROW(),"") | R11: =IF(Compte=R$1,ROW(),"") | S11: =IF(Compte=S$1,ROW(),"") | T11: =IF(Compte=T$1,ROW(),"") | ... BA11: =IF(Compte=BA$1,ROW(),"")
A12: 43711 | B12: Natation | C12: Rbt Pole Emploi 2è trim | D12: 467110 | E12: b CIN | F12: Virement | G12: 1909 | I12: =D12&"_"&COUNTIF($D$1:D12,D12) -> 467110_2 | K12: =IF(SAISIE!$E12="b CIN",ROW(),"") -> 12 | L12: =IF(SAISIE!$E12="l CIN",ROW(),"") | M12: =IF(Compte=M$1,ROW(),"") | N12: =IF(Compte=N$1,ROW(),"") | O12: =IF(Compte=O$1,ROW(),"") | P12: =IF(Compte=P$1,ROW(),"") | Q12: =IF(Compte=Q$1,ROW(),"") | R12: =IF(Compte=R$1,ROW(),"") | S12: =IF(Compte=S$1,ROW(),"") | T12: =IF(Compte=T$1,ROW(),"") | ... BA12: =IF(Compte=BA$1,ROW(),"")
A13: 43711 | B13: Natation | C13: Rbt Humanis 2è trim | D13: 467120 | E13: b CIN | F13: Virement | G13: 1909 | I13: =D13&"_"&COUNTIF($D$1:D13,D13) -> 467120_2 | K13: =IF(SAISIE!$E13="b CIN",ROW(),"") -> 13 | L13: =IF(SAISIE!$E13="l CIN",ROW(),"") | M13: =IF(Compte=M$1,ROW(),"") | N13: =IF(Compte=N$1,ROW(),"") | O13: =IF(Compte=O$1,ROW(),"") | P13: =IF(Compte=P$1,ROW(),"") | Q13: =IF(Compte=Q$1,ROW(),"") | R13: =IF(Compte=R$1,ROW(),"") | S13: =IF(Compte=S$1,ROW(),"") | T13: =IF(Compte=T$1,ROW(),"") | ... BA13: =IF(Compte=BA$1,ROW(),"")
A14: 43711 | B14: Natation | C14: Rbt Chorum 2eme trim | D14: 467140 | E14: b CIN | F14: Virement | G14: 1909 | I14: =D14&"_"&COUNTIF($D$1:D14,D14) -> 467140_1 | K14: =IF(SAISIE!$E14="b CIN",ROW(),"") -> 14 | L14: =IF(SAISIE!$E14="l CIN",ROW(),"") | M14: =IF(Compte=M$1,ROW(),"") | N14: =IF(Compte=N$1,ROW(),"") | O14: =IF(Compte=O$1,ROW(),"") | P14: =IF(Compte=P$1,ROW(),"") | Q14: =IF(Compte=Q$1,ROW(),"") | R14: =IF(Compte=R$1,ROW(),"") | S14: =IF(Compte=S$1,ROW(),"") | T14: =IF(Compte=T$1,ROW(),"") | ... BA14: =IF(Compte=BA$1,ROW(),"")
A15: 43711 | B15: Natation | C15: Rbt location minibus FACT 47 | D15: 791180 | E15: b CIN | F15: Virement | G15: 1909 | I15: =D15&"_"&COUNTIF($D$1:D15,D15) -> 791180_4 | K15: =IF(SAISIE!$E15="b CIN",ROW(),"") -> 15 | L15: =IF(SAISIE!$E15="l CIN",ROW(),"") | M15: =IF(Compte=M$1,ROW(),"") | N15: =IF(Compte=N$1,ROW(),"") | O15: =IF(Compte=O$1,ROW(),"") | P15: =IF(Compte=P$1,ROW(),"") | Q15: =IF(Compte=Q$1,ROW(),"") | R15: =IF(Compte=R$1,ROW(),"") | S15: =IF(Compte=S$1,ROW(),"") | T15: =IF(Compte=T$1,ROW(),"") | ... BA15: =IF(Compte=BA$1,ROW(),"")
... A27: 43720 | B27: Basket | C27: Subvention CNDS Emilie Basket | D27: 467080 | E27: b CIN | F27: Virement | G27: 1909 | I27: =D27&"_"&COUNTIF($D$1:D27,D27) -> 467080_1 | K27: =IF(SAISIE!$E27="b CIN",ROW(),"") -> 27 | L27: =IF(SAISIE!$E27="l CIN",ROW(),"") | M27: =IF(Compte=M$1,ROW(),"") | N27: =IF(Compte=N$1,ROW(),"") | O27: =IF(Compte=O$1,ROW(),"") | P27: =IF(Compte=P$1,ROW(),"") | Q27: =IF(Compte=Q$1,ROW(),"") | R27: =IF(Compte=R$1,ROW(),"") | S27: =IF(Compte=S$1,ROW(),"") | T27: =IF(Compte=T$1,ROW(),"") | ... BA27: =IF(Compte=BA$1,ROW(),"")
A28: 43720 | C28: ADREA Mutuelle | D28: 467180 | E28: b CIN | F28: Prélèvement | G28: 1909 | I28: =D28&"_"&COUNTIF($D$1:D28,D28) -> 467180_1 | K28: =IF(SAISIE!$E28="b CIN",ROW(),"") -> 28 | L28: =IF(SAISIE!$E28="l CIN",ROW(),"") | M28: =IF(Compte=M$1,ROW(),"") | N28: =IF(Compte=N$1,ROW(),"") | O28: =IF(Compte=O$1,ROW(),"") | P28: =IF(Compte=P$1,ROW(),"") | Q28: =IF(Compte=Q$1,ROW(),"") | R28: =IF(Compte=R$1,ROW(),"") | S28: =IF(Compte=S$1,ROW(),"") | T28: =IF(Compte=T$1,ROW(),"") | ... BA28: =IF(Compte=BA$1,ROW(),"")
A29: 43720 | B29: Comité directeur | C29: ADREA Mutuelle | D29: 437800 | E29: b CIN | F29: Prélèvement | G29: 1909 | I29: =D29&"_"&COUNTIF($D$1:D29,D29) -> 437800_1 | K29: =IF(SAISIE!$E29="b CIN",ROW(),"") -> 29 | L29: =IF(SAISIE!$E29="l CIN",ROW(),"") | M29: =IF(Compte=M$1,ROW(),"") | N29: =IF(Compte=N$1,ROW(),"") | O29: =IF(Compte=O$1,ROW(),"") | P29: =IF(Compte=P$1,ROW(),"") | Q29: =IF(Compte=Q$1,ROW(),"") | R29: =IF(Compte=R$1,ROW(),"") -> 29 | S29: =IF(Compte=S$1,ROW(),"") | T29: =IF(Compte=T$1,ROW(),"") | ... BA29: =IF(Compte=BA$1,ROW(),"")
A30: 43720 | B30: Comité directeur | C30: Arrondi ADREA Mutuelle | D30: 645800 | E30: b CIN | F30: Prélèvement | G30: 1909 | I30: =D30&"_"&COUNTIF($D$1:D30,D30) -> 645800_1 | K30: =IF(SAISIE!$E30="b CIN",ROW(),"") -> 30 | L30: =IF(SAISIE!$E30="l CIN",ROW(),"") | M30: =IF(Compte=M$1,ROW(),"") | N30: =IF(Compte=N$1,ROW(),"") | O30: =IF(Compte=O$1,ROW(),"") | P30: =IF(Compte=P$1,ROW(),"") | Q30: =IF(Compte=Q$1,ROW(),"") | R30: =IF(Compte=R$1,ROW(),"") | S30: =IF(Compte=S$1,ROW(),"") | T30: =IF(Compte=T$1,ROW(),"") | ... BA30: =IF(Compte=BA$1,ROW(),"")
A31: 43720 | B31: Comité directeur | C31: ENCRE MARKET : papeterie | D31: 606400 | E31: b CIN | F31: CB | G31: 1909 | I31: =D31&"_"&COUNTIF($D$1:D31,D31) -> 606400_1 | K31: =IF(SAISIE!$E31="b CIN",ROW(),"") -> 31 | L31: =IF(SAISIE!$E31="l CIN",ROW(),"") | M31: =IF(Compte=M$1,ROW(),"") | N31: =IF(Compte=N$1,ROW(),"") | O31: =IF(Compte=O$1,ROW(),"") | P31: =IF(Compte=P$1,ROW(),"") | Q31: =IF(Compte=Q$1,ROW(),"") | R31: =IF(Compte=R$1,ROW(),"") | S31: =IF(Compte=S$1,ROW(),"") | T31: =IF(Compte=T$1,ROW(),"") | ... BA31: =IF(Compte=BA$1,ROW(),"")
A32: 43724 | B32: Athlétisme | C32: Subv 2018-2019 | D32: 467010 | E32: b CIN | F32: Virement | G32: 1909 | I32: =D32&"_"&COUNTIF($D$1:D32,D32) -> 467010_5 | K32: =IF(SAISIE!$E32="b CIN",ROW(),"") -> 32 | L32: =IF(SAISIE!$E32="l CIN",ROW(),"") | M32: =IF(Compte=M$1,ROW(),"") | N32: =IF(Compte=N$1,ROW(),"") | O32: =IF(Compte=O$1,ROW(),"") | P32: =IF(Compte=P$1,ROW(),"") | Q32: =IF(Compte=Q$1,ROW(),"") | R32: =IF(Compte=R$1,ROW(),"") | S32: =IF(Compte=S$1,ROW(),"") | T32: =IF(Compte=T$1,ROW(),"") -> 32 | ... BA32: =IF(Compte=BA$1,ROW(),"")
A33: 43725 | C33: URSSAF 08 – 2019 | D33: 467100 | E33: b CIN | F33: Prélèvement | G33: 1909 | I33: =D33&"_"&COUNTIF($D$1:D33,D33) -> 467100_3 | K33: =IF(SAISIE!$E33="b CIN",ROW(),"") -> 33 | L33: =IF(SAISIE!$E33="l CIN",ROW(),"") | M33: =IF(Compte=M$1,ROW(),"") | N33: =IF(Compte=N$1,ROW(),"") | O33: =IF(Compte=O$1,ROW(),"") | P33: =IF(Compte=P$1,ROW(),"") | Q33: =IF(Compte=Q$1,ROW(),"") | R33: =IF(Compte=R$1,ROW(),"") | S33: =IF(Compte=S$1,ROW(),"") | T33: =IF(Compte=T$1,ROW(),"") | ... BA33: =IF(Compte=BA$1,ROW(),"")
A34: 43725 | B34: Comité directeur | C34: URSSAF 08 – 2019 | D34: 431100 | E34: b CIN | F34: Prélèvement | G34: 1909 | I34: =D34&"_"&COUNTIF($D$1:D34,D34) -> 431100_1 | K34: =IF(SAISIE!$E34="b CIN",ROW(),"") -> 34 | L34: =IF(SAISIE!$E34="l CIN",ROW(),"") | M34: =IF(Compte=M$1,ROW(),"") | N34: =IF(Compte=N$1,ROW(),"") -> 34 | O34: =IF(Compte=O$1,ROW(),"") | P34: =IF(Compte=P$1,ROW(),"") | Q34: =IF(Compte=Q$1,ROW(),"") | R34: =IF(Compte=R$1,ROW(),"") | S34: =IF(Compte=S$1,ROW(),"") | T34: =IF(Compte=T$1,ROW(),"") | ... BA34: =IF(Compte=BA$1,ROW(),"")
A35: 43725 | C35: Pole Emploi 08 – 2019 | D35: 467110 | E35: b CIN | F35: Prélèvement | G35: 1909 | I35: =D35&"_"&COUNTIF($D$1:D35,D35) -> 467110_3 | K35: =IF(SAISIE!$E35="b CIN",ROW(),"") -> 35 | L35: =IF(SAISIE!$E35="l CIN",ROW(),"") | M35: =IF(Compte=M$1,ROW(),"") | N35: =IF(Compte=N$1,ROW(),"") | O35: =IF(Compte=O$1,ROW(),"") | P35: =IF(Compte=P$1,ROW(),"") | Q35: =IF(Compte=Q$1,ROW(),"") | R35: =IF(Compte=R$1,ROW(),"") | S35: =IF(Compte=S$1,ROW(),"") | T35: =IF(Compte=T$1,ROW(),"") | ... BA35: =IF(Compte=BA$1,ROW(),"")
A36: 43725 | B36: Comité directeur | C36: Pole Emploi 08 – 2019 | D36: 437400 | E36: b CIN | F36: Prélèvement | G36: 1909 | I36: =D36&"_"&COUNTIF($D$1:D36,D36) -> 437400_1 | K36: =IF(SAISIE!$E36="b CIN",ROW(),"") -> 36 | L36: =IF(SAISIE!$E36="l CIN",ROW(),"") | M36: =IF(Compte=M$1,ROW(),"") | N36: =IF(Compte=N$1,ROW(),"") | O36: =IF(Compte=O$1,ROW(),"") | P36: =IF(Compte=P$1,ROW(),"") | Q36: =IF(Compte=Q$1,ROW(),"") -> 36 | R36: =IF(Compte=R$1,ROW(),"") | S36: =IF(Compte=S$1,ROW(),"") | T36: =IF(Compte=T$1,ROW(),"") | ... BA36: =IF(Compte=BA$1,ROW(),"")
A37: 43725 | B37: Comité directeur | C37: Arrondi URSSAF 08 – 2019 | D37: 645100 | E37: b CIN | F37: Prélèvement | G37: 1909 | I37: =D37&"_"&COUNTIF($D$1:D37,D37) -> 645100_1 | K37: =IF(SAISIE!$E37="b CIN",ROW(),"") -> 37 | L37: =IF(SAISIE!$E37="l CIN",ROW(),"") | M37: =IF(Compte=M$1,ROW(),"") | N37: =IF(Compte=N$1,ROW(),"") | O37: =IF(Compte=O$1,ROW(),"") | P37: =IF(Compte=P$1,ROW(),"") | Q37: =IF(Compte=Q$1,ROW(),"") | R37: =IF(Compte=R$1,ROW(),"") | S37: =IF(Compte=S$1,ROW(),"") | T37: =IF(Compte=T$1,ROW(),"") | ... BA37: =IF(Compte=BA$1,ROW(),"")
A38: 43725 | B38: Escrime | C38: Subv 2018-2019 | D38: 467010 | E38: b CIN | F38: Virement | G38: 1909 | I38: =D38&"_"&COUNTIF($D$1:D38,D38) -> 467010_6 | K38: =IF(SAISIE!$E38="b CIN",ROW(),"") -> 38 | L38: =IF(SAISIE!$E38="l CIN",ROW(),"") | M38: =IF(Compte=M$1,ROW(),"") | N38: =IF(Compte=N$1,ROW(),"") | O38: =IF(Compte=O$1,ROW(),"") | P38: =IF(Compte=P$1,ROW(),"") | Q38: =IF(Compte=Q$1,ROW(),"") | R38: =IF(Compte=R$1,ROW(),"") | S38: =IF(Compte=S$1,ROW(),"") | T38: =IF(Compte=T$1,ROW(),"") -> 38 | ... BA38: =IF(Compte=BA$1,ROW(),"")
A39: 43725 | B39: Comité directeur | C39: Virt du Cpte Livret | D39: 580000 | E39: b CIN | F39: Virement | G39: 1909 | I39: =D39&"_"&COUNTIF($D$1:D39,D39) -> 580000_5 | K39: =IF(SAISIE!$E39="b CIN",ROW(),"") -> 39 | L39: =IF(SAISIE!$E39="l CIN",ROW(),"") | M39: =IF(Compte=M$1,ROW(),"") | N39: =IF(Compte=N$1,ROW(),"") | O39: =IF(Compte=O$1,ROW(),"") | P39: =IF(Compte=P$1,ROW(),"") | Q39: =IF(Compte=Q$1,ROW(),"") | R39: =IF(Compte=R$1,ROW(),"") | S39: =IF(Compte=S$1,ROW(),"") | T39: =IF(Compte=T$1,ROW(),"") | ... BA39: =IF(Compte=BA$1,ROW(),"")
A40: 43725 | B40: Comité directeur | C40: Virt au Cpte Courant | D40: 580000 | E40: l CIN | F40: Virement | G40: 1909 | I40: =D40&"_"&COUNTIF($D$1:D40,D40) -> 580000_6 | K40: =IF(SAISIE!$E40="b CIN",ROW(),"") | L40: =IF(SAISIE!$E40="l CIN",ROW(),"") -> 40 | M40: =IF(Compte=M$1,ROW(),"") | N40: =IF(Compte=N$1,ROW(),"") | O40: =IF(Compte=O$1,ROW(),"") | P40: =IF(Compte=P$1,ROW(),"") | Q40: =IF(Compte=Q$1,ROW(),"") | R40: =IF(Compte=R$1,ROW(),"") | S40: =IF(Compte=S$1,ROW(),"") | T40: =IF(Compte=T$1,ROW(),"") | ... BA40: =IF(Compte=BA$1,ROW(),"")
A41: 43728 | B41: Badminton | C41: Rbt Chorum 2eme trim | D41: 467140 | E41: b CIN | F41: Virement | G41: 1909 | I41: =D41&"_"&COUNTIF($D$1:D41,D41) -> 467140_2 | K41: =IF(SAISIE!$E41="b CIN",ROW(),"") -> 41 | L41: =IF(SAISIE!$E41="l CIN",ROW(),"") | M41: =IF(Compte=M$1,ROW(),"") | N41: =IF(Compte=N$1,ROW(),"") | O41: =IF(Compte=O$1,ROW(),"") | P41: =IF(Compte=P$1,ROW(),"") | Q41: =IF(Compte=Q$1,ROW(),"") | R41: =IF(Compte=R$1,ROW(),"") | S41: =IF(Compte=S$1,ROW(),"") | T41: =IF(Compte=T$1,ROW(),"") | ... BA41: =IF(Compte=BA$1,ROW(),"")
A42: 43729 | B42: Natation | C42: Subv 2018-2019 | D42: 467010 | E42: b CIN | F42: Virement | G42: 1909 | I42: =D42&"_"&COUNTIF($D$1:D42,D42) -> 467010_7 | K42: =IF(SAISIE!$E42="b CIN",ROW(),"") -> 42 | L42: =IF(SAISIE!$E42="l CIN",ROW(),"") | M42: =IF(Compte=M$1,ROW(),"") | N42: =IF(Compte=N$1,ROW(),"") | O42: =IF(Compte=O$1,ROW(),"") | P42: =IF(Compte=P$1,ROW(),"") | Q42: =IF(Compte=Q$1,ROW(),"") | R42: =IF(Compte=R$1,ROW(),"") | S42: =IF(Compte=S$1,ROW(),"") | T42: =IF(Compte=T$1,ROW(),"") -> 42 | ... BA42: =IF(Compte=BA$1,ROW(),"")
A43: 43731 | B43: Basket | C43: TAP FACT 00004 (21/01 au 05/07) | D43: 467190 | E43: b CIN | F43: Virement | G43: 1909 | I43: =D43&"_"&COUNTIF($D$1:D43,D43) -> 467190_1 | K43: =IF(SAISIE!$E43="b CIN",ROW(),"") -> 43 | L43: =IF(SAISIE!$E43="l CIN",ROW(),"") | M43: =IF(Compte=M$1,ROW(),"") | N43: =IF(Compte=N$1,ROW(),"") | O43: =IF(Compte=O$1,ROW(),"") | P43: =IF(Compte=P$1,ROW(),"") | Q43: =IF(Compte=Q$1,ROW(),"") | R43: =IF(Compte=R$1,ROW(),"") | S43: =IF(Compte=S$1,ROW(),"") | T43: =IF(Compte=T$1,ROW(),"") | ... BA43: =IF(Compte=BA$1,ROW(),"")
A44: 43731 | B44: Hockey | C44: TAP FACT 00005 (21/01 au 05/07) | D44: 791240 | E44: b CIN | F44: Virement | G44: 1909 | I44: =D44&"_"&COUNTIF($D$1:D44,D44) -> 791240_1 | K44: =IF(SAISIE!$E44="b CIN",ROW(),"") -> 44 | L44: =IF(SAISIE!$E44="l CIN",ROW(),"") | M44: =IF(Compte=M$1,ROW(),"") | N44: =IF(Compte=N$1,ROW(),"") | O44: =IF(Compte=O$1,ROW(),"") | P44: =IF(Compte=P$1,ROW(),"") | Q44: =IF(Compte=Q$1,ROW(),"") | R44: =IF(Compte=R$1,ROW(),"") | S44: =IF(Compte=S$1,ROW(),"") | T44: =IF(Compte=T$1,ROW(),"") | ... BA44: =IF(Compte=BA$1,ROW(),"") -> 44
A45: 43731 | B45: Tennis | C45: TAP FACT 00006 (21/01 au 05/07) | D45: 467190 | E45: b CIN | F45: Virement | G45: 1909 | I45: =D45&"_"&COUNTIF($D$1:D45,D45) -> 467190_2 | K45: =IF(SAISIE!$E45="b CIN",ROW(),"") -> 45 | L45: =IF(SAISIE!$E45="l CIN",ROW(),"") | M45: =IF(Compte=M$1,ROW(),"") | N45: =IF(Compte=N$1,ROW(),"") | O45: =IF(Compte=O$1,ROW(),"") | P45: =IF(Compte=P$1,ROW(),"") | Q45: =IF(Compte=Q$1,ROW(),"") | R45: =IF(Compte=R$1,ROW(),"") | S45: =IF(Compte=S$1,ROW(),"") | T45: =IF(Compte=T$1,ROW(),"") | ... BA45: =IF(Compte=BA$1,ROW(),"")
A46: 43732 | B46: Comité directeur | C46: DGFIP Prel à la source | D46: 442100 | E46: b CIN | F46: Prélèvement | G46: 1909 | I46: =D46&"_"&COUNTIF($D$1:D46,D46) -> 442100_1 | K46: =IF(SAISIE!$E46="b CIN",ROW(),"") -> 46 | L46: =IF(SAISIE!$E46="l CIN",ROW(),"") | M46: =IF(Compte=M$1,ROW(),"") | N46: =IF(Compte=N$1,ROW(),"") | O46: =IF(Compte=O$1,ROW(),"") | P46: =IF(Compte=P$1,ROW(),"") | Q46: =IF(Compte=Q$1,ROW(),"") | R46: =IF(Compte=R$1,ROW(),"") | S46: =IF(Compte=S$1,ROW(),"") -> 46 | T46: =IF(Compte=T$1,ROW(),"") | ... BA46: =IF(Compte=BA$1,ROW(),"")
A47: 43733 | C47: Humanis 08 - 2019 | D47: 467120 | E47: b CIN | F47: Prélèvement | G47: 1909 | I47: =D47&"_"&COUNTIF($D$1:D47,D47) -> 467120_3 | K47: =IF(SAISIE!$E47="b CIN",ROW(),"") -> 47 | L47: =IF(SAISIE!$E47="l CIN",ROW(),"") | M47: =IF(Compte=M$1,ROW(),"") | N47: =IF(Compte=N$1,ROW(),"") | O47: =IF(Compte=O$1,ROW(),"") | P47: =IF(Compte=P$1,ROW(),"") | Q47: =IF(Compte=Q$1,ROW(),"") | R47: =IF(Compte=R$1,ROW(),"") | S47: =IF(Compte=S$1,ROW(),"") | T47: =IF(Compte=T$1,ROW(),"") | ... BA47: =IF(Compte=BA$1,ROW(),"")
A48: 43733 | B48: Comité directeur | C48: Humanis 08 - 2019 | D48: 437300 | E48: b CIN | F48: Prélèvement | G48: 1909 | I48: =D48&"_"&COUNTIF($D$1:D48,D48) -> 437300_1 | K48: =IF(SAISIE!$E48="b CIN",ROW(),"") -> 48 | L48: =IF(SAISIE!$E48="l CIN",ROW(),"") | M48: =IF(Compte=M$1,ROW(),"") | N48: =IF(Compte=N$1,ROW(),"") | O48: =IF(Compte=O$1,ROW(),"") -> 48 | P48: =IF(Compte=P$1,ROW(),"") | Q48: =IF(Compte=Q$1,ROW(),"") | R48: =IF(Compte=R$1,ROW(),"") | S48: =IF(Compte=S$1,ROW(),"") | T48: =IF(Compte=T$1,ROW(),"") | ... BA48: =IF(Compte=BA$1,ROW(),"")
A49: 43733 | B49: Hand-Ball | C49: Subv 2018-2019 | D49: 467010 | E49: b CIN | F49: Virement | G49: 1909 | I49: =D49&"_"&COUNTIF($D$1:D49,D49) -> 467010_8 | K49: =IF(SAISIE!$E49="b CIN",ROW(),"") -> 49 | L49: =IF(SAISIE!$E49="l CIN",ROW(),"") | M49: =IF(Compte=M$1,ROW(),"") | N49: =IF(Compte=N$1,ROW(),"") | O49: =IF(Compte=O$1,ROW(),"") | P49: =IF(Compte=P$1,ROW(),"") | Q49: =IF(Compte=Q$1,ROW(),"") | R49: =IF(Compte=R$1,ROW(),"") | S49: =IF(Compte=S$1,ROW(),"") | T49: =IF(Compte=T$1,ROW(),"") -> 49 | ... BA49: =IF(Compte=BA$1,ROW(),"")
A50: 43735 | B50: Basket | C50: REMB TAP FACT 00004 (21/01 au 05/07) | D50: 467190 | E50: b CIN | F50: Virement | G50: 1909 | I50: =D50&"_"&COUNTIF($D$1:D50,D50) -> 467190_3 | K50: =IF(SAISIE!$E50="b CIN",ROW(),"") -> 50 | L50: =IF(SAISIE!$E50="l CIN",ROW(),"") | M50: =IF(Compte=M$1,ROW(),"") | N50: =IF(Compte=N$1,ROW(),"") | O50: =IF(Compte=O$1,ROW(),"") | P50: =IF(Compte=P$1,ROW(),"") | Q50: =IF(Compte=Q$1,ROW(),"") | R50: =IF(Compte=R$1,ROW(),"") | S50: =IF(Compte=S$1,ROW(),"") | T50: =IF(Compte=T$1,ROW(),"") | ... BA50: =IF(Compte=BA$1,ROW(),"")
A51: 43735 | B51: Tennis | C51: REMB TAP FACT 00006 (21/01 au 05/07) | D51: 467190 | E51: b CIN | F51: Virement | G51: 1909 | I51: =D51&"_"&COUNTIF($D$1:D51,D51) -> 467190_4 | K51: =IF(SAISIE!$E51="b CIN",ROW(),"") -> 51 | L51: =IF(SAISIE!$E51="l CIN",ROW(),"") | M51: =IF(Compte=M$1,ROW(),"") | N51: =IF(Compte=N$1,ROW(),"") | O51: =IF(Compte=O$1,ROW(),"") | P51: =IF(Compte=P$1,ROW(),"") | Q51: =IF(Compte=Q$1,ROW(),"") | R51: =IF(Compte=R$1,ROW(),"") | S51: =IF(Compte=S$1,ROW(),"") | T51: =IF(Compte=T$1,ROW(),"") | ... BA51: =IF(Compte=BA$1,ROW(),"")
...

Sheet CIC COMPTE COURANT
A1: Date | B1: Section | C1: Désignation de l'opération | D1: Relevé Banque | E1: Montant | F1: Solde
C2: Report saison 2018/2019 | F2: 1000
A3: =IF(ROW()-3>COUNTIF(SAISIE!$K$2:$K$299,">"&2),"",INDIRECT(ADDRESS(SMALL(SAISIE!$K$2:$K$299,ROW()-2),MATCH(A$1,SAISIE!$A$1:$H$1,0),4,1,"SAISIE"),1)) -> 43710 | B3: =IF(ROW()-3>COUNTIF(SAISIE!$K$2:$K$299,">"&2),"",INDIRECT(ADDRESS(SMALL(SAISIE!$K$2:$K$299,ROW()-2),MATCH(B$1,SAISIE!$A$1:$H$1,0),4,1,"SAISIE"),1)) -> Comité directeur | C3: =IF(ROW()-3>COUNTIF(SAISIE!$K$2:$K$299,">"&2),"",INDIRECT(ADDRESS(SMALL(SAISIE!$K$2:$K$299,ROW()-2),MATCH(C$1,SAISIE!$A$1:$H$1,0),4,1,"SAISIE"),1)) -> Virt du Cpte Livret | D3: =IF(ROW()-3>COUNTIF(SAISIE!$K$2:$K$299,">"&2),"",INDIRECT(ADDRESS(SMALL(SAISIE!$K$2:$K$299,ROW()-2),MATCH(D$1,SAISIE!$A$1:$H$1,0),4,1,"SAISIE"),1)) -> 1909 | E3: =IF(ROW()-2>COUNTIF(SAISIE!$L$2:$L$299,">"&2),0,INDIRECT(ADDRESS(SMALL(SAISIE!$L$2:$L$299,ROW()-2),MATCH(E$1,SAISIE!$A$1:$H$1,0),4,1,"SAISIE"),1)) -> 10000 | F3: =+F2+E3 -> 11000
A4: =IF(ROW()-3>COUNTIF(SAISIE!$K$2:$K$299,">"&2),"",INDIRECT(ADDRESS(SMALL(SAISIE!$K$2:$K$299,ROW()-2),MATCH(A$1,SAISIE!$A$1:$H$1,0),4,1,"SAISIE"),1)) -> 43710 | B4: =IF(ROW()-3>COUNTIF(SAISIE!$K$2:$K$299,">"&2),"",INDIRECT(ADDRESS(SMALL(SAISIE!$K$2:$K$299,ROW()-2),MATCH(B$1,SAISIE!$A$1:$H$1,0),4,1,"SAISIE"),1)) -> Athlétisme | C4: =IF(ROW()-3>COUNTIF(SAISIE!$K$2:$K$299,">"&2),"",INDIRECT(ADDRESS(SMALL(SAISIE!$K$2:$K$299,ROW()-2),MATCH(C$1,SAISIE!$A$1:$H$1,0),4,1,"SAISIE"),1)) -> Subv 2018-2019 | D4: =IF(ROW()-3>COUNTIF(SAISIE!$K$2:$K$299,">"&2),"",INDIRECT(ADDRESS(SMALL(SAISIE!$K$2:$K$299,ROW()-2),MATCH(D$1,SAISIE!$A$1:$H$1,0),4,1,"SAISIE"),1)) -> 1909 | E4: =IF(ROW()-2>COUNTIF(SAISIE!$L$2:$L$299,">"&2),0,INDIRECT(ADDRESS(SMALL(SAISIE!$L$2:$L$299,ROW()-2),MATCH(E$1,SAISIE!$A$1:$H$1,0),4,1,"SAISIE"),1)) -> 0 | F4: =+F3+E4 -> 11000
A5: =IF(ROW()-3>COUNTIF(SAISIE!$K$2:$K$299,">"&2),"",INDIRECT(ADDRESS(SMALL(SAISIE!$K$2:$K$299,ROW()-2),MATCH(A$1,SAISIE!$A$1:$H$1,0),4,1,"SAISIE"),1)) -> 43711 | B5: =IF(ROW()-3>COUNTIF(SAISIE!$K$2:$K$299,">"&2),"",INDIRECT(ADDRESS(SMALL(SAISIE!$K$2:$K$299,ROW()-2),MATCH(B$1,SAISIE!$A$1:$H$1,0),4,1,"SAISIE"),1)) -> Natation | C5: =IF(ROW()-3>COUNTIF(SAISIE!$K$2:$K$299,">"&2),"",INDIRECT(ADDRESS(SMALL(SAISIE!$K$2:$K$299,ROW()-2),MATCH(C$1,SAISIE!$A$1:$H$1,0),4,1,"SAISIE"),1)) -> Rbt location minibus FACT 54 | D5: =IF(ROW()-3>COUNTIF(SAISIE!$K$2:$K$299,">"&2),"",INDIRECT(ADDRESS(SMALL(SAISIE!$K$2:$K$299,ROW()-2),MATCH(D$1,SAISIE!$A$1:$H$1,0),4,1,"SAISIE"),1)) -> 1909 | E5: =IF(ROW()-2>COUNTIF(SAISIE!$L$2:$L$299,">"&2),0,INDIRECT(ADDRESS(SMALL(SAISIE!$L$2:$L$299,ROW()-2),MATCH(E$1,SAISIE!$A$1:$H$1,0),4,1,"SAISIE"),1)) -> 0 | F5: =+F4+E5 -> 11000
A6: =IF(ROW()-3>COUNTIF(SAISIE!$K$2:$K$299,">"&2),"",INDIRECT(ADDRESS(SMALL(SAISIE!$K$2:$K$299,ROW()-2),MATCH(A$1,SAISIE!$A$1:$H$1,0),4,1,"SAISIE"),1)) -> 43711 | B6: =IF(ROW()-3>COUNTIF(SAISIE!$K$2:$K$299,">"&2),"",INDIRECT(ADDRESS(SMALL(SAISIE!$K$2:$K$299,ROW()-2),MATCH(B$1,SAISIE!$A$1:$H$1,0),4,1,"SAISIE"),1)) -> Natation | C6: =IF(ROW()-3>COUNTIF(SAISIE!$K$2:$K$299,">"&2),"",INDIRECT(ADDRESS(SMALL(SAISIE!$K$2:$K$299,ROW()-2),MATCH(C$1,SAISIE!$A$1:$H$1,0),4,1,"SAISIE"),1)) -> Rbt location minibus FACT 50 | D6: =IF(ROW()-3>COUNTIF(SAISIE!$K$2:$K$299,">"&2),"",INDIRECT(ADDRESS(SMALL(SAISIE!$K$2:$K$299,ROW()-2),MATCH(D$1,SAISIE!$A$1:$H$1,0),4,1,"SAISIE"),1)) -> 1909 | E6: =IF(ROW()-2>COUNTIF(SAISIE!$L$2:$L$299,">"&2),0,INDIRECT(ADDRESS(SMALL(SAISIE!$L$2:$L$299,ROW()-2),MATCH(E$1,SAISIE!$A$1:$H$1,0),4,1,"SAISIE"),1)) -> 0 | F6: =+F5+E6 -> 11000
A7: =IF(ROW()-3>COUNTIF(SAISIE!$K$2:$K$299,">"&2),"",INDIRECT(ADDRESS(SMALL(SAISIE!$K$2:$K$299,ROW()-2),MATCH(A$1,SAISIE!$A$1:$H$1,0),4,1,"SAISIE"),1)) -> 43711 | B7: =IF(ROW()-3>COUNTIF(SAISIE!$K$2:$K$299,">"&2),"",INDIRECT(ADDRESS(SMALL(SAISIE!$K$2:$K$299,ROW()-2),MATCH(B$1,SAISIE!$A$1:$H$1,0),4,1,"SAISIE"),1)) -> Natation | C7: =IF(ROW()-3>COUNTIF(SAISIE!$K$2:$K$299,">"&2),"",INDIRECT(ADDRESS(SMALL(SAISIE!$K$2:$K$299,ROW()-2),MATCH(C$1,SAISIE!$A$1:$H$1,0),4,1,"SAISIE"),1)) -> Rbt URSSAF 1èr trim | D7: =IF(ROW()-3>COUNTIF(SAISIE!$K$2:$K$299,">"&2),"",INDIRECT(ADDRESS(SMALL(SAISIE!$K$2:$K$299,ROW()-2),MATCH(D$1,SAISIE!$A$1:$H$1,0),4,1,"SAISIE"),1)) -> 1909 | E7: =IF(ROW()-2>COUNTIF(SAISIE!$L$2:$L$299,">"&2),0,INDIRECT(ADDRESS(SMALL(SAISIE!$L$2:$L$299,ROW()-2),MATCH(E$1,SAISIE!$A$1:$H$1,0),4,1,"SAISIE"),1)) -> 0 | F7: =+F6+E7 -> 11000
A8: =IF(ROW()-3>COUNTIF(SAISIE!$K$2:$K$299,">"&2),"",INDIRECT(ADDRESS(SMALL(SAISIE!$K$2:$K$299,ROW()-2),MATCH(A$1,SAISIE!$A$1:$H$1,0),4,1,"SAISIE"),1)) -> 43711 | B8: =IF(ROW()-3>COUNTIF(SAISIE!$K$2:$K$299,">"&2),"",INDIRECT(ADDRESS(SMALL(SAISIE!$K$2:$K$299,ROW()-2),MATCH(B$1,SAISIE!$A$1:$H$1,0),4,1,"SAISIE"),1)) -> Natation | C8: =IF(ROW()-3>COUNTIF(SAISIE!$K$2:$K$299,">"&2),"",INDIRECT(ADDRESS(SMALL(SAISIE!$K$2:$K$299,ROW()-2),MATCH(C$1,SAISIE!$A$1:$H$1,0),4,1,"SAISIE"),1)) -> Rbt Pole Emploi 1er trim | D8: =IF(ROW()-3>COUNTIF(SAISIE!$K$2:$K$299,">"&2),"",INDIRECT(ADDRESS(SMALL(SAISIE!$K$2:$K$299,ROW()-2),MATCH(D$1,SAISIE!$A$1:$H$1,0),4,1,"SAISIE"),1)) -> 1909 | E8: =IF(ROW()-2>COUNTIF(SAISIE!$L$2:$L$299,">"&2),0,INDIRECT(ADDRESS(SMALL(SAISIE!$L$2:$L$299,ROW()-2),MATCH(E$1,SAISIE!$A$1:$H$1,0),4,1,"SAISIE"),1)) -> 0 | F8: =+F7+E8 -> 11000
A9: =IF(ROW()-3>COUNTIF(SAISIE!$K$2:$K$299,">"&2),"",INDIRECT(ADDRESS(SMALL(SAISIE!$K$2:$K$299,ROW()-2),MATCH(A$1,SAISIE!$A$1:$H$1,0),4,1,"SAISIE"),1)) -> 43711 | B9: =IF(ROW()-3>COUNTIF(SAISIE!$K$2:$K$299,">"&2),"",INDIRECT(ADDRESS(SMALL(SAISIE!$K$2:$K$299,ROW()-2),MATCH(B$1,SAISIE!$A$1:$H$1,0),4,1,"SAISIE"),1)) -> Natation | C9: =IF(ROW()-3>COUNTIF(SAISIE!$K$2:$K$299,">"&2),"",INDIRECT(ADDRESS(SMALL(SAISIE!$K$2:$K$299,ROW()-2),MATCH(C$1,SAISIE!$A$1:$H$1,0),4,1,"SAISIE"),1)) -> Rbt Humanis 1er trim | D9: =IF(ROW()-3>COUNTIF(SAISIE!$K$2:$K$299,">"&2),"",INDIRECT(ADDRESS(SMALL(SAISIE!$K$2:$K$299,ROW()-2),MATCH(D$1,SAISIE!$A$1:$H$1,0),4,1,"SAISIE"),1)) -> 1909 | E9: =IF(ROW()-2>COUNTIF(SAISIE!$L$2:$L$299,">"&2),0,INDIRECT(ADDRESS(SMALL(SAISIE!$L$2:$L$299,ROW()-2),MATCH(E$1,SAISIE!$A$1:$H$1,0),4,1,"SAISIE"),1)) -> 0 | F9: =+F8+E9 -> 11000
A10: =IF(ROW()-3>COUNTIF(SAISIE!$K$2:$K$299,">"&2),"",INDIRECT(ADDRESS(SMALL(SAISIE!$K$2:$K$299,ROW()-2),MATCH(A$1,SAISIE!$A$1:$H$1,0),4,1,"SAISIE"),1)) -> 43711 | B10: =IF(ROW()-3>COUNTIF(SAISIE!$K$2:$K$299,">"&2),"",INDIRECT(ADDRESS(SMALL(SAISIE!$K$2:$K$299,ROW()-2),MATCH(B$1,SAISIE!$A$1:$H$1,0),4,1,"SAISIE"),1)) -> Natation | C10: =IF(ROW()-3>COUNTIF(SAISIE!$K$2:$K$299,">"&2),"",INDIRECT(ADDRESS(SMALL(SAISIE!$K$2:$K$299,ROW()-2),MATCH(C$1,SAISIE!$A$1:$H$1,0),4,1,"SAISIE"),1)) -> Rbt location minibus FACT 43 | D10: =IF(ROW()-3>COUNTIF(SAISIE!$K$2:$K$299,">"&2),"",INDIRECT(ADDRESS(SMALL(SAISIE!$K$2:$K$299,ROW()-2),MATCH(D$1,SAISIE!$A$1:$H$1,0),4,1,"SAISIE"),1)) -> 1909 | E10: =IF(ROW()-2>COUNTIF(SAISIE!$L$2:$L$299,">"&2),0,INDIRECT(ADDRESS(SMALL(SAISIE!$L$2:$L$299,ROW()-2),MATCH(E$1,SAISIE!$A$1:$H$1,0),4,1,"SAISIE"),1)) -> 0 | F10: =+F9+E10 -> 11000
A11: =IF(ROW()-3>COUNTIF(SAISIE!$K$2:$K$299,">"&2),"",INDIRECT(ADDRESS(SMALL(SAISIE!$K$2:$K$299,ROW()-2),MATCH(A$1,SAISIE!$A$1:$H$1,0),4,1,"SAISIE"),1)) -> 43711 | B11: =IF(ROW()-3>COUNTIF(SAISIE!$K$2:$K$299,">"&2),"",INDIRECT(ADDRESS(SMALL(SAISIE!$K$2:$K$299,ROW()-2),MATCH(B$1,SAISIE!$A$1:$H$1,0),4,1,"SAISIE"),1)) -> Natation | C11: =IF(ROW()-3>COUNTIF(SAISIE!$K$2:$K$299,">"&2),"",INDIRECT(ADDRESS(SMALL(SAISIE!$K$2:$K$299,ROW()-2),MATCH(C$1,SAISIE!$A$1:$H$1,0),4,1,"SAISIE"),1)) -> Rbt URSSAF 2è trim | D11: =IF(ROW()-3>COUNTIF(SAISIE!$K$2:$K$299,">"&2),"",INDIRECT(ADDRESS(SMALL(SAISIE!$K$2:$K$299,ROW()-2),MATCH(D$1,SAISIE!$A$1:$H$1,0),4,1,"SAISIE"),1)) -> 1909 | E11: =IF(ROW()-2>COUNTIF(SAISIE!$L$2:$L$299,">"&2),0,INDIRECT(ADDRESS(SMALL(SAISIE!$L$2:$L$299,ROW()-2),MATCH(E$1,SAISIE!$A$1:$H$1,0),4,1,"SAISIE"),1)) -> 0 | F11: =+F10+E11 -> 11000
A12: =IF(ROW()-3>COUNTIF(SAISIE!$K$2:$K$299,">"&2),"",INDIRECT(ADDRESS(SMALL(SAISIE!$K$2:$K$299,ROW()-2),MATCH(A$1,SAISIE!$A$1:$H$1,0),4,1,"SAISIE"),1)) -> 43711 | B12: =IF(ROW()-3>COUNTIF(SAISIE!$K$2:$K$299,">"&2),"",INDIRECT(ADDRESS(SMALL(SAISIE!$K$2:$K$299,ROW()-2),MATCH(B$1,SAISIE!$A$1:$H$1,0),4,1,"SAISIE"),1)) -> Natation | C12: =IF(ROW()-3>COUNTIF(SAISIE!$K$2:$K$299,">"&2),"",INDIRECT(ADDRESS(SMALL(SAISIE!$K$2:$K$299,ROW()-2),MATCH(C$1,SAISIE!$A$1:$H$1,0),4,1,"SAISIE"),1)) -> Rbt Pole Emploi 2è trim | D12: =IF(ROW()-3>COUNTIF(SAISIE!$K$2:$K$299,">"&2),"",INDIRECT(ADDRESS(SMALL(SAISIE!$K$2:$K$299,ROW()-2),MATCH(D$1,SAISIE!$A$1:$H$1,0),4,1,"SAISIE"),1)) -> 1909 | E12: =IF(ROW()-2>COUNTIF(SAISIE!$L$2:$L$299,">"&2),0,INDIRECT(ADDRESS(SMALL(SAISIE!$L$2:$L$299,ROW()-2),MATCH(E$1,SAISIE!$A$1:$H$1,0),4,1,"SAISIE"),1)) -> 0 | F12: =+F11+E12 -> 11000
A13: =IF(ROW()-3>COUNTIF(SAISIE!$K$2:$K$299,">"&2),"",INDIRECT(ADDRESS(SMALL(SAISIE!$K$2:$K$299,ROW()-2),MATCH(A$1,SAISIE!$A$1:$H$1,0),4,1,"SAISIE"),1)) -> 43711 | B13: =IF(ROW()-3>COUNTIF(SAISIE!$K$2:$K$299,">"&2),"",INDIRECT(ADDRESS(SMALL(SAISIE!$K$2:$K$299,ROW()-2),MATCH(B$1,SAISIE!$A$1:$H$1,0),4,1,"SAISIE"),1)) -> Natation | C13: =IF(ROW()-3>COUNTIF(SAISIE!$K$2:$K$299,">"&2),"",INDIRECT(ADDRESS(SMALL(SAISIE!$K$2:$K$299,ROW()-2),MATCH(C$1,SAISIE!$A$1:$H$1,0),4,1,"SAISIE"),1)) -> Rbt Humanis 2è trim | D13: =IF(ROW()-3>COUNTIF(SAISIE!$K$2:$K$299,">"&2),"",INDIRECT(ADDRESS(SMALL(SAISIE!$K$2:$K$299,ROW()-2),MATCH(D$1,SAISIE!$A$1:$H$1,0),4,1,"SAISIE"),1)) -> 1909 | E13: =IF(ROW()-2>COUNTIF(SAISIE!$L$2:$L$299,">"&2),0,INDIRECT(ADDRESS(SMALL(SAISIE!$L$2:$L$299,ROW()-2),MATCH(E$1,SAISIE!$A$1:$H$1,0),4,1,"SAISIE"),1)) -> 0 | F13: =+F12+E13 -> 11000
A14: =IF(ROW()-3>COUNTIF(SAISIE!$K$2:$K$299,">"&2),"",INDIRECT(ADDRESS(SMALL(SAISIE!$K$2:$K$299,ROW()-2),MATCH(A$1,SAISIE!$A$1:$H$1,0),4,1,"SAISIE"),1)) -> 43711 | B14: =IF(ROW()-3>COUNTIF(SAISIE!$K$2:$K$299,">"&2),"",INDIRECT(ADDRESS(SMALL(SAISIE!$K$2:$K$299,ROW()-2),MATCH(B$1,SAISIE!$A$1:$H$1,0),4,1,"SAISIE"),1)) -> Natation | C14: =IF(ROW()-3>COUNTIF(SAISIE!$K$2:$K$299,">"&2),"",INDIRECT(ADDRESS(SMALL(SAISIE!$K$2:$K$299,ROW()-2),MATCH(C$1,SAISIE!$A$1:$H$1,0),4,1,"SAISIE"),1)) -> Rbt Chorum 2eme trim | D14: =IF(ROW()-3>COUNTIF(SAISIE!$K$2:$K$299,">"&2),"",INDIRECT(ADDRESS(SMALL(SAISIE!$K$2:$K$299,ROW()-2),MATCH(D$1,SAISIE!$A$1:$H$1,0),4,1,"SAISIE"),1)) -> 1909 | E14: =IF(ROW()-2>COUNTIF(SAISIE!$L$2:$L$299,">"&2),0,INDIRECT(ADDRESS(SMALL(SAISIE!$L$2:$L$299,ROW()-2),MATCH(E$1,SAISIE!$A$1:$H$1,0),4,1,"SAISIE"),1)) -> 0 | F14: =+F13+E14 -> 11000
... A300: =IF(ROW()-3>COUNTIF(SAISIE!$K$2:$K$299,">"&2),"",INDIRECT(ADDRESS(SMALL(SAISIE!$K$2:$K$299,ROW()-2),MATCH(A$1,SAISIE!$A$1:$H$1,0),4,1,"SAISIE"),1)) | B300: =IF(ROW()-3>COUNTIF(SAISIE!$K$2:$K$299,">"&2),"",INDIRECT(ADDRESS(SMALL(SAISIE!$K$2:$K$299,ROW()-2),MATCH(B$1,SAISIE!$A$1:$H$1,0),4,1,"SAISIE"),1)) | C300: =IF(ROW()-3>COUNTIF(SAISIE!$K$2:$K$299,">"&2),"",INDIRECT(ADDRESS(SMALL(SAISIE!$K$2:$K$299,ROW()-2),MATCH(C$1,SAISIE!$A$1:$H$1,0),4,1,"SAISIE"),1)) | D300: =IF(ROW()-3>COUNTIF(SAISIE!$K$2:$K$299,">"&2),"",INDIRECT(ADDRESS(SMALL(SAISIE!$K$2:$K$299,ROW()-2),MATCH(D$1,SAISIE!$A$1:$H$1,0),4,1,"SAISIE"),1)) | E300: =IF(ROW()-2>COUNTIF(SAISIE!$L$2:$L$299,">"&2),0,INDIRECT(ADDRESS(SMALL(SAISIE!$L$2:$L$299,ROW()-2),MATCH(E$1,SAISIE!$A$1:$H$1,0),4,1,"SAISIE"),1)) -> 0 | F300: =+F299+E300 -> 11000

Sheet CIC LIVRET
A1: Date | B1: Chèque n° | C1: Désignation de l'opération | D1: Relevé Banque | E1: Montant | F1: Solde
C2: Report saison 2018/2019 | F2: 1000
A3: =IF(ROW()-2>COUNTIF(SAISIE!$L$2:$L$299,">"&2),"",INDIRECT(ADDRESS(SMALL(SAISIE!$L$2:$L$299,ROW()-2),MATCH(A$1,SAISIE!$A$1:$H$1,0),4,1,"SAISIE"),1)) -> 43710 | C3: =IF(ROW()-2>COUNTIF(SAISIE!$L$2:$L$299,">"&2),"",INDIRECT(ADDRESS(SMALL(SAISIE!$L$2:$L$299,ROW()-2),MATCH(C$1,SAISIE!$A$1:$H$1,0),4,1,"SAISIE"),1)) -> Virt au Cpte Courant | D3: =IF(ROW()-2>COUNTIF(SAISIE!$L$2:$L$299,">"&2),"",INDIRECT(ADDRESS(SMALL(SAISIE!$L$2:$L$299,ROW()-2),MATCH(D$1,SAISIE!$A$1:$H$1,0),4,1,"SAISIE"),1)) -> 1909 | E3: =IF(ROW()-2>COUNTIF(SAISIE!$L$2:$L$299,">"&2),0,INDIRECT(ADDRESS(SMALL(SAISIE!$L$2:$L$299,ROW()-2),MATCH(E$1,SAISIE!$A$1:$H$1,0),4,1,"SAISIE"),1)) -> 10000 | F3: =+F2+E3 -> 11000
A4: =IF(ROW()-2>COUNTIF(SAISIE!$L$2:$L$299,">"&2),"",INDIRECT(ADDRESS(SMALL(SAISIE!$L$2:$L$299,ROW()-2),MATCH(A$1,SAISIE!$A$1:$H$1,0),4,1,"SAISIE"),1)) -> 43720 | C4: =IF(ROW()-2>COUNTIF(SAISIE!$L$2:$L$299,">"&2),"",INDIRECT(ADDRESS(SMALL(SAISIE!$L$2:$L$299,ROW()-2),MATCH(C$1,SAISIE!$A$1:$H$1,0),4,1,"SAISIE"),1)) -> Virt au Cpte Courant | D4: =IF(ROW()-2>COUNTIF(SAISIE!$L$2:$L$299,">"&2),"",INDIRECT(ADDRESS(SMALL(SAISIE!$L$2:$L$299,ROW()-2),MATCH(D$1,SAISIE!$A$1:$H$1,0),4,1,"SAISIE"),1)) -> 1909 | E4: =IF(ROW()-2>COUNTIF(SAISIE!$L$2:$L$299,">"&2),0,INDIRECT(ADDRESS(SMALL(SAISIE!$L$2:$L$299,ROW()-2),MATCH(E$1,SAISIE!$A$1:$H$1,0),4,1,"SAISIE"),1)) -> 0 | F4: =+F3+E4 -> 11000
A5: =IF(ROW()-2>COUNTIF(SAISIE!$L$2:$L$299,">"&2),"",INDIRECT(ADDRESS(SMALL(SAISIE!$L$2:$L$299,ROW()-2),MATCH(A$1,SAISIE!$A$1:$H$1,0),4,1,"SAISIE"),1)) -> 43725 | C5: =IF(ROW()-2>COUNTIF(SAISIE!$L$2:$L$299,">"&2),"",INDIRECT(ADDRESS(SMALL(SAISIE!$L$2:$L$299,ROW()-2),MATCH(C$1,SAISIE!$A$1:$H$1,0),4,1,"SAISIE"),1)) -> Virt au Cpte Courant | D5: =IF(ROW()-2>COUNTIF(SAISIE!$L$2:$L$299,">"&2),"",INDIRECT(ADDRESS(SMALL(SAISIE!$L$2:$L$299,ROW()-2),MATCH(D$1,SAISIE!$A$1:$H$1,0),4,1,"SAISIE"),1)) -> 1909 | E5: =IF(ROW()-2>COUNTIF(SAISIE!$L$2:$L$299,">"&2),0,INDIRECT(ADDRESS(SMALL(SAISIE!$L$2:$L$299,ROW()-2),MATCH(E$1,SAISIE!$A$1:$H$1,0),4,1,"SAISIE"),1)) -> 0 | F5: =+F4+E5 -> 11000
A6: =IF(ROW()-2>COUNTIF(SAISIE!$L$2:$L$299,">"&2),"",INDIRECT(ADDRESS(SMALL(SAISIE!$L$2:$L$299,ROW()-2),MATCH(A$1,SAISIE!$A$1:$H$1,0),4,1,"SAISIE"),1)) | C6: =IF(ROW()-2>COUNTIF(SAISIE!$L$2:$L$299,">"&2),"",INDIRECT(ADDRESS(SMALL(SAISIE!$L$2:$L$299,ROW()-2),MATCH(C$1,SAISIE!$A$1:$H$1,0),4,1,"SAISIE"),1)) | D6: =IF(ROW()-2>COUNTIF(SAISIE!$L$2:$L$299,">"&2),"",INDIRECT(ADDRESS(SMALL(SAISIE!$L$2:$L$299,ROW()-2),MATCH(D$1,SAISIE!$A$1:$H$1,0),4,1,"SAISIE"),1)) | E6: =IF(ROW()-2>COUNTIF(SAISIE!$L$2:$L$299,">"&2),0,INDIRECT(ADDRESS(SMALL(SAISIE!$L$2:$L$299,ROW()-2),MATCH(E$1,SAISIE!$A$1:$H$1,0),4,1,"SAISIE"),1)) -> 0 | F6: =+F5+E6 -> 11000
A7: =IF(ROW()-2>COUNTIF(SAISIE!$L$2:$L$299,">"&2),"",INDIRECT(ADDRESS(SMALL(SAISIE!$L$2:$L$299,ROW()-2),MATCH(A$1,SAISIE!$A$1:$H$1,0),4,1,"SAISIE"),1)) | C7: =IF(ROW()-2>COUNTIF(SAISIE!$L$2:$L$299,">"&2),"",INDIRECT(ADDRESS(SMALL(SAISIE!$L$2:$L$299,ROW()-2),MATCH(C$1,SAISIE!$A$1:$H$1,0),4,1,"SAISIE"),1)) | D7: =IF(ROW()-2>COUNTIF(SAISIE!$L$2:$L$299,">"&2),"",INDIRECT(ADDRESS(SMALL(SAISIE!$L$2:$L$299,ROW()-2),MATCH(D$1,SAISIE!$A$1:$H$1,0),4,1,"SAISIE"),1)) | E7: =IF(ROW()-2>COUNTIF(SAISIE!$L$2:$L$299,">"&2),0,INDIRECT(ADDRESS(SMALL(SAISIE!$L$2:$L$299,ROW()-2),MATCH(E$1,SAISIE!$A$1:$H$1,0),4,1,"SAISIE"),1)) -> 0 | F7: =+F6+E7 -> 11000
A8: =IF(ROW()-2>COUNTIF(SAISIE!$L$2:$L$299,">"&2),"",INDIRECT(ADDRESS(SMALL(SAISIE!$L$2:$L$299,ROW()-2),MATCH(A$1,SAISIE!$A$1:$H$1,0),4,1,"SAISIE"),1)) | C8: =IF(ROW()-2>COUNTIF(SAISIE!$L$2:$L$299,">"&2),"",INDIRECT(ADDRESS(SMALL(SAISIE!$L$2:$L$299,ROW()-2),MATCH(C$1,SAISIE!$A$1:$H$1,0),4,1,"SAISIE"),1)) | D8: =IF(ROW()-2>COUNTIF(SAISIE!$L$2:$L$299,">"&2),"",INDIRECT(ADDRESS(SMALL(SAISIE!$L$2:$L$299,ROW()-2),MATCH(D$1,SAISIE!$A$1:$H$1,0),4,1,"SAISIE"),1)) | E8: =IF(ROW()-2>COUNTIF(SAISIE!$L$2:$L$299,">"&2),0,INDIRECT(ADDRESS(SMALL(SAISIE!$L$2:$L$299,ROW()-2),MATCH(E$1,SAISIE!$A$1:$H$1,0),4,1,"SAISIE"),1)) -> 0 | F8: =+F7+E8 -> 11000
A9: =IF(ROW()-2>COUNTIF(SAISIE!$L$2:$L$299,">"&2),"",INDIRECT(ADDRESS(SMALL(SAISIE!$L$2:$L$299,ROW()-2),MATCH(A$1,SAISIE!$A$1:$H$1,0),4,1,"SAISIE"),1)) | C9: =IF(ROW()-2>COUNTIF(SAISIE!$L$2:$L$299,">"&2),"",INDIRECT(ADDRESS(SMALL(SAISIE!$L$2:$L$299,ROW()-2),MATCH(C$1,SAISIE!$A$1:$H$1,0),4,1,"SAISIE"),1)) | D9: =IF(ROW()-2>COUNTIF(SAISIE!$L$2:$L$299,">"&2),"",INDIRECT(ADDRESS(SMALL(SAISIE!$L$2:$L$299,ROW()-2),MATCH(D$1,SAISIE!$A$1:$H$1,0),4,1,"SAISIE"),1)) | E9: =IF(ROW()-2>COUNTIF(SAISIE!$L$2:$L$299,">"&2),0,INDIRECT(ADDRESS(SMALL(SAISIE!$L$2:$L$299,ROW()-2),MATCH(E$1,SAISIE!$A$1:$H$1,0),4,1,"SAISIE"),1)) -> 0 | F9: =+F8+E9 -> 11000
A10: =IF(ROW()-2>COUNTIF(SAISIE!$L$2:$L$299,">"&2),"",INDIRECT(ADDRESS(SMALL(SAISIE!$L$2:$L$299,ROW()-2),MATCH(A$1,SAISIE!$A$1:$H$1,0),4,1,"SAISIE"),1)) | C10: =IF(ROW()-2>COUNTIF(SAISIE!$L$2:$L$299,">"&2),"",INDIRECT(ADDRESS(SMALL(SAISIE!$L$2:$L$299,ROW()-2),MATCH(C$1,SAISIE!$A$1:$H$1,0),4,1,"SAISIE"),1)) | D10: =IF(ROW()-2>COUNTIF(SAISIE!$L$2:$L$299,">"&2),"",INDIRECT(ADDRESS(SMALL(SAISIE!$L$2:$L$299,ROW()-2),MATCH(D$1,SAISIE!$A$1:$H$1,0),4,1,"SAISIE"),1)) | E10: =IF(ROW()-2>COUNTIF(SAISIE!$L$2:$L$299,">"&2),0,INDIRECT(ADDRESS(SMALL(SAISIE!$L$2:$L$299,ROW()-2),MATCH(E$1,SAISIE!$A$1:$H$1,0),4,1,"SAISIE"),1)) -> 0 | F10: =+F9+E10 -> 11000
A11: =IF(ROW()-2>COUNTIF(SAISIE!$L$2:$L$299,">"&2),"",INDIRECT(ADDRESS(SMALL(SAISIE!$L$2:$L$299,ROW()-2),MATCH(A$1,SAISIE!$A$1:$H$1,0),4,1,"SAISIE"),1)) | C11: =IF(ROW()-2>COUNTIF(SAISIE!$L$2:$L$299,">"&2),"",INDIRECT(ADDRESS(SMALL(SAISIE!$L$2:$L$299,ROW()-2),MATCH(C$1,SAISIE!$A$1:$H$1,0),4,1,"SAISIE"),1)) | D11: =IF(ROW()-2>COUNTIF(SAISIE!$L$2:$L$299,">"&2),"",INDIRECT(ADDRESS(SMALL(SAISIE!$L$2:$L$299,ROW()-2),MATCH(D$1,SAISIE!$A$1:$H$1,0),4,1,"SAISIE"),1)) | E11: =IF(ROW()-2>COUNTIF(SAISIE!$L$2:$L$299,">"&2),0,INDIRECT(ADDRESS(SMALL(SAISIE!$L$2:$L$299,ROW()-2),MATCH(E$1,SAISIE!$A$1:$H$1,0),4,1,"SAISIE"),1)) -> 0 | F11: =+F10+E11 -> 11000
A12: =IF(ROW()-2>COUNTIF(SAISIE!$L$2:$L$299,">"&2),"",INDIRECT(ADDRESS(SMALL(SAISIE!$L$2:$L$299,ROW()-2),MATCH(A$1,SAISIE!$A$1:$H$1,0),4,1,"SAISIE"),1)) | C12: =IF(ROW()-2>COUNTIF(SAISIE!$L$2:$L$299,">"&2),"",INDIRECT(ADDRESS(SMALL(SAISIE!$L$2:$L$299,ROW()-2),MATCH(C$1,SAISIE!$A$1:$H$1,0),4,1,"SAISIE"),1)) | D12: =IF(ROW()-2>COUNTIF(SAISIE!$L$2:$L$299,">"&2),"",INDIRECT(ADDRESS(SMALL(SAISIE!$L$2:$L$299,ROW()-2),MATCH(D$1,SAISIE!$A$1:$H$1,0),4,1,"SAISIE"),1)) | E12: =IF(ROW()-2>COUNTIF(SAISIE!$L$2:$L$299,">"&2),0,INDIRECT(ADDRESS(SMALL(SAISIE!$L$2:$L$299,ROW()-2),MATCH(E$1,SAISIE!$A$1:$H$1,0),4,1,"SAISIE"),1)) -> 0 | F12: =+F11+E12 -> 11000
A13: =IF(ROW()-2>COUNTIF(SAISIE!$L$2:$L$299,">"&2),"",INDIRECT(ADDRESS(SMALL(SAISIE!$L$2:$L$299,ROW()-2),MATCH(A$1,SAISIE!$A$1:$H$1,0),4,1,"SAISIE"),1)) | C13: =IF(ROW()-2>COUNTIF(SAISIE!$L$2:$L$299,">"&2),"",INDIRECT(ADDRESS(SMALL(SAISIE!$L$2:$L$299,ROW()-2),MATCH(C$1,SAISIE!$A$1:$H$1,0),4,1,"SAISIE"),1)) | D13: =IF(ROW()-2>COUNTIF(SAISIE!$L$2:$L$299,">"&2),"",INDIRECT(ADDRESS(SMALL(SAISIE!$L$2:$L$299,ROW()-2),MATCH(D$1,SAISIE!$A$1:$H$1,0),4,1,"SAISIE"),1)) | E13: =IF(ROW()-2>COUNTIF(SAISIE!$L$2:$L$299,">"&2),0,INDIRECT(ADDRESS(SMALL(SAISIE!$L$2:$L$299,ROW()-2),MATCH(E$1,SAISIE!$A$1:$H$1,0),4,1,"SAISIE"),1)) -> 0 | F13: =+F12+E13 -> 11000
A14: =IF(ROW()-2>COUNTIF(SAISIE!$L$2:$L$299,">"&2),"",INDIRECT(ADDRESS(SMALL(SAISIE!$L$2:$L$299,ROW()-2),MATCH(A$1,SAISIE!$A$1:$H$1,0),4,1,"SAISIE"),1)) | C14: =IF(ROW()-2>COUNTIF(SAISIE!$L$2:$L$299,">"&2),"",INDIRECT(ADDRESS(SMALL(SAISIE!$L$2:$L$299,ROW()-2),MATCH(C$1,SAISIE!$A$1:$H$1,0),4,1,"SAISIE"),1)) | D14: =IF(ROW()-2>COUNTIF(SAISIE!$L$2:$L$299,">"&2),"",INDIRECT(ADDRESS(SMALL(SAISIE!$L$2:$L$299,ROW()-2),MATCH(D$1,SAISIE!$A$1:$H$1,0),4,1,"SAISIE"),1)) | E14: =IF(ROW()-2>COUNTIF(SAISIE!$L$2:$L$299,">"&2),0,INDIRECT(ADDRESS(SMALL(SAISIE!$L$2:$L$299,ROW()-2),MATCH(E$1,SAISIE!$A$1:$H$1,0),4,1,"SAISIE"),1)) -> 0 | F14: =+F13+E14 -> 11000
... A96: =IF(ROW()-2>COUNTIF(SAISIE!$L$2:$L$299,">"&2),"",INDIRECT(ADDRESS(SMALL(SAISIE!$L$2:$L$299,ROW()-2),MATCH(A$1,SAISIE!$A$1:$H$1,0),4,1,"SAISIE"),1)) | C96: =IF(ROW()-2>COUNTIF(SAISIE!$L$2:$L$299,">"&2),"",INDIRECT(ADDRESS(SMALL(SAISIE!$L$2:$L$299,ROW()-2),MATCH(C$1,SAISIE!$A$1:$H$1,0),4,1,"SAISIE"),1)) | D96: =IF(ROW()-2>COUNTIF(SAISIE!$L$2:$L$299,">"&2),"",INDIRECT(ADDRESS(SMALL(SAISIE!$L$2:$L$299,ROW()-2),MATCH(D$1,SAISIE!$A$1:$H$1,0),4,1,"SAISIE"),1)) | E96: =IF(ROW()-2>COUNTIF(SAISIE!$L$2:$L$299,">"&2),0,INDIRECT(ADDRESS(SMALL(SAISIE!$L$2:$L$299,ROW()-2),MATCH(E$1,SAISIE!$A$1:$H$1,0),4,1,"SAISIE"),1)) -> 0 | F96: =+F95+E96 -> 11000
A97: =IF(ROW()-2>COUNTIF(SAISIE!$L$2:$L$299,">"&2),"",INDIRECT(ADDRESS(SMALL(SAISIE!$L$2:$L$299,ROW()-2),MATCH(A$1,SAISIE!$A$1:$H$1,0),4,1,"SAISIE"),1)) | C97: =IF(ROW()-2>COUNTIF(SAISIE!$L$2:$L$299,">"&2),"",INDIRECT(ADDRESS(SMALL(SAISIE!$L$2:$L$299,ROW()-2),MATCH(C$1,SAISIE!$A$1:$H$1,0),4,1,"SAISIE"),1)) | D97: =IF(ROW()-2>COUNTIF(SAISIE!$L$2:$L$299,">"&2),"",INDIRECT(ADDRESS(SMALL(SAISIE!$L$2:$L$299,ROW()-2),MATCH(D$1,SAISIE!$A$1:$H$1,0),4,1,"SAISIE"),1)) | E97: =IF(ROW()-2>COUNTIF(SAISIE!$L$2:$L$299,">"&2),0,INDIRECT(ADDRESS(SMALL(SAISIE!$L$2:$L$299,ROW()-2),MATCH(E$1,SAISIE!$A$1:$H$1,0),4,1,"SAISIE"),1)) -> 0
A98: =IF(ROW()-2>COUNTIF(SAISIE!$L$2:$L$299,">"&2),"",INDIRECT(ADDRESS(SMALL(SAISIE!$L$2:$L$299,ROW()-2),MATCH(A$1,SAISIE!$A$1:$H$1,0),4,1,"SAISIE"),1)) | C98: =IF(ROW()-2>COUNTIF(SAISIE!$L$2:$L$299,">"&2),"",INDIRECT(ADDRESS(SMALL(SAISIE!$L$2:$L$299,ROW()-2),MATCH(C$1,SAISIE!$A$1:$H$1,0),4,1,"SAISIE"),1)) | D98: =IF(ROW()-2>COUNTIF(SAISIE!$L$2:$L$299,">"&2),"",INDIRECT(ADDRESS(SMALL(SAISIE!$L$2:$L$299,ROW()-2),MATCH(D$1,SAISIE!$A$1:$H$1,0),4,1,"SAISIE"),1)) | E98: =IF(ROW()-2>COUNTIF(SAISIE!$L$2:$L$299,">"&2),0,INDIRECT(ADDRESS(SMALL(SAISIE!$L$2:$L$299,ROW()-2),MATCH(E$1,SAISIE!$A$1:$H$1,0),4,1,"SAISIE"),1)) -> 0
A99: =IF(ROW()-2>COUNTIF(SAISIE!$L$2:$L$299,">"&2),"",INDIRECT(ADDRESS(SMALL(SAISIE!$L$2:$L$299,ROW()-2),MATCH(A$1,SAISIE!$A$1:$H$1,0),4,1,"SAISIE"),1)) | C99: =IF(ROW()-2>COUNTIF(SAISIE!$L$2:$L$299,">"&2),"",INDIRECT(ADDRESS(SMALL(SAISIE!$L$2:$L$299,ROW()-2),MATCH(C$1,SAISIE!$A$1:$H$1,0),4,1,"SAISIE"),1)) | D99: =IF(ROW()-2>COUNTIF(SAISIE!$L$2:$L$299,">"&2),"",INDIRECT(ADDRESS(SMALL(SAISIE!$L$2:$L$299,ROW()-2),MATCH(D$1,SAISIE!$A$1:$H$1,0),4,1,"SAISIE"),1)) | E99: =IF(ROW()-2>COUNTIF(SAISIE!$L$2:$L$299,">"&2),0,INDIRECT(ADDRESS(SMALL(SAISIE!$L$2:$L$299,ROW()-2),MATCH(E$1,SAISIE!$A$1:$H$1,0),4,1,"SAISIE"),1)) -> 0
A100: =IF(ROW()-2>COUNTIF(SAISIE!$L$2:$L$299,">"&2),"",INDIRECT(ADDRESS(SMALL(SAISIE!$L$2:$L$299,ROW()-2),MATCH(A$1,SAISIE!$A$1:$H$1,0),4,1,"SAISIE"),1)) | C100: =IF(ROW()-2>COUNTIF(SAISIE!$L$2:$L$299,">"&2),"",INDIRECT(ADDRESS(SMALL(SAISIE!$L$2:$L$299,ROW()-2),MATCH(C$1,SAISIE!$A$1:$H$1,0),4,1,"SAISIE"),1)) | D100: =IF(ROW()-2>COUNTIF(SAISIE!$L$2:$L$299,">"&2),"",INDIRECT(ADDRESS(SMALL(SAISIE!$L$2:$L$299,ROW()-2),MATCH(D$1,SAISIE!$A$1:$H$1,0),4,1,"SAISIE"),1)) | E100: =IF(ROW()-2>COUNTIF(SAISIE!$L$2:$L$299,">"&2),0,INDIRECT(ADDRESS(SMALL(SAISIE!$L$2:$L$299,ROW()-2),MATCH(E$1,SAISIE!$A$1:$H$1,0),4,1,"SAISIE"),1)) -> 0
A101: =IF(ROW()-2>COUNTIF(SAISIE!$L$2:$L$299,">"&2),"",INDIRECT(ADDRESS(SMALL(SAISIE!$L$2:$L$299,ROW()-2),MATCH(A$1,SAISIE!$A$1:$H$1,0),4,1,"SAISIE"),1)) | C101: =IF(ROW()-2>COUNTIF(SAISIE!$L$2:$L$299,">"&2),"",INDIRECT(ADDRESS(SMALL(SAISIE!$L$2:$L$299,ROW()-2),MATCH(C$1,SAISIE!$A$1:$H$1,0),4,1,"SAISIE"),1)) | D101: =IF(ROW()-2>COUNTIF(SAISIE!$L$2:$L$299,">"&2),"",INDIRECT(ADDRESS(SMALL(SAISIE!$L$2:$L$299,ROW()-2),MATCH(D$1,SAISIE!$A$1:$H$1,0),4,1,"SAISIE"),1)) | E101: =IF(ROW()-2>COUNTIF(SAISIE!$L$2:$L$299,">"&2),0,INDIRECT(ADDRESS(SMALL(SAISIE!$L$2:$L$299,ROW()-2),MATCH(E$1,SAISIE!$A$1:$H$1,0),4,1,"SAISIE"),1)) -> 0
A102: =IF(ROW()-2>COUNTIF(SAISIE!$L$2:$L$299,">"&2),"",INDIRECT(ADDRESS(SMALL(SAISIE!$L$2:$L$299,ROW()-2),MATCH(A$1,SAISIE!$A$1:$H$1,0),4,1,"SAISIE"),1)) | C102: =IF(ROW()-2>COUNTIF(SAISIE!$L$2:$L$299,">"&2),"",INDIRECT(ADDRESS(SMALL(SAISIE!$L$2:$L$299,ROW()-2),MATCH(C$1,SAISIE!$A$1:$H$1,0),4,1,"SAISIE"),1)) | D102: =IF(ROW()-2>COUNTIF(SAISIE!$L$2:$L$299,">"&2),"",INDIRECT(ADDRESS(SMALL(SAISIE!$L$2:$L$299,ROW()-2),MATCH(D$1,SAISIE!$A$1:$H$1,0),4,1,"SAISIE"),1)) | E102: =IF(ROW()-2>COUNTIF(SAISIE!$L$2:$L$299,">"&2),0,INDIRECT(ADDRESS(SMALL(SAISIE!$L$2:$L$299,ROW()-2),MATCH(E$1,SAISIE!$A$1:$H$1,0),4,1,"SAISIE"),1)) -> 0
A103: =IF(ROW()-2>COUNTIF(SAISIE!$L$2:$L$299,">"&2),"",INDIRECT(ADDRESS(SMALL(SAISIE!$L$2:$L$299,ROW()-2),MATCH(A$1,SAISIE!$A$1:$H$1,0),4,1,"SAISIE"),1)) | C103: =IF(ROW()-2>COUNTIF(SAISIE!$L$2:$L$299,">"&2),"",INDIRECT(ADDRESS(SMALL(SAISIE!$L$2:$L$299,ROW()-2),MATCH(C$1,SAISIE!$A$1:$H$1,0),4,1,"SAISIE"),1)) | D103: =IF(ROW()-2>COUNTIF(SAISIE!$L$2:$L$299,">"&2),"",INDIRECT(ADDRESS(SMALL(SAISIE!$L$2:$L$299,ROW()-2),MATCH(D$1,SAISIE!$A$1:$H$1,0),4,1,"SAISIE"),1)) | E103: =IF(ROW()-2>COUNTIF(SAISIE!$L$2:$L$299,">"&2),0,INDIRECT(ADDRESS(SMALL(SAISIE!$L$2:$L$299,ROW()-2),MATCH(E$1,SAISIE!$A$1:$H$1,0),4,1,"SAISIE"),1)) -> 0
A104: =IF(ROW()-2>COUNTIF(SAISIE!$L$2:$L$299,">"&2),"",INDIRECT(ADDRESS(SMALL(SAISIE!$L$2:$L$299,ROW()-2),MATCH(A$1,SAISIE!$A$1:$H$1,0),4,1,"SAISIE"),1)) | C104: =IF(ROW()-2>COUNTIF(SAISIE!$L$2:$L$299,">"&2),"",INDIRECT(ADDRESS(SMALL(SAISIE!$L$2:$L$299,ROW()-2),MATCH(C$1,SAISIE!$A$1:$H$1,0),4,1,"SAISIE"),1)) | D104: =IF(ROW()-2>COUNTIF(SAISIE!$L$2:$L$299,">"&2),"",INDIRECT(ADDRESS(SMALL(SAISIE!$L$2:$L$299,ROW()-2),MATCH(D$1,SAISIE!$A$1:$H$1,0),4,1,"SAISIE"),1)) | E104: =IF(ROW()-2>COUNTIF(SAISIE!$L$2:$L$299,">"&2),0,INDIRECT(ADDRESS(SMALL(SAISIE!$L$2:$L$299,ROW()-2),MATCH(E$1,SAISIE!$A$1:$H$1,0),4,1,"SAISIE"),1)) -> 0
A105: =IF(ROW()-2>COUNTIF(SAISIE!$L$2:$L$299,">"&2),"",INDIRECT(ADDRESS(SMALL(SAISIE!$L$2:$L$299,ROW()-2),MATCH(A$1,SAISIE!$A$1:$H$1,0),4,1,"SAISIE"),1)) | C105: =IF(ROW()-2>COUNTIF(SAISIE!$L$2:$L$299,">"&2),"",INDIRECT(ADDRESS(SMALL(SAISIE!$L$2:$L$299,ROW()-2),MATCH(C$1,SAISIE!$A$1:$H$1,0),4,1,"SAISIE"),1)) | D105: =IF(ROW()-2>COUNTIF(SAISIE!$L$2:$L$299,">"&2),"",INDIRECT(ADDRESS(SMALL(SAISIE!$L$2:$L$299,ROW()-2),MATCH(D$1,SAISIE!$A$1:$H$1,0),4,1,"SAISIE"),1)) | E105: =IF(ROW()-2>COUNTIF(SAISIE!$L$2:$L$299,">"&2),0,INDIRECT(ADDRESS(SMALL(SAISIE!$L$2:$L$299,ROW()-2),MATCH(E$1,SAISIE!$A$1:$H$1,0),4,1,"SAISIE"),1)) -> 0
A106: =IF(ROW()-2>COUNTIF(SAISIE!$L$2:$L$299,">"&2),"",INDIRECT(ADDRESS(SMALL(SAISIE!$L$2:$L$299,ROW()-2),MATCH(A$1,SAISIE!$A$1:$H$1,0),4,1,"SAISIE"),1)) | C106: =IF(ROW()-2>COUNTIF(SAISIE!$L$2:$L$299,">"&2),"",INDIRECT(ADDRESS(SMALL(SAISIE!$L$2:$L$299,ROW()-2),MATCH(C$1,SAISIE!$A$1:$H$1,0),4,1,"SAISIE"),1)) | D106: =IF(ROW()-2>COUNTIF(SAISIE!$L$2:$L$299,">"&2),"",INDIRECT(ADDRESS(SMALL(SAISIE!$L$2:$L$299,ROW()-2),MATCH(D$1,SAISIE!$A$1:$H$1,0),4,1,"SAISIE"),1)) | E106: =IF(ROW()-2>COUNTIF(SAISIE!$L$2:$L$299,">"&2),0,INDIRECT(ADDRESS(SMALL(SAISIE!$L$2:$L$299,ROW()-2),MATCH(E$1,SAISIE!$A$1:$H$1,0),4,1,"SAISIE"),1)) -> 0
A107: =IF(ROW()-2>COUNTIF(SAISIE!$L$2:$L$299,">"&2),"",INDIRECT(ADDRESS(SMALL(SAISIE!$L$2:$L$299,ROW()-2),MATCH(A$1,SAISIE!$A$1:$H$1,0),4,1,"SAISIE"),1)) | C107: =IF(ROW()-2>COUNTIF(SAISIE!$L$2:$L$299,">"&2),"",INDIRECT(ADDRESS(SMALL(SAISIE!$L$2:$L$299,ROW()-2),MATCH(C$1,SAISIE!$A$1:$H$1,0),4,1,"SAISIE"),1)) | D107: =IF(ROW()-2>COUNTIF(SAISIE!$L$2:$L$299,">"&2),"",INDIRECT(ADDRESS(SMALL(SAISIE!$L$2:$L$299,ROW()-2),MATCH(D$1,SAISIE!$A$1:$H$1,0),4,1,"SAISIE"),1)) | E107: =IF(ROW()-2>COUNTIF(SAISIE!$L$2:$L$299,">"&2),0,INDIRECT(ADDRESS(SMALL(SAISIE!$L$2:$L$299,ROW()-2),MATCH(E$1,SAISIE!$A$1:$H$1,0),4,1,"SAISIE"),1)) -> 0
A108: =IF(ROW()-2>COUNTIF(SAISIE!$L$2:$L$299,">"&2),"",INDIRECT(ADDRESS(SMALL(SAISIE!$L$2:$L$299,ROW()-2),MATCH(A$1,SAISIE!$A$1:$H$1,0),4,1,"SAISIE"),1)) | C108: =IF(ROW()-2>COUNTIF(SAISIE!$L$2:$L$299,">"&2),"",INDIRECT(ADDRESS(SMALL(SAISIE!$L$2:$L$299,ROW()-2),MATCH(C$1,SAISIE!$A$1:$H$1,0),4,1,"SAISIE"),1)) | D108: =IF(ROW()-2>COUNTIF(SAISIE!$L$2:$L$299,">"&2),"",INDIRECT(ADDRESS(SMALL(SAISIE!$L$2:$L$299,ROW()-2),MATCH(D$1,SAISIE!$A$1:$H$1,0),4,1,"SAISIE"),1)) | E108: =IF(ROW()-2>COUNTIF(SAISIE!$L$2:$L$299,">"&2),0,INDIRECT(ADDRESS(SMALL(SAISIE!$L$2:$L$299,ROW()-2),MATCH(E$1,SAISIE!$A$1:$H$1,0),4,1,"SAISIE"),1)) -> 0
... A300: =IF(ROW()-2>COUNTIF(SAISIE!$L$2:$L$299,">"&2),"",INDIRECT(ADDRESS(SMALL(SAISIE!$L$2:$L$299,ROW()-2),MATCH(A$1,SAISIE!$A$1:$H$1,0),4,1,"SAISIE"),1)) | C300: =IF(ROW()-2>COUNTIF(SAISIE!$L$2:$L$299,">"&2),"",INDIRECT(ADDRESS(SMALL(SAISIE!$L$2:$L$299,ROW()-2),MATCH(C$1,SAISIE!$A$1:$H$1,0),4,1,"SAISIE"),1)) | D300: =IF(ROW()-2>COUNTIF(SAISIE!$L$2:$L$299,">"&2),"",INDIRECT(ADDRESS(SMALL(SAISIE!$L$2:$L$299,ROW()-2),MATCH(D$1,SAISIE!$A$1:$H$1,0),4,1,"SAISIE"),1)) | E300: =IF(ROW()-2>COUNTIF(SAISIE!$L$2:$L$299,">"&2),0,INDIRECT(ADDRESS(SMALL(SAISIE!$L$2:$L$299,ROW()-2),MATCH(E$1,SAISIE!$A$1:$H$1,0),4,1,"SAISIE"),1)) -> 0

Sheet Ventilation par compte
A1: 580000
A2: Date | B2: Section | C2: Désignation de l'opération | D2: Montant
A3: =IF(COUNTIF(SAISIE!$I$2:$I$1999,"*"&$A$1&"*")<ROW()-2,"",INDEX(SAISIE!$A$2:$A$1999,MATCH($A$1&"_"&ROW()-2,SAISIE!$I$2:$I$1999,0))) -> 43710 | B3: =IF(COUNTIF(SAISIE!$I$2:$I$1999,"*"&$A$1&"*")<ROW()-2,"",INDEX(SAISIE!$B$2:$B$1999,MATCH($A$1&"_"&ROW()-2,SAISIE!$I$2:$I$1999,0))) -> Comité directeur | C3: =IF(COUNTIF(SAISIE!$I$2:$I$1999,"*"&$A$1&"*")<ROW()-2,"",INDEX(SAISIE!$C$2:$C$1999,MATCH($A$1&"_"&ROW()-2,SAISIE!$I$2:$I$1999,0))) -> Virt du Cpte Livret | D3: =IF(COUNTIF(SAISIE!$I$2:$I$1999,"*"&$A$1&"*")<ROW()-2,"",INDEX(SAISIE!$H$2:$H$1999,MATCH($A$1&"_"&ROW()-2,SAISIE!$I$2:$I$1999,0))) -> 10000
A4: =IF(COUNTIF(SAISIE!$I$2:$I$1999,"*"&$A$1&"*")<ROW()-2,"",INDEX(SAISIE!$A$2:$A$1999,MATCH($A$1&"_"&ROW()-2,SAISIE!$I$2:$I$1999,0))) -> 43710 | B4: =IF(COUNTIF(SAISIE!$I$2:$I$1999,"*"&$A$1&"*")<ROW()-2,"",INDEX(SAISIE!$B$2:$B$1999,MATCH($A$1&"_"&ROW()-2,SAISIE!$I$2:$I$1999,0))) -> Comité directeur | C4: =IF(COUNTIF(SAISIE!$I$2:$I$1999,"*"&$A$1&"*")<ROW()-2,"",INDEX(SAISIE!$C$2:$C$1999,MATCH($A$1&"_"&ROW()-2,SAISIE!$I$2:$I$1999,0))) -> Virt au Cpte Courant | D4: =IF(COUNTIF(SAISIE!$I$2:$I$1999,"*"&$A$1&"*")<ROW()-2,"",INDEX(SAISIE!$H$2:$H$1999,MATCH($A$1&"_"&ROW()-2,SAISIE!$I$2:$I$1999,0))) -> 10000
A5: =IF(COUNTIF(SAISIE!$I$2:$I$1999,"*"&$A$1&"*")<ROW()-2,"",INDEX(SAISIE!$A$2:$A$1999,MATCH($A$1&"_"&ROW()-2,SAISIE!$I$2:$I$1999,0))) -> 43720 | B5: =IF(COUNTIF(SAISIE!$I$2:$I$1999,"*"&$A$1&"*")<ROW()-2,"",INDEX(SAISIE!$B$2:$B$1999,MATCH($A$1&"_"&ROW()-2,SAISIE!$I$2:$I$1999,0))) -> Comité directeur | C5: =IF(COUNTIF(SAISIE!$I$2:$I$1999,"*"&$A$1&"*")<ROW()-2,"",INDEX(SAISIE!$C$2:$C$1999,MATCH($A$1&"_"&ROW()-2,SAISIE!$I$2:$I$1999,0))) -> Virt du Cpte Livret | D5: =IF(COUNTIF(SAISIE!$I$2:$I$1999,"*"&$A$1&"*")<ROW()-2,"",INDEX(SAISIE!$H$2:$H$1999,MATCH($A$1&"_"&ROW()-2,SAISIE!$I$2:$I$1999,0))) -> 0
A6: =IF(COUNTIF(SAISIE!$I$2:$I$1999,"*"&$A$1&"*")<ROW()-2,"",INDEX(SAISIE!$A$2:$A$1999,MATCH($A$1&"_"&ROW()-2,SAISIE!$I$2:$I$1999,0))) -> 43720 | B6: =IF(COUNTIF(SAISIE!$I$2:$I$1999,"*"&$A$1&"*")<ROW()-2,"",INDEX(SAISIE!$B$2:$B$1999,MATCH($A$1&"_"&ROW()-2,SAISIE!$I$2:$I$1999,0))) -> Comité directeur | C6: =IF(COUNTIF(SAISIE!$I$2:$I$1999,"*"&$A$1&"*")<ROW()-2,"",INDEX(SAISIE!$C$2:$C$1999,MATCH($A$1&"_"&ROW()-2,SAISIE!$I$2:$I$1999,0))) -> Virt au Cpte Courant | D6: =IF(COUNTIF(SAISIE!$I$2:$I$1999,"*"&$A$1&"*")<ROW()-2,"",INDEX(SAISIE!$H$2:$H$1999,MATCH($A$1&"_"&ROW()-2,SAISIE!$I$2:$I$1999,0))) -> 0
A7: =IF(COUNTIF(SAISIE!$I$2:$I$1999,"*"&$A$1&"*")<ROW()-2,"",INDEX(SAISIE!$A$2:$A$1999,MATCH($A$1&"_"&ROW()-2,SAISIE!$I$2:$I$1999,0))) -> 43725 | B7: =IF(COUNTIF(SAISIE!$I$2:$I$1999,"*"&$A$1&"*")<ROW()-2,"",INDEX(SAISIE!$B$2:$B$1999,MATCH($A$1&"_"&ROW()-2,SAISIE!$I$2:$I$1999,0))) -> Comité directeur | C7: =IF(COUNTIF(SAISIE!$I$2:$I$1999,"*"&$A$1&"*")<ROW()-2,"",INDEX(SAISIE!$C$2:$C$1999,MATCH($A$1&"_"&ROW()-2,SAISIE!$I$2:$I$1999,0))) -> Virt du Cpte Livret | D7: =IF(COUNTIF(SAISIE!$I$2:$I$1999,"*"&$A$1&"*")<ROW()-2,"",INDEX(SAISIE!$H$2:$H$1999,MATCH($A$1&"_"&ROW()-2,SAISIE!$I$2:$I$1999,0))) -> 0
A8: =IF(COUNTIF(SAISIE!$I$2:$I$1999,"*"&$A$1&"*")<ROW()-2,"",INDEX(SAISIE!$A$2:$A$1999,MATCH($A$1&"_"&ROW()-2,SAISIE!$I$2:$I$1999,0))) -> 43725 | B8: =IF(COUNTIF(SAISIE!$I$2:$I$1999,"*"&$A$1&"*")<ROW()-2,"",INDEX(SAISIE!$B$2:$B$1999,MATCH($A$1&"_"&ROW()-2,SAISIE!$I$2:$I$1999,0))) -> Comité directeur | C8: =IF(COUNTIF(SAISIE!$I$2:$I$1999,"*"&$A$1&"*")<ROW()-2,"",INDEX(SAISIE!$C$2:$C$1999,MATCH($A$1&"_"&ROW()-2,SAISIE!$I$2:$I$1999,0))) -> Virt au Cpte Courant | D8: =IF(COUNTIF(SAISIE!$I$2:$I$1999,"*"&$A$1&"*")<ROW()-2,"",INDEX(SAISIE!$H$2:$H$1999,MATCH($A$1&"_"&ROW()-2,SAISIE!$I$2:$I$1999,0))) -> 0
A9: =IF(COUNTIF(SAISIE!$I$2:$I$1999,"*"&$A$1&"*")<ROW()-2,"",INDEX(SAISIE!$A$2:$A$1999,MATCH($A$1&"_"&ROW()-2,SAISIE!$I$2:$I$1999,0))) | B9: =IF(COUNTIF(SAISIE!$I$2:$I$1999,"*"&$A$1&"*")<ROW()-2,"",INDEX(SAISIE!$B$2:$B$1999,MATCH($A$1&"_"&ROW()-2,SAISIE!$I$2:$I$1999,0))) | C9: =IF(COUNTIF(SAISIE!$I$2:$I$1999,"*"&$A$1&"*")<ROW()-2,"",INDEX(SAISIE!$C$2:$C$1999,MATCH($A$1&"_"&ROW()-2,SAISIE!$I$2:$I$1999,0))) | D9: =IF(COUNTIF(SAISIE!$I$2:$I$1999,"*"&$A$1&"*")<ROW()-2,"",INDEX(SAISIE!$H$2:$H$1999,MATCH($A$1&"_"&ROW()-2,SAISIE!$I$2:$I$1999,0)))
A10: =IF(COUNTIF(SAISIE!$I$2:$I$1999,"*"&$A$1&"*")<ROW()-2,"",INDEX(SAISIE!$A$2:$A$1999,MATCH($A$1&"_"&ROW()-2,SAISIE!$I$2:$I$1999,0))) | B10: =IF(COUNTIF(SAISIE!$I$2:$I$1999,"*"&$A$1&"*")<ROW()-2,"",INDEX(SAISIE!$B$2:$B$1999,MATCH($A$1&"_"&ROW()-2,SAISIE!$I$2:$I$1999,0))) | C10: =IF(COUNTIF(SAISIE!$I$2:$I$1999,"*"&$A$1&"*")<ROW()-2,"",INDEX(SAISIE!$C$2:$C$1999,MATCH($A$1&"_"&ROW()-2,SAISIE!$I$2:$I$1999,0))) | D10: =IF(COUNTIF(SAISIE!$I$2:$I$1999,"*"&$A$1&"*")<ROW()-2,"",INDEX(SAISIE!$H$2:$H$1999,MATCH($A$1&"_"&ROW()-2,SAISIE!$I$2:$I$1999,0)))
A11: =IF(COUNTIF(SAISIE!$I$2:$I$1999,"*"&$A$1&"*")<ROW()-2,"",INDEX(SAISIE!$A$2:$A$1999,MATCH($A$1&"_"&ROW()-2,SAISIE!$I$2:$I$1999,0))) | B11: =IF(COUNTIF(SAISIE!$I$2:$I$1999,"*"&$A$1&"*")<ROW()-2,"",INDEX(SAISIE!$B$2:$B$1999,MATCH($A$1&"_"&ROW()-2,SAISIE!$I$2:$I$1999,0))) | C11: =IF(COUNTIF(SAISIE!$I$2:$I$1999,"*"&$A$1&"*")<ROW()-2,"",INDEX(SAISIE!$C$2:$C$1999,MATCH($A$1&"_"&ROW()-2,SAISIE!$I$2:$I$1999,0))) | D11: =IF(COUNTIF(SAISIE!$I$2:$I$1999,"*"&$A$1&"*")<ROW()-2,"",INDEX(SAISIE!$H$2:$H$1999,MATCH($A$1&"_"&ROW()-2,SAISIE!$I$2:$I$1999,0)))
A12: =IF(COUNTIF(SAISIE!$I$2:$I$1999,"*"&$A$1&"*")<ROW()-2,"",INDEX(SAISIE!$A$2:$A$1999,MATCH($A$1&"_"&ROW()-2,SAISIE!$I$2:$I$1999,0))) | B12: =IF(COUNTIF(SAISIE!$I$2:$I$1999,"*"&$A$1&"*")<ROW()-2,"",INDEX(SAISIE!$B$2:$B$1999,MATCH($A$1&"_"&ROW()-2,SAISIE!$I$2:$I$1999,0))) | C12: =IF(COUNTIF(SAISIE!$I$2:$I$1999,"*"&$A$1&"*")<ROW()-2,"",INDEX(SAISIE!$C$2:$C$1999,MATCH($A$1&"_"&ROW()-2,SAISIE!$I$2:$I$1999,0))) | D12: =IF(COUNTIF(SAISIE!$I$2:$I$1999,"*"&$A$1&"*")<ROW()-2,"",INDEX(SAISIE!$H$2:$H$1999,MATCH($A$1&"_"&ROW()-2,SAISIE!$I$2:$I$1999,0)))
A13: =IF(COUNTIF(SAISIE!$I$2:$I$1999,"*"&$A$1&"*")<ROW()-2,"",INDEX(SAISIE!$A$2:$A$1999,MATCH($A$1&"_"&ROW()-2,SAISIE!$I$2:$I$1999,0))) | B13: =IF(COUNTIF(SAISIE!$I$2:$I$1999,"*"&$A$1&"*")<ROW()-2,"",INDEX(SAISIE!$B$2:$B$1999,MATCH($A$1&"_"&ROW()-2,SAISIE!$I$2:$I$1999,0))) | C13: =IF(COUNTIF(SAISIE!$I$2:$I$1999,"*"&$A$1&"*")<ROW()-2,"",INDEX(SAISIE!$C$2:$C$1999,MATCH($A$1&"_"&ROW()-2,SAISIE!$I$2:$I$1999,0))) | D13: =IF(COUNTIF(SAISIE!$I$2:$I$1999,"*"&$A$1&"*")<ROW()-2,"",INDEX(SAISIE!$H$2:$H$1999,MATCH($A$1&"_"&ROW()-2,SAISIE!$I$2:$I$1999,0)))
A14: =IF(COUNTIF(SAISIE!$I$2:$I$1999,"*"&$A$1&"*")<ROW()-2,"",INDEX(SAISIE!$A$2:$A$1999,MATCH($A$1&"_"&ROW()-2,SAISIE!$I$2:$I$1999,0))) | B14: =IF(COUNTIF(SAISIE!$I$2:$I$1999,"*"&$A$1&"*")<ROW()-2,"",INDEX(SAISIE!$B$2:$B$1999,MATCH($A$1&"_"&ROW()-2,SAISIE!$I$2:$I$1999,0))) | C14: =IF(COUNTIF(SAISIE!$I$2:$I$1999,"*"&$A$1&"*")<ROW()-2,"",INDEX(SAISIE!$C$2:$C$1999,MATCH($A$1&"_"&ROW()-2,SAISIE!$I$2:$I$1999,0))) | D14: =IF(COUNTIF(SAISIE!$I$2:$I$1999,"*"&$A$1&"*")<ROW()-2,"",INDEX(SAISIE!$H$2:$H$1999,MATCH($A$1&"_"&ROW()-2,SAISIE!$I$2:$I$1999,0)))
... A30: =IF(COUNTIF(SAISIE!$I$2:$I$1999,"*"&$A$1&"*")<ROW()-2,"",INDEX(SAISIE!$A$2:$A$1999,MATCH($A$1&"_"&ROW()-2,SAISIE!$I$2:$I$1999,0))) | B30: =IF(COUNTIF(SAISIE!$I$2:$I$1999,"*"&$A$1&"*")<ROW()-2,"",INDEX(SAISIE!$B$2:$B$1999,MATCH($A$1&"_"&ROW()-2,SAISIE!$I$2:$I$1999,0))) | C30: =IF(COUNTIF(SAISIE!$I$2:$I$1999,"*"&$A$1&"*")<ROW()-2,"",INDEX(SAISIE!$C$2:$C$1999,MATCH($A$1&"_"&ROW()-2,SAISIE!$I$2:$I$1999,0))) | D30: =IF(COUNTIF(SAISIE!$I$2:$I$1999,"*"&$A$1&"*")<ROW()-2,"",INDEX(SAISIE!$H$2:$H$1999,MATCH($A$1&"_"&ROW()-2,SAISIE!$I$2:$I$1999,0)))
A31: =IF(COUNTIF(SAISIE!$I$2:$I$1955,"*"&#REF!&"*")<ROW()-1,"",INDEX(SAISIE!$A$2:$A$1955,MATCH(#REF!&"_"&ROW()-1,SAISIE!$I$2:$I$1955,0))) | B31: =IF(COUNTIF(SAISIE!$I$2:$I$1955,"*"&#REF!&"*")<ROW()-1,"",INDEX(SAISIE!$B$2:$B$1955,MATCH(#REF!&"_"&ROW()-1,SAISIE!$I$2:$I$1955,0))) | C31: =IF(COUNTIF(SAISIE!$I$2:$I$1955,"*"&#REF!&"*")<ROW()-1,"",INDEX(SAISIE!$C$2:$C$1955,MATCH(#REF!&"_"&ROW()-1,SAISIE!$I$2:$I$1955,0))) | D31: =IF(COUNTIF(SAISIE!$I$2:$I$1999,"*"&$A$1&"*")<ROW()-1,"",INDEX(SAISIE!$H$2:$H$1999,MATCH($A$1&"_"&ROW()-1,SAISIE!$I$2:$I$1999,0)))
A32: =IF(COUNTIF(SAISIE!$I$2:$I$1955,"*"&#REF!&"*")<ROW()-1,"",INDEX(SAISIE!$A$2:$A$1955,MATCH(#REF!&"_"&ROW()-1,SAISIE!$I$2:$I$1955,0))) | B32: =IF(COUNTIF(SAISIE!$I$2:$I$1955,"*"&#REF!&"*")<ROW()-1,"",INDEX(SAISIE!$B$2:$B$1955,MATCH(#REF!&"_"&ROW()-1,SAISIE!$I$2:$I$1955,0))) | C32: =IF(COUNTIF(SAISIE!$I$2:$I$1955,"*"&#REF!&"*")<ROW()-1,"",INDEX(SAISIE!$C$2:$C$1955,MATCH(#REF!&"_"&ROW()-1,SAISIE!$I$2:$I$1955,0))) | D32: =IF(COUNTIF(SAISIE!$I$2:$I$1999,"*"&$A$1&"*")<ROW()-1,"",INDEX(SAISIE!$H$2:$H$1999,MATCH($A$1&"_"&ROW()-1,SAISIE!$I$2:$I$1999,0)))
A33: =IF(COUNTIF(SAISIE!$I$2:$I$1955,"*"&#REF!&"*")<ROW()-1,"",INDEX(SAISIE!$A$2:$A$1955,MATCH(#REF!&"_"&ROW()-1,SAISIE!$I$2:$I$1955,0))) | B33: =IF(COUNTIF(SAISIE!$I$2:$I$1955,"*"&#REF!&"*")<ROW()-1,"",INDEX(SAISIE!$B$2:$B$1955,MATCH(#REF!&"_"&ROW()-1,SAISIE!$I$2:$I$1955,0))) | C33: =IF(COUNTIF(SAISIE!$I$2:$I$1955,"*"&#REF!&"*")<ROW()-1,"",INDEX(SAISIE!$C$2:$C$1955,MATCH(#REF!&"_"&ROW()-1,SAISIE!$I$2:$I$1955,0))) | D33: =IF(COUNTIF(SAISIE!$I$2:$I$1999,"*"&$A$1&"*")<ROW()-1,"",INDEX(SAISIE!$H$2:$H$1999,MATCH($A$1&"_"&ROW()-1,SAISIE!$I$2:$I$1999,0)))
A34: =IF(COUNTIF(SAISIE!$I$2:$I$1955,"*"&#REF!&"*")<ROW()-1,"",INDEX(SAISIE!$A$2:$A$1955,MATCH(#REF!&"_"&ROW()-1,SAISIE!$I$2:$I$1955,0))) | B34: =IF(COUNTIF(SAISIE!$I$2:$I$1955,"*"&#REF!&"*")<ROW()-1,"",INDEX(SAISIE!$B$2:$B$1955,MATCH(#REF!&"_"&ROW()-1,SAISIE!$I$2:$I$1955,0))) | C34: =IF(COUNTIF(SAISIE!$I$2:$I$1955,"*"&#REF!&"*")<ROW()-1,"",INDEX(SAISIE!$C$2:$C$1955,MATCH(#REF!&"_"&ROW()-1,SAISIE!$I$2:$I$1955,0))) | D34: =IF(COUNTIF(SAISIE!$I$2:$I$1999,"*"&$A$1&"*")<ROW()-1,"",INDEX(SAISIE!$H$2:$H$1999,MATCH($A$1&"_"&ROW()-1,SAISIE!$I$2:$I$1999,0)))
