Workbook
Name agents: Tableau2[Colonne1]
Name heure_poste: Tableau1[Colonne1]
Name Niveau: 'Heure de poste'!$C$2:$C$8
Name Taches: Taches!$A$1:$A$20

Sheet Tableau de Bord
B3: Information Importante
B6: =IF(Feuil1!A6="Message",Feuil1!E6,"")
B7: =IF(Feuil1!A7="Message",Feuil1!E7,"")
B8: =IF(Feuil1!A8="Message",Feuil1!E8,"")
B9: =IF(Feuil1!A9="Message",Feuil1!E9,"")
B10: =IF(Feuil1!A10="Message",Feuil1!E10,"")
B11: =IF(Feuil1!A11="Message",Feuil1!E11,"") -> Bonjour
B12: =IF(Feuil1!A12="Message",Feuil1!E12,"") -> bien joué
B13: =IF(Feuil1!A13="Message",Feuil1!E13,"")
B14: =IF(Feuil1!A14="Message",Feuil1!E14,"")
B15: =IF(Feuil1!A15="Message",Feuil1!E15,"")
B16: =IF(Feuil1!A16="Message",Feuil1!E16,"")
B17: =IF(Feuil1!A17="Message",Feuil1!E17,"")
... B303: =IF(Feuil1!A303="Message",Feuil1!E303,"")

Sheet Feuil1
A1: date | B1: Heure de poste | C1: 07h00-14h15 | D1: 9h00-17h00 | E1: 07h00-14h15
A2: =TODAY() -> 44999 | B2: Agent | C2: Christophe | D2: Emilie | E2: Eric
A5: Taches | B5: Heure debut | C5: Heure fin | D5: Agents | E5: Rapport / Designations | J5: N° de place | K5: Niveau | L5: Date de rappel | M5: Nom/ Prenom
A6: Ronde parking | B6: 0.39583333 | C6: 0.41666667 | D6: Christophe | K6: Niveau-1 Nord
A7: Exctincteur
A8: escalier
A9: Ronde parking
A10: Ronde parking
A11: Message | E11: Bonjour
A12: Message | E12: bien joué

Sheet Feuil4

Sheet Heure de poste
A1: Colonne1 | B1: Colonne1
A2: 07h00-14h15 | B2: Christophe | C2: Niveau -1 Est
A3: 12h15-20h15 | B3: Eric | C3: Niveau-1 Nord
A4: 9h00-17h00 | B4: Emilie
A5: 10h00-17h00 | B5: Sylvie
A6: 9h00-17h00

Sheet Taches
A1: Ronde parking
A2: Exctincteur
A3: Boitier de secours
A4: escalier
A5: Message
