Workbook

Sheet CALCUL
A1: NOMBRE LICENCE | B1: DURÉE | C1: PRIX ACHAT | D1: PRIX DE VENTE | E1: MARGE | F1: MONTANT MARGE
A2: 1 | B2: 12 MOIS | C2: =IF(A2="","",VLOOKUP(A2,DONNÉES!$A$4:$C$500,3,0)) -> 129.71 | D2: =IF(A2="","",VLOOKUP(A2,DONNÉES!$A$4:$D$500,4)) -> 221.7 | E2: =IF(A2="","",(D2-C2)/C2) -> 0.70919744 | F2: =IF(A2="","",D2-C2) -> 91.99
A3: 4 | B3: 36 MOIS | C3: =IF(A3="","",VLOOKUP(A3,DONNÉES!A5:C501,3,0)) -> 518.84 | D3: =IF(A3="","",VLOOKUP(A3,DONNÉES!$A$4:$D$500,4)) -> 886.8 | E3: =IF(A3="","",(D3-C3)/C3) -> 0.70919744 | F3: =IF(A3="","",D3-C3) -> 367.96
C4: =IF(A4="","",VLOOKUP(A4,DONNÉES!A6:C502,3,0)) | D4: =IF(A4="","",VLOOKUP(A4,DONNÉES!$A$4:$D$500,4)) | E4: =IF(A4="","",(D4-C4)/C4) | F4: =IF(A4="","",D4-C4)
C5: =IF(A5="","",VLOOKUP(A5,DONNÉES!A7:C503,3,0)) | D5: =IF(A5="","",VLOOKUP(A5,DONNÉES!$A$4:$D$500,4)) | E5: =IF(A5="","",(D5-C5)/C5) | F5: =IF(A5="","",D5-C5)
C6: =IF(A6="","",VLOOKUP(A6,DONNÉES!A8:C504,3,0)) | D6: =IF(A6="","",VLOOKUP(A6,DONNÉES!$A$4:$D$500,4)) | E6: =IF(A6="","",(D6-C6)/C6) | F6: =IF(A6="","",D6-C6)
C7: =IF(A7="","",VLOOKUP(A7,DONNÉES!A9:C505,3,0)) | D7: =IF(A7="","",VLOOKUP(A7,DONNÉES!$A$4:$D$500,4)) | E7: =IF(A7="","",(D7-C7)/C7) | F7: =IF(A7="","",D7-C7)
C8: =IF(A8="","",VLOOKUP(A8,DONNÉES!A10:C506,3,0)) | D8: =IF(A8="","",VLOOKUP(A8,DONNÉES!$A$4:$D$500,4)) | E8: =IF(A8="","",(D8-C8)/C8) | F8: =IF(A8="","",D8-C8)
C9: =IF(A9="","",VLOOKUP(A9,DONNÉES!A11:C507,3,0)) | D9: =IF(A9="","",VLOOKUP(A9,DONNÉES!$A$4:$D$500,4)) | E9: =IF(A9="","",(D9-C9)/C9) | F9: =IF(A9="","",D9-C9)
C10: =IF(A10="","",VLOOKUP(A10,DONNÉES!A12:C508,3,0)) | D10: =IF(A10="","",VLOOKUP(A10,DONNÉES!$A$4:$D$500,4)) | E10: =IF(A10="","",(D10-C10)/C10) | F10: =IF(A10="","",D10-C10)
C11: =IF(A11="","",VLOOKUP(A11,DONNÉES!A13:C509,3,0)) | D11: =IF(A11="","",VLOOKUP(A11,DONNÉES!$A$4:$D$500,4)) | E11: =IF(A11="","",(D11-C11)/C11) | F11: =IF(A11="","",D11-C11)
D15: Voir les formules colonnes C D E F

Sheet DONNÉES
A3: NOMBRE | B3: DURÉE | C3: PRIX ACHAT | D3: PRIX DE VENTE | E3: MARGE | F3: MONTANT MARGE
A4: 1 | B4: 12 MOIS | C4: 129.71 | D4: 221.7 | E4: =(D4-C4)/C4 -> 0.70919744 | F4: =D4-C4 -> 91.99
A5: 2 | B5: 12 MOIS | C5: =A5*129.71 -> 259.42 | D5: =A5*221.7 -> 443.4 | E5: =(D5-C5)/C5 -> 0.70919744 | F5: =D5-C5 -> 183.98
A6: 3 | B6: 12 MOIS | C6: =A6*129.71 -> 389.13 | D6: =A6*221.7 -> 665.1 | E6: =(D6-C6)/C6 -> 0.70919744 | F6: =D6-C6 -> 275.97
A7: 4 | B7: 12 MOIS | C7: =A7*129.71 -> 518.84 | D7: =A7*221.7 -> 886.8 | E7: =(D7-C7)/C7 -> 0.70919744 | F7: =D7-C7 -> 367.96
A8: 5 | B8: 12 MOIS | C8: =A8*129.71 -> 648.55 | D8: =A8*221.7 -> 1108.5 | E8: =(D8-C8)/C8 -> 0.70919744 | F8: =D8-C8 -> 459.95
A9: 6 | B9: 12 MOIS | C9: =A9*129.71 -> 778.26 | D9: =A9*221.7 -> 1330.2 | E9: =(D9-C9)/C9 -> 0.70919744 | F9: =D9-C9 -> 551.94
A10: 7 | B10: 12 MOIS | C10: =A10*129.71 -> 907.97 | D10: =A10*221.7 -> 1551.9 | E10: =(D10-C10)/C10 -> 0.70919744 | F10: =D10-C10 -> 643.93
A11: 8 | B11: 12 MOIS | C11: =A11*129.71 -> 1037.68 | D11: =A11*221.7 -> 1773.6 | E11: =(D11-C11)/C11 -> 0.70919744 | F11: =D11-C11 -> 735.92
A12: 9 | B12: 12 MOIS | C12: =A12*129.71 -> 1167.39 | D12: =A12*221.7 -> 1995.3 | E12: =(D12-C12)/C12 -> 0.70919744 | F12: =D12-C12 -> 827.91
A13: 10 | B13: 12 MOIS | C13: =A13*129.71 -> 1297.1 | D13: =A13*221.7 -> 2217 | E13: =(D13-C13)/C13 -> 0.70919744 | F13: =D13-C13 -> 919.9
A14: 11 | B14: 12 MOIS | C14: =A14*129.71 -> 1426.81 | D14: =A14*221.7 -> 2438.7 | E14: =(D14-C14)/C14 -> 0.70919744 | F14: =D14-C14 -> 1011.89
A15: 12 | B15: 12 MOIS | C15: =A15*129.71 -> 1556.52 | D15: =A15*221.7 -> 2660.4 | E15: =(D15-C15)/C15 -> 0.70919744 | F15: =D15-C15 -> 1103.88
A16: 13 | B16: 12 MOIS | C16: =A16*129.71 -> 1686.23 | D16: =A16*221.7 -> 2882.1 | E16: =(D16-C16)/C16 -> 0.70919744 | F16: =D16-C16 -> 1195.87
... A103: 100 | B103: 12 MOIS | C103: =A103*129.71 -> 12971 | D103: =A103*221.7 -> 22170 | E103: =(D103-C103)/C103 -> 0.70919744 | F103: =D103-C103 -> 9199
A104: 1 | B104: 24 MOIS | C104: 259.42 | D104: 443.4 | E104: =(D104-C104)/C104 -> 0.70919744 | F104: =D104-C104 -> 183.98
A105: 2 | B105: 24 MOIS | C105: =A105*259.42 -> 518.84 | D105: =A105*443.4 -> 886.8 | E105: =(D105-C105)/C105 -> 0.70919744 | F105: =D105-C105 -> 367.96
A106: 3 | B106: 24 MOIS | C106: =A106*259.42 -> 778.26 | D106: =A106*443.4 -> 1330.2 | E106: =(D106-C106)/C106 -> 0.70919744 | F106: =D106-C106 -> 551.94
A107: 4 | B107: 24 MOIS | C107: =A107*259.42 -> 1037.68 | D107: =A107*443.4 -> 1773.6 | E107: =(D107-C107)/C107 -> 0.70919744 | F107: =D107-C107 -> 735.92
A108: 5 | B108: 24 MOIS | C108: =A108*259.42 -> 1297.1 | D108: =A108*443.4 -> 2217 | E108: =(D108-C108)/C108 -> 0.70919744 | F108: =D108-C108 -> 919.9
A109: 6 | B109: 24 MOIS | C109: =A109*259.42 -> 1556.52 | D109: =A109*443.4 -> 2660.4 | E109: =(D109-C109)/C109 -> 0.70919744 | F109: =D109-C109 -> 1103.88
A110: 7 | B110: 24 MOIS | C110: =A110*259.42 -> 1815.94 | D110: =A110*443.4 -> 3103.8 | E110: =(D110-C110)/C110 -> 0.70919744 | F110: =D110-C110 -> 1287.86
A111: 8 | B111: 24 MOIS | C111: =A111*259.42 -> 2075.36 | D111: =A111*443.4 -> 3547.2 | E111: =(D111-C111)/C111 -> 0.70919744 | F111: =D111-C111 -> 1471.84
A112: 9 | B112: 24 MOIS | C112: =A112*259.42 -> 2334.78 | D112: =A112*443.4 -> 3990.6 | E112: =(D112-C112)/C112 -> 0.70919744 | F112: =D112-C112 -> 1655.82
A113: 10 | B113: 24 MOIS | C113: =A113*259.42 -> 2594.2 | D113: =A113*443.4 -> 4434 | E113: =(D113-C113)/C113 -> 0.70919744 | F113: =D113-C113 -> 1839.8
A114: 11 | B114: 24 MOIS | C114: =A114*259.42 -> 2853.62 | D114: =A114*443.4 -> 4877.4 | E114: =(D114-C114)/C114 -> 0.70919744 | F114: =D114-C114 -> 2023.78
A115: 12 | B115: 24 MOIS | C115: =A115*259.42 -> 3113.04 | D115: =A115*443.4 -> 5320.8 | E115: =(D115-C115)/C115 -> 0.70919744 | F115: =D115-C115 -> 2207.76
A116: 13 | B116: 24 MOIS | C116: =A116*259.42 -> 3372.46 | D116: =A116*443.4 -> 5764.2 | E116: =(D116-C116)/C116 -> 0.70919744 | F116: =D116-C116 -> 2391.74
... A203: 100 | B203: 24 MOIS | C203: =A203*259.42 -> 25942 | D203: =A203*443.4 -> 44340 | E203: =(D203-C203)/C203 -> 0.70919744 | F203: =D203-C203 -> 18398
A204: 1 | B204: 36 MOIS | C204: 389.13 | D204: 665.1 | E204: =(D204-C204)/C204 -> 0.70919744 | F204: =D204-C204 -> 275.97
A205: 2 | B205: 36 MOIS | C205: =A205*389.13 -> 778.26 | D205: =A205*665.1 -> 1330.2 | E205: =(D205-C205)/C205 -> 0.70919744 | F205: =D205-C205 -> 551.94
A206: 3 | B206: 36 MOIS | C206: =A206*389.13 -> 1167.39 | D206: =A206*665.1 -> 1995.3 | E206: =(D206-C206)/C206 -> 0.70919744 | F206: =D206-C206 -> 827.91
A207: 4 | B207: 36 MOIS | C207: =A207*389.13 -> 1556.52 | D207: =A207*665.1 -> 2660.4 | E207: =(D207-C207)/C207 -> 0.70919744 | F207: =D207-C207 -> 1103.88
A208: 5 | B208: 36 MOIS | C208: =A208*389.13 -> 1945.65 | D208: =A208*665.1 -> 3325.5 | E208: =(D208-C208)/C208 -> 0.70919744 | F208: =D208-C208 -> 1379.85
A209: 6 | B209: 36 MOIS | C209: =A209*389.13 -> 2334.78 | D209: =A209*665.1 -> 3990.6 | E209: =(D209-C209)/C209 -> 0.70919744 | F209: =D209-C209 -> 1655.82
A210: 7 | B210: 36 MOIS | C210: =A210*389.13 -> 2723.91 | D210: =A210*665.1 -> 4655.7 | E210: =(D210-C210)/C210 -> 0.70919744 | F210: =D210-C210 -> 1931.79
A211: 8 | B211: 36 MOIS | C211: =A211*389.13 -> 3113.04 | D211: =A211*665.1 -> 5320.8 | E211: =(D211-C211)/C211 -> 0.70919744 | F211: =D211-C211 -> 2207.76
A212: 9 | B212: 36 MOIS | C212: =A212*389.13 -> 3502.17 | D212: =A212*665.1 -> 5985.9 | E212: =(D212-C212)/C212 -> 0.70919744 | F212: =D212-C212 -> 2483.73
A213: 10 | B213: 36 MOIS | C213: =A213*389.13 -> 3891.3 | D213: =A213*665.1 -> 6651 | E213: =(D213-C213)/C213 -> 0.70919744 | F213: =D213-C213 -> 2759.7
A214: 11 | B214: 36 MOIS | C214: =A214*389.13 -> 4280.43 | D214: =A214*665.1 -> 7316.1 | E214: =(D214-C214)/C214 -> 0.70919744 | F214: =D214-C214 -> 3035.67
...
