Workbook
Name Article: 'BASE ARTICLE'!$B$6:$B$1000

Sheet BASE ARTICLE
B5: DESIGNATION | C5: MARQUE | D5: REFERENCE | E5: PU
B6: MONITEUR 15,6'' | C6: BLACKMAGIC | D6: SMARTVIEW 4K | E6: 100
B7: MONITEUR 24'' | C7: IIYAMA | D7: XUB2492HSU-B1 | E7: 200
B8: MONITEUR 24'' 4K | C8: SAMSUNG | D8: LS27A800UJU | E8: 1300
B9: MONITEUR 32" | C9: SAMSUNG | D9: DC32E | E9: 400
B10: MONITEUR 43" | C10: SAMSUNG | D10: QB43R | E10: 500
B11: MONITEUR 49'' | C11: LG | D11: 49UH5F | E11: 1200
B12: MONITEUR 75'' | C12: SAMSUNG | D12: SAMSUNG DM75 | E12: 900
B13: MONITEURS 55'' | C13: LG | D13: ABCDE | E13: 1000
B14: MONTEURS 65'' | C14: LG | D14: 123456 | E14: 1100

Sheet SALLE 1
B2: SALLE 1
B5: DESIGNATION | C5: MARQUE | D5: REFERENCE | E5: PU
B8: article | C8: sa marque | D8: sa référence | E8: son prix
B9: MONITEUR 15,6'' | C9: =IFERROR(VLOOKUP(B9,'BASE ARTICLE'!B6:E1000,2,0),"") -> BLACKMAGIC | D9: =IFERROR(VLOOKUP(B9,'BASE ARTICLE'!$B$6:$F$1000,3,0),"") -> SMARTVIEW 4K | E9: =IFERROR(VLOOKUP(B9,'BASE ARTICLE'!$B$6:$F$1000,4,0),"") -> 100
C10: =IFERROR(VLOOKUP(B10,'BASE ARTICLE'!B7:E1001,2,0),"") | D10: =IFERROR(VLOOKUP(B10,'BASE ARTICLE'!$B$6:$F$1000,3,0),"") | E10: =IFERROR(VLOOKUP(B10,'BASE ARTICLE'!$B$6:$F$1000,4,0),"")
C11: =IFERROR(VLOOKUP(B11,'BASE ARTICLE'!B8:E1002,2,0),"") | D11: =IFERROR(VLOOKUP(B11,'BASE ARTICLE'!$B$6:$F$1000,3,0),"") | E11: =IFERROR(VLOOKUP(B11,'BASE ARTICLE'!$B$6:$F$1000,4,0),"")
C12: =IFERROR(VLOOKUP(B12,'BASE ARTICLE'!B9:E1003,2,0),"") | D12: =IFERROR(VLOOKUP(B12,'BASE ARTICLE'!$B$6:$F$1000,3,0),"") | E12: =IFERROR(VLOOKUP(B12,'BASE ARTICLE'!$B$6:$F$1000,4,0),"")
C13: =IFERROR(VLOOKUP(B13,'BASE ARTICLE'!B10:E1004,2,0),"") | D13: =IFERROR(VLOOKUP(B13,'BASE ARTICLE'!$B$6:$F$1000,3,0),"") | E13: =IFERROR(VLOOKUP(B13,'BASE ARTICLE'!$B$6:$F$1000,4,0),"")
C14: =IFERROR(VLOOKUP(B14,'BASE ARTICLE'!B11:E1005,2,0),"") | D14: =IFERROR(VLOOKUP(B14,'BASE ARTICLE'!$B$6:$F$1000,3,0),"") | E14: =IFERROR(VLOOKUP(B14,'BASE ARTICLE'!$B$6:$F$1000,4,0),"")
C15: =IFERROR(VLOOKUP(B15,'BASE ARTICLE'!B12:E1006,2,0),"") | D15: =IFERROR(VLOOKUP(B15,'BASE ARTICLE'!$B$6:$F$1000,3,0),"") | E15: =IFERROR(VLOOKUP(B15,'BASE ARTICLE'!$B$6:$F$1000,4,0),"")
C16: =IFERROR(VLOOKUP(B16,'BASE ARTICLE'!B13:E1007,2,0),"") | D16: =IFERROR(VLOOKUP(B16,'BASE ARTICLE'!$B$6:$F$1000,3,0),"") | E16: =IFERROR(VLOOKUP(B16,'BASE ARTICLE'!$B$6:$F$1000,4,0),"")
C17: =IFERROR(VLOOKUP(B17,'BASE ARTICLE'!B14:E1008,2,0),"") | D17: =IFERROR(VLOOKUP(B17,'BASE ARTICLE'!$B$6:$F$1000,3,0),"") | E17: =IFERROR(VLOOKUP(B17,'BASE ARTICLE'!$B$6:$F$1000,4,0),"")
C18: =IFERROR(VLOOKUP(B18,'BASE ARTICLE'!B15:E1009,2,0),"") | D18: =IFERROR(VLOOKUP(B18,'BASE ARTICLE'!$B$6:$F$1000,3,0),"") | E18: =IFERROR(VLOOKUP(B18,'BASE ARTICLE'!$B$6:$F$1000,4,0),"")
C19: =IFERROR(VLOOKUP(B19,'BASE ARTICLE'!B16:E1010,2,0),"") | D19: =IFERROR(VLOOKUP(B19,'BASE ARTICLE'!$B$6:$F$1000,3,0),"") | E19: =IFERROR(VLOOKUP(B19,'BASE ARTICLE'!$B$6:$F$1000,4,0),"")
C20: =IFERROR(VLOOKUP(B20,'BASE ARTICLE'!B17:E1011,2,0),"") | D20: =IFERROR(VLOOKUP(B20,'BASE ARTICLE'!$B$6:$F$1000,3,0),"") | E20: =IFERROR(VLOOKUP(B20,'BASE ARTICLE'!$B$6:$F$1000,4,0),"")
C21: =IFERROR(VLOOKUP(B21,'BASE ARTICLE'!B18:E1012,2,0),"") | D21: =IFERROR(VLOOKUP(B21,'BASE ARTICLE'!$B$6:$F$1000,3,0),"") | E21: =IFERROR(VLOOKUP(B21,'BASE ARTICLE'!$B$6:$F$1000,4,0),"")
... C30: =IFERROR(VLOOKUP(B30,'BASE ARTICLE'!B27:E1021,2,0),"") | D30: =IFERROR(VLOOKUP(B30,'BASE ARTICLE'!$B$6:$F$1000,3,0),"") | E30: =IFERROR(VLOOKUP(B30,'BASE ARTICLE'!$B$6:$F$1000,4,0),"")

Sheet SALLE 2
B2: SALLE 2
B5: DESIGNATION | C5: MARQUE | D5: REFERENCE | E5: PU
B8: article | C8: sa marque | D8: sa référence | E8: son prix
