Workbook
Name liste: Data!$A$2:$A$120

Sheet Data
A1: Noms&Prénoms | B1: Noms | C1: Prenoms | D1: N° de facture | E1: Date d'émission | F1: Ressources | G1: Taux
A2: =_xlfn.CONCAT(B2, " ", C2) -> Dupont Albert | B2: Dupont | C2: Albert | D2: 13854 | E2: 44542 | F2: 1500 | G2: 0.1
A3: =_xlfn.CONCAT(B3, " ", C3) -> Dubois jean | B3: Dubois | C3: jean | D3: 25478 | E3: 43591 | F3: 1000 | G3: 0.2
A4: =_xlfn.CONCAT(B4, " ", C4)
A5: =_xlfn.CONCAT(B5, " ", C5) | J5: A | K5: TR | L5: 547 | M5: 44206 | N5: 500 | O5: 0.1
A6: =_xlfn.CONCAT(B6, " ", C6) | J6: B | K6: CA | L6: 548 | M6: 44207 | N6: 1000 | O6: 0.2
A7: =_xlfn.CONCAT(B7, " ", C7) | J7: ...
A8: =_xlfn.CONCAT(B8, " ", C8) | J8: A | K8: TR | L8: 648 | M8: 44236 | N8: 800 | O8: 0.2
A9: =_xlfn.CONCAT(B9, " ", C9) | J9: B | K9: CA | L9: 649 | M9: 44237 | N9: 1100 | O9: 10
A10: =_xlfn.CONCAT(B10, " ", C10)
A11: =_xlfn.CONCAT(B11, " ", C11)
A12: =_xlfn.CONCAT(B12, " ", C12)
A13: =_xlfn.CONCAT(B13, " ", C13)
A14: =_xlfn.CONCAT(B14, " ", C14)
A15: =_xlfn.CONCAT(B15, " ", C15)
A16: =_xlfn.CONCAT(B16, " ", C16)
A17: =B17 & C17
A18: =B18 & C18
A19: =B19 & C19
A20: =B20 & C20
A21: =B21 & C21
A22: =B22 & C22
A23: =B23 & C23
A24: =B24 & C24
A25: =B25 & C25

Sheet Recherche
C5: Nom & prénom | E5: Nom | G5: Prénom
C7: Dupont Albert | E7: =VLOOKUP(C7,Data!A2:G200,2,0) -> Dupont | G7: =VLOOKUP(C7,Data!A2:H200,3,0) -> Albert
C12: N° de facture | E12: Date d'émission | G12: Ressources
C14: =VLOOKUP(C7,Data!A2:G300,4,0) -> 13854 | E14: =VLOOKUP(C7,Data!A2:G12,5,0) -> 44542 | G14: =VLOOKUP(C7,Data!A2:G300,6,0) -> 1500
E18: Taux
E20: =VLOOKUP(C7,Data!A2:G300,7,0) -> 0.1
