Workbook

Sheet Member
A1: ID Member | B1: Prenon | C1: Nom | D1: Sexe | E1: Age | F1: XX | G1: ZZ
A2: 1 | B2: luc | C2: dupont | D2: m | E2: 28 | F2: aze | G2: tre
A3: 2 | B3: marc | C3: durand | D3: m | E3: 27 | F3: rez | G3: poi
A4: 3 | B4: polo | C4: dubois | D4: m | E4: 29 | F4: gre | G4: vde

Sheet Epreuve
A1: ID Member | B1: Prénom | C1: Nom | D1: XX | E1: ZZ
A2: 1 | B2: =IFERROR(VLOOKUP(Tableau3[[#This Row],[ID Member]],Member!$A$2:$G$16,2,0),"") -> luc | C2: =IFERROR(VLOOKUP(Tableau3[[#This Row],[ID Member]],Member!$A$2:$G$16,3,0),"") -> dupont | D2: =IFERROR(VLOOKUP(Tableau3[[#This Row],[ID Member]],Member!$A$2:$G$16,6,0),"") -> aze | E2: =IFERROR(VLOOKUP(Tableau3[[#This Row],[ID Member]],Member!$A$2:$G$16,7,0),"") -> tre
A3: 2 | B3: =IFERROR(VLOOKUP(Tableau3[[#This Row],[ID Member]],Member!$A$2:$G$16,2,0),"") -> marc | C3: =IFERROR(VLOOKUP(Tableau3[[#This Row],[ID Member]],Member!$A$2:$G$16,3,0),"") -> durand | D3: =IFERROR(VLOOKUP(Tableau3[[#This Row],[ID Member]],Member!$A$2:$G$16,6,0),"") -> rez | E3: =IFERROR(VLOOKUP(Tableau3[[#This Row],[ID Member]],Member!$A$2:$G$16,7,0),"") -> poi
A4: 3 | B4: =IFERROR(VLOOKUP(Tableau3[[#This Row],[ID Member]],Member!$A$2:$G$16,2,0),"") -> polo | C4: =IFERROR(VLOOKUP(Tableau3[[#This Row],[ID Member]],Member!$A$2:$G$16,3,0),"") -> dubois | D4: =IFERROR(VLOOKUP(Tableau3[[#This Row],[ID Member]],Member!$A$2:$G$16,6,0),"") -> gre | E4: =IFERROR(VLOOKUP(Tableau3[[#This Row],[ID Member]],Member!$A$2:$G$16,7,0),"") -> vde
A5: 4 | B5: =IFERROR(VLOOKUP(Tableau3[[#This Row],[ID Member]],Member!$A$2:$G$16,2,0),"") | C5: =IFERROR(VLOOKUP(Tableau3[[#This Row],[ID Member]],Member!$A$2:$G$16,3,0),"") | D5: =IFERROR(VLOOKUP(Tableau3[[#This Row],[ID Member]],Member!$A$2:$G$16,6,0),"") | E5: =IFERROR(VLOOKUP(Tableau3[[#This Row],[ID Member]],Member!$A$2:$G$16,7,0),"")
A6: 5 | B6: =IFERROR(VLOOKUP(Tableau3[[#This Row],[ID Member]],Member!$A$2:$G$16,2,0),"") | C6: =IFERROR(VLOOKUP(Tableau3[[#This Row],[ID Member]],Member!$A$2:$G$16,3,0),"") | D6: =IFERROR(VLOOKUP(Tableau3[[#This Row],[ID Member]],Member!$A$2:$G$16,6,0),"") | E6: =IFERROR(VLOOKUP(Tableau3[[#This Row],[ID Member]],Member!$A$2:$G$16,7,0),"")
A7: 6 | B7: =IFERROR(VLOOKUP(Tableau3[[#This Row],[ID Member]],Member!$A$2:$G$16,2,0),"") | C7: =IFERROR(VLOOKUP(Tableau3[[#This Row],[ID Member]],Member!$A$2:$G$16,3,0),"") | D7: =IFERROR(VLOOKUP(Tableau3[[#This Row],[ID Member]],Member!$A$2:$G$16,6,0),"") | E7: =IFERROR(VLOOKUP(Tableau3[[#This Row],[ID Member]],Member!$A$2:$G$16,7,0),"")
A8: 7 | B8: =IFERROR(VLOOKUP(Tableau3[[#This Row],[ID Member]],Member!$A$2:$G$16,2,0),"") | C8: =IFERROR(VLOOKUP(Tableau3[[#This Row],[ID Member]],Member!$A$2:$G$16,3,0),"") | D8: =IFERROR(VLOOKUP(Tableau3[[#This Row],[ID Member]],Member!$A$2:$G$16,6,0),"") | E8: =IFERROR(VLOOKUP(Tableau3[[#This Row],[ID Member]],Member!$A$2:$G$16,7,0),"")
A9: 8 | B9: =IFERROR(VLOOKUP(Tableau3[[#This Row],[ID Member]],Member!$A$2:$G$16,2,0),"") | C9: =IFERROR(VLOOKUP(Tableau3[[#This Row],[ID Member]],Member!$A$2:$G$16,3,0),"") | D9: =IFERROR(VLOOKUP(Tableau3[[#This Row],[ID Member]],Member!$A$2:$G$16,6,0),"") | E9: =IFERROR(VLOOKUP(Tableau3[[#This Row],[ID Member]],Member!$A$2:$G$16,7,0),"")
A10: 9 | B10: =IFERROR(VLOOKUP(Tableau3[[#This Row],[ID Member]],Member!$A$2:$G$16,2,0),"") | C10: =IFERROR(VLOOKUP(Tableau3[[#This Row],[ID Member]],Member!$A$2:$G$16,3,0),"") | D10: =IFERROR(VLOOKUP(Tableau3[[#This Row],[ID Member]],Member!$A$2:$G$16,6,0),"") | E10: =IFERROR(VLOOKUP(Tableau3[[#This Row],[ID Member]],Member!$A$2:$G$16,7,0),"")
A11: 10 | B11: =IFERROR(VLOOKUP(Tableau3[[#This Row],[ID Member]],Member!$A$2:$G$16,2,0),"") | C11: =IFERROR(VLOOKUP(Tableau3[[#This Row],[ID Member]],Member!$A$2:$G$16,3,0),"") | D11: =IFERROR(VLOOKUP(Tableau3[[#This Row],[ID Member]],Member!$A$2:$G$16,6,0),"") | E11: =IFERROR(VLOOKUP(Tableau3[[#This Row],[ID Member]],Member!$A$2:$G$16,7,0),"")
A12: 11 | B12: =IFERROR(VLOOKUP(Tableau3[[#This Row],[ID Member]],Member!$A$2:$G$16,2,0),"") | C12: =IFERROR(VLOOKUP(Tableau3[[#This Row],[ID Member]],Member!$A$2:$G$16,3,0),"") | D12: =IFERROR(VLOOKUP(Tableau3[[#This Row],[ID Member]],Member!$A$2:$G$16,6,0),"") | E12: =IFERROR(VLOOKUP(Tableau3[[#This Row],[ID Member]],Member!$A$2:$G$16,7,0),"")
A13: 12 | B13: =IFERROR(VLOOKUP(Tableau3[[#This Row],[ID Member]],Member!$A$2:$G$16,2,0),"") | C13: =IFERROR(VLOOKUP(Tableau3[[#This Row],[ID Member]],Member!$A$2:$G$16,3,0),"") | D13: =IFERROR(VLOOKUP(Tableau3[[#This Row],[ID Member]],Member!$A$2:$G$16,6,0),"") | E13: =IFERROR(VLOOKUP(Tableau3[[#This Row],[ID Member]],Member!$A$2:$G$16,7,0),"")
... A23: 22 | B23: =IFERROR(VLOOKUP(Tableau3[[#This Row],[ID Member]],Member!$A$2:$G$16,2,0),"") | C23: =IFERROR(VLOOKUP(Tableau3[[#This Row],[ID Member]],Member!$A$2:$G$16,3,0),"") | D23: =IFERROR(VLOOKUP(Tableau3[[#This Row],[ID Member]],Member!$A$2:$G$16,6,0),"") | E23: =IFERROR(VLOOKUP(Tableau3[[#This Row],[ID Member]],Member!$A$2:$G$16,7,0),"")
