Workbook
Name ChoixCPT: 'Ventilation par compte'!#REF!
Name Compte: SAISIE!$D$1:$D$287
Name COMPTES: 'N° des Comptes'!$F$1:$F$42

Sheet SAISIE
A1: Date | B1: Section | C1: Désignation de l'opération | D1: Compte | E1: B / L | F1: Règlement | G1: Relevé Banque | H1: Montant | K1: b CIN | L1: l CIN | M1: 421000 | N1: 431100 | O1: 437300 | P1: 437350 | Q1: 437400 | R1: 437800 | S1: 442100 | T1: 467010 | U1: 467020 | V1: 467030 | W1: 467050 | X1: 467080 | Y1: 467100 | Z1: 467110 | AA1: 467120 | AB1: 467130 | AC1: 467140 | AD1: 467180 | AE1: 467190 | AF1: 467220 | AG1: 471000 | AH1: 580000 | AI1: 606400 | AJ1: 615500 | AK1: 616000 | AL1: 618500 | AM1: 622600 | AN1: 625700 | AO1: 626000 | AP1: 626500 | AQ1: 627800 | AR1: 641100 | AS1: 645100 | AT1: 645300 | AU1: 645350 | AV1: 645400 | AW1: 645800 | AX1: 648000 | AY1: 791180 | AZ1: 791181 | BA1: 791240
A2: 43710 | B2: Comité directeur | C2: Virt du Cpte Livret | D2: 580000 | E2: b CIN | F2: Virement | G2: 1909 | I2: =D2&"_"&COUNTIF($D$1:D2,D2) -> 580000_1 | K2: =IF(SAISIE!$E2="b CIN",ROW(),"") -> 2 | L2: =IF(SAISIE!$E2="l CIN",ROW(),"") | M2: =IF(Compte=M$1,ROW(),"") | N2: =IF(Compte=N$1,ROW(),"") | O2: =IF(Compte=O$1,ROW(),"") | P2: =IF(Compte=P$1,ROW(),"") | Q2: =IF(Compte=Q$1,ROW(),"") | R2: =IF(Compte=R$1,ROW(),"") | S2: =IF(Compte=S$1,ROW(),"") | T2: =IF(Compte=T$1,ROW(),"") | ... BA2: =IF(Compte=BA$1,ROW(),"")
A3: 43710 | B3: Comité directeur | C3: Virt au Cpte Courant | D3: 580000 | E3: l CIN | F3: Virement | G3: 1909 | I3: =D3&"_"&COUNTIF($D$1:D3,D3) -> 580000_2 | K3: =IF(SAISIE!$E3="b CIN",ROW(),"") | L3: =IF(SAISIE!$E3="l CIN",ROW(),"") -> 3 | M3: =IF(Compte=M$1,ROW(),"") | N3: =IF(Compte=N$1,ROW(),"") | O3: =IF(Compte=O$1,ROW(),"") | P3: =IF(Compte=P$1,ROW(),"") | Q3: =IF(Compte=Q$1,ROW(),"") | R3: =IF(Compte=R$1,ROW(),"") | S3: =IF(Compte=S$1,ROW(),"") | T3: =IF(Compte=T$1,ROW(),"") | ... BA3: =IF(Compte=BA$1,ROW(),"")
A4: 43710 | B4: Athlétisme | C4: Subv 2018-2019 | D4: 467010 | E4: b CIN | F4: Virement | G4: 1909 | I4: =D4&"_"&COUNTIF($D$1:D4,D4) -> 467010_1 | K4: =IF(SAISIE!$E4="b CIN",ROW(),"") -> 4 | L4: =IF(SAISIE!$E4="l CIN",ROW(),"") | M4: =IF(Compte=M$1,ROW(),"") | N4: =IF(Compte=N$1,ROW(),"") | O4: =IF(Compte=O$1,ROW(),"") | P4: =IF(Compte=P$1,ROW(),"") | Q4: =IF(Compte=Q$1,ROW(),"") | R4: =IF(Compte=R$1,ROW(),"") | S4: =IF(Compte=S$1,ROW(),"") | T4: =IF(Compte=T$1,ROW(),"") -> 4 | ... BA4: =IF(Compte=BA$1,ROW(),"")
A5: 43711 | B5: Natation | C5: Rbt location minibus FACT 54 | D5: 791180 | E5: b CIN | F5: Virement | G5: 1909 | I5: =D5&"_"&COUNTIF($D$1:D5,D5) -> 791180_1 | K5: =IF(SAISIE!$E5="b CIN",ROW(),"") -> 5 | L5: =IF(SAISIE!$E5="l CIN",ROW(),"") | M5: =IF(Compte=M$1,ROW(),"") | N5: =IF(Compte=N$1,ROW(),"") | O5: =IF(Compte=O$1,ROW(),"") | P5: =IF(Compte=P$1,ROW(),"") | Q5: =IF(Compte=Q$1,ROW(),"") | R5: =IF(Compte=R$1,ROW(),"") | S5: =IF(Compte=S$1,ROW(),"") | T5: =IF(Compte=T$1,ROW(),"") | ... BA5: =IF(Compte=BA$1,ROW(),"")
A6: 43711 | B6: Natation | C6: Rbt location minibus FACT 50 | D6: 791180 | E6: b CIN | F6: Virement | G6: 1909 | I6: =D6&"_"&COUNTIF($D$1:D6,D6) -> 791180_2 | K6: =IF(SAISIE!$E6="b CIN",ROW(),"") -> 6 | L6: =IF(SAISIE!$E6="l CIN",ROW(),"") | M6: =IF(Compte=M$1,ROW(),"") | N6: =IF(Compte=N$1,ROW(),"") | O6: =IF(Compte=O$1,ROW(),"") | P6: =IF(Compte=P$1,ROW(),"") | Q6: =IF(Compte=Q$1,ROW(),"") | R6: =IF(Compte=R$1,ROW(),"") | S6: =IF(Compte=S$1,ROW(),"") | T6: =IF(Compte=T$1,ROW(),"") | ... BA6: =IF(Compte=BA$1,ROW(),"")
A7: 43711 | B7: Natation | C7: Rbt URSSAF 1èr trim | D7: 467100 | E7: b CIN | F7: Virement | G7: 1909 | I7: =D7&"_"&COUNTIF($D$1:D7,D7) -> 467100_1 | K7: =IF(SAISIE!$E7="b CIN",ROW(),"") -> 7 | L7: =IF(SAISIE!$E7="l CIN",ROW(),"") | M7: =IF(Compte=M$1,ROW(),"") | N7: =IF(Compte=N$1,ROW(),"") | O7: =IF(Compte=O$1,ROW(),"") | P7: =IF(Compte=P$1,ROW(),"") | Q7: =IF(Compte=Q$1,ROW(),"") | R7: =IF(Compte=R$1,ROW(),"") | S7: =IF(Compte=S$1,ROW(),"") | T7: =IF(Compte=T$1,ROW(),"") | ... BA7: =IF(Compte=BA$1,ROW(),"")
A8: 43711 | B8: Natation | C8: Rbt Pole Emploi 1er trim | D8: 467110 | E8: b CIN | F8: Virement | G8: 1909 | I8: =D8&"_"&COUNTIF($D$1:D8,D8) -> 467110_1 | K8: =IF(SAISIE!$E8="b CIN",ROW(),"") -> 8 | L8: =IF(SAISIE!$E8="l CIN",ROW(),"") | M8: =IF(Compte=M$1,ROW(),"") | N8: =IF(Compte=N$1,ROW(),"") | O8: =IF(Compte=O$1,ROW(),"") | P8: =IF(Compte=P$1,ROW(),"") | Q8: =IF(Compte=Q$1,ROW(),"") | R8: =IF(Compte=R$1,ROW(),"") | S8: =IF(Compte=S$1,ROW(),"") | T8: =IF(Compte=T$1,ROW(),"") | ... BA8: =IF(Compte=BA$1,ROW(),"")
A9: 43711 | B9: Natation | C9: Rbt Humanis 1er trim | D9: 467120 | E9: b CIN | F9: Virement | G9: 1909 | I9: =D9&"_"&COUNTIF($D$1:D9,D9) -> 467120_1 | K9: =IF(SAISIE!$E9="b CIN",ROW(),"") -> 9 | L9: =IF(SAISIE!$E9="l CIN",ROW(),"") | M9: =IF(Compte=M$1,ROW(),"") | N9: =IF(Compte=N$1,ROW(),"") | O9: =IF(Compte=O$1,ROW(),"") | P9: =IF(Compte=P$1,ROW(),"") | Q9: =IF(Compte=Q$1,ROW(),"") | R9: =IF(Compte=R$1,ROW(),"") | S9: =IF(Compte=S$1,ROW(),"") | T9: =IF(Compte=T$1,ROW(),"") | ... BA9: =IF(Compte=BA$1,ROW(),"")
A10: 43711 | B10: Natation | C10: Rbt location minibus FACT 43 | D10: 791180 | E10: b CIN | F10: Virement | G10: 1909 | I10: =D10&"_"&COUNTIF($D$1:D10,D10) -> 791180_3 | K10: =IF(SAISIE!$E10="b CIN",ROW(),"") -> 10 | L10: =IF(SAISIE!$E10="l CIN",ROW(),"") | M10: =IF(Compte=M$1,ROW(),"") | N10: =IF(Compte=N$1,ROW(),"") | O10: =IF(Compte=O$1,ROW(),"") | P10: =IF(Compte=P$1,ROW(),"") | Q10: =IF(Compte=Q$1,ROW(),"") | R10: =IF(Compte=R$1,ROW(),"") | S10: =IF(Compte=S$1,ROW(),"") | T10: =IF(Compte=T$1,ROW(),"") | ... BA10: =IF(Compte=BA$1,ROW(),"")
A11: 43711 | B11: Natation | C11: Rbt URSSAF 2è trim | D11: 467100 | E11: b CIN | F11: Virement | G11: 1909 | I11: =D11&"_"&COUNTIF($D$1:D11,D11) -> 467100_2 | K11: =IF(SAISIE!$E11="b CIN",ROW(),"") -> 11 | L11: =IF(SAISIE!$E11="l CIN",ROW(),"") | M11: =IF(Compte=M$1,ROW(),"") | N11: =IF(Compte=N$1,ROW(),"") | O11: =IF(Compte=O$1,ROW(),"") | P11: =IF(Compte=P$1,ROW(),"") | Q11: =IF(Compte=Q$1,ROW(),"") | R11: =IF(Compte=R$1,ROW(),"") | S11: =IF(Compte=S$1,ROW(),"") | T11: =IF(Compte=T$1,ROW(),"") | ... BA11: =IF(Compte=BA$1,ROW(),"")
A12: 43711 | B12: Natation | C12: Rbt Pole Emploi 2è trim | D12: 467110 | E12: b CIN | F12: Virement | G12: 1909 | I12: =D12&"_"&COUNTIF($D$1:D12,D12) -> 467110_2 | K12: =IF(SAISIE!$E12="b CIN",ROW(),"") -> 12 | L12: =IF(SAISIE!$E12="l CIN",ROW(),"") | M12: =IF(Compte=M$1,ROW(),"") | N12: =IF(Compte=N$1,ROW(),"") | O12: =IF(Compte=O$1,ROW(),"") | P12: =IF(Compte=P$1,ROW(),"") | Q12: =IF(Compte=Q$1,ROW(),"") | R12: =IF(Compte=R$1,ROW(),"") | S12: =IF(Compte=S$1,ROW(),"") | T12: =IF(Compte=T$1,ROW(),"") | ... BA12: =IF(Compte=BA$1,ROW(),"")
A13: 43711 | B13: Natation | C13: Rbt Humanis 2è trim | D13: 467120 | E13: b CIN | F13: Virement | G13: 1909 | I13: =D13&"_"&COUNTIF($D$1:D13,D13) -> 467120_2 | K13: =IF(SAISIE!$E13="b CIN",ROW(),"") -> 13 | L13: =IF(SAISIE!$E13="l CIN",ROW(),"") | M13: =IF(Compte=M$1,ROW(),"") | N13: =IF(Compte=N$1,ROW(),"") | O13: =IF(Compte=O$1,ROW(),"") | P13: =IF(Compte=P$1,ROW(),"") | Q13: =IF(Compte=Q$1,ROW(),"") | R13: =IF(Compte=R$1,ROW(),"") | S13: =IF(Compte=S$1,ROW(),"") | T13: =IF(Compte=T$1,ROW(),"") | ... BA13: =IF(Compte=BA$1,ROW(),"")
... A27: 43720 | B27: Basket | C27: Subvention CNDS Emilie Basket | D27: 467080 | E27: b CIN | F27: Virement | G27: 1909 | I27: =D27&"_"&COUNTIF($D$1:D27,D27) -> 467080_1 | K27: =IF(SAISIE!$E27="b CIN",ROW(),"") -> 27 | L27: =IF(SAISIE!$E27="l CIN",ROW(),"") | M27: =IF(Compte=M$1,ROW(),"") | N27: =IF(Compte=N$1,ROW(),"") | O27: =IF(Compte=O$1,ROW(),"") | P27: =IF(Compte=P$1,ROW(),"") | Q27: =IF(Compte=Q$1,ROW(),"") | R27: =IF(Compte=R$1,ROW(),"") | S27: =IF(Compte=S$1,ROW(),"") | T27: =IF(Compte=T$1,ROW(),"") | ... BA27: =IF(Compte=BA$1,ROW(),"")
A28: 43720 | C28: ADREA Mutuelle | D28: 467180 | E28: b CIN | F28: Prélèvement | G28: 1909 | I28: =D28&"_"&COUNTIF($D$1:D28,D28) -> 467180_1 | K28: =IF(SAISIE!$E28="b CIN",ROW(),"") -> 28 | L28: =IF(SAISIE!$E28="l CIN",ROW(),"") | M28: =IF(Compte=M$1,ROW(),"") | N28: =IF(Compte=N$1,ROW(),"") | O28: =IF(Compte=O$1,ROW(),"") | P28: =IF(Compte=P$1,ROW(),"") | Q28: =IF(Compte=Q$1,ROW(),"") | R28: =IF(Compte=R$1,ROW(),"") | S28: =IF(Compte=S$1,ROW(),"") | T28: =IF(Compte=T$1,ROW(),"") | ... BA28: =IF(Compte=BA$1,ROW(),"")
A29: 43720 | B29: Comité directeur | C29: ADREA Mutuelle | D29: 437800 | E29: b CIN | F29: Prélèvement | G29: 1909 | I29: =D29&"_"&COUNTIF($D$1:D29,D29) -> 437800_1 | K29: =IF(SAISIE!$E29="b CIN",ROW(),"") -> 29 | L29: =IF(SAISIE!$E29="l CIN",ROW(),"") | M29: =IF(Compte=M$1,ROW(),"") | N29: =IF(Compte=N$1,ROW(),"") | O29: =IF(Compte=O$1,ROW(),"") | P29: =IF(Compte=P$1,ROW(),"") | Q29: =IF(Compte=Q$1,ROW(),"") | R29: =IF(Compte=R$1,ROW(),"") -> 29 | S29: =IF(Compte=S$1,ROW(),"") | T29: =IF(Compte=T$1,ROW(),"") | ... BA29: =IF(Compte=BA$1,ROW(),"")
A30: 43720 | B30: Comité directeur | C30: Arrondi ADREA Mutuelle | D30: 645800 | E30: b CIN | F30: Prélèvement | G30: 1909 | I30: =D30&"_"&COUNTIF($D$1:D30,D30) -> 645800_1 | K30: =IF(SAISIE!$E30="b CIN",ROW(),"") -> 30 | L30: =IF(SAISIE!$E30="l CIN",ROW(),"") | M30: =IF(Compte=M$1,ROW(),"") | N30: =IF(Compte=N$1,ROW(),"") | O30: =IF(Compte=O$1,ROW(),"") | P30: =IF(Compte=P$1,ROW(),"") | Q30: =IF(Compte=Q$1,ROW(),"") | R30: =IF(Compte=R$1,ROW(),"") | S30: =IF(Compte=S$1,ROW(),"") | T30: =IF(Compte=T$1,ROW(),"") | ... BA30: =IF(Compte=BA$1,ROW(),"")
A31: 43720 | B31: Comité directeur | C31: ENCRE MARKET : papeterie | D31: 606400 | E31: b CIN | F31: CB | G31: 1909 | I31: =D31&"_"&COUNTIF($D$1:D31,D31) -> 606400_1 | K31: =IF(SAISIE!$E31="b CIN",ROW(),"") -> 31 | L31: =IF(SAISIE!$E31="l CIN",ROW(),"") | M31: =IF(Compte=M$1,ROW(),"") | N31: =IF(Compte=N$1,ROW(),"") | O31: =IF(Compte=O$1,ROW(),"") | P31: =IF(Compte=P$1,ROW(),"") | Q31: =IF(Compte=Q$1,ROW(),"") | R31: =IF(Compte=R$1,ROW(),"") | S31: =IF(Compte=S$1,ROW(),"") | T31: =IF(Compte=T$1,ROW(),"") | ... BA31: =IF(Compte=BA$1,ROW(),"")
A32: 43724 | B32: Athlétisme | C32: Subv 2018-2019 | D32: 467010 | E32: b CIN | F32: Virement | G32: 1909 | I32: =D32&"_"&COUNTIF($D$1:D32,D32) -> 467010_5 | K32: =IF(SAISIE!$E32="b CIN",ROW(),"") -> 32 | L32: =IF(SAISIE!$E32="l CIN",ROW(),"") | M32: =IF(Compte=M$1,ROW(),"") | N32: =IF(Compte=N$1,ROW(),"") | O32: =IF(Compte=O$1,ROW(),"") | P32: =IF(Compte=P$1,ROW(),"") | Q32: =IF(Compte=Q$1,ROW(),"") | R32: =IF(Compte=R$1,ROW(),"") | S32: =IF(Compte=S$1,ROW(),"") | T32: =IF(Compte=T$1,ROW(),"") -> 32 | ... BA32: =IF(Compte=BA$1,ROW(),"")
A33: 43725 | C33: URSSAF 08 – 2019 | D33: 467100 | E33: b CIN | F33: Prélèvement | G33: 1909 | I33: =D33&"_"&COUNTIF($D$1:D33,D33) -> 467100_3 | K33: =IF(SAISIE!$E33="b CIN",ROW(),"") -> 33 | L33: =IF(SAISIE!$E33="l CIN",ROW(),"") | M33: =IF(Compte=M$1,ROW(),"") | N33: =IF(Compte=N$1,ROW(),"") | O33: =IF(Compte=O$1,ROW(),"") | P33: =IF(Compte=P$1,ROW(),"") | Q33: =IF(Compte=Q$1,ROW(),"") | R33: =IF(Compte=R$1,ROW(),"") | S33: =IF(Compte=S$1,ROW(),"") | T33: =IF(Compte=T$1,ROW(),"") | ... BA33: =IF(Compte=BA$1,ROW(),"")
A34: 43725 | B34: Comité directeur | C34: URSSAF 08 – 2019 | D34: 431100 | E34: b CIN | F34: Prélèvement | G34: 1909 | I34: =D34&"_"&COUNTIF($D$1:D34,D34) -> 431100_1 | K34: =IF(SAISIE!$E34="b CIN",ROW(),"") -> 34 | L34: =IF(SAISIE!$E34="l CIN",ROW(),"") | M34: =IF(Compte=M$1,ROW(),"") | N34: =IF(Compte=N$1,ROW(),"") -> 34 | O34: =IF(Compte=O$1,ROW(),"") | P34: =IF(Compte=P$1,ROW(),"") | Q34: =IF(Compte=Q$1,ROW(),"") | R34: =IF(Compte=R$1,ROW(),"") | S34: =IF(Compte=S$1,ROW(),"") | T34: =IF(Compte=T$1,ROW(),"") | ... BA34: =IF(Compte=BA$1,ROW(),"")
A35: 43725 | C35: Pole Emploi 08 – 2019 | D35: 467110 | E35: b CIN | F35: Prélèvement | G35: 1909 | I35: =D35&"_"&COUNTIF($D$1:D35,D35) -> 467110_3 | K35: =IF(SAISIE!$E35="b CIN",ROW(),"") -> 35 | L35: =IF(SAISIE!$E35="l CIN",ROW(),"") | M35: =IF(Compte=M$1,ROW(),"") | N35: =IF(Compte=N$1,ROW(),"") | O35: =IF(Compte=O$1,ROW(),"") | P35: =IF(Compte=P$1,ROW(),"") | Q35: =IF(Compte=Q$1,ROW(),"") | R35: =IF(Compte=R$1,ROW(),"") | S35: =IF(Compte=S$1,ROW(),"") | T35: =IF(Compte=T$1,ROW(),"") | ... BA35: =IF(Compte=BA$1,ROW(),"")
A36: 43725 | B36: Comité directeur | C36: Pole Emploi 08 – 2019 | D36: 437400 | E36: b CIN | F36: Prélèvement | G36: 1909 | I36: =D36&"_"&COUNTIF($D$1:D36,D36) -> 437400_1 | K36: =IF(SAISIE!$E36="b CIN",ROW(),"") -> 36 | L36: =IF(SAISIE!$E36="l CIN",ROW(),"") | M36: =IF(Compte=M$1,ROW(),"") | N36: =IF(Compte=N$1,ROW(),"") | O36: =IF(Compte=O$1,ROW(),"") | P36: =IF(Compte=P$1,ROW(),"") | Q36: =IF(Compte=Q$1,ROW(),"") -> 36 | R36: =IF(Compte=R$1,ROW(),"") | S36: =IF(Compte=S$1,ROW(),"") | T36: =IF(Compte=T$1,ROW(),"") | ... BA36: =IF(Compte=BA$1,ROW(),"")
A37: 43725 | B37: Comité directeur | C37: Arrondi URSSAF 08 – 2019 | D37: 645100 | E37: b CIN | F37: Prélèvement | G37: 1909 | I37: =D37&"_"&COUNTIF($D$1:D37,D37) -> 645100_1 | K37: =IF(SAISIE!$E37="b CIN",ROW(),"") -> 37 | L37: =IF(SAISIE!$E37="l CIN",ROW(),"") | M37: =IF(Compte=M$1,ROW(),"") | N37: =IF(Compte=N$1,ROW(),"") | O37: =IF(Compte=O$1,ROW(),"") | P37: =IF(Compte=P$1,ROW(),"") | Q37: =IF(Compte=Q$1,ROW(),"") | R37: =IF(Compte=R$1,ROW(),"") | S37: =IF(Compte=S$1,ROW(),"") | T37: =IF(Compte=T$1,ROW(),"") | ... BA37: =IF(Compte=BA$1,ROW(),"")
A38: 43725 | B38: Escrime | C38: Subv 2018-2019 | D38: 467010 | E38: b CIN | F38: Virement | G38: 1909 | I38: =D38&"_"&COUNTIF($D$1:D38,D38) -> 467010_6 | K38: =IF(SAISIE!$E38="b CIN",ROW(),"") -> 38 | L38: =IF(SAISIE!$E38="l CIN",ROW(),"") | M38: =IF(Compte=M$1,ROW(),"") | N38: =IF(Compte=N$1,ROW(),"") | O38: =IF(Compte=O$1,ROW(),"") | P38: =IF(Compte=P$1,ROW(),"") | Q38: =IF(Compte=Q$1,ROW(),"") | R38: =IF(Compte=R$1,ROW(),"") | S38: =IF(Compte=S$1,ROW(),"") | T38: =IF(Compte=T$1,ROW(),"") -> 38 | ... BA38: =IF(Compte=BA$1,ROW(),"")
A39: 43725 | B39: Comité directeur | C39: Virt du Cpte Livret | D39: 580000 | E39: b CIN | F39: Virement | G39: 1909 | I39: =D39&"_"&COUNTIF($D$1:D39,D39) -> 580000_5 | K39: =IF(SAISIE!$E39="b CIN",ROW(),"") -> 39 | L39: =IF(SAISIE!$E39="l CIN",ROW(),"") | M39: =IF(Compte=M$1,ROW(),"") | N39: =IF(Compte=N$1,ROW(),"") | O39: =IF(Compte=O$1,ROW(),"") | P39: =IF(Compte=P$1,ROW(),"") | Q39: =IF(Compte=Q$1,ROW(),"") | R39: =IF(Compte=R$1,ROW(),"") | S39: =IF(Compte=S$1,ROW(),"") | T39: =IF(Compte=T$1,ROW(),"") | ... BA39: =IF(Compte=BA$1,ROW(),"")
A40: 43725 | B40: Comité directeur | C40: Virt au Cpte Courant | D40: 580000 | E40: l CIN | F40: Virement | G40: 1909 | I40: =D40&"_"&COUNTIF($D$1:D40,D40) -> 580000_6 | K40: =IF(SAISIE!$E40="b CIN",ROW(),"") | L40: =IF(SAISIE!$E40="l CIN",ROW(),"") -> 40 | M40: =IF(Compte=M$1,ROW(),"") | N40: =IF(Compte=N$1,ROW(),"") | O40: =IF(Compte=O$1,ROW(),"") | P40: =IF(Compte=P$1,ROW(),"") | Q40: =IF(Compte=Q$1,ROW(),"") | R40: =IF(Compte=R$1,ROW(),"") | S40: =IF(Compte=S$1,ROW(),"") | T40: =IF(Compte=T$1,ROW(),"") | ... BA40: =IF(Compte=BA$1,ROW(),"")
A41: 43728 | B41: Badminton | C41: Rbt Chorum 2eme trim | D41: 467140 | E41: b CIN | F41: Virement | G41: 1909 | I41: =D41&"_"&COUNTIF($D$1:D41,D41) -> 467140_2 | K41: =IF(SAISIE!$E41="b CIN",ROW(),"") -> 41 | L41: =IF(SAISIE!$E41="l CIN",ROW(),"") | M41: =IF(Compte=M$1,ROW(),"") | N41: =IF(Compte=N$1,ROW(),"") | O41: =IF(Compte=O$1,ROW(),"") | P41: =IF(Compte=P$1,ROW(),"") | Q41: =IF(Compte=Q$1,ROW(),"") | R41: =IF(Compte=R$1,ROW(),"") | S41: =IF(Compte=S$1,ROW(),"") | T41: =IF(Compte=T$1,ROW(),"") | ... BA41: =IF(Compte=BA$1,ROW(),"")
A42: 43729 | B42: Natation | C42: Subv 2018-2019 | D42: 467010 | E42: b CIN | F42: Virement | G42: 1909 | I42: =D42&"_"&COUNTIF($D$1:D42,D42) -> 467010_7 | K42: =IF(SAISIE!$E42="b CIN",ROW(),"") -> 42 | L42: =IF(SAISIE!$E42="l CIN",ROW(),"") | M42: =IF(Compte=M$1,ROW(),"") | N42: =IF(Compte=N$1,ROW(),"") | O42: =IF(Compte=O$1,ROW(),"") | P42: =IF(Compte=P$1,ROW(),"") | Q42: =IF(Compte=Q$1,ROW(),"") | R42: =IF(Compte=R$1,ROW(),"") | S42: =IF(Compte=S$1,ROW(),"") | T42: =IF(Compte=T$1,ROW(),"") -> 42 | ... BA42: =IF(Compte=BA$1,ROW(),"")
A43: 43731 | B43: Basket | C43: TAP FACT 00004 (21/01 au 05/07) | D43: 467190 | E43: b CIN | F43: Virement | G43: 1909 | I43: =D43&"_"&COUNTIF($D$1:D43,D43) -> 467190_1 | K43: =IF(SAISIE!$E43="b CIN",ROW(),"") -> 43 | L43: =IF(SAISIE!$E43="l CIN",ROW(),"") | M43: =IF(Compte=M$1,ROW(),"") | N43: =IF(Compte=N$1,ROW(),"") | O43: =IF(Compte=O$1,ROW(),"") | P43: =IF(Compte=P$1,ROW(),"") | Q43: =IF(Compte=Q$1,ROW(),"") | R43: =IF(Compte=R$1,ROW(),"") | S43: =IF(Compte=S$1,ROW(),"") | T43: =IF(Compte=T$1,ROW(),"") | ... BA43: =IF(Compte=BA$1,ROW(),"")
A44: 43731 | B44: Hockey | C44: TAP FACT 00005 (21/01 au 05/07) | D44: 791240 | E44: b CIN | F44: Virement | G44: 1909 | I44: =D44&"_"&COUNTIF($D$1:D44,D44) -> 791240_1 | K44: =IF(SAISIE!$E44="b CIN",ROW(),"") -> 44 | L44: =IF(SAISIE!$E44="l CIN",ROW(),"") | M44: =IF(Compte=M$1,ROW(),"") | N44: =IF(Compte=N$1,ROW(),"") | O44: =IF(Compte=O$1,ROW(),"") | P44: =IF(Compte=P$1,ROW(),"") | Q44: =IF(Compte=Q$1,ROW(),"") | R44: =IF(Compte=R$1,ROW(),"") | S44: =IF(Compte=S$1,ROW(),"") | T44: =IF(Compte=T$1,ROW(),"") | ... BA44: =IF(Compte=BA$1,ROW(),"") -> 44
A45: 43731 | B45: Tennis | C45: TAP FACT 00006 (21/01 au 05/07) | D45: 467190 | E45: b CIN | F45: Virement | G45: 1909 | I45: =D45&"_"&COUNTIF($D$1:D45,D45) -> 467190_2 | K45: =IF(SAISIE!$E45="b CIN",ROW(),"") -> 45 | L45: =IF(SAISIE!$E45="l CIN",ROW(),"") | M45: =IF(Compte=M$1,ROW(),"") | N45: =IF(Compte=N$1,ROW(),"") | O45: =IF(Compte=O$1,ROW(),"") | P45: =IF(Compte=P$1,ROW(),"") | Q45: =IF(Compte=Q$1,ROW(),"") | R45: =IF(Compte=R$1,ROW(),"") | S45: =IF(Compte=S$1,ROW(),"") | T45: =IF(Compte=T$1,ROW(),"") | ... BA45: =IF(Compte=BA$1,ROW(),"")
A46: 43732 | B46: Comité directeur | C46: DGFIP Prel à la source | D46: 442100 | E46: b CIN | F46: Prélèvement | G46: 1909 | I46: =D46&"_"&COUNTIF($D$1:D46,D46) -> 442100_1 | K46: =IF(SAISIE!$E46="b CIN",ROW(),"") -> 46 | L46: =IF(SAISIE!$E46="l CIN",ROW(),"") | M46: =IF(Compte=M$1,ROW(),"") | N46: =IF(Compte=N$1,ROW(),"") | O46: =IF(Compte=O$1,ROW(),"") | P46: =IF(Compte=P$1,ROW(),"") | Q46: =IF(Compte=Q$1,ROW(),"") | R46: =IF(Compte=R$1,ROW(),"") | S46: =IF(Compte=S$1,ROW(),"") -> 46 | T46: =IF(Compte=T$1,ROW(),"") | ... BA46: =IF(Compte=BA$1,ROW(),"")
A47: 43733 | C47: Humanis 08 - 2019 | D47: 467120 | E47: b CIN | F47: Prélèvement | G47: 1909 | I47: =D47&"_"&COUNTIF($D$1:D47,D47) -> 467120_3 | K47: =IF(SAISIE!$E47="b CIN",ROW(),"") -> 47 | L47: =IF(SAISIE!$E47="l CIN",ROW(),"") | M47: =IF(Compte=M$1,ROW(),"") | N47: =IF(Compte=N$1,ROW(),"") | O47: =IF(Compte=O$1,ROW(),"") | P47: =IF(Compte=P$1,ROW(),"") | Q47: =IF(Compte=Q$1,ROW(),"") | R47: =IF(Compte=R$1,ROW(),"") | S47: =IF(Compte=S$1,ROW(),"") | T47: =IF(Compte=T$1,ROW(),"") | ... BA47: =IF(Compte=BA$1,ROW(),"")
A48: 43733 | B48: Comité directeur | C48: Humanis 08 - 2019 | D48: 437300 | E48: b CIN | F48: Prélèvement | G48: 1909 | I48: =D48&"_"&COUNTIF($D$1:D48,D48) -> 437300_1 | K48: =IF(SAISIE!$E48="b CIN",ROW(),"") -> 48 | L48: =IF(SAISIE!$E48="l CIN",ROW(),"") | M48: =IF(Compte=M$1,ROW(),"") | N48: =IF(Compte=N$1,ROW(),"") | O48: =IF(Compte=O$1,ROW(),"") -> 48 | P48: =IF(Compte=P$1,ROW(),"") | Q48: =IF(Compte=Q$1,ROW(),"") | R48: =IF(Compte=R$1,ROW(),"") | S48: =IF(Compte=S$1,ROW(),"") | T48: =IF(Compte=T$1,ROW(),"") | ... BA48: =IF(Compte=BA$1,ROW(),"")
A49: 43733 | B49: Hand-Ball | C49: Subv 2018-2019 | D49: 467010 | E49: b CIN | F49: Virement | G49: 1909 | I49: =D49&"_"&COUNTIF($D$1:D49,D49) -> 467010_8 | K49: =IF(SAISIE!$E49="b CIN",ROW(),"") -> 49 | L49: =IF(SAISIE!$E49="l CIN",ROW(),"") | M49: =IF(Compte=M$1,ROW(),"") | N49: =IF(Compte=N$1,ROW(),"") | O49: =IF(Compte=O$1,ROW(),"") | P49: =IF(Compte=P$1,ROW(),"") | Q49: =IF(Compte=Q$1,ROW(),"") | R49: =IF(Compte=R$1,ROW(),"") | S49: =IF(Compte=S$1,ROW(),"") | T49: =IF(Compte=T$1,ROW(),"") -> 49 | ... BA49: =IF(Compte=BA$1,ROW(),"")
A50: 43735 | B50: Basket | C50: REMB TAP FACT 00004 (21/01 au 05/07) | D50: 467190 | E50: b CIN | F50: Virement | G50: 1909 | I50: =D50&"_"&COUNTIF($D$1:D50,D50) -> 467190_3 | K50: =IF(SAISIE!$E50="b CIN",ROW(),"") -> 50 | L50: =IF(SAISIE!$E50="l CIN",ROW(),"") | M50: =IF(Compte=M$1,ROW(),"") | N50: =IF(Compte=N$1,ROW(),"") | O50: =IF(Compte=O$1,ROW(),"") | P50: =IF(Compte=P$1,ROW(),"") | Q50: =IF(Compte=Q$1,ROW(),"") | R50: =IF(Compte=R$1,ROW(),"") | S50: =IF(Compte=S$1,ROW(),"") | T50: =IF(Compte=T$1,ROW(),"") | ... BA50: =IF(Compte=BA$1,ROW(),"")
A51: 43735 | B51: Tennis | C51: REMB TAP FACT 00006 (21/01 au 05/07) | D51: 467190 | E51: b CIN | F51: Virement | G51: 1909 | I51: =D51&"_"&COUNTIF($D$1:D51,D51) -> 467190_4 | K51: =IF(SAISIE!$E51="b CIN",ROW(),"") -> 51 | L51: =IF(SAISIE!$E51="l CIN",ROW(),"") | M51: =IF(Compte=M$1,ROW(),"") | N51: =IF(Compte=N$1,ROW(),"") | O51: =IF(Compte=O$1,ROW(),"") | P51: =IF(Compte=P$1,ROW(),"") | Q51: =IF(Compte=Q$1,ROW(),"") | R51: =IF(Compte=R$1,ROW(),"") | S51: =IF(Compte=S$1,ROW(),"") | T51: =IF(Compte=T$1,ROW(),"") | ... BA51: =IF(Compte=BA$1,ROW(),"")
A52: 43736 | B52: Comité directeur | C52: Salaire Hatteville Jordan Septembre | D52: 421000 | E52: b CIN | F52: Virement | G52: 1909 | I52: =D52&"_"&COUNTIF($D$1:D52,D52) -> 421000_1 | K52: =IF(SAISIE!$E52="b CIN",ROW(),"") -> 52 | L52: =IF(SAISIE!$E52="l CIN",ROW(),"") | M52: =IF(Compte=M$1,ROW(),"") -> 52 | N52: =IF(Compte=N$1,ROW(),"") | O52: =IF(Compte=O$1,ROW(),"") | P52: =IF(Compte=P$1,ROW(),"") | Q52: =IF(Compte=Q$1,ROW(),"") | R52: =IF(Compte=R$1,ROW(),"") | S52: =IF(Compte=S$1,ROW(),"") | T52: =IF(Compte=T$1,ROW(),"") | ... BA52: =IF(Compte=BA$1,ROW(),"")
A53: 43736 | B53: Basket | C53: Participation Emilie | D53: 648000 | E53: b CIN | F53: Virement | G53: 1909 | I53: =D53&"_"&COUNTIF($D$1:D53,D53) -> 648000_1 | K53: =IF(SAISIE!$E53="b CIN",ROW(),"") -> 53 | L53: =IF(SAISIE!$E53="l CIN",ROW(),"") | M53: =IF(Compte=M$1,ROW(),"") | N53: =IF(Compte=N$1,ROW(),"") | O53: =IF(Compte=O$1,ROW(),"") | P53: =IF(Compte=P$1,ROW(),"") | Q53: =IF(Compte=Q$1,ROW(),"") | R53: =IF(Compte=R$1,ROW(),"") | S53: =IF(Compte=S$1,ROW(),"") | T53: =IF(Compte=T$1,ROW(),"") | ... BA53: =IF(Compte=BA$1,ROW(),"")
...

Sheet CIC COMPTE COURANT
A1: Date | B1: Section | C1: Désignation de l'opération | D1: Relevé Banque | E1: Montant | F1: Solde
C2: Report saison 2018/2019 | F2: 1000
A3: =IF(ROW()-3>COUNTIF(SAISIE!$K$2:$K$299,">"&2),"",INDIRECT(ADDRESS(SMALL(SAISIE!$K$2:$K$299,ROW()-2),MATCH(A$1,SAISIE!$A$1:$H$1,0),4,1,"SAISIE"),1)) -> 43710 | B3: =IF(ROW()-3>COUNTIF(SAISIE!$K$2:$K$299,">"&2),"",INDIRECT(ADDRESS(SMALL(SAISIE!$K$2:$K$299,ROW()-2),MATCH(B$1,SAISIE!$A$1:$H$1,0),4,1,"SAISIE"),1)) -> Comité directeur | C3: =IF(ROW()-3>COUNTIF(SAISIE!$K$2:$K$299,">"&2),"",INDIRECT(ADDRESS(SMALL(SAISIE!$K$2:$K$299,ROW()-2),MATCH(C$1,SAISIE!$A$1:$H$1,0),4,1,"SAISIE"),1)) -> Virt du Cpte Livret | D3: =IF(ROW()-3>COUNTIF(SAISIE!$K$2:$K$299,">"&2),"",INDIRECT(ADDRESS(SMALL(SAISIE!$K$2:$K$299,ROW()-2),MATCH(D$1,SAISIE!$A$1:$H$1,0),4,1,"SAISIE"),1)) -> 1909 | E3: =IF(ROW()-2>COUNTIF(SAISIE!$L$2:$L$299,">"&2),0,INDIRECT(ADDRESS(SMALL(SAISIE!$L$2:$L$299,ROW()-2),MATCH(E$1,SAISIE!$A$1:$H$1,0),4,1,"SAISIE"),1)) -> 0 | F3: =+F2+E3 -> 1000
A4: =IF(ROW()-3>COUNTIF(SAISIE!$K$2:$K$299,">"&2),"",INDIRECT(ADDRESS(SMALL(SAISIE!$K$2:$K$299,ROW()-2),MATCH(A$1,SAISIE!$A$1:$H$1,0),4,1,"SAISIE"),1)) -> 43710 | B4: =IF(ROW()-3>COUNTIF(SAISIE!$K$2:$K$299,">"&2),"",INDIRECT(ADDRESS(SMALL(SAISIE!$K$2:$K$299,ROW()-2),MATCH(B$1,SAISIE!$A$1:$H$1,0),4,1,"SAISIE"),1)) -> Athlétisme | C4: =IF(ROW()-3>COUNTIF(SAISIE!$K$2:$K$299,">"&2),"",INDIRECT(ADDRESS(SMALL(SAISIE!$K$2:$K$299,ROW()-2),MATCH(C$1,SAISIE!$A$1:$H$1,0),4,1,"SAISIE"),1)) -> Subv 2018-2019 | D4: =IF(ROW()-3>COUNTIF(SAISIE!$K$2:$K$299,">"&2),"",INDIRECT(ADDRESS(SMALL(SAISIE!$K$2:$K$299,ROW()-2),MATCH(D$1,SAISIE!$A$1:$H$1,0),4,1,"SAISIE"),1)) -> 1909 | E4: =IF(ROW()-2>COUNTIF(SAISIE!$L$2:$L$299,">"&2),0,INDIRECT(ADDRESS(SMALL(SAISIE!$L$2:$L$299,ROW()-2),MATCH(E$1,SAISIE!$A$1:$H$1,0),4,1,"SAISIE"),1)) -> 0 | F4: =+F3+E4 -> 1000
A5: =IF(ROW()-3>COUNTIF(SAISIE!$K$2:$K$299,">"&2),"",INDIRECT(ADDRESS(SMALL(SAISIE!$K$2:$K$299,ROW()-2),MATCH(A$1,SAISIE!$A$1:$H$1,0),4,1,"SAISIE"),1)) -> 43711 | B5: =IF(ROW()-3>COUNTIF(SAISIE!$K$2:$K$299,">"&2),"",INDIRECT(ADDRESS(SMALL(SAISIE!$K$2:$K$299,ROW()-2),MATCH(B$1,SAISIE!$A$1:$H$1,0),4,1,"SAISIE"),1)) -> Natation | C5: =IF(ROW()-3>COUNTIF(SAISIE!$K$2:$K$299,">"&2),"",INDIRECT(ADDRESS(SMALL(SAISIE!$K$2:$K$299,ROW()-2),MATCH(C$1,SAISIE!$A$1:$H$1,0),4,1,"SAISIE"),1)) -> Rbt location minibus FACT 54 | D5: =IF(ROW()-3>COUNTIF(SAISIE!$K$2:$K$299,">"&2),"",INDIRECT(ADDRESS(SMALL(SAISIE!$K$2:$K$299,ROW()-2),MATCH(D$1,SAISIE!$A$1:$H$1,0),4,1,"SAISIE"),1)) -> 1909 | E5: =IF(ROW()-2>COUNTIF(SAISIE!$L$2:$L$299,">"&2),0,INDIRECT(ADDRESS(SMALL(SAISIE!$L$2:$L$299,ROW()-2),MATCH(E$1,SAISIE!$A$1:$H$1,0),4,1,"SAISIE"),1)) -> 0 | F5: =+F4+E5 -> 1000
A6: =IF(ROW()-3>COUNTIF(SAISIE!$K$2:$K$299,">"&2),"",INDIRECT(ADDRESS(SMALL(SAISIE!$K$2:$K$299,ROW()-2),MATCH(A$1,SAISIE!$A$1:$H$1,0),4,1,"SAISIE"),1)) -> 43711 | B6: =IF(ROW()-3>COUNTIF(SAISIE!$K$2:$K$299,">"&2),"",INDIRECT(ADDRESS(SMALL(SAISIE!$K$2:$K$299,ROW()-2),MATCH(B$1,SAISIE!$A$1:$H$1,0),4,1,"SAISIE"),1)) -> Natation | C6: =IF(ROW()-3>COUNTIF(SAISIE!$K$2:$K$299,">"&2),"",INDIRECT(ADDRESS(SMALL(SAISIE!$K$2:$K$299,ROW()-2),MATCH(C$1,SAISIE!$A$1:$H$1,0),4,1,"SAISIE"),1)) -> Rbt location minibus FACT 50 | D6: =IF(ROW()-3>COUNTIF(SAISIE!$K$2:$K$299,">"&2),"",INDIRECT(ADDRESS(SMALL(SAISIE!$K$2:$K$299,ROW()-2),MATCH(D$1,SAISIE!$A$1:$H$1,0),4,1,"SAISIE"),1)) -> 1909 | E6: =IF(ROW()-2>COUNTIF(SAISIE!$L$2:$L$299,">"&2),0,INDIRECT(ADDRESS(SMALL(SAISIE!$L$2:$L$299,ROW()-2),MATCH(E$1,SAISIE!$A$1:$H$1,0),4,1,"SAISIE"),1)) -> 0 | F6: =+F5+E6 -> 1000
A7: =IF(ROW()-3>COUNTIF(SAISIE!$K$2:$K$299,">"&2),"",INDIRECT(ADDRESS(SMALL(SAISIE!$K$2:$K$299,ROW()-2),MATCH(A$1,SAISIE!$A$1:$H$1,0),4,1,"SAISIE"),1)) -> 43711 | B7: =IF(ROW()-3>COUNTIF(SAISIE!$K$2:$K$299,">"&2),"",INDIRECT(ADDRESS(SMALL(SAISIE!$K$2:$K$299,ROW()-2),MATCH(B$1,SAISIE!$A$1:$H$1,0),4,1,"SAISIE"),1)) -> Natation | C7: =IF(ROW()-3>COUNTIF(SAISIE!$K$2:$K$299,">"&2),"",INDIRECT(ADDRESS(SMALL(SAISIE!$K$2:$K$299,ROW()-2),MATCH(C$1,SAISIE!$A$1:$H$1,0),4,1,"SAISIE"),1)) -> Rbt URSSAF 1èr trim | D7: =IF(ROW()-3>COUNTIF(SAISIE!$K$2:$K$299,">"&2),"",INDIRECT(ADDRESS(SMALL(SAISIE!$K$2:$K$299,ROW()-2),MATCH(D$1,SAISIE!$A$1:$H$1,0),4,1,"SAISIE"),1)) -> 1909 | E7: =IF(ROW()-2>COUNTIF(SAISIE!$L$2:$L$299,">"&2),0,INDIRECT(ADDRESS(SMALL(SAISIE!$L$2:$L$299,ROW()-2),MATCH(E$1,SAISIE!$A$1:$H$1,0),4,1,"SAISIE"),1)) -> 0 | F7: =+F6+E7 -> 1000
A8: =IF(ROW()-3>COUNTIF(SAISIE!$K$2:$K$299,">"&2),"",INDIRECT(ADDRESS(SMALL(SAISIE!$K$2:$K$299,ROW()-2),MATCH(A$1,SAISIE!$A$1:$H$1,0),4,1,"SAISIE"),1)) -> 43711 | B8: =IF(ROW()-3>COUNTIF(SAISIE!$K$2:$K$299,">"&2),"",INDIRECT(ADDRESS(SMALL(SAISIE!$K$2:$K$299,ROW()-2),MATCH(B$1,SAISIE!$A$1:$H$1,0),4,1,"SAISIE"),1)) -> Natation | C8: =IF(ROW()-3>COUNTIF(SAISIE!$K$2:$K$299,">"&2),"",INDIRECT(ADDRESS(SMALL(SAISIE!$K$2:$K$299,ROW()-2),MATCH(C$1,SAISIE!$A$1:$H$1,0),4,1,"SAISIE"),1)) -> Rbt Pole Emploi 1er trim | D8: =IF(ROW()-3>COUNTIF(SAISIE!$K$2:$K$299,">"&2),"",INDIRECT(ADDRESS(SMALL(SAISIE!$K$2:$K$299,ROW()-2),MATCH(D$1,SAISIE!$A$1:$H$1,0),4,1,"SAISIE"),1)) -> 1909 | E8: =IF(ROW()-2>COUNTIF(SAISIE!$L$2:$L$299,">"&2),0,INDIRECT(ADDRESS(SMALL(SAISIE!$L$2:$L$299,ROW()-2),MATCH(E$1,SAISIE!$A$1:$H$1,0),4,1,"SAISIE"),1)) -> 0 | F8: =+F7+E8 -> 1000
A9: =IF(ROW()-3>COUNTIF(SAISIE!$K$2:$K$299,">"&2),"",INDIRECT(ADDRESS(SMALL(SAISIE!$K$2:$K$299,ROW()-2),MATCH(A$1,SAISIE!$A$1:$H$1,0),4,1,"SAISIE"),1)) -> 43711 | B9: =IF(ROW()-3>COUNTIF(SAISIE!$K$2:$K$299,">"&2),"",INDIRECT(ADDRESS(SMALL(SAISIE!$K$2:$K$299,ROW()-2),MATCH(B$1,SAISIE!$A$1:$H$1,0),4,1,"SAISIE"),1)) -> Natation | C9: =IF(ROW()-3>COUNTIF(SAISIE!$K$2:$K$299,">"&2),"",INDIRECT(ADDRESS(SMALL(SAISIE!$K$2:$K$299,ROW()-2),MATCH(C$1,SAISIE!$A$1:$H$1,0),4,1,"SAISIE"),1)) -> Rbt Humanis 1er trim | D9: =IF(ROW()-3>COUNTIF(SAISIE!$K$2:$K$299,">"&2),"",INDIRECT(ADDRESS(SMALL(SAISIE!$K$2:$K$299,ROW()-2),MATCH(D$1,SAISIE!$A$1:$H$1,0),4,1,"SAISIE"),1)) -> 1909 | E9: =IF(ROW()-2>COUNTIF(SAISIE!$L$2:$L$299,">"&2),0,INDIRECT(ADDRESS(SMALL(SAISIE!$L$2:$L$299,ROW()-2),MATCH(E$1,SAISIE!$A$1:$H$1,0),4,1,"SAISIE"),1)) -> 0 | F9: =+F8+E9 -> 1000
A10: =IF(ROW()-3>COUNTIF(SAISIE!$K$2:$K$299,">"&2),"",INDIRECT(ADDRESS(SMALL(SAISIE!$K$2:$K$299,ROW()-2),MATCH(A$1,SAISIE!$A$1:$H$1,0),4,1,"SAISIE"),1)) -> 43711 | B10: =IF(ROW()-3>COUNTIF(SAISIE!$K$2:$K$299,">"&2),"",INDIRECT(ADDRESS(SMALL(SAISIE!$K$2:$K$299,ROW()-2),MATCH(B$1,SAISIE!$A$1:$H$1,0),4,1,"SAISIE"),1)) -> Natation | C10: =IF(ROW()-3>COUNTIF(SAISIE!$K$2:$K$299,">"&2),"",INDIRECT(ADDRESS(SMALL(SAISIE!$K$2:$K$299,ROW()-2),MATCH(C$1,SAISIE!$A$1:$H$1,0),4,1,"SAISIE"),1)) -> Rbt location minibus FACT 43 | D10: =IF(ROW()-3>COUNTIF(SAISIE!$K$2:$K$299,">"&2),"",INDIRECT(ADDRESS(SMALL(SAISIE!$K$2:$K$299,ROW()-2),MATCH(D$1,SAISIE!$A$1:$H$1,0),4,1,"SAISIE"),1)) -> 1909 | E10: =IF(ROW()-2>COUNTIF(SAISIE!$L$2:$L$299,">"&2),0,INDIRECT(ADDRESS(SMALL(SAISIE!$L$2:$L$299,ROW()-2),MATCH(E$1,SAISIE!$A$1:$H$1,0),4,1,"SAISIE"),1)) -> 0 | F10: =+F9+E10 -> 1000
A11: =IF(ROW()-3>COUNTIF(SAISIE!$K$2:$K$299,">"&2),"",INDIRECT(ADDRESS(SMALL(SAISIE!$K$2:$K$299,ROW()-2),MATCH(A$1,SAISIE!$A$1:$H$1,0),4,1,"SAISIE"),1)) -> 43711 | B11: =IF(ROW()-3>COUNTIF(SAISIE!$K$2:$K$299,">"&2),"",INDIRECT(ADDRESS(SMALL(SAISIE!$K$2:$K$299,ROW()-2),MATCH(B$1,SAISIE!$A$1:$H$1,0),4,1,"SAISIE"),1)) -> Natation | C11: =IF(ROW()-3>COUNTIF(SAISIE!$K$2:$K$299,">"&2),"",INDIRECT(ADDRESS(SMALL(SAISIE!$K$2:$K$299,ROW()-2),MATCH(C$1,SAISIE!$A$1:$H$1,0),4,1,"SAISIE"),1)) -> Rbt URSSAF 2è trim | D11: =IF(ROW()-3>COUNTIF(SAISIE!$K$2:$K$299,">"&2),"",INDIRECT(ADDRESS(SMALL(SAISIE!$K$2:$K$299,ROW()-2),MATCH(D$1,SAISIE!$A$1:$H$1,0),4,1,"SAISIE"),1)) -> 1909 | E11: =IF(ROW()-2>COUNTIF(SAISIE!$L$2:$L$299,">"&2),0,INDIRECT(ADDRESS(SMALL(SAISIE!$L$2:$L$299,ROW()-2),MATCH(E$1,SAISIE!$A$1:$H$1,0),4,1,"SAISIE"),1)) -> 0 | F11: =+F10+E11 -> 1000
A12: =IF(ROW()-3>COUNTIF(SAISIE!$K$2:$K$299,">"&2),"",INDIRECT(ADDRESS(SMALL(SAISIE!$K$2:$K$299,ROW()-2),MATCH(A$1,SAISIE!$A$1:$H$1,0),4,1,"SAISIE"),1)) -> 43711 | B12: =IF(ROW()-3>COUNTIF(SAISIE!$K$2:$K$299,">"&2),"",INDIRECT(ADDRESS(SMALL(SAISIE!$K$2:$K$299,ROW()-2),MATCH(B$1,SAISIE!$A$1:$H$1,0),4,1,"SAISIE"),1)) -> Natation | C12: =IF(ROW()-3>COUNTIF(SAISIE!$K$2:$K$299,">"&2),"",INDIRECT(ADDRESS(SMALL(SAISIE!$K$2:$K$299,ROW()-2),MATCH(C$1,SAISIE!$A$1:$H$1,0),4,1,"SAISIE"),1)) -> Rbt Pole Emploi 2è trim | D12: =IF(ROW()-3>COUNTIF(SAISIE!$K$2:$K$299,">"&2),"",INDIRECT(ADDRESS(SMALL(SAISIE!$K$2:$K$299,ROW()-2),MATCH(D$1,SAISIE!$A$1:$H$1,0),4,1,"SAISIE"),1)) -> 1909 | E12: =IF(ROW()-2>COUNTIF(SAISIE!$L$2:$L$299,">"&2),0,INDIRECT(ADDRESS(SMALL(SAISIE!$L$2:$L$299,ROW()-2),MATCH(E$1,SAISIE!$A$1:$H$1,0),4,1,"SAISIE"),1)) -> 0 | F12: =+F11+E12 -> 1000
A13: =IF(ROW()-3>COUNTIF(SAISIE!$K$2:$K$299,">"&2),"",INDIRECT(ADDRESS(SMALL(SAISIE!$K$2:$K$299,ROW()-2),MATCH(A$1,SAISIE!$A$1:$H$1,0),4,1,"SAISIE"),1)) -> 43711 | B13: =IF(ROW()-3>COUNTIF(SAISIE!$K$2:$K$299,">"&2),"",INDIRECT(ADDRESS(SMALL(SAISIE!$K$2:$K$299,ROW()-2),MATCH(B$1,SAISIE!$A$1:$H$1,0),4,1,"SAISIE"),1)) -> Natation | C13: =IF(ROW()-3>COUNTIF(SAISIE!$K$2:$K$299,">"&2),"",INDIRECT(ADDRESS(SMALL(SAISIE!$K$2:$K$299,ROW()-2),MATCH(C$1,SAISIE!$A$1:$H$1,0),4,1,"SAISIE"),1)) -> Rbt Humanis 2è trim | D13: =IF(ROW()-3>COUNTIF(SAISIE!$K$2:$K$299,">"&2),"",INDIRECT(ADDRESS(SMALL(SAISIE!$K$2:$K$299,ROW()-2),MATCH(D$1,SAISIE!$A$1:$H$1,0),4,1,"SAISIE"),1)) -> 1909 | E13: =IF(ROW()-2>COUNTIF(SAISIE!$L$2:$L$299,">"&2),0,INDIRECT(ADDRESS(SMALL(SAISIE!$L$2:$L$299,ROW()-2),MATCH(E$1,SAISIE!$A$1:$H$1,0),4,1,"SAISIE"),1)) -> 0 | F13: =+F12+E13 -> 1000
A14: =IF(ROW()-3>COUNTIF(SAISIE!$K$2:$K$299,">"&2),"",INDIRECT(ADDRESS(SMALL(SAISIE!$K$2:$K$299,ROW()-2),MATCH(A$1,SAISIE!$A$1:$H$1,0),4,1,"SAISIE"),1)) -> 43711 | B14: =IF(ROW()-3>COUNTIF(SAISIE!$K$2:$K$299,">"&2),"",INDIRECT(ADDRESS(SMALL(SAISIE!$K$2:$K$299,ROW()-2),MATCH(B$1,SAISIE!$A$1:$H$1,0),4,1,"SAISIE"),1)) -> Natation | C14: =IF(ROW()-3>COUNTIF(SAISIE!$K$2:$K$299,">"&2),"",INDIRECT(ADDRESS(SMALL(SAISIE!$K$2:$K$299,ROW()-2),MATCH(C$1,SAISIE!$A$1:$H$1,0),4,1,"SAISIE"),1)) -> Rbt Chorum 2eme trim | D14: =IF(ROW()-3>COUNTIF(SAISIE!$K$2:$K$299,">"&2),"",INDIRECT(ADDRESS(SMALL(SAISIE!$K$2:$K$299,ROW()-2),MATCH(D$1,SAISIE!$A$1:$H$1,0),4,1,"SAISIE"),1)) -> 1909 | E14: =IF(ROW()-2>COUNTIF(SAISIE!$L$2:$L$299,">"&2),0,INDIRECT(ADDRESS(SMALL(SAISIE!$L$2:$L$299,ROW()-2),MATCH(E$1,SAISIE!$A$1:$H$1,0),4,1,"SAISIE"),1)) -> 0 | F14: =+F13+E14 -> 1000
... A300: =IF(ROW()-3>COUNTIF(SAISIE!$K$2:$K$299,">"&2),"",INDIRECT(ADDRESS(SMALL(SAISIE!$K$2:$K$299,ROW()-2),MATCH(A$1,SAISIE!$A$1:$H$1,0),4,1,"SAISIE"),1)) | B300: =IF(ROW()-3>COUNTIF(SAISIE!$K$2:$K$299,">"&2),"",INDIRECT(ADDRESS(SMALL(SAISIE!$K$2:$K$299,ROW()-2),MATCH(B$1,SAISIE!$A$1:$H$1,0),4,1,"SAISIE"),1)) | C300: =IF(ROW()-3>COUNTIF(SAISIE!$K$2:$K$299,">"&2),"",INDIRECT(ADDRESS(SMALL(SAISIE!$K$2:$K$299,ROW()-2),MATCH(C$1,SAISIE!$A$1:$H$1,0),4,1,"SAISIE"),1)) | D300: =IF(ROW()-3>COUNTIF(SAISIE!$K$2:$K$299,">"&2),"",INDIRECT(ADDRESS(SMALL(SAISIE!$K$2:$K$299,ROW()-2),MATCH(D$1,SAISIE!$A$1:$H$1,0),4,1,"SAISIE"),1)) | E300: =IF(ROW()-2>COUNTIF(SAISIE!$L$2:$L$299,">"&2),0,INDIRECT(ADDRESS(SMALL(SAISIE!$L$2:$L$299,ROW()-2),MATCH(E$1,SAISIE!$A$1:$H$1,0),4,1,"SAISIE"),1)) -> 0 | F300: =+F299+E300 -> 1000

Sheet CIC LIVRET
A1: Date | B1: Chèque n° | C1: Désignation de l'opération | D1: Relevé Banque | E1: Montant | F1: Solde
C2: Report saison 2018/2019 | F2: 1000
A3: =IF(ROW()-2>COUNTIF(SAISIE!$L$2:$L$299,">"&2),"",INDIRECT(ADDRESS(SMALL(SAISIE!$L$2:$L$299,ROW()-2),MATCH(A$1,SAISIE!$A$1:$H$1,0),4,1,"SAISIE"),1)) -> 43710 | C3: =IF(ROW()-2>COUNTIF(SAISIE!$L$2:$L$299,">"&2),"",INDIRECT(ADDRESS(SMALL(SAISIE!$L$2:$L$299,ROW()-2),MATCH(C$1,SAISIE!$A$1:$H$1,0),4,1,"SAISIE"),1)) -> Virt au Cpte Courant | D3: =IF(ROW()-2>COUNTIF(SAISIE!$L$2:$L$299,">"&2),"",INDIRECT(ADDRESS(SMALL(SAISIE!$L$2:$L$299,ROW()-2),MATCH(D$1,SAISIE!$A$1:$H$1,0),4,1,"SAISIE"),1)) -> 1909 | E3: =IF(ROW()-2>COUNTIF(SAISIE!$L$2:$L$299,">"&2),0,INDIRECT(ADDRESS(SMALL(SAISIE!$L$2:$L$299,ROW()-2),MATCH(E$1,SAISIE!$A$1:$H$1,0),4,1,"SAISIE"),1)) -> 0 | F3: =+F2+E3 -> 1000
A4: =IF(ROW()-2>COUNTIF(SAISIE!$L$2:$L$299,">"&2),"",INDIRECT(ADDRESS(SMALL(SAISIE!$L$2:$L$299,ROW()-2),MATCH(A$1,SAISIE!$A$1:$H$1,0),4,1,"SAISIE"),1)) -> 43720 | C4: =IF(ROW()-2>COUNTIF(SAISIE!$L$2:$L$299,">"&2),"",INDIRECT(ADDRESS(SMALL(SAISIE!$L$2:$L$299,ROW()-2),MATCH(C$1,SAISIE!$A$1:$H$1,0),4,1,"SAISIE"),1)) -> Virt au Cpte Courant | D4: =IF(ROW()-2>COUNTIF(SAISIE!$L$2:$L$299,">"&2),"",INDIRECT(ADDRESS(SMALL(SAISIE!$L$2:$L$299,ROW()-2),MATCH(D$1,SAISIE!$A$1:$H$1,0),4,1,"SAISIE"),1)) -> 1909 | E4: =IF(ROW()-2>COUNTIF(SAISIE!$L$2:$L$299,">"&2),0,INDIRECT(ADDRESS(SMALL(SAISIE!$L$2:$L$299,ROW()-2),MATCH(E$1,SAISIE!$A$1:$H$1,0),4,1,"SAISIE"),1)) -> 0 | F4: =+F3+E4 -> 1000
A5: =IF(ROW()-2>COUNTIF(SAISIE!$L$2:$L$299,">"&2),"",INDIRECT(ADDRESS(SMALL(SAISIE!$L$2:$L$299,ROW()-2),MATCH(A$1,SAISIE!$A$1:$H$1,0),4,1,"SAISIE"),1)) -> 43725 | C5: =IF(ROW()-2>COUNTIF(SAISIE!$L$2:$L$299,">"&2),"",INDIRECT(ADDRESS(SMALL(SAISIE!$L$2:$L$299,ROW()-2),MATCH(C$1,SAISIE!$A$1:$H$1,0),4,1,"SAISIE"),1)) -> Virt au Cpte Courant | D5: =IF(ROW()-2>COUNTIF(SAISIE!$L$2:$L$299,">"&2),"",INDIRECT(ADDRESS(SMALL(SAISIE!$L$2:$L$299,ROW()-2),MATCH(D$1,SAISIE!$A$1:$H$1,0),4,1,"SAISIE"),1)) -> 1909 | E5: =IF(ROW()-2>COUNTIF(SAISIE!$L$2:$L$299,">"&2),0,INDIRECT(ADDRESS(SMALL(SAISIE!$L$2:$L$299,ROW()-2),MATCH(E$1,SAISIE!$A$1:$H$1,0),4,1,"SAISIE"),1)) -> 0 | F5: =+F4+E5 -> 1000
A6: =IF(ROW()-2>COUNTIF(SAISIE!$L$2:$L$299,">"&2),"",INDIRECT(ADDRESS(SMALL(SAISIE!$L$2:$L$299,ROW()-2),MATCH(A$1,SAISIE!$A$1:$H$1,0),4,1,"SAISIE"),1)) | C6: =IF(ROW()-2>COUNTIF(SAISIE!$L$2:$L$299,">"&2),"",INDIRECT(ADDRESS(SMALL(SAISIE!$L$2:$L$299,ROW()-2),MATCH(C$1,SAISIE!$A$1:$H$1,0),4,1,"SAISIE"),1)) | D6: =IF(ROW()-2>COUNTIF(SAISIE!$L$2:$L$299,">"&2),"",INDIRECT(ADDRESS(SMALL(SAISIE!$L$2:$L$299,ROW()-2),MATCH(D$1,SAISIE!$A$1:$H$1,0),4,1,"SAISIE"),1)) | E6: =IF(ROW()-2>COUNTIF(SAISIE!$L$2:$L$299,">"&2),0,INDIRECT(ADDRESS(SMALL(SAISIE!$L$2:$L$299,ROW()-2),MATCH(E$1,SAISIE!$A$1:$H$1,0),4,1,"SAISIE"),1)) -> 0 | F6: =+F5+E6 -> 1000
A7: =IF(ROW()-2>COUNTIF(SAISIE!$L$2:$L$299,">"&2),"",INDIRECT(ADDRESS(SMALL(SAISIE!$L$2:$L$299,ROW()-2),MATCH(A$1,SAISIE!$A$1:$H$1,0),4,1,"SAISIE"),1)) | C7: =IF(ROW()-2>COUNTIF(SAISIE!$L$2:$L$299,">"&2),"",INDIRECT(ADDRESS(SMALL(SAISIE!$L$2:$L$299,ROW()-2),MATCH(C$1,SAISIE!$A$1:$H$1,0),4,1,"SAISIE"),1)) | D7: =IF(ROW()-2>COUNTIF(SAISIE!$L$2:$L$299,">"&2),"",INDIRECT(ADDRESS(SMALL(SAISIE!$L$2:$L$299,ROW()-2),MATCH(D$1,SAISIE!$A$1:$H$1,0),4,1,"SAISIE"),1)) | E7: =IF(ROW()-2>COUNTIF(SAISIE!$L$2:$L$299,">"&2),0,INDIRECT(ADDRESS(SMALL(SAISIE!$L$2:$L$299,ROW()-2),MATCH(E$1,SAISIE!$A$1:$H$1,0),4,1,"SAISIE"),1)) -> 0 | F7: =+F6+E7 -> 1000
A8: =IF(ROW()-2>COUNTIF(SAISIE!$L$2:$L$299,">"&2),"",INDIRECT(ADDRESS(SMALL(SAISIE!$L$2:$L$299,ROW()-2),MATCH(A$1,SAISIE!$A$1:$H$1,0),4,1,"SAISIE"),1)) | C8: =IF(ROW()-2>COUNTIF(SAISIE!$L$2:$L$299,">"&2),"",INDIRECT(ADDRESS(SMALL(SAISIE!$L$2:$L$299,ROW()-2),MATCH(C$1,SAISIE!$A$1:$H$1,0),4,1,"SAISIE"),1)) | D8: =IF(ROW()-2>COUNTIF(SAISIE!$L$2:$L$299,">"&2),"",INDIRECT(ADDRESS(SMALL(SAISIE!$L$2:$L$299,ROW()-2),MATCH(D$1,SAISIE!$A$1:$H$1,0),4,1,"SAISIE"),1)) | E8: =IF(ROW()-2>COUNTIF(SAISIE!$L$2:$L$299,">"&2),0,INDIRECT(ADDRESS(SMALL(SAISIE!$L$2:$L$299,ROW()-2),MATCH(E$1,SAISIE!$A$1:$H$1,0),4,1,"SAISIE"),1)) -> 0 | F8: =+F7+E8 -> 1000
A9: =IF(ROW()-2>COUNTIF(SAISIE!$L$2:$L$299,">"&2),"",INDIRECT(ADDRESS(SMALL(SAISIE!$L$2:$L$299,ROW()-2),MATCH(A$1,SAISIE!$A$1:$H$1,0),4,1,"SAISIE"),1)) | C9: =IF(ROW()-2>COUNTIF(SAISIE!$L$2:$L$299,">"&2),"",INDIRECT(ADDRESS(SMALL(SAISIE!$L$2:$L$299,ROW()-2),MATCH(C$1,SAISIE!$A$1:$H$1,0),4,1,"SAISIE"),1)) | D9: =IF(ROW()-2>COUNTIF(SAISIE!$L$2:$L$299,">"&2),"",INDIRECT(ADDRESS(SMALL(SAISIE!$L$2:$L$299,ROW()-2),MATCH(D$1,SAISIE!$A$1:$H$1,0),4,1,"SAISIE"),1)) | E9: =IF(ROW()-2>COUNTIF(SAISIE!$L$2:$L$299,">"&2),0,INDIRECT(ADDRESS(SMALL(SAISIE!$L$2:$L$299,ROW()-2),MATCH(E$1,SAISIE!$A$1:$H$1,0),4,1,"SAISIE"),1)) -> 0 | F9: =+F8+E9 -> 1000
A10: =IF(ROW()-2>COUNTIF(SAISIE!$L$2:$L$299,">"&2),"",INDIRECT(ADDRESS(SMALL(SAISIE!$L$2:$L$299,ROW()-2),MATCH(A$1,SAISIE!$A$1:$H$1,0),4,1,"SAISIE"),1)) | C10: =IF(ROW()-2>COUNTIF(SAISIE!$L$2:$L$299,">"&2),"",INDIRECT(ADDRESS(SMALL(SAISIE!$L$2:$L$299,ROW()-2),MATCH(C$1,SAISIE!$A$1:$H$1,0),4,1,"SAISIE"),1)) | D10: =IF(ROW()-2>COUNTIF(SAISIE!$L$2:$L$299,">"&2),"",INDIRECT(ADDRESS(SMALL(SAISIE!$L$2:$L$299,ROW()-2),MATCH(D$1,SAISIE!$A$1:$H$1,0),4,1,"SAISIE"),1)) | E10: =IF(ROW()-2>COUNTIF(SAISIE!$L$2:$L$299,">"&2),0,INDIRECT(ADDRESS(SMALL(SAISIE!$L$2:$L$299,ROW()-2),MATCH(E$1,SAISIE!$A$1:$H$1,0),4,1,"SAISIE"),1)) -> 0 | F10: =+F9+E10 -> 1000
A11: =IF(ROW()-2>COUNTIF(SAISIE!$L$2:$L$299,">"&2),"",INDIRECT(ADDRESS(SMALL(SAISIE!$L$2:$L$299,ROW()-2),MATCH(A$1,SAISIE!$A$1:$H$1,0),4,1,"SAISIE"),1)) | C11: =IF(ROW()-2>COUNTIF(SAISIE!$L$2:$L$299,">"&2),"",INDIRECT(ADDRESS(SMALL(SAISIE!$L$2:$L$299,ROW()-2),MATCH(C$1,SAISIE!$A$1:$H$1,0),4,1,"SAISIE"),1)) | D11: =IF(ROW()-2>COUNTIF(SAISIE!$L$2:$L$299,">"&2),"",INDIRECT(ADDRESS(SMALL(SAISIE!$L$2:$L$299,ROW()-2),MATCH(D$1,SAISIE!$A$1:$H$1,0),4,1,"SAISIE"),1)) | E11: =IF(ROW()-2>COUNTIF(SAISIE!$L$2:$L$299,">"&2),0,INDIRECT(ADDRESS(SMALL(SAISIE!$L$2:$L$299,ROW()-2),MATCH(E$1,SAISIE!$A$1:$H$1,0),4,1,"SAISIE"),1)) -> 0 | F11: =+F10+E11 -> 1000
A12: =IF(ROW()-2>COUNTIF(SAISIE!$L$2:$L$299,">"&2),"",INDIRECT(ADDRESS(SMALL(SAISIE!$L$2:$L$299,ROW()-2),MATCH(A$1,SAISIE!$A$1:$H$1,0),4,1,"SAISIE"),1)) | C12: =IF(ROW()-2>COUNTIF(SAISIE!$L$2:$L$299,">"&2),"",INDIRECT(ADDRESS(SMALL(SAISIE!$L$2:$L$299,ROW()-2),MATCH(C$1,SAISIE!$A$1:$H$1,0),4,1,"SAISIE"),1)) | D12: =IF(ROW()-2>COUNTIF(SAISIE!$L$2:$L$299,">"&2),"",INDIRECT(ADDRESS(SMALL(SAISIE!$L$2:$L$299,ROW()-2),MATCH(D$1,SAISIE!$A$1:$H$1,0),4,1,"SAISIE"),1)) | E12: =IF(ROW()-2>COUNTIF(SAISIE!$L$2:$L$299,">"&2),0,INDIRECT(ADDRESS(SMALL(SAISIE!$L$2:$L$299,ROW()-2),MATCH(E$1,SAISIE!$A$1:$H$1,0),4,1,"SAISIE"),1)) -> 0 | F12: =+F11+E12 -> 1000
A13: =IF(ROW()-2>COUNTIF(SAISIE!$L$2:$L$299,">"&2),"",INDIRECT(ADDRESS(SMALL(SAISIE!$L$2:$L$299,ROW()-2),MATCH(A$1,SAISIE!$A$1:$H$1,0),4,1,"SAISIE"),1)) | C13: =IF(ROW()-2>COUNTIF(SAISIE!$L$2:$L$299,">"&2),"",INDIRECT(ADDRESS(SMALL(SAISIE!$L$2:$L$299,ROW()-2),MATCH(C$1,SAISIE!$A$1:$H$1,0),4,1,"SAISIE"),1)) | D13: =IF(ROW()-2>COUNTIF(SAISIE!$L$2:$L$299,">"&2),"",INDIRECT(ADDRESS(SMALL(SAISIE!$L$2:$L$299,ROW()-2),MATCH(D$1,SAISIE!$A$1:$H$1,0),4,1,"SAISIE"),1)) | E13: =IF(ROW()-2>COUNTIF(SAISIE!$L$2:$L$299,">"&2),0,INDIRECT(ADDRESS(SMALL(SAISIE!$L$2:$L$299,ROW()-2),MATCH(E$1,SAISIE!$A$1:$H$1,0),4,1,"SAISIE"),1)) -> 0 | F13: =+F12+E13 -> 1000
A14: =IF(ROW()-2>COUNTIF(SAISIE!$L$2:$L$299,">"&2),"",INDIRECT(ADDRESS(SMALL(SAISIE!$L$2:$L$299,ROW()-2),MATCH(A$1,SAISIE!$A$1:$H$1,0),4,1,"SAISIE"),1)) | C14: =IF(ROW()-2>COUNTIF(SAISIE!$L$2:$L$299,">"&2),"",INDIRECT(ADDRESS(SMALL(SAISIE!$L$2:$L$299,ROW()-2),MATCH(C$1,SAISIE!$A$1:$H$1,0),4,1,"SAISIE"),1)) | D14: =IF(ROW()-2>COUNTIF(SAISIE!$L$2:$L$299,">"&2),"",INDIRECT(ADDRESS(SMALL(SAISIE!$L$2:$L$299,ROW()-2),MATCH(D$1,SAISIE!$A$1:$H$1,0),4,1,"SAISIE"),1)) | E14: =IF(ROW()-2>COUNTIF(SAISIE!$L$2:$L$299,">"&2),0,INDIRECT(ADDRESS(SMALL(SAISIE!$L$2:$L$299,ROW()-2),MATCH(E$1,SAISIE!$A$1:$H$1,0),4,1,"SAISIE"),1)) -> 0 | F14: =+F13+E14 -> 1000
... A96: =IF(ROW()-2>COUNTIF(SAISIE!$L$2:$L$299,">"&2),"",INDIRECT(ADDRESS(SMALL(SAISIE!$L$2:$L$299,ROW()-2),MATCH(A$1,SAISIE!$A$1:$H$1,0),4,1,"SAISIE"),1)) | C96: =IF(ROW()-2>COUNTIF(SAISIE!$L$2:$L$299,">"&2),"",INDIRECT(ADDRESS(SMALL(SAISIE!$L$2:$L$299,ROW()-2),MATCH(C$1,SAISIE!$A$1:$H$1,0),4,1,"SAISIE"),1)) | D96: =IF(ROW()-2>COUNTIF(SAISIE!$L$2:$L$299,">"&2),"",INDIRECT(ADDRESS(SMALL(SAISIE!$L$2:$L$299,ROW()-2),MATCH(D$1,SAISIE!$A$1:$H$1,0),4,1,"SAISIE"),1)) | E96: =IF(ROW()-2>COUNTIF(SAISIE!$L$2:$L$299,">"&2),0,INDIRECT(ADDRESS(SMALL(SAISIE!$L$2:$L$299,ROW()-2),MATCH(E$1,SAISIE!$A$1:$H$1,0),4,1,"SAISIE"),1)) -> 0 | F96: =+F95+E96 -> 1000
A97: =IF(ROW()-2>COUNTIF(SAISIE!$L$2:$L$299,">"&2),"",INDIRECT(ADDRESS(SMALL(SAISIE!$L$2:$L$299,ROW()-2),MATCH(A$1,SAISIE!$A$1:$H$1,0),4,1,"SAISIE"),1)) | C97: =IF(ROW()-2>COUNTIF(SAISIE!$L$2:$L$299,">"&2),"",INDIRECT(ADDRESS(SMALL(SAISIE!$L$2:$L$299,ROW()-2),MATCH(C$1,SAISIE!$A$1:$H$1,0),4,1,"SAISIE"),1)) | D97: =IF(ROW()-2>COUNTIF(SAISIE!$L$2:$L$299,">"&2),"",INDIRECT(ADDRESS(SMALL(SAISIE!$L$2:$L$299,ROW()-2),MATCH(D$1,SAISIE!$A$1:$H$1,0),4,1,"SAISIE"),1)) | E97: =IF(ROW()-2>COUNTIF(SAISIE!$L$2:$L$299,">"&2),0,INDIRECT(ADDRESS(SMALL(SAISIE!$L$2:$L$299,ROW()-2),MATCH(E$1,SAISIE!$A$1:$H$1,0),4,1,"SAISIE"),1)) -> 0
A98: =IF(ROW()-2>COUNTIF(SAISIE!$L$2:$L$299,">"&2),"",INDIRECT(ADDRESS(SMALL(SAISIE!$L$2:$L$299,ROW()-2),MATCH(A$1,SAISIE!$A$1:$H$1,0),4,1,"SAISIE"),1)) | C98: =IF(ROW()-2>COUNTIF(SAISIE!$L$2:$L$299,">"&2),"",INDIRECT(ADDRESS(SMALL(SAISIE!$L$2:$L$299,ROW()-2),MATCH(C$1,SAISIE!$A$1:$H$1,0),4,1,"SAISIE"),1)) | D98: =IF(ROW()-2>COUNTIF(SAISIE!$L$2:$L$299,">"&2),"",INDIRECT(ADDRESS(SMALL(SAISIE!$L$2:$L$299,ROW()-2),MATCH(D$1,SAISIE!$A$1:$H$1,0),4,1,"SAISIE"),1)) | E98: =IF(ROW()-2>COUNTIF(SAISIE!$L$2:$L$299,">"&2),0,INDIRECT(ADDRESS(SMALL(SAISIE!$L$2:$L$299,ROW()-2),MATCH(E$1,SAISIE!$A$1:$H$1,0),4,1,"SAISIE"),1)) -> 0
A99: =IF(ROW()-2>COUNTIF(SAISIE!$L$2:$L$299,">"&2),"",INDIRECT(ADDRESS(SMALL(SAISIE!$L$2:$L$299,ROW()-2),MATCH(A$1,SAISIE!$A$1:$H$1,0),4,1,"SAISIE"),1)) | C99: =IF(ROW()-2>COUNTIF(SAISIE!$L$2:$L$299,">"&2),"",INDIRECT(ADDRESS(SMALL(SAISIE!$L$2:$L$299,ROW()-2),MATCH(C$1,SAISIE!$A$1:$H$1,0),4,1,"SAISIE"),1)) | D99: =IF(ROW()-2>COUNTIF(SAISIE!$L$2:$L$299,">"&2),"",INDIRECT(ADDRESS(SMALL(SAISIE!$L$2:$L$299,ROW()-2),MATCH(D$1,SAISIE!$A$1:$H$1,0),4,1,"SAISIE"),1)) | E99: =IF(ROW()-2>COUNTIF(SAISIE!$L$2:$L$299,">"&2),0,INDIRECT(ADDRESS(SMALL(SAISIE!$L$2:$L$299,ROW()-2),MATCH(E$1,SAISIE!$A$1:$H$1,0),4,1,"SAISIE"),1)) -> 0
A100: =IF(ROW()-2>COUNTIF(SAISIE!$L$2:$L$299,">"&2),"",INDIRECT(ADDRESS(SMALL(SAISIE!$L$2:$L$299,ROW()-2),MATCH(A$1,SAISIE!$A$1:$H$1,0),4,1,"SAISIE"),1)) | C100: =IF(ROW()-2>COUNTIF(SAISIE!$L$2:$L$299,">"&2),"",INDIRECT(ADDRESS(SMALL(SAISIE!$L$2:$L$299,ROW()-2),MATCH(C$1,SAISIE!$A$1:$H$1,0),4,1,"SAISIE"),1)) | D100: =IF(ROW()-2>COUNTIF(SAISIE!$L$2:$L$299,">"&2),"",INDIRECT(ADDRESS(SMALL(SAISIE!$L$2:$L$299,ROW()-2),MATCH(D$1,SAISIE!$A$1:$H$1,0),4,1,"SAISIE"),1)) | E100: =IF(ROW()-2>COUNTIF(SAISIE!$L$2:$L$299,">"&2),0,INDIRECT(ADDRESS(SMALL(SAISIE!$L$2:$L$299,ROW()-2),MATCH(E$1,SAISIE!$A$1:$H$1,0),4,1,"SAISIE"),1)) -> 0
A101: =IF(ROW()-2>COUNTIF(SAISIE!$L$2:$L$299,">"&2),"",INDIRECT(ADDRESS(SMALL(SAISIE!$L$2:$L$299,ROW()-2),MATCH(A$1,SAISIE!$A$1:$H$1,0),4,1,"SAISIE"),1)) | C101: =IF(ROW()-2>COUNTIF(SAISIE!$L$2:$L$299,">"&2),"",INDIRECT(ADDRESS(SMALL(SAISIE!$L$2:$L$299,ROW()-2),MATCH(C$1,SAISIE!$A$1:$H$1,0),4,1,"SAISIE"),1)) | D101: =IF(ROW()-2>COUNTIF(SAISIE!$L$2:$L$299,">"&2),"",INDIRECT(ADDRESS(SMALL(SAISIE!$L$2:$L$299,ROW()-2),MATCH(D$1,SAISIE!$A$1:$H$1,0),4,1,"SAISIE"),1)) | E101: =IF(ROW()-2>COUNTIF(SAISIE!$L$2:$L$299,">"&2),0,INDIRECT(ADDRESS(SMALL(SAISIE!$L$2:$L$299,ROW()-2),MATCH(E$1,SAISIE!$A$1:$H$1,0),4,1,"SAISIE"),1)) -> 0
A102: =IF(ROW()-2>COUNTIF(SAISIE!$L$2:$L$299,">"&2),"",INDIRECT(ADDRESS(SMALL(SAISIE!$L$2:$L$299,ROW()-2),MATCH(A$1,SAISIE!$A$1:$H$1,0),4,1,"SAISIE"),1)) | C102: =IF(ROW()-2>COUNTIF(SAISIE!$L$2:$L$299,">"&2),"",INDIRECT(ADDRESS(SMALL(SAISIE!$L$2:$L$299,ROW()-2),MATCH(C$1,SAISIE!$A$1:$H$1,0),4,1,"SAISIE"),1)) | D102: =IF(ROW()-2>COUNTIF(SAISIE!$L$2:$L$299,">"&2),"",INDIRECT(ADDRESS(SMALL(SAISIE!$L$2:$L$299,ROW()-2),MATCH(D$1,SAISIE!$A$1:$H$1,0),4,1,"SAISIE"),1)) | E102: =IF(ROW()-2>COUNTIF(SAISIE!$L$2:$L$299,">"&2),0,INDIRECT(ADDRESS(SMALL(SAISIE!$L$2:$L$299,ROW()-2),MATCH(E$1,SAISIE!$A$1:$H$1,0),4,1,"SAISIE"),1)) -> 0
A103: =IF(ROW()-2>COUNTIF(SAISIE!$L$2:$L$299,">"&2),"",INDIRECT(ADDRESS(SMALL(SAISIE!$L$2:$L$299,ROW()-2),MATCH(A$1,SAISIE!$A$1:$H$1,0),4,1,"SAISIE"),1)) | C103: =IF(ROW()-2>COUNTIF(SAISIE!$L$2:$L$299,">"&2),"",INDIRECT(ADDRESS(SMALL(SAISIE!$L$2:$L$299,ROW()-2),MATCH(C$1,SAISIE!$A$1:$H$1,0),4,1,"SAISIE"),1)) | D103: =IF(ROW()-2>COUNTIF(SAISIE!$L$2:$L$299,">"&2),"",INDIRECT(ADDRESS(SMALL(SAISIE!$L$2:$L$299,ROW()-2),MATCH(D$1,SAISIE!$A$1:$H$1,0),4,1,"SAISIE"),1)) | E103: =IF(ROW()-2>COUNTIF(SAISIE!$L$2:$L$299,">"&2),0,INDIRECT(ADDRESS(SMALL(SAISIE!$L$2:$L$299,ROW()-2),MATCH(E$1,SAISIE!$A$1:$H$1,0),4,1,"SAISIE"),1)) -> 0
A104: =IF(ROW()-2>COUNTIF(SAISIE!$L$2:$L$299,">"&2),"",INDIRECT(ADDRESS(SMALL(SAISIE!$L$2:$L$299,ROW()-2),MATCH(A$1,SAISIE!$A$1:$H$1,0),4,1,"SAISIE"),1)) | C104: =IF(ROW()-2>COUNTIF(SAISIE!$L$2:$L$299,">"&2),"",INDIRECT(ADDRESS(SMALL(SAISIE!$L$2:$L$299,ROW()-2),MATCH(C$1,SAISIE!$A$1:$H$1,0),4,1,"SAISIE"),1)) | D104: =IF(ROW()-2>COUNTIF(SAISIE!$L$2:$L$299,">"&2),"",INDIRECT(ADDRESS(SMALL(SAISIE!$L$2:$L$299,ROW()-2),MATCH(D$1,SAISIE!$A$1:$H$1,0),4,1,"SAISIE"),1)) | E104: =IF(ROW()-2>COUNTIF(SAISIE!$L$2:$L$299,">"&2),0,INDIRECT(ADDRESS(SMALL(SAISIE!$L$2:$L$299,ROW()-2),MATCH(E$1,SAISIE!$A$1:$H$1,0),4,1,"SAISIE"),1)) -> 0
A105: =IF(ROW()-2>COUNTIF(SAISIE!$L$2:$L$299,">"&2),"",INDIRECT(ADDRESS(SMALL(SAISIE!$L$2:$L$299,ROW()-2),MATCH(A$1,SAISIE!$A$1:$H$1,0),4,1,"SAISIE"),1)) | C105: =IF(ROW()-2>COUNTIF(SAISIE!$L$2:$L$299,">"&2),"",INDIRECT(ADDRESS(SMALL(SAISIE!$L$2:$L$299,ROW()-2),MATCH(C$1,SAISIE!$A$1:$H$1,0),4,1,"SAISIE"),1)) | D105: =IF(ROW()-2>COUNTIF(SAISIE!$L$2:$L$299,">"&2),"",INDIRECT(ADDRESS(SMALL(SAISIE!$L$2:$L$299,ROW()-2),MATCH(D$1,SAISIE!$A$1:$H$1,0),4,1,"SAISIE"),1)) | E105: =IF(ROW()-2>COUNTIF(SAISIE!$L$2:$L$299,">"&2),0,INDIRECT(ADDRESS(SMALL(SAISIE!$L$2:$L$299,ROW()-2),MATCH(E$1,SAISIE!$A$1:$H$1,0),4,1,"SAISIE"),1)) -> 0
A106: =IF(ROW()-2>COUNTIF(SAISIE!$L$2:$L$299,">"&2),"",INDIRECT(ADDRESS(SMALL(SAISIE!$L$2:$L$299,ROW()-2),MATCH(A$1,SAISIE!$A$1:$H$1,0),4,1,"SAISIE"),1)) | C106: =IF(ROW()-2>COUNTIF(SAISIE!$L$2:$L$299,">"&2),"",INDIRECT(ADDRESS(SMALL(SAISIE!$L$2:$L$299,ROW()-2),MATCH(C$1,SAISIE!$A$1:$H$1,0),4,1,"SAISIE"),1)) | D106: =IF(ROW()-2>COUNTIF(SAISIE!$L$2:$L$299,">"&2),"",INDIRECT(ADDRESS(SMALL(SAISIE!$L$2:$L$299,ROW()-2),MATCH(D$1,SAISIE!$A$1:$H$1,0),4,1,"SAISIE"),1)) | E106: =IF(ROW()-2>COUNTIF(SAISIE!$L$2:$L$299,">"&2),0,INDIRECT(ADDRESS(SMALL(SAISIE!$L$2:$L$299,ROW()-2),MATCH(E$1,SAISIE!$A$1:$H$1,0),4,1,"SAISIE"),1)) -> 0
A107: =IF(ROW()-2>COUNTIF(SAISIE!$L$2:$L$299,">"&2),"",INDIRECT(ADDRESS(SMALL(SAISIE!$L$2:$L$299,ROW()-2),MATCH(A$1,SAISIE!$A$1:$H$1,0),4,1,"SAISIE"),1)) | C107: =IF(ROW()-2>COUNTIF(SAISIE!$L$2:$L$299,">"&2),"",INDIRECT(ADDRESS(SMALL(SAISIE!$L$2:$L$299,ROW()-2),MATCH(C$1,SAISIE!$A$1:$H$1,0),4,1,"SAISIE"),1)) | D107: =IF(ROW()-2>COUNTIF(SAISIE!$L$2:$L$299,">"&2),"",INDIRECT(ADDRESS(SMALL(SAISIE!$L$2:$L$299,ROW()-2),MATCH(D$1,SAISIE!$A$1:$H$1,0),4,1,"SAISIE"),1)) | E107: =IF(ROW()-2>COUNTIF(SAISIE!$L$2:$L$299,">"&2),0,INDIRECT(ADDRESS(SMALL(SAISIE!$L$2:$L$299,ROW()-2),MATCH(E$1,SAISIE!$A$1:$H$1,0),4,1,"SAISIE"),1)) -> 0
A108: =IF(ROW()-2>COUNTIF(SAISIE!$L$2:$L$299,">"&2),"",INDIRECT(ADDRESS(SMALL(SAISIE!$L$2:$L$299,ROW()-2),MATCH(A$1,SAISIE!$A$1:$H$1,0),4,1,"SAISIE"),1)) | C108: =IF(ROW()-2>COUNTIF(SAISIE!$L$2:$L$299,">"&2),"",INDIRECT(ADDRESS(SMALL(SAISIE!$L$2:$L$299,ROW()-2),MATCH(C$1,SAISIE!$A$1:$H$1,0),4,1,"SAISIE"),1)) | D108: =IF(ROW()-2>COUNTIF(SAISIE!$L$2:$L$299,">"&2),"",INDIRECT(ADDRESS(SMALL(SAISIE!$L$2:$L$299,ROW()-2),MATCH(D$1,SAISIE!$A$1:$H$1,0),4,1,"SAISIE"),1)) | E108: =IF(ROW()-2>COUNTIF(SAISIE!$L$2:$L$299,">"&2),0,INDIRECT(ADDRESS(SMALL(SAISIE!$L$2:$L$299,ROW()-2),MATCH(E$1,SAISIE!$A$1:$H$1,0),4,1,"SAISIE"),1)) -> 0
... A300: =IF(ROW()-2>COUNTIF(SAISIE!$L$2:$L$299,">"&2),"",INDIRECT(ADDRESS(SMALL(SAISIE!$L$2:$L$299,ROW()-2),MATCH(A$1,SAISIE!$A$1:$H$1,0),4,1,"SAISIE"),1)) | C300: =IF(ROW()-2>COUNTIF(SAISIE!$L$2:$L$299,">"&2),"",INDIRECT(ADDRESS(SMALL(SAISIE!$L$2:$L$299,ROW()-2),MATCH(C$1,SAISIE!$A$1:$H$1,0),4,1,"SAISIE"),1)) | D300: =IF(ROW()-2>COUNTIF(SAISIE!$L$2:$L$299,">"&2),"",INDIRECT(ADDRESS(SMALL(SAISIE!$L$2:$L$299,ROW()-2),MATCH(D$1,SAISIE!$A$1:$H$1,0),4,1,"SAISIE"),1)) | E300: =IF(ROW()-2>COUNTIF(SAISIE!$L$2:$L$299,">"&2),0,INDIRECT(ADDRESS(SMALL(SAISIE!$L$2:$L$299,ROW()-2),MATCH(E$1,SAISIE!$A$1:$H$1,0),4,1,"SAISIE"),1)) -> 0

Sheet Ventilation par compte
A1: 421000 | C1: Montant total | D1: =D160 -> 0 | F1: 431100 | H1: Montant total | I1: =I160 -> 0 | K1: 437300 | M1: Montant total | N1: =N160 -> 0 | P1: 437350 | R1: Montant total | S1: =S160 -> 0 | U1: 437400 | W1: Montant total | X1: =X160 -> 0 | Z1: 437800 | AB1: Montant total | AC1: =AC160 -> 0 | AE1: 442100 | AG1: Montant total | AH1: =AH160 -> 0 | AJ1: 467010 | AL1: Montant total | AM1: =AM160 -> 0 | AO1: 467020 | AQ1: Montant total | AR1: =AR160 -> 0 | AT1: 467030 | AV1: Montant total | AW1: =AW160 -> 0 | AY1: 467050 | BA1: Montant total | BB1: =BB160 -> 0 | BD1: 467080 | BF1: Montant total | BG1: =BG160 -> 0 | BI1: 467100 | BK1: Montant total | BL1: =BL160 -> 0 | BN1: 467110 | BP1: Montant total | BQ1: =BQ160 -> 0 | BS1: 467120 | BU1: Montant total | BV1: =BV160 -> 0 | BX1: 467130 | BZ1: Montant total | CA1: =CA160 -> 0 | CC1: 467140 | CE1: Montant total | CF1: =CF160 -> 0 | CH1: 467180 | CJ1: Montant total | CK1: =CK160 -> 0 | CM1: 467190 | CO1: Montant total | CP1: =CP160 -> 0 | CR1: 467220 | CT1: Montant total | CU1: =CU160 -> 0 | CW1: 471000 | CY1: Montant total | CZ1: =CZ160 -> 0 | DB1: 580000 | DD1: Montant total | DE1: =DE160 -> 0 | DG1: 606400 | DI1: Montant total | DJ1: =DJ160 -> 0 | DL1: 615500 | DN1: Montant total | DO1: =DO160 -> 0 | DQ1: 616000 | DS1: Montant total | DT1: =DT160 -> 0 | DV1: 580000 | DX1: Montant total | DY1: =DY160 -> 0 | EA1: 606400 | EC1: Montant total | ED1: =ED160 -> 0 | EF1: 615500 | EH1: Montant total | EI1: =EI160 -> 0 | EK1: 616000 | EM1: Montant total | EN1: =EN160 -> 0 | EP1: 618500 | ER1: Montant total | ES1: =ES160 -> 0 | EU1: 622600 | EW1: Montant total | EX1: =EX160 -> 0 | EZ1: 625700 | FB1: Montant total | FC1: =FC160 -> 0 | FE1: 626000 | FG1: Montant total | FH1: =FH160 -> 0 | FJ1: 626500 | FL1: Montant total | FM1: =FM160 -> 0 | FO1: 627800 | FQ1: Montant total | FR1: =FR160 -> 0 | FT1: 641100 | FV1: Montant total | FW1: =FW160 -> 0 | FY1: 645100 | GA1: Montant total | GB1: =GB160 -> 0 | GD1: 645300 | GF1: Montant total | GG1: =GG160 -> 0 | GI1: 645350 | GK1: Montant total | GL1: =GL160 -> 0 | GN1: 645400 | GP1: Montant total | GQ1: =GQ160 -> 0 | GS1: 645800 | GU1: Montant total | GV1: =GV160 -> 0 | GX1: 648000 | GZ1: Montant total | HA1: =HA160 -> 0 | HC1: 791180 | HE1: Montant total | HF1: =HF160 -> 0 | HH1: 791181 | HJ1: Montant total | HK1: =HK160 -> 0 | HM1: 791240 | HO1: Montant total | HP1: =HP160 -> 0
A2: Date | B2: Section | C2: Désignation de l'opération | D2: Montant | F2: Date | G2: Section | H2: Désignation de l'opération | I2: Montant | K2: Date | L2: Section | M2: Désignation de l'opération | N2: Montant | P2: Date | Q2: Section | R2: Désignation de l'opération | S2: Montant | U2: Date | V2: Section | W2: Désignation de l'opération | X2: Montant | Z2: Date | AA2: Section | AB2: Désignation de l'opération | AC2: Montant | AE2: Date | AF2: Section | AG2: Désignation de l'opération | AH2: Montant | AJ2: Date | AK2: Section | AL2: Désignation de l'opération | AM2: Montant | AO2: Date | AP2: Section | AQ2: Désignation de l'opération | AR2: Montant | AT2: Date | AU2: Section | AV2: Désignation de l'opération | AW2: Montant | AY2: Date | AZ2: Section | BA2: Désignation de l'opération | BB2: Montant | BD2: Date | BE2: Section | BF2: Désignation de l'opération | BG2: Montant | BI2: Date | BJ2: Section | BK2: Désignation de l'opération | BL2: Montant | BN2: Date | BO2: Section | BP2: Désignation de l'opération | BQ2: Montant | BS2: Date | BT2: Section | BU2: Désignation de l'opération | BV2: Montant | BX2: Date | BY2: Section | BZ2: Désignation de l'opération | CA2: Montant | CC2: Date | CD2: Section | CE2: Désignation de l'opération | CF2: Montant | CH2: Date | CI2: Section | CJ2: Désignation de l'opération | CK2: Montant | CM2: Date | CN2: Section | CO2: Désignation de l'opération | CP2: Montant | CR2: Date | CS2: Section | CT2: Désignation de l'opération | CU2: Montant | CW2: Date | CX2: Section | CY2: Désignation de l'opération | CZ2: Montant | DB2: Date | DC2: Section | DD2: Désignation de l'opération | DE2: Montant | DG2: Date | DH2: Section | DI2: Désignation de l'opération | DJ2: Montant | DL2: Date | DM2: Section | DN2: Désignation de l'opération | DO2: Montant | DQ2: Date | DR2: Section | DS2: Désignation de l'opération | DT2: Montant | DV2: Date | DW2: Section | DX2: Désignation de l'opération | DY2: Montant | EA2: Date | EB2: Section | EC2: Désignation de l'opération | ED2: Montant | EF2: Date | EG2: Section | EH2: Désignation de l'opération | EI2: Montant | EK2: Date | EL2: Section | EM2: Désignation de l'opération | EN2: Montant | EP2: Date | EQ2: Section | ER2: Désignation de l'opération | ES2: Montant | EU2: Date | EV2: Section | EW2: Désignation de l'opération | EX2: Montant | EZ2: Date | FA2: Section | FB2: Désignation de l'opération | FC2: Montant | FE2: Date | FF2: Section | FG2: Désignation de l'opération | FH2: Montant | FJ2: Date | FK2: Section | FL2: Désignation de l'opération | FM2: Montant | FO2: Date | FP2: Section | FQ2: Désignation de l'opération | FR2: Montant | FT2: Date | FU2: Section | FV2: Désignation de l'opération | FW2: Montant | FY2: Date | FZ2: Section | GA2: Désignation de l'opération | GB2: Montant | GD2: Date | GE2: Section | GF2: Désignation de l'opération | GG2: Montant | GI2: Date | GJ2: Section | GK2: Désignation de l'opération | GL2: Montant | GN2: Date | GO2: Section | GP2: Désignation de l'opération | GQ2: Montant | GS2: Date | GT2: Section | GU2: Désignation de l'opération | GV2: Montant | GX2: Date | GY2: Section | GZ2: Désignation de l'opération | HA2: Montant | HC2: Date | HD2: Section | HE2: Désignation de l'opération | HF2: Montant | HH2: Date | HI2: Section | HJ2: Désignation de l'opération | HK2: Montant | HM2: Date | HN2: Section | HO2: Désignation de l'opération | HP2: Montant
