Workbook

Sheet 2019
A1: Groupe | B1: GEH1a | G1: GEH1b | J1: GEH2 | O1: GEH3 | Q1: GEH4 | W1: GEH5 | AA1: GEH6 | AE1: GEH7 | AH1: GEH8 | AL1: GEH9 | AQ1: GEH10 | AT1: GEH11 | AU1: GEH12 | AV1: GEH13 | AY1: GEH14
A2: T | B2: 410 | C2: 430 | D2: 430 | E2: 475 | F2: 480 | G2: 270 | H2: 345 | I2: 415 | J2: 400 | K2: 330 | L2: 310 | M2: 370 | N2: 370 | O2: 430 | P2: 440 | Q2: 265 | R2: 135 | S2: 273 | T2: 75 | U2: 265 | V2: 150 | W2: 322 | X2: 280 | Y2: 345 | Z2: 360 | AA2: 330 | AB2: 490 | AC2: 325 | AD2: 375 | AE2: 430 | AF2: 480 | AG2: 380 | AH2: 410 | AI2: 390 | AJ2: 445 | AK2: 475 | AL2: 490 | AM2: 470 | AN2: 430 | AO2: 545 | AP2: 395 | AQ2: 505 | AR2: 580 | AS2: 501 | AU2: 435 | AV2: 300 | AW2: 368 | AX2: 365 | AY2: 455 | AZ2: 440
A3: T(EPI) | B3: 350 | C3: 415 | D3: 320 | E3: 285 | F3: 395 | G3: 215 | H3: 200 | I3: 270 | J3: 315 | K3: 235 | L3: 175 | M3: 220 | N3: 240 | O3: 318 | P3: 360 | Q3: 0 | R3: 135 | S3: 0 | T3: 75 | U3: 0 | V3: 150 | W3: 80 | X3: 150 | Y3: 320 | Z3: 360 | AA3: 0 | AB3: 0 | AC3: 0 | AD3: 0 | AE3: 60 | AF3: 280 | AG3: 200 | AH3: 0 | AI3: 0 | AJ3: 105 | AK3: 0 | AL3: 195 | AM3: 250 | AN3: 110 | AO3: 70 | AP3: 395 | AQ3: 0 | AR3: 0 | AS3: 80 | AU3: 140 | AV3: 130 | AW3: 165 | AX3: 270 | AY3: 0 | AZ3: 0
A4: T(non exp) | B4: 0 | C4: 0 | D4: 0 | E4: 0 | F4: 0 | G4: 0 | H4: 0 | I4: 0 | J4: 0 | K4: 0 | L4: 0 | M4: 0 | N4: 0 | O4: 0 | P4: 0 | Q4: 60 | R4: 0 | S4: 30 | T4: 0 | U4: 0 | V4: 0 | W4: 30 | X4: 0 | Y4: 20 | Z4: 0 | AA4: 0 | AB4: 60 | AC4: 0 | AD4: 0 | AE4: 0 | AF4: 0 | AG4: 0 | AH4: 0 | AI4: 0 | AJ4: 0 | AK4: 0 | AL4: 30 | AM4: 60 | AN4: 0 | AO4: 60 | AP4: 0 | AQ4: 60 | AR4: 40 | AS4: 45 | AU4: 50 | AV4: 0 | AW4: 0 | AX4: 0 | AY4: 60 | AZ4: 60
A5: FPA | B5: 40 | C5: 40 | D5: 40 | E5: 40 | F5: 40 | G5: 40 | H5: 40 | I5: 40 | J5: 40 | K5: 40 | L5: 40 | M5: 40 | N5: 40 | O5: 40 | P5: 40 | Q5: 1 | R5: 40 | S5: 1 | T5: 40 | U5: 1 | V5: 40 | W5: 40 | X5: 40 | Y5: 40 | Z5: 40 | AA5: 1 | AB5: 1 | AC5: 1 | AD5: 1 | AE5: 40 | AF5: 40 | AG5: 40 | AH5: 1 | AI5: 1 | AJ5: 20 | AK5: 1 | AL5: 40 | AM5: 40 | AN5: 40 | AO5: 40 | AP5: 40 | AQ5: 1 | AR5: 1 | AS5: 40 | AU5: 20 | AV5: 40 | AW5: 40 | AX5: 40 | AY5: 1 | AZ5: 1
A6: Benzo(a)pyrène
A7: C(CEP) | B7: 0.0041 | C7: 0.0019 | D7: 0.00028 | E7: 0.0026 | F7: 0.0022 | G7: 0.0011 | H7: 0.0034 | I7: 0.0031 | J7: 0.00036 | K7: 0.0015 | L7: 5.3e-05 | M7: 0.00022 | N7: 0.00016 | O7: 0.0002 | P7: 0.00023 | Q7: 9.3e-05 | R7: 3.7e-05 | S7: 2.1e-05 | T7: 0.0012 | U7: 1.9e-05 | V7: 0.0056 | X7: 2.7e-05 | Z7: 0.0021 | AA7: 1.5e-05 | AD7: 2.6e-05 | AE7: 3.7e-05 | AF7: 0.00044 | AG7: 0.00017 | AH7: 1.2e-05 | AI7: 1.3e-05 | AJ7: 1.1e-05 | AK7: 1.8e-05 | AL7: 0.00032 | AM7: 5.1e-05 | AN7: 0.00027 | AO7: 0.00021 | AU7: 1.2e-05 | AV7: 0.00033 | AW7: 0.0016 | AX7: 0.00092
A8: Concentration corrigée | B8: =B7/B5 -> 0.0001025 | C8: =C7/C5 -> 4.75e-05 | D8: =D7/D5 -> 7e-06 | E8: =E7/E5 -> 6.5e-05 | F8: =F7/F5 -> 5.5e-05 | G8: =G7/G5 -> 2.75e-05 | H8: =H7/H5 -> 8.5e-05 | I8: =I7/I5 -> 7.75e-05 | ... P8: =P7/P5 -> 5.75e-06 | Q8: =((((Q7*(Q2-Q3-Q4))+(Q7*(Q3/Q5)))/(Q2-Q4))*(Q2/(Q2+R2)))+((((R7*(R2-R3-R4))+(R7*(R3/R5)))/(R2-R4))*(R2/(Q2+R2))) -> 6.1924688e-05 | S8: =((((S7*(S2-S3-S4))+(S7*(S3/S5)))/(S2-S4))*(S2/(S2+T2)))+((((T7*(T2-T3-T4))+(T7*(T3/T5)))/(T2-T4))*(T2/(S2+T2))) -> 2.2939655e-05 | U8: =((((U7*(U2-U3-U4))+(U7*(U3/U5)))/(U2-U4))*(U2/(U2+V2)))+((((V7*(V2-V3-V4))+(V7*(V3/V5)))/(V2-V4))*(V2/(U2+V2))) -> 6.273494e-05 | X8: =((X7*(X2-X3-X4))+(X7*(X3/X5)))/(X2-X4) -> 1.2897321e-05 | Z8: =((Z7*(Z2-Z3-Z4))+(Z7*(Z3/Z5)))/(Z2-Z4) -> 5.25e-05 | AA8: =((AA7*(AA2-AA3-AA4))+(AA7*(AA3/AA5)))/(AA2-AA4) -> 1.5e-05 | AD8: =((AD7*(AD2-AD3-AD4))+(AD7*(AD3/AD5)))/(AD2-AD4) -> 2.6e-05 | AE8: =((AE7*(AE2-AE3-AE4))+(AE7*(AE3/AE5)))/(AE2-AE4) -> 3.1966279e-05 | AF8: =((AF7*(AF2-AF3-AF4))+(AF7*(AF3/AF5)))/(AF2-AF4) -> 0.00018975 | AG8: =((AG7*(AG2-AG3-AG4))+(AG7*(AG3/AG5)))/(AG2-AG4) -> 8.2763158e-05 | AH8: =((AH7*(AH2-AH3-AH4))+(AH7*(AH3/AH5)))/(AH2-AH4) -> 1.2e-05 | AI8: =((AI7*(AI2-AI3-AI4))+(AI7*(AI3/AI5)))/(AI2-AI4) -> 1.3e-05 | AJ8: =((AJ7*(AJ2-AJ3-AJ4))+(AJ7*(AJ3/AJ5)))/(AJ2-AJ4) -> 8.5342697e-06 | AK8: =((AK7*(AK2-AK3-AK4))+(AK7*(AK3/AK5)))/(AK2-AK4) -> 1.8e-05 | ... AO8: =((AO7*(AO2-AO3-AO4))+(AO7*(AO3/AO5)))/(AO2-AO4) -> 0.00018044845 | AU8: =((AU7*(AU2-AU3-AU4))+(AU7*(AU3/AU5)))/(AU2-AU4) -> 7.8545455e-06 | AV8: =((AV7*(AV2-AV3-AV4))+(AV7*(AV3/AV5)))/(AV2-AV4) -> 0.000190575 | AW8: =((AW7*(AW2-AW3-AW4))+(AW7*(AW3/AW5)))/(AW2-AW4) -> 0.00090054348 | AX8: =((AX7*(AX2-AX3-AX4))+(AX7*(AX3/AX5)))/(AX2-AX4) -> 0.00025646575
A9: Concentration/VLEP | B9: =B8/0.00015 -> 0.68333333 | C9: =C8/0.00015 -> 0.31666667 | D9: =D8/0.00015 -> 0.046666667 | E9: =E8/0.00015 -> 0.43333333 | F9: =F8/0.00015 -> 0.36666667 | G9: =G8/0.00015 -> 0.18333333 | H9: =H8/0.00015 -> 0.56666667 | I9: =I8/0.00015 -> 0.51666667 | ... Q9: =Q8/0.00015 -> 0.41283125 | S9: =S8/0.00015 -> 0.15293103 | U9: =U8/0.00015 -> 0.41823293 | X9: =X8/0.00015 -> 0.085982143 | Z9: =Z8/0.00015 -> 0.35 | AA9: =AA8/0.00015 -> 0.1 | AD9: =AD8/0.00015 -> 0.17333333 | AE9: =AE8/0.00015 -> 0.21310853 | AF9: =AF8/0.00015 -> 1.265 | AG9: =AG8/0.00015 -> 0.55175439 | AH9: =AH8/0.00015 -> 0.08 | AI9: =AI8/0.00015 -> 0.086666667 | AJ9: =AJ8/0.00015 -> 0.056895131 | AK9: =AK8/0.00015 -> 0.12 | ... AO9: =AO8/0.00015 -> 1.2029897 | AU9: =AU8/0.00015 -> 0.052363636 | AV9: =AV8/0.00015 -> 1.2705 | AW9: =AW8/0.00015 -> 6.0036232 | AX9: =AX8/0.00015 -> 1.7097717
A10: En % | B10: =B9 -> 0.68333333 | C10: =C9 -> 0.31666667 | D10: =D9 -> 0.046666667 | E10: =E9 -> 0.43333333 | F10: =F9 -> 0.36666667 | G10: =G9 -> 0.18333333 | H10: =H9 -> 0.56666667 | I10: =I9 -> 0.51666667 | ... Q10: =Q9 -> 0.41283125 | S10: =S9 -> 0.15293103 | U10: =U9 -> 0.41823293 | X10: =X9 -> 0.085982143 | Z10: =Z9 -> 0.35 | AA10: =AA9 -> 0.1 | AD10: =AD9 -> 0.17333333 | AE10: =AE9 -> 0.21310853 | AF10: =AF9 -> 1.265 | AG10: =AG9 -> 0.55175439 | AH10: =AH9 -> 0.08 | AI10: =AI9 -> 0.086666667 | AJ10: =AJ9 -> 0.056895131 | AK10: =AK9 -> 0.12 | ... AO10: =AO9 -> 1.2029897 | AU10: =AU9 -> 0.052363636 | AV10: =AV9 -> 1.2705 | AW10: =AW9 -> 6.0036232 | AX10: =AX9 -> 1.7097717
A11: Benzène
A12: C(CEP) | B12: 0.28 | C12: 0.44 | D12: 0.017 | E12: 0.26 | F12: 0.24 | G12: 0.069 | H12: 0.2 | I12: 0.054 | J12: 0.023 | K12: 0.48 | L12: 0.063 | M12: 0.022 | N12: 0.03 | O12: 0.03 | P12: 0.011 | Q12: 0.024 | R12: 0.0188 | S12: 0.021 | T12: 0.04 | U12: 0.046 | V12: 0.24 | W12: 0.096 | X12: 0.016 | Y12: 0.013 | AA12: 0.12 | AB12: 0.083 | AC12: 0.067 | AD12: 0.061 | AE12: 0.011 | AF12: 0.053 | AG12: 0.037 | AH12: 0.2 | AI12: 0.018 | AJ12: 0.011 | AK12: 0.011 | AM12: 0.016 | AN12: 0.062 | AO12: 0.035 | AP12: 0.035 | AQ12: 0.033 | AR12: 0.26 | AS12: 0.056 | AV12: 0.016 | AY12: 0.34 | AZ12: 0.22
A13: Concentration corrigée | B13: =B12/B5 -> 0.007 | C13: =C12/C5 -> 0.011 | D13: =D12/D5 -> 0.000425 | E13: =E12/E5 -> 0.0065 | F13: =F12/F5 -> 0.006 | G13: =G12/G5 -> 0.001725 | H13: =H12/H5 -> 0.005 | I13: =I12/I5 -> 0.00135 | ... P13: =P12/P5 -> 0.000275 | Q13: =((((Q12*(Q2-Q3-Q4))+(Q12*(Q3/Q5)))/(Q2-Q4))*(Q2/(Q2+R2)))+((((R12*(R2-R3-R4))+(R12*(R3/R5)))/(R2-R4))*(R2/(Q2+R2))) -> 0.016058625 | S13: =((((S12*(S2-S3-S4))+(S12*(S3/S5)))/(S2-S4))*(S2/(S2+T2)))+((((T12*(T2-T3-T4))+(T12*(T3/T5)))/(T2-T4))*(T2/(S2+T2))) -> 0.016689655 | U13: =((((U12*(U2-U3-U4))+(U12*(U3/U5)))/(U2-U4))*(U2/(U2+V2)))+((((V12*(V2-V3-V4))+(V12*(V3/V5)))/(V2-V4))*(V2/(U2+V2))) -> 0.031542169 | W13: =((W12*(W2-W3-W4))+(W12*(W3/W5)))/(W2-W4) -> 0.070356164 | X13: =((X12*(X2-X3-X4))+(X12*(X3/X5)))/(X2-X4) -> 0.0076428571 | Y13: =((Y12*(Y2-Y3-Y4))+(Y12*(Y3/Y5)))/(Y2-Y4) -> 0.00052 | AA13: =((AA12*(AA2-AA3-AA4))+(AA12*(AA3/AA5)))/(AA2-AA4) -> 0.12 | AB13: =((AB12*(AB2-AB3-AB4))+(AB12*(AB3/AB5)))/(AB2-AB4) -> 0.083 | AC13: =((AC12*(AC2-AC3-AC4))+(AC12*(AC3/AC5)))/(AC2-AC4) -> 0.067 | AD13: =((AD12*(AD2-AD3-AD4))+(AD12*(AD3/AD5)))/(AD2-AD4) -> 0.061 | AE13: =((AE12*(AE2-AE3-AE4))+(AE12*(AE3/AE5)))/(AE2-AE4) -> 0.0095034884 | AF13: =((AF12*(AF2-AF3-AF4))+(AF12*(AF3/AF5)))/(AF2-AF4) -> 0.02285625 | AG13: =((AG12*(AG2-AG3-AG4))+(AG12*(AG3/AG5)))/(AG2-AG4) -> 0.018013158 | AH13: =((AH12*(AH2-AH3-AH4))+(AH12*(AH3/AH5)))/(AH2-AH4) -> 0.2 | AI13: =((AI12*(AI2-AI3-AI4))+(AI12*(AI3/AI5)))/(AI2-AI4) -> 0.018 | AJ13: =((AJ12*(AJ2-0-AJ4))+(AJ12*(0/1)))/(AJ2-AJ4) -> 0.011 | AK13: =((AK12*(AK2-AK3-AK4))+(AK12*(AK3/AK5)))/(AK2-AK4) -> 0.011 | AM13: =((AM12*(AM2-AM3-AM4))+(AM12*(AM3/AM5)))/(AM2-AM4) -> 0.0064878049 | AN13: =((AN12*(AN2-AN3-AN4))+(AN12*(AN3/AN5)))/(AN2-AN4) -> 0.046536047 | AO13: =((AO12*(AO2-AO3-AO4))+(AO12*(AO3/AO5)))/(AO2-AO4) -> 0.030074742 | AP13: =((AP12*(AP2-AP3-AP4))+(AP12*(AP3/AP5)))/(AP2-AP4) -> 0.000875 | AQ13: =((AQ12*(AQ2-AQ3-AQ4))+(AQ12*(AQ3/AQ5)))/(AQ2-AQ4) -> 0.033 | AR13: =((AR12*(AR2-AR3-AR4))+(AR12*(AR3/AR5)))/(AR2-AR4) -> 0.26 | AS13: =((AS12*(AS2-AS3-AS4))+(AS12*(AS3/AS5)))/(AS2-AS4) -> 0.046421053 | AV13: =((AV12*(AV2-AV3-AV4))+(AV12*(AV3/AV5)))/(AV2-AV4) -> 0.00924 | AY13: =((AY12*(AY2-AY3-AY4))+(AY12*(AY3/AY5)))/(AY2-AY4) -> 0.34 | AZ13: =((AZ12*(AZ2-AZ3-AZ4))+(AZ12*(AZ3/AZ5)))/(AZ2-AZ4) -> 0.22
A14: Concentration/VLEP | B14: =B13/3.25 -> 0.0021538462 | C14: =C13/3.25 -> 0.0033846154 | D14: =D13/3.25 -> 0.00013076923 | E14: =E13/3.25 -> 0.002 | F14: =F13/3.25 -> 0.0018461538 | G14: =G13/3.25 -> 0.00053076923 | H14: =H13/3.25 -> 0.0015384615 | I14: =I13/3.25 -> 0.00041538462 | ... Q14: =Q13/3.25 -> 0.0049411154 | S14: =S13/3.25 -> 0.0051352785 | U14: =U13/3.25 -> 0.0097052827 | W14: =W13/3.25 -> 0.021648051 | X14: =X13/3.25 -> 0.0023516484 | Y14: =Y13/3.25 -> 0.00016 | AA14: =AA13/3.25 -> 0.036923077 | AB14: =AB13/3.25 -> 0.025538462 | AC14: =AC13/3.25 -> 0.020615385 | AD14: =AD13/3.25 -> 0.018769231 | AE14: =AE13/3.25 -> 0.0029241503 | AF14: =AF13/3.25 -> 0.0070326923 | AG14: =AG13/3.25 -> 0.0055425101 | AH14: =AH13/3.25 -> 0.061538462 | ... AK14: =AK13/3.25 -> 0.0033846154 | AM14: =AM13/3.25 -> 0.0019962477 | AN14: =AN13/3.25 -> 0.014318784 | AO14: =AO13/3.25 -> 0.0092537669 | AP14: =AP13/3.25 -> 0.00026923077 | AQ14: =AQ13/3.25 -> 0.010153846 | AR14: =AR13/3.25 -> 0.08 | AS14: =AS13/3.25 -> 0.014283401 | AV14: =AV13/3.25 -> 0.0028430769 | AY14: =AY13/3.25 -> 0.10461538 | AZ14: =AZ13/3.25 -> 0.067692308
A15: En % | B15: =B14 -> 0.0021538462 | C15: =C14 -> 0.0033846154 | D15: =D14 -> 0.00013076923 | E15: =E14 -> 0.002 | F15: =F14 -> 0.0018461538 | G15: =G14 -> 0.00053076923 | H15: =H14 -> 0.0015384615 | I15: =I14 -> 0.00041538462 | ... Q15: =Q14 -> 0.0049411154 | S15: =S14 -> 0.0051352785 | U15: =U14 -> 0.0097052827 | W15: =W14 -> 0.021648051 | X15: =X14 -> 0.0023516484 | Y15: =Y14 -> 0.00016 | AA15: =AA14 -> 0.036923077 | AB15: =AB14 -> 0.025538462 | AC15: =AC14 -> 0.020615385 | AD15: =AD14 -> 0.018769231 | AE15: =AE14 -> 0.0029241503 | AF15: =AF14 -> 0.0070326923 | AG15: =AG14 -> 0.0055425101 | AH15: =AH14 -> 0.061538462 | ... AK15: =AK14 -> 0.0033846154 | AM15: =AM14 -> 0.0019962477 | AN15: =AN14 -> 0.014318784 | AO15: =AO14 -> 0.0092537669 | AP15: =AP14 -> 0.00026923077 | AQ15: =AQ14 -> 0.010153846 | AR15: =AR14 -> 0.08 | AS15: =AS14 -> 0.014283401 | AV15: =AV14 -> 0.0028430769 | AY15: =AY14 -> 0.10461538 | AZ15: =AZ14 -> 0.067692308
A16: Valeur Poussière (Inhalable)
A17: C(CEP) | B17: 1.57 | C17: 1.65 | D17: 0.65 | E17: 2.09 | F17: 1.77 | G17: 2 | H17: 3.85 | I17: 2.67 | J17: 1.95 | K17: 5.03 | L17: 0.36 | M17: 0.45 | N17: 0.96 | O17: 0.56 | P17: 0.32 | Q17: 0.24 | R17: 0.67 | S17: 0.23 | T17: 0.94 | U17: 0.3 | V17: 4.03 | X17: 0.21 | Z17: 15.94 | AA17: 0.18 | AD17: 0.33 | AE17: 0.68 | AF17: 1.22 | AG17: 0.64 | AH17: 0.16 | AI17: 0.22 | AJ17: 2.09 | AK17: 0.4 | AL17: 1.09 | AM17: 0.27 | AN17: 0.46 | AO17: 0.28 | AU17: 3.5 | AV17: 1.64 | AW17: 2.6 | AX17: 4.18
A18: Concentration corrigée | B18: =B17/B5 -> 0.03925 | C18: =C17/C5 -> 0.04125 | D18: =D17/D5 -> 0.01625 | E18: =E17/E5 -> 0.05225 | F18: =F17/F5 -> 0.04425 | G18: =G17/G5 -> 0.05 | H18: =H17/H5 -> 0.09625 | I18: =I17/I5 -> 0.06675 | ... P18: =P17/P5 -> 0.008 | Q18: =((((Q17*(Q2-Q3-Q4))+(Q17*(Q3/Q5)))/(Q2-Q4))*(Q2/(Q2+R2)))+((((R17*(R2-R3-R4))+(R17*(R3/R5)))/(R2-R4))*(R2/(Q2+R2))) -> 0.16465313 | S18: =((((S17*(S2-S3-S4))+(S17*(S3/S5)))/(S2-S4))*(S2/(S2+T2)))+((((T17*(T2-T3-T4))+(T17*(T3/T5)))/(T2-T4))*(T2/(S2+T2))) -> 0.18549569 | U18: =((((U17*(U2-U3-U4))+(U17*(U3/U5)))/(U2-U4))*(U2/(U2+V2)))+((((V17*(V2-V3-V4))+(V17*(V3/V5)))/(V2-V4))*(V2/(U2+V2))) -> 0.22798193 | X18: =((X17*(X2-X3-X4))+(X17*(X3/X5)))/(X2-X4) -> 0.1003125 | Z18: =((Z17*(Z2-Z3-Z4))+(Z17*(Z3/Z5)))/(Z2-Z4) -> 0.3985 | AA18: =((AA17*(AA2-AA3-AA4))+(AA17*(AA3/AA5)))/(AA2-AA4) -> 0.18 | AD18: =((AD17*(AD2-AD3-AD4))+(AD17*(AD3/AD5)))/(AD2-AD4) -> 0.33 | AE18: =((AE17*(AE2-AE3-AE4))+(AE17*(AE3/AE5)))/(AE2-AE4) -> 0.58748837 | AF18: =((AF17*(AF2-AF3-AF4))+(AF17*(AF3/AF5)))/(AF2-AF4) -> 0.526125 | AG18: =((AG17*(AG2-AG3-AG4))+(AG17*(AG3/AG5)))/(AG2-AG4) -> 0.31157895 | AH18: =((AH17*(AH2-AH3-AH4))+(AH17*(AH3/AH5)))/(AH2-AH4) -> 0.16 | AI18: =((AI17*(AI2-AI3-AI4))+(AI17*(AI3/AI5)))/(AI2-AI4) -> 0.22 | AJ18: =((AJ17*(AJ2-AJ3-AJ4))+(AJ17*(AJ3/AJ5)))/(AJ2-AJ4) -> 1.6215112 | AK18: =((AK17*(AK2-AK3-AK4))+(AK17*(AK3/AK5)))/(AK2-AK4) -> 0.4 | ... AO18: =((AO17*(AO2-AO3-AO4))+(AO17*(AO3/AO5)))/(AO2-AO4) -> 0.24059794 | AU18: =((AU17*(AU2-AU3-AU4))+(AU17*(AU3/AU5)))/(AU2-AU4) -> 2.2909091 | AV18: =((AV17*(AV2-AV3-AV4))+(AV17*(AV3/AV5)))/(AV2-AV4) -> 0.9471 | AW18: =((AW17*(AW2-AW3-AW4))+(AW17*(AW3/AW5)))/(AW2-AW4) -> 1.4633832 | AX18: =((AX17*(AX2-AX3-AX4))+(AX17*(AX3/AX5)))/(AX2-AX4) -> 1.1652466
A19: Concentration/VLEP | B19: =B18/10 -> 0.003925 | C19: =C18/10 -> 0.004125 | D19: =D18/10 -> 0.001625 | E19: =E18/10 -> 0.005225 | F19: =F18/10 -> 0.004425 | G19: =G18/10 -> 0.005 | H19: =H18/10 -> 0.009625 | I19: =I18/10 -> 0.006675 | ... Q19: =Q18/10 -> 0.016465313 | S19: =S18/10 -> 0.018549569 | U19: =U18/10 -> 0.022798193 | X19: =X18/10 -> 0.01003125 | Z19: =Z18/10 -> 0.03985 | AA19: =AA18/10 -> 0.018 | AD19: =AD18/10 -> 0.033 | AE19: =AE18/10 -> 0.058748837 | AF19: =AF18/10 -> 0.0526125 | AG19: =AG18/10 -> 0.031157895 | AH19: =AH18/10 -> 0.016 | AI19: =AI18/10 -> 0.022 | AJ19: =AJ18/10 -> 0.16215112 | AK19: =AK18/10 -> 0.04 | ... AO19: =AO18/10 -> 0.024059794 | AU19: =AU18/10 -> 0.22909091 | AV19: =AV18/10 -> 0.09471 | AW19: =AW18/10 -> 0.14633832 | AX19: =AX18/10 -> 0.11652466
A20: En % | B20: =B19 -> 0.003925 | C20: =C19 -> 0.004125 | D20: =D19 -> 0.001625 | E20: =E19 -> 0.005225 | F20: =F19 -> 0.004425 | G20: =G19 -> 0.005 | H20: =H19 -> 0.009625 | I20: =I19 -> 0.006675 | ... Q20: =Q19 -> 0.016465313 | S20: =S19 -> 0.018549569 | U20: =U19 -> 0.022798193 | X20: =X19 -> 0.01003125 | Z20: =Z19 -> 0.03985 | AA20: =AA19 -> 0.018 | AD20: =AD19 -> 0.033 | AE20: =AE19 -> 0.058748837 | AF20: =AF19 -> 0.0526125 | AG20: =AG19 -> 0.031157895 | AH20: =AH19 -> 0.016 | AI20: =AI19 -> 0.022 | AJ20: =AJ19 -> 0.16215112 | AK20: =AK19 -> 0.04 | ... AO20: =AO19 -> 0.024059794 | AU20: =AU19 -> 0.22909091 | AV20: =AV19 -> 0.09471 | AW20: =AW19 -> 0.14633832 | AX20: =AX19 -> 0.11652466
A21: Valeur Poussière (Alvéolaire)
A22: C(CEP) | E22: 1.52 | F22: 0.86 | J22: 0.92 | K22: 1.09 | P22: 0.28 | X22: 0.18 | AE22: 0.14 | AH22: 0.14 | AI22: 0.15 | AJ22: 0.34 | AK22: 0.15 | AL22: 0.11 | AU22: 1.16 | AV22: 0.3
A23: Concentration corrigée | E23: =E22/E5 -> 0.038 | F23: =F22/F5 -> 0.0215 | J23: =J22/J5 -> 0.023 | K23: =K22/K5 -> 0.02725 | P23: =P22/P5 -> 0.007 | X23: =((X22*(X2-X3-X4))+(X22*(X3/X5)))/(X2-X4) -> 0.085982143 | AE23: =((AE22*(AE2-AE3-AE4))+(AE22*(AE3/AE5)))/(AE2-AE4) -> 0.12095349 | AH23: =((AH22*(AH2-AH3-AH4))+(AH22*(AH3/AH5)))/(AH2-AH4) -> 0.14 | AI23: =((AI22*(AI2-AI3-AI4))+(AI22*(AI3/AI5)))/(AI2-AI4) -> 0.15 | AJ23: =((AJ22*(AJ2-AJ3-AJ4))+(AJ22*(AJ3/AJ5)))/(AJ2-AJ4) -> 0.26378652 | AK23: =((AK22*(AK2-AK3-AK4))+(AK22*(AK3/AK5)))/(AK2-AK4) -> 0.15 | AL23: =((AL22*(AL2-AL3-AL4))+(AL22*(AL3/AL5)))/(AL2-AL4) -> 0.064535326 | AU23: =((AU22*(AU2-AU3-AU4))+(AU22*(AU3/AU5)))/(AU2-AU4) -> 0.75927273 | AV23: =((AV22*(AV2-AV3-AV4))+(AV22*(AV3/AV5)))/(AV2-AV4) -> 0.17325
A24: Concentration/VLEP | E24: =E23/5 -> 0.0076 | F24: =F23/5 -> 0.0043 | J24: =J23/5 -> 0.0046 | K24: =K23/5 -> 0.00545 | P24: =P23/5 -> 0.0014 | X24: =X23/5 -> 0.017196429 | AE24: =AE23/5 -> 0.024190698 | AH24: =AH23/5 -> 0.028 | AI24: =AI23/5 -> 0.03 | AJ24: =AJ23/5 -> 0.052757303 | AK24: =AK23/5 -> 0.03 | AL24: =AL23/5 -> 0.012907065 | AU24: =AU23/5 -> 0.15185455 | AV24: =AV23/5 -> 0.03465
A25: En % | E25: =E24 -> 0.0076 | F25: =F24 -> 0.0043 | J25: =J24 -> 0.0046 | K25: =K24 -> 0.00545 | P25: =P24 -> 0.0014 | X25: =X24 -> 0.017196429 | AE25: =AE24 -> 0.024190698 | AH25: =AH24 -> 0.028 | AI25: =AI24 -> 0.03 | AJ25: =AJ24 -> 0.052757303 | AK25: =AK24 -> 0.03 | AL25: =AL24 -> 0.012907065 | AU25: =AU24 -> 0.15185455 | AV25: =AV24 -> 0.03465
A27: C(CEP)
A28: Concentration corrigée
A29: Concentration/VLEP

Sheet Diagramme

Sheet Nom Prénom
A1: NOM Prènom | B1: T | C1: T(EPI) | D1: T(non exp) | E1: FPA | F1: GROUPE | G1: Année
A2: LUCYK Freddy | B2: 410 | C2: 350 | D2: 0 | E2: 40 | F2: GEH1a | G2: 2019
A3: BERNARD Sebastien | B3: 430 | C3: 415 | D3: 0 | E3: 40 | F3: GEH1a | G3: 2019
A4: VANNOYE Mickael | B4: 430 | C4: 320 | D4: 0 | E4: 40 | F4: GEH1a | G4: 2019
A5: COPIN Sylvain | B5: 475 | C5: 285 | D5: 0 | E5: 40 | F5: GEH1a | G5: 2019
A6: GUERREIRO David | B6: 480 | C6: 395 | D6: 0 | E6: 40 | F6: GEH1a | G6: 2019
A7: STUBBE Benoit | B7: 270 | C7: 215 | D7: 0 | E7: 40 | F7: GEH1b | G7: 2019
A8: SCHRAMM Jeremy | B8: 345 | C8: 200 | D8: 0 | E8: 40 | F8: GEH1b | G8: 2019
A9: GHAZI MOUNIR | B9: 415 | C9: 270 | D9: 0 | E9: 40 | F9: GEH1b | G9: 2019
A10: DURONT Nicolas 1 | B10: 400 | C10: 315 | D10: 0 | E10: 40 | F10: GEH2 | G10: 2019
A11: DURONT Nicolas 2 | B11: 330 | C11: 235 | D11: 0 | E11: 40 | F11: GEH2 | G11: 2019
A12: TASSART Christophe | B12: 310 | C12: 175 | D12: 0 | E12: 40 | F12: GEH2 | G12: 2019
A13: DELANNOY Guillaume | B13: 370 | C13: 220 | D13: 0 | E13: 40 | F13: GEH2 | G13: 2019
... A16: GUISELIN Rudy | B16: 440 | C16: 360 | D16: 0 | E16: 40 | F16: GEH3 | G16: 2019
A17: VERDIERE Sylvain 1 | B17: 265 | C17: 0 | D17: 60 | E17: 1 | F17: GEH4 | G17: 2019 | H17: =$B17/($B18+$B17) -> 0.6625 | L17: =IFERROR(VLOOKUP($A17,BDD!C:O,8,0),"") -> 0.024
A18: VERDIERE Sylvain 2 | B18: 135 | C18: 135 | D18: 0 | E18: 40 | F18: GEH4 | G18: 2019 | H18: =$B18/($B18+$B17) -> 0.3375 | L18: =IFERROR(VLOOKUP($A18,BDD!C:O,8,0),"") -> 9.25e-07
A19: VERDIERE Sylvain | B19: / | C19: / | D19: / | E19: / | F19: GEH4 | G19: 2019 | I19: =BDD!L66+BDD!L70 -> 0.031542169 | L19: =IFERROR(VLOOKUP($A19,BDD!C:O,8,0),"")
A20: METEYER Anthony 1 | B20: 273 | C20: 0 | D20: 30 | E20: 1 | F20: GEH4 | G20: 2019 | H20: =$B20/($B21+$B20) -> 0.78448276
A21: METEYER Anthony 2 | B21: 75 | C21: 75 | D21: 0 | E21: 40 | F21: GEH4 | G21: 2019 | H21: =$B21/($B21+$B20) -> 0.21551724
A22: METEYER Anthony | B22: / | C22: / | D22: / | E22: / | F22: GEH4 | G22: 2019
A23: BALLENGHIEN Romain 1 | B23: 265 | C23: 0 | D23: 0 | E23: 1 | F23: GEH4 | G23: 2019 | H23: =$B23/($B24+$B23) -> 0.63855422
A24: BALLENGHIEN Romain 2 | B24: 150 | C24: 150 | D24: 0 | E24: 40 | F24: GEH4 | G24: 2019 | H24: =$B24/($B24+$B23) -> 0.36144578
A25: BALLENGHIEN Romain | B25: / | C25: / | D25: / | E25: / | F25: GEH4 | G25: 2019
A26: SEYNAVE Alexandre | B26: 322 | C26: 80 | D26: 30 | E26: 40 | F26: GEH5 | G26: 2019
A27: GAMBER Joel | B27: 280 | C27: 150 | D27: 0 | E27: 40 | F27: GEH5 | G27: 2019
A28: CAPON Matthieu | B28: 345 | C28: 320 | D28: 20 | E28: 40 | F28: GEH5 | G28: 2019
A29: MAGNIEZ Eric | B29: 360 | C29: 360 | D29: 0 | E29: 40 | F29: GEH5 | G29: 2019
A30: HERMANT Hubert | B30: 330 | C30: 0 | D30: 0 | E30: 1 | F30: GEH6 | G30: 2019
A31: BERTELOOT Mathieu | B31: 490 | C31: 0 | D31: 60 | E31: 1 | F31: GEH6 | G31: 2019
A32: BAJEMOND Manuel | B32: 325 | C32: 0 | D32: 0 | E32: 1 | F32: GEH6 | G32: 2019
A33: RIGAUX Maxime | B33: 375 | C33: 0 | D33: 0 | E33: 1 | F33: GEH6 | G33: 2019
A34: FAILLY Laurent | B34: 345 | C34: 0 | D34: 0 | E34: 1 | F34: GEH6 | G34: 2019
A35: ELLEBOODE Philippe | B35: 395 | C35: 0 | D35: 0 | E35: 1 | F35: GEH6 | G35: 2019
A36: RINGOT Samuel | B36: 375 | C36: 0 | D36: 0 | E36: 1 | F36: GEH6 | G36: 2019
A37: DESMET Anthony | B37: 430 | C37: 60 | D37: 0 | E37: 40 | F37: GEH7 | G37: 2019
... A58: NOEL Dany 2 | B58: 440 | C58: 0 | D58: 60 | E58: 1 | F58: GEH14 | G58: 2019

Sheet BDD
A1: Année | B1: Groupe | C1: Nom, Prénom | D1: T | E1: T(EPI) | F1: T(non exp) | G1: FPA | H1: Polluants | I1: C(CEP) | J1: Concentration corrigée | K1: Colonne1 | L1: Colonne2 | M1: Colonne3 | N1: Concentration/VLEP | O1: En %
A2: =IFERROR(VLOOKUP($C2,'Nom Prénom'!$A:$G,7,0),"") -> 2019 | B2: =IFERROR(VLOOKUP($C2,'Nom Prénom'!$A:$G,6,0),"") -> GEH1a | C2: LUCYK Freddy | D2: =IFERROR(VLOOKUP($C2,'Nom Prénom'!$A:$G,2,0),"") -> 410 | E2: =IFERROR(VLOOKUP($C2,'Nom Prénom'!$A:$G,3,0),"") -> 350 | F2: =IFERROR(VLOOKUP($C2,'Nom Prénom'!$A:$G,4,0),"") -> 0 | G2: =IFERROR(VLOOKUP($C2,'Nom Prénom'!$A:$G,5,0),"") -> 40 | H2: Benzène | I2: 0.28 | J2: =IFERROR(IF(OR(B2="GEH1a",B2="GEH1b",B2="GEH2",B2="GEH3",B2="GEH4"),I2/G2,((I2*(D2-E2))+(I2*(E2/G2)))/(D2-F2)),"") -> 0.007 | K2: =IFERROR(VLOOKUP($C2,'Nom Prénom'!$A:$I,8,0),"") -> 0 | L2: =IFERROR(J2*K2,"") -> 0 | M2: =IFERROR(VLOOKUP($C2,'Nom Prénom'!$A:$I,9,0),"") -> 0 | N2: =IFERROR($J2/(VLOOKUP($H2,VLEP!$A:$B,2,0)),"") -> 0.0021538462 | O2: =N2 -> 0.0021538462
A3: =IFERROR(VLOOKUP($C3,'Nom Prénom'!$A:$G,7,0),"") -> 2019 | B3: =IFERROR(VLOOKUP($C3,'Nom Prénom'!$A:$G,6,0),"") -> GEH1a | C3: LUCYK Freddy | D3: =IFERROR(VLOOKUP($C3,'Nom Prénom'!$A:$G,2,0),"") -> 410 | E3: =IFERROR(VLOOKUP($C3,'Nom Prénom'!$A:$G,3,0),"") -> 350 | F3: =IFERROR(VLOOKUP($C3,'Nom Prénom'!$A:$G,4,0),"") -> 0 | G3: =IFERROR(VLOOKUP($C3,'Nom Prénom'!$A:$G,5,0),"") -> 40 | H3: Benzo(a)pyrène | I3: 0.0041 | J3: =IFERROR(IF(OR(B3="GEH1a",B3="GEH1b",B3="GEH2",B3="GEH3",B3="GEH4"),I3/G3,((I3*(D3-E3))+(I3*(E3/G3)))/(D3-F3)),"") -> 0.0001025 | K3: =IFERROR(VLOOKUP($C3,'Nom Prénom'!$A:$I,8,0),"") -> 0 | L3: =IFERROR(J3*K3,"") -> 0 | M3: =IFERROR(VLOOKUP($C3,'Nom Prénom'!$A:$I,9,0),"") -> 0 | N3: =IFERROR($J3/(VLOOKUP($H3,VLEP!$A:$B,2,0)),"") -> 0.68333333 | O3: =N3 -> 0.68333333
A4: =IFERROR(VLOOKUP($C4,'Nom Prénom'!$A:$G,7,0),"") -> 2019 | B4: =IFERROR(VLOOKUP($C4,'Nom Prénom'!$A:$G,6,0),"") -> GEH1a | C4: LUCYK Freddy | D4: =IFERROR(VLOOKUP($C4,'Nom Prénom'!$A:$G,2,0),"") -> 410 | E4: =IFERROR(VLOOKUP($C4,'Nom Prénom'!$A:$G,3,0),"") -> 350 | F4: =IFERROR(VLOOKUP($C4,'Nom Prénom'!$A:$G,4,0),"") -> 0 | G4: =IFERROR(VLOOKUP($C4,'Nom Prénom'!$A:$G,5,0),"") -> 40 | H4: Valeur Poussière (Alvéolaire) | J4: =IFERROR(IF(OR(B4="GEH1a",B4="GEH1b",B4="GEH2",B4="GEH3",B4="GEH4"),I4/G4,((I4*(D4-E4))+(I4*(E4/G4)))/(D4-F4)),"") -> 0 | K4: =IFERROR(VLOOKUP($C4,'Nom Prénom'!$A:$I,8,0),"") -> 0 | L4: =IFERROR(J4*K4,"") -> 0 | M4: =IFERROR(VLOOKUP($C4,'Nom Prénom'!$A:$I,9,0),"") -> 0
A5: =IFERROR(VLOOKUP($C5,'Nom Prénom'!$A:$G,7,0),"") -> 2019 | B5: =IFERROR(VLOOKUP($C5,'Nom Prénom'!$A:$G,6,0),"") -> GEH1a | C5: LUCYK Freddy | D5: =IFERROR(VLOOKUP($C5,'Nom Prénom'!$A:$G,2,0),"") -> 410 | E5: =IFERROR(VLOOKUP($C5,'Nom Prénom'!$A:$G,3,0),"") -> 350 | F5: =IFERROR(VLOOKUP($C5,'Nom Prénom'!$A:$G,4,0),"") -> 0 | G5: =IFERROR(VLOOKUP($C5,'Nom Prénom'!$A:$G,5,0),"") -> 40 | H5: Valeur Poussière (Inhalable) | I5: 1.57 | J5: =IFERROR(IF(OR(B5="GEH1a",B5="GEH1b",B5="GEH2",B5="GEH3",B5="GEH4"),I5/G5,((I5*(D5-E5))+(I5*(E5/G5)))/(D5-F5)),"") -> 0.03925 | K5: =IFERROR(VLOOKUP($C5,'Nom Prénom'!$A:$I,8,0),"") -> 0 | L5: =IFERROR(J5*K5,"") -> 0 | M5: =IFERROR(VLOOKUP($C5,'Nom Prénom'!$A:$I,9,0),"") -> 0 | N5: =IFERROR($J5/(VLOOKUP($H5,VLEP!$A:$B,2,0)),"") -> 0.003925 | O5: =N5 -> 0.003925
A6: =IFERROR(VLOOKUP($C6,'Nom Prénom'!$A:$G,7,0),"") -> 2019 | B6: =IFERROR(VLOOKUP($C6,'Nom Prénom'!$A:$G,6,0),"") -> GEH1a | C6: BERNARD Sebastien | D6: =IFERROR(VLOOKUP($C6,'Nom Prénom'!$A:$G,2,0),"") -> 430 | E6: =IFERROR(VLOOKUP($C6,'Nom Prénom'!$A:$G,3,0),"") -> 415 | F6: =IFERROR(VLOOKUP($C6,'Nom Prénom'!$A:$G,4,0),"") -> 0 | G6: =IFERROR(VLOOKUP($C6,'Nom Prénom'!$A:$G,5,0),"") -> 40 | H6: Benzène | I6: 0.44 | J6: =IFERROR(IF(OR(B6="GEH1a",B6="GEH1b",B6="GEH2",B6="GEH3",B6="GEH4"),I6/G6,((I6*(D6-E6))+(I6*(E6/G6)))/(D6-F6)),"") -> 0.011 | K6: =IFERROR(VLOOKUP($C6,'Nom Prénom'!$A:$I,8,0),"") -> 0 | L6: =IFERROR(J6*K6,"") -> 0 | M6: =IFERROR(VLOOKUP($C6,'Nom Prénom'!$A:$I,9,0),"") -> 0 | N6: =IFERROR($J6/(VLOOKUP($H6,VLEP!$A:$B,2,0)),"") -> 0.0033846154 | O6: =N6 -> 0.0033846154
A7: =IFERROR(VLOOKUP($C7,'Nom Prénom'!$A:$G,7,0),"") -> 2019 | B7: =IFERROR(VLOOKUP($C7,'Nom Prénom'!$A:$G,6,0),"") -> GEH1a | C7: VANNOYE Mickael | D7: =IFERROR(VLOOKUP($C7,'Nom Prénom'!$A:$G,2,0),"") -> 430 | E7: =IFERROR(VLOOKUP($C7,'Nom Prénom'!$A:$G,3,0),"") -> 320 | F7: =IFERROR(VLOOKUP($C7,'Nom Prénom'!$A:$G,4,0),"") -> 0 | G7: =IFERROR(VLOOKUP($C7,'Nom Prénom'!$A:$G,5,0),"") -> 40 | H7: Benzène | I7: 0.017 | J7: =IFERROR(IF(OR(B7="GEH1a",B7="GEH1b",B7="GEH2",B7="GEH3",B7="GEH4"),I7/G7,((I7*(D7-E7))+(I7*(E7/G7)))/(D7-F7)),"") -> 0.000425 | K7: =IFERROR(VLOOKUP($C7,'Nom Prénom'!$A:$I,8,0),"") -> 0 | L7: =IFERROR(J7*K7,"") -> 0 | M7: =IFERROR(VLOOKUP($C7,'Nom Prénom'!$A:$I,9,0),"") -> 0 | N7: =IFERROR($J7/(VLOOKUP($H7,VLEP!$A:$B,2,0)),"") -> 0.00013076923 | O7: =N7 -> 0.00013076923
A8: =IFERROR(VLOOKUP($C8,'Nom Prénom'!$A:$G,7,0),"") -> 2019 | B8: =IFERROR(VLOOKUP($C8,'Nom Prénom'!$A:$G,6,0),"") -> GEH1a | C8: BERNARD Sebastien | D8: =IFERROR(VLOOKUP($C8,'Nom Prénom'!$A:$G,2,0),"") -> 430 | E8: =IFERROR(VLOOKUP($C8,'Nom Prénom'!$A:$G,3,0),"") -> 415 | F8: =IFERROR(VLOOKUP($C8,'Nom Prénom'!$A:$G,4,0),"") -> 0 | G8: =IFERROR(VLOOKUP($C8,'Nom Prénom'!$A:$G,5,0),"") -> 40 | H8: Benzo(a)pyrène | I8: 0.0019 | J8: =IFERROR(IF(OR(B8="GEH1a",B8="GEH1b",B8="GEH2",B8="GEH3",B8="GEH4"),I8/G8,((I8*(D8-E8))+(I8*(E8/G8)))/(D8-F8)),"") -> 4.75e-05 | K8: =IFERROR(VLOOKUP($C8,'Nom Prénom'!$A:$I,8,0),"") -> 0 | L8: =IFERROR(J8*K8,"") -> 0 | M8: =IFERROR(VLOOKUP($C8,'Nom Prénom'!$A:$I,9,0),"") -> 0 | N8: =IFERROR($J8/(VLOOKUP($H8,VLEP!$A:$B,2,0)),"") -> 0.31666667 | O8: =N8 -> 0.31666667
A9: =IFERROR(VLOOKUP($C9,'Nom Prénom'!$A:$G,7,0),"") -> 2019 | B9: =IFERROR(VLOOKUP($C9,'Nom Prénom'!$A:$G,6,0),"") -> GEH1a | C9: VANNOYE Mickael | D9: =IFERROR(VLOOKUP($C9,'Nom Prénom'!$A:$G,2,0),"") -> 430 | E9: =IFERROR(VLOOKUP($C9,'Nom Prénom'!$A:$G,3,0),"") -> 320 | F9: =IFERROR(VLOOKUP($C9,'Nom Prénom'!$A:$G,4,0),"") -> 0 | G9: =IFERROR(VLOOKUP($C9,'Nom Prénom'!$A:$G,5,0),"") -> 40 | H9: Benzo(a)pyrène | I9: 0.00028 | J9: =IFERROR(IF(OR(B9="GEH1a",B9="GEH1b",B9="GEH2",B9="GEH3",B9="GEH4"),I9/G9,((I9*(D9-E9))+(I9*(E9/G9)))/(D9-F9)),"") -> 7e-06 | K9: =IFERROR(VLOOKUP($C9,'Nom Prénom'!$A:$I,8,0),"") -> 0 | L9: =IFERROR(J9*K9,"") -> 0 | M9: =IFERROR(VLOOKUP($C9,'Nom Prénom'!$A:$I,9,0),"") -> 0 | N9: =IFERROR($J9/(VLOOKUP($H9,VLEP!$A:$B,2,0)),"") -> 0.046666667 | O9: =N9 -> 0.046666667
A10: =IFERROR(VLOOKUP($C10,'Nom Prénom'!$A:$G,7,0),"") -> 2019 | B10: =IFERROR(VLOOKUP($C10,'Nom Prénom'!$A:$G,6,0),"") -> GEH1a | C10: BERNARD Sebastien | D10: =IFERROR(VLOOKUP($C10,'Nom Prénom'!$A:$G,2,0),"") -> 430 | E10: =IFERROR(VLOOKUP($C10,'Nom Prénom'!$A:$G,3,0),"") -> 415 | F10: =IFERROR(VLOOKUP($C10,'Nom Prénom'!$A:$G,4,0),"") -> 0 | G10: =IFERROR(VLOOKUP($C10,'Nom Prénom'!$A:$G,5,0),"") -> 40 | H10: Valeur Poussière (Alvéolaire) | J10: =IFERROR(IF(OR(B10="GEH1a",B10="GEH1b",B10="GEH2",B10="GEH3",B10="GEH4"),I10/G10,((I10*(D10-E10))+(I10*(E10/G10)))/(D10-F10)),"") -> 0 | K10: =IFERROR(VLOOKUP($C10,'Nom Prénom'!$A:$I,8,0),"") -> 0 | L10: =IFERROR(J10*K10,"") -> 0 | M10: =IFERROR(VLOOKUP($C10,'Nom Prénom'!$A:$I,9,0),"") -> 0 | N10: =IFERROR($J10/(VLOOKUP($H10,VLEP!$A:$B,2,0)),"") -> 0
A11: =IFERROR(VLOOKUP($C11,'Nom Prénom'!$A:$G,7,0),"") -> 2019 | B11: =IFERROR(VLOOKUP($C11,'Nom Prénom'!$A:$G,6,0),"") -> GEH1a | C11: VANNOYE Mickael | D11: =IFERROR(VLOOKUP($C11,'Nom Prénom'!$A:$G,2,0),"") -> 430 | E11: =IFERROR(VLOOKUP($C11,'Nom Prénom'!$A:$G,3,0),"") -> 320 | F11: =IFERROR(VLOOKUP($C11,'Nom Prénom'!$A:$G,4,0),"") -> 0 | G11: =IFERROR(VLOOKUP($C11,'Nom Prénom'!$A:$G,5,0),"") -> 40 | H11: Valeur Poussière (Alvéolaire) | J11: =IFERROR(IF(OR(B11="GEH1a",B11="GEH1b",B11="GEH2",B11="GEH3",B11="GEH4"),I11/G11,((I11*(D11-E11))+(I11*(E11/G11)))/(D11-F11)),"") -> 0 | K11: =IFERROR(VLOOKUP($C11,'Nom Prénom'!$A:$I,8,0),"") -> 0 | L11: =IFERROR(J11*K11,"") -> 0 | M11: =IFERROR(VLOOKUP($C11,'Nom Prénom'!$A:$I,9,0),"") -> 0 | N11: =IFERROR($J11/(VLOOKUP($H11,VLEP!$A:$B,2,0)),"") -> 0
A12: =IFERROR(VLOOKUP($C12,'Nom Prénom'!$A:$G,7,0),"") -> 2019 | B12: =IFERROR(VLOOKUP($C12,'Nom Prénom'!$A:$G,6,0),"") -> GEH1a | C12: BERNARD Sebastien | D12: =IFERROR(VLOOKUP($C12,'Nom Prénom'!$A:$G,2,0),"") -> 430 | E12: =IFERROR(VLOOKUP($C12,'Nom Prénom'!$A:$G,3,0),"") -> 415 | F12: =IFERROR(VLOOKUP($C12,'Nom Prénom'!$A:$G,4,0),"") -> 0 | G12: =IFERROR(VLOOKUP($C12,'Nom Prénom'!$A:$G,5,0),"") -> 40 | H12: Valeur Poussière (Inhalable) | I12: 1.65 | J12: =IFERROR(IF(OR(B12="GEH1a",B12="GEH1b",B12="GEH2",B12="GEH3",B12="GEH4"),I12/G12,((I12*(D12-E12))+(I12*(E12/G12)))/(D12-F12)),"") -> 0.04125 | K12: =IFERROR(VLOOKUP($C12,'Nom Prénom'!$A:$I,8,0),"") -> 0 | L12: =IFERROR(J12*K12,"") -> 0 | M12: =IFERROR(VLOOKUP($C12,'Nom Prénom'!$A:$I,9,0),"") -> 0 | N12: =IFERROR($J12/(VLOOKUP($H12,VLEP!$A:$B,2,0)),"") -> 0.004125 | O12: =N12 -> 0.004125
A13: =IFERROR(VLOOKUP($C13,'Nom Prénom'!$A:$G,7,0),"") -> 2019 | B13: =IFERROR(VLOOKUP($C13,'Nom Prénom'!$A:$G,6,0),"") -> GEH1a | C13: VANNOYE Mickael | D13: =IFERROR(VLOOKUP($C13,'Nom Prénom'!$A:$G,2,0),"") -> 430 | E13: =IFERROR(VLOOKUP($C13,'Nom Prénom'!$A:$G,3,0),"") -> 320 | F13: =IFERROR(VLOOKUP($C13,'Nom Prénom'!$A:$G,4,0),"") -> 0 | G13: =IFERROR(VLOOKUP($C13,'Nom Prénom'!$A:$G,5,0),"") -> 40 | H13: Valeur Poussière (Inhalable) | I13: 0.65 | J13: =IFERROR(IF(OR(B13="GEH1a",B13="GEH1b",B13="GEH2",B13="GEH3",B13="GEH4"),I13/G13,((I13*(D13-E13))+(I13*(E13/G13)))/(D13-F13)),"") -> 0.01625 | K13: =IFERROR(VLOOKUP($C13,'Nom Prénom'!$A:$I,8,0),"") -> 0 | L13: =IFERROR(J13*K13,"") -> 0 | M13: =IFERROR(VLOOKUP($C13,'Nom Prénom'!$A:$I,9,0),"") -> 0 | N13: =IFERROR($J13/(VLOOKUP($H13,VLEP!$A:$B,2,0)),"") -> 0.001625 | O13: =N13 -> 0.001625
A14: =IFERROR(VLOOKUP($C14,'Nom Prénom'!$A:$G,7,0),"") -> 2019 | B14: =IFERROR(VLOOKUP($C14,'Nom Prénom'!$A:$G,6,0),"") -> GEH1a | C14: COPIN Sylvain | D14: =IFERROR(VLOOKUP($C14,'Nom Prénom'!$A:$G,2,0),"") -> 475 | E14: =IFERROR(VLOOKUP($C14,'Nom Prénom'!$A:$G,3,0),"") -> 285 | F14: =IFERROR(VLOOKUP($C14,'Nom Prénom'!$A:$G,4,0),"") -> 0 | G14: =IFERROR(VLOOKUP($C14,'Nom Prénom'!$A:$G,5,0),"") -> 40 | H14: Benzène | I14: 0.26 | J14: =IFERROR(IF(OR(B14="GEH1a",B14="GEH1b",B14="GEH2",B14="GEH3",B14="GEH4"),I14/G14,((I14*(D14-E14))+(I14*(E14/G14)))/(D14-F14)),"") -> 0.0065 | K14: =IFERROR(VLOOKUP($C14,'Nom Prénom'!$A:$I,8,0),"") -> 0 | L14: =IFERROR(J14*K14,"") -> 0 | M14: =IFERROR(VLOOKUP($C14,'Nom Prénom'!$A:$I,9,0),"") -> 0 | N14: =IFERROR($J14/(VLOOKUP($H14,VLEP!$A:$B,2,0)),"") -> 0.002 | O14: =N14 -> 0.002
A15: =IFERROR(VLOOKUP($C15,'Nom Prénom'!$A:$G,7,0),"") -> 2019 | B15: =IFERROR(VLOOKUP($C15,'Nom Prénom'!$A:$G,6,0),"") -> GEH1a | C15: COPIN Sylvain | D15: =IFERROR(VLOOKUP($C15,'Nom Prénom'!$A:$G,2,0),"") -> 475 | E15: =IFERROR(VLOOKUP($C15,'Nom Prénom'!$A:$G,3,0),"") -> 285 | F15: =IFERROR(VLOOKUP($C15,'Nom Prénom'!$A:$G,4,0),"") -> 0 | G15: =IFERROR(VLOOKUP($C15,'Nom Prénom'!$A:$G,5,0),"") -> 40 | H15: Benzo(a)pyrène | I15: 0.0026 | J15: =IFERROR(IF(OR(B15="GEH1a",B15="GEH1b",B15="GEH2",B15="GEH3",B15="GEH4"),I15/G15,((I15*(D15-E15))+(I15*(E15/G15)))/(D15-F15)),"") -> 6.5e-05 | K15: =IFERROR(VLOOKUP($C15,'Nom Prénom'!$A:$I,8,0),"") -> 0 | L15: =IFERROR(J15*K15,"") -> 0 | M15: =IFERROR(VLOOKUP($C15,'Nom Prénom'!$A:$I,9,0),"") -> 0 | N15: =IFERROR($J15/(VLOOKUP($H15,VLEP!$A:$B,2,0)),"") -> 0.43333333 | O15: =N15 -> 0.43333333
A16: =IFERROR(VLOOKUP($C16,'Nom Prénom'!$A:$G,7,0),"") -> 2019 | B16: =IFERROR(VLOOKUP($C16,'Nom Prénom'!$A:$G,6,0),"") -> GEH1a | C16: COPIN Sylvain | D16: =IFERROR(VLOOKUP($C16,'Nom Prénom'!$A:$G,2,0),"") -> 475 | E16: =IFERROR(VLOOKUP($C16,'Nom Prénom'!$A:$G,3,0),"") -> 285 | F16: =IFERROR(VLOOKUP($C16,'Nom Prénom'!$A:$G,4,0),"") -> 0 | G16: =IFERROR(VLOOKUP($C16,'Nom Prénom'!$A:$G,5,0),"") -> 40 | H16: Valeur Poussière (Alvéolaire) | I16: 1.52 | J16: =IFERROR(IF(OR(B16="GEH1a",B16="GEH1b",B16="GEH2",B16="GEH3",B16="GEH4"),I16/G16,((I16*(D16-E16))+(I16*(E16/G16)))/(D16-F16)),"") -> 0.038 | K16: =IFERROR(VLOOKUP($C16,'Nom Prénom'!$A:$I,8,0),"") -> 0 | L16: =IFERROR(J16*K16,"") -> 0 | M16: =IFERROR(VLOOKUP($C16,'Nom Prénom'!$A:$I,9,0),"") -> 0 | N16: =IFERROR($J16/(VLOOKUP($H16,VLEP!$A:$B,2,0)),"") -> 0.0076 | O16: =N16 -> 0.0076
A17: =IFERROR(VLOOKUP($C17,'Nom Prénom'!$A:$G,7,0),"") -> 2019 | B17: =IFERROR(VLOOKUP($C17,'Nom Prénom'!$A:$G,6,0),"") -> GEH1a | C17: COPIN Sylvain | D17: =IFERROR(VLOOKUP($C17,'Nom Prénom'!$A:$G,2,0),"") -> 475 | E17: =IFERROR(VLOOKUP($C17,'Nom Prénom'!$A:$G,3,0),"") -> 285 | F17: =IFERROR(VLOOKUP($C17,'Nom Prénom'!$A:$G,4,0),"") -> 0 | G17: =IFERROR(VLOOKUP($C17,'Nom Prénom'!$A:$G,5,0),"") -> 40 | H17: Valeur Poussière (Inhalable) | I17: 2.09 | J17: =IFERROR(IF(OR(B17="GEH1a",B17="GEH1b",B17="GEH2",B17="GEH3",B17="GEH4"),I17/G17,((I17*(D17-E17))+(I17*(E17/G17)))/(D17-F17)),"") -> 0.05225 | K17: =IFERROR(VLOOKUP($C17,'Nom Prénom'!$A:$I,8,0),"") -> 0 | L17: =IFERROR(J17*K17,"") -> 0 | M17: =IFERROR(VLOOKUP($C17,'Nom Prénom'!$A:$I,9,0),"") -> 0 | N17: =IFERROR($J17/(VLOOKUP($H17,VLEP!$A:$B,2,0)),"") -> 0.005225 | O17: =N17 -> 0.005225
A18: =IFERROR(VLOOKUP($C18,'Nom Prénom'!$A:$G,7,0),"") -> 2019 | B18: =IFERROR(VLOOKUP($C18,'Nom Prénom'!$A:$G,6,0),"") -> GEH1a | C18: GUERREIRO David | D18: =IFERROR(VLOOKUP($C18,'Nom Prénom'!$A:$G,2,0),"") -> 480 | E18: =IFERROR(VLOOKUP($C18,'Nom Prénom'!$A:$G,3,0),"") -> 395 | F18: =IFERROR(VLOOKUP($C18,'Nom Prénom'!$A:$G,4,0),"") -> 0 | G18: =IFERROR(VLOOKUP($C18,'Nom Prénom'!$A:$G,5,0),"") -> 40 | H18: Benzène | I18: 0.24 | J18: =IFERROR(IF(OR(B18="GEH1a",B18="GEH1b",B18="GEH2",B18="GEH3",B18="GEH4"),I18/G18,((I18*(D18-E18))+(I18*(E18/G18)))/(D18-F18)),"") -> 0.006 | K18: =IFERROR(VLOOKUP($C18,'Nom Prénom'!$A:$I,8,0),"") -> 0 | L18: =IFERROR(J18*K18,"") -> 0 | M18: =IFERROR(VLOOKUP($C18,'Nom Prénom'!$A:$I,9,0),"") -> 0 | N18: =IFERROR($J18/(VLOOKUP($H18,VLEP!$A:$B,2,0)),"") -> 0.0018461538 | O18: =N18 -> 0.0018461538
A19: =IFERROR(VLOOKUP($C19,'Nom Prénom'!$A:$G,7,0),"") -> 2019 | B19: =IFERROR(VLOOKUP($C19,'Nom Prénom'!$A:$G,6,0),"") -> GEH1a | C19: GUERREIRO David | D19: =IFERROR(VLOOKUP($C19,'Nom Prénom'!$A:$G,2,0),"") -> 480 | E19: =IFERROR(VLOOKUP($C19,'Nom Prénom'!$A:$G,3,0),"") -> 395 | F19: =IFERROR(VLOOKUP($C19,'Nom Prénom'!$A:$G,4,0),"") -> 0 | G19: =IFERROR(VLOOKUP($C19,'Nom Prénom'!$A:$G,5,0),"") -> 40 | H19: Benzo(a)pyrène | I19: 0.0022 | J19: =IFERROR(IF(OR(B19="GEH1a",B19="GEH1b",B19="GEH2",B19="GEH3",B19="GEH4"),I19/G19,((I19*(D19-E19))+(I19*(E19/G19)))/(D19-F19)),"") -> 5.5e-05 | K19: =IFERROR(VLOOKUP($C19,'Nom Prénom'!$A:$I,8,0),"") -> 0 | L19: =IFERROR(J19*K19,"") -> 0 | M19: =IFERROR(VLOOKUP($C19,'Nom Prénom'!$A:$I,9,0),"") -> 0 | N19: =IFERROR($J19/(VLOOKUP($H19,VLEP!$A:$B,2,0)),"") -> 0.36666667 | O19: =N19 -> 0.36666667
A20: =IFERROR(VLOOKUP($C20,'Nom Prénom'!$A:$G,7,0),"") -> 2019 | B20: =IFERROR(VLOOKUP($C20,'Nom Prénom'!$A:$G,6,0),"") -> GEH1a | C20: GUERREIRO David | D20: =IFERROR(VLOOKUP($C20,'Nom Prénom'!$A:$G,2,0),"") -> 480 | E20: =IFERROR(VLOOKUP($C20,'Nom Prénom'!$A:$G,3,0),"") -> 395 | F20: =IFERROR(VLOOKUP($C20,'Nom Prénom'!$A:$G,4,0),"") -> 0 | G20: =IFERROR(VLOOKUP($C20,'Nom Prénom'!$A:$G,5,0),"") -> 40 | H20: Valeur Poussière (Alvéolaire) | I20: 0.86 | J20: =IFERROR(IF(OR(B20="GEH1a",B20="GEH1b",B20="GEH2",B20="GEH3",B20="GEH4"),I20/G20,((I20*(D20-E20))+(I20*(E20/G20)))/(D20-F20)),"") -> 0.0215 | K20: =IFERROR(VLOOKUP($C20,'Nom Prénom'!$A:$I,8,0),"") -> 0 | L20: =IFERROR(J20*K20,"") -> 0 | M20: =IFERROR(VLOOKUP($C20,'Nom Prénom'!$A:$I,9,0),"") -> 0 | N20: =IFERROR($J20/(VLOOKUP($H20,VLEP!$A:$B,2,0)),"") -> 0.0043 | O20: =N20 -> 0.0043
A21: =IFERROR(VLOOKUP($C21,'Nom Prénom'!$A:$G,7,0),"") -> 2019 | B21: =IFERROR(VLOOKUP($C21,'Nom Prénom'!$A:$G,6,0),"") -> GEH1a | C21: GUERREIRO David | D21: =IFERROR(VLOOKUP($C21,'Nom Prénom'!$A:$G,2,0),"") -> 480 | E21: =IFERROR(VLOOKUP($C21,'Nom Prénom'!$A:$G,3,0),"") -> 395 | F21: =IFERROR(VLOOKUP($C21,'Nom Prénom'!$A:$G,4,0),"") -> 0 | G21: =IFERROR(VLOOKUP($C21,'Nom Prénom'!$A:$G,5,0),"") -> 40 | H21: Valeur Poussière (Inhalable) | I21: 1.77 | J21: =IFERROR(IF(OR(B21="GEH1a",B21="GEH1b",B21="GEH2",B21="GEH3",B21="GEH4"),I21/G21,((I21*(D21-E21))+(I21*(E21/G21)))/(D21-F21)),"") -> 0.04425 | K21: =IFERROR(VLOOKUP($C21,'Nom Prénom'!$A:$I,8,0),"") -> 0 | L21: =IFERROR(J21*K21,"") -> 0 | M21: =IFERROR(VLOOKUP($C21,'Nom Prénom'!$A:$I,9,0),"") -> 0 | N21: =IFERROR($J21/(VLOOKUP($H21,VLEP!$A:$B,2,0)),"") -> 0.004425 | O21: =N21 -> 0.004425
A22: =IFERROR(VLOOKUP($C22,'Nom Prénom'!$A:$G,7,0),"") -> 2019 | B22: =IFERROR(VLOOKUP($C22,'Nom Prénom'!$A:$G,6,0),"") -> GEH1b | C22: STUBBE Benoit | D22: =IFERROR(VLOOKUP($C22,'Nom Prénom'!$A:$G,2,0),"") -> 270 | E22: =IFERROR(VLOOKUP($C22,'Nom Prénom'!$A:$G,3,0),"") -> 215 | F22: =IFERROR(VLOOKUP($C22,'Nom Prénom'!$A:$G,4,0),"") -> 0 | G22: =IFERROR(VLOOKUP($C22,'Nom Prénom'!$A:$G,5,0),"") -> 40 | H22: Benzène | I22: 0.069 | J22: =IFERROR(IF(OR(B22="GEH1a",B22="GEH1b",B22="GEH2",B22="GEH3",B22="GEH4"),I22/G22,((I22*(D22-E22))+(I22*(E22/G22)))/(D22-F22)),"") -> 0.001725 | K22: =IFERROR(VLOOKUP($C22,'Nom Prénom'!$A:$I,8,0),"") -> 0 | L22: =IFERROR(J22*K22,"") -> 0 | M22: =IFERROR(VLOOKUP($C22,'Nom Prénom'!$A:$I,9,0),"") -> 0 | N22: =IFERROR($J22/(VLOOKUP($H22,VLEP!$A:$B,2,0)),"") -> 0.00053076923 | O22: =N22 -> 0.00053076923
A23: =IFERROR(VLOOKUP($C23,'Nom Prénom'!$A:$G,7,0),"") -> 2019 | B23: =IFERROR(VLOOKUP($C23,'Nom Prénom'!$A:$G,6,0),"") -> GEH1b | C23: STUBBE Benoit | D23: =IFERROR(VLOOKUP($C23,'Nom Prénom'!$A:$G,2,0),"") -> 270 | E23: =IFERROR(VLOOKUP($C23,'Nom Prénom'!$A:$G,3,0),"") -> 215 | F23: =IFERROR(VLOOKUP($C23,'Nom Prénom'!$A:$G,4,0),"") -> 0 | G23: =IFERROR(VLOOKUP($C23,'Nom Prénom'!$A:$G,5,0),"") -> 40 | H23: Benzo(a)pyrène | I23: 0.0011 | J23: =IFERROR(IF(OR(B23="GEH1a",B23="GEH1b",B23="GEH2",B23="GEH3",B23="GEH4"),I23/G23,((I23*(D23-E23))+(I23*(E23/G23)))/(D23-F23)),"") -> 2.75e-05 | K23: =IFERROR(VLOOKUP($C23,'Nom Prénom'!$A:$I,8,0),"") -> 0 | L23: =IFERROR(J23*K23,"") -> 0 | M23: =IFERROR(VLOOKUP($C23,'Nom Prénom'!$A:$I,9,0),"") -> 0 | N23: =IFERROR($J23/(VLOOKUP($H23,VLEP!$A:$B,2,0)),"") -> 0.18333333 | O23: =N23 -> 0.18333333
A24: =IFERROR(VLOOKUP($C24,'Nom Prénom'!$A:$G,7,0),"") -> 2019 | B24: =IFERROR(VLOOKUP($C24,'Nom Prénom'!$A:$G,6,0),"") -> GEH1b | C24: STUBBE Benoit | D24: =IFERROR(VLOOKUP($C24,'Nom Prénom'!$A:$G,2,0),"") -> 270 | E24: =IFERROR(VLOOKUP($C24,'Nom Prénom'!$A:$G,3,0),"") -> 215 | F24: =IFERROR(VLOOKUP($C24,'Nom Prénom'!$A:$G,4,0),"") -> 0 | G24: =IFERROR(VLOOKUP($C24,'Nom Prénom'!$A:$G,5,0),"") -> 40 | H24: Valeur Poussière (Alvéolaire) | J24: =IFERROR(IF(OR(B24="GEH1a",B24="GEH1b",B24="GEH2",B24="GEH3",B24="GEH4"),I24/G24,((I24*(D24-E24))+(I24*(E24/G24)))/(D24-F24)),"") -> 0 | K24: =IFERROR(VLOOKUP($C24,'Nom Prénom'!$A:$I,8,0),"") -> 0 | L24: =IFERROR(J24*K24,"") -> 0 | M24: =IFERROR(VLOOKUP($C24,'Nom Prénom'!$A:$I,9,0),"") -> 0 | N24: =IFERROR($J24/(VLOOKUP($H24,VLEP!$A:$B,2,0)),"") -> 0
A25: =IFERROR(VLOOKUP($C25,'Nom Prénom'!$A:$G,7,0),"") -> 2019 | B25: =IFERROR(VLOOKUP($C25,'Nom Prénom'!$A:$G,6,0),"") -> GEH1b | C25: STUBBE Benoit | D25: =IFERROR(VLOOKUP($C25,'Nom Prénom'!$A:$G,2,0),"") -> 270 | E25: =IFERROR(VLOOKUP($C25,'Nom Prénom'!$A:$G,3,0),"") -> 215 | F25: =IFERROR(VLOOKUP($C25,'Nom Prénom'!$A:$G,4,0),"") -> 0 | G25: =IFERROR(VLOOKUP($C25,'Nom Prénom'!$A:$G,5,0),"") -> 40 | H25: Valeur Poussière (Inhalable) | I25: 2 | J25: =IFERROR(IF(OR(B25="GEH1a",B25="GEH1b",B25="GEH2",B25="GEH3",B25="GEH4"),I25/G25,((I25*(D25-E25))+(I25*(E25/G25)))/(D25-F25)),"") -> 0.05 | K25: =IFERROR(VLOOKUP($C25,'Nom Prénom'!$A:$I,8,0),"") -> 0 | L25: =IFERROR(J25*K25,"") -> 0 | M25: =IFERROR(VLOOKUP($C25,'Nom Prénom'!$A:$I,9,0),"") -> 0 | N25: =IFERROR($J25/(VLOOKUP($H25,VLEP!$A:$B,2,0)),"") -> 0.005 | O25: =N25 -> 0.005
A26: =IFERROR(VLOOKUP($C26,'Nom Prénom'!$A:$G,7,0),"") -> 2019 | B26: =IFERROR(VLOOKUP($C26,'Nom Prénom'!$A:$G,6,0),"") -> GEH1b | C26: SCHRAMM Jeremy | D26: =IFERROR(VLOOKUP($C26,'Nom Prénom'!$A:$G,2,0),"") -> 345 | E26: =IFERROR(VLOOKUP($C26,'Nom Prénom'!$A:$G,3,0),"") -> 200 | F26: =IFERROR(VLOOKUP($C26,'Nom Prénom'!$A:$G,4,0),"") -> 0 | G26: =IFERROR(VLOOKUP($C26,'Nom Prénom'!$A:$G,5,0),"") -> 40 | H26: Benzène | I26: 0.2 | J26: =IFERROR(IF(OR(B26="GEH1a",B26="GEH1b",B26="GEH2",B26="GEH3",B26="GEH4"),I26/G26,((I26*(D26-E26))+(I26*(E26/G26)))/(D26-F26)),"") -> 0.005 | K26: =IFERROR(VLOOKUP($C26,'Nom Prénom'!$A:$I,8,0),"") -> 0 | L26: =IFERROR(J26*K26,"") -> 0 | M26: =IFERROR(VLOOKUP($C26,'Nom Prénom'!$A:$I,9,0),"") -> 0 | N26: =IFERROR($J26/(VLOOKUP($H26,VLEP!$A:$B,2,0)),"") -> 0.0015384615 | O26: =N26 -> 0.0015384615
A27: =IFERROR(VLOOKUP($C27,'Nom Prénom'!$A:$G,7,0),"") -> 2019 | B27: =IFERROR(VLOOKUP($C27,'Nom Prénom'!$A:$G,6,0),"") -> GEH1b | C27: SCHRAMM Jeremy | D27: =IFERROR(VLOOKUP($C27,'Nom Prénom'!$A:$G,2,0),"") -> 345 | E27: =IFERROR(VLOOKUP($C27,'Nom Prénom'!$A:$G,3,0),"") -> 200 | F27: =IFERROR(VLOOKUP($C27,'Nom Prénom'!$A:$G,4,0),"") -> 0 | G27: =IFERROR(VLOOKUP($C27,'Nom Prénom'!$A:$G,5,0),"") -> 40 | H27: Benzo(a)pyrène | I27: 0.0034 | J27: =IFERROR(IF(OR(B27="GEH1a",B27="GEH1b",B27="GEH2",B27="GEH3",B27="GEH4"),I27/G27,((I27*(D27-E27))+(I27*(E27/G27)))/(D27-F27)),"") -> 8.5e-05 | K27: =IFERROR(VLOOKUP($C27,'Nom Prénom'!$A:$I,8,0),"") -> 0 | L27: =IFERROR(J27*K27,"") -> 0 | M27: =IFERROR(VLOOKUP($C27,'Nom Prénom'!$A:$I,9,0),"") -> 0 | N27: =IFERROR($J27/(VLOOKUP($H27,VLEP!$A:$B,2,0)),"") -> 0.56666667 | O27: =N27 -> 0.56666667
A28: =IFERROR(VLOOKUP($C28,'Nom Prénom'!$A:$G,7,0),"") -> 2019 | B28: =IFERROR(VLOOKUP($C28,'Nom Prénom'!$A:$G,6,0),"") -> GEH1b | C28: SCHRAMM Jeremy | D28: =IFERROR(VLOOKUP($C28,'Nom Prénom'!$A:$G,2,0),"") -> 345 | E28: =IFERROR(VLOOKUP($C28,'Nom Prénom'!$A:$G,3,0),"") -> 200 | F28: =IFERROR(VLOOKUP($C28,'Nom Prénom'!$A:$G,4,0),"") -> 0 | G28: =IFERROR(VLOOKUP($C28,'Nom Prénom'!$A:$G,5,0),"") -> 40 | H28: Valeur Poussière (Alvéolaire) | J28: =IFERROR(IF(OR(B28="GEH1a",B28="GEH1b",B28="GEH2",B28="GEH3",B28="GEH4"),I28/G28,((I28*(D28-E28))+(I28*(E28/G28)))/(D28-F28)),"") -> 0 | K28: =IFERROR(VLOOKUP($C28,'Nom Prénom'!$A:$I,8,0),"") -> 0 | L28: =IFERROR(J28*K28,"") -> 0 | M28: =IFERROR(VLOOKUP($C28,'Nom Prénom'!$A:$I,9,0),"") -> 0 | N28: =IFERROR($J28/(VLOOKUP($H28,VLEP!$A:$B,2,0)),"") -> 0
A29: =IFERROR(VLOOKUP($C29,'Nom Prénom'!$A:$G,7,0),"") -> 2019 | B29: =IFERROR(VLOOKUP($C29,'Nom Prénom'!$A:$G,6,0),"") -> GEH1b | C29: SCHRAMM Jeremy | D29: =IFERROR(VLOOKUP($C29,'Nom Prénom'!$A:$G,2,0),"") -> 345 | E29: =IFERROR(VLOOKUP($C29,'Nom Prénom'!$A:$G,3,0),"") -> 200 | F29: =IFERROR(VLOOKUP($C29,'Nom Prénom'!$A:$G,4,0),"") -> 0 | G29: =IFERROR(VLOOKUP($C29,'Nom Prénom'!$A:$G,5,0),"") -> 40 | H29: Valeur Poussière (Inhalable) | I29: 3.85 | J29: =IFERROR(IF(OR(B29="GEH1a",B29="GEH1b",B29="GEH2",B29="GEH3",B29="GEH4"),I29/G29,((I29*(D29-E29))+(I29*(E29/G29)))/(D29-F29)),"") -> 0.09625 | K29: =IFERROR(VLOOKUP($C29,'Nom Prénom'!$A:$I,8,0),"") -> 0 | L29: =IFERROR(J29*K29,"") -> 0 | M29: =IFERROR(VLOOKUP($C29,'Nom Prénom'!$A:$I,9,0),"") -> 0 | N29: =IFERROR($J29/(VLOOKUP($H29,VLEP!$A:$B,2,0)),"") -> 0.009625 | O29: =N29 -> 0.009625
A30: =IFERROR(VLOOKUP($C30,'Nom Prénom'!$A:$G,7,0),"") -> 2019 | B30: =IFERROR(VLOOKUP($C30,'Nom Prénom'!$A:$G,6,0),"") -> GEH1b | C30: GHAZI MOUNIR | D30: =IFERROR(VLOOKUP($C30,'Nom Prénom'!$A:$G,2,0),"") -> 415 | E30: =IFERROR(VLOOKUP($C30,'Nom Prénom'!$A:$G,3,0),"") -> 270 | F30: =IFERROR(VLOOKUP($C30,'Nom Prénom'!$A:$G,4,0),"") -> 0 | G30: =IFERROR(VLOOKUP($C30,'Nom Prénom'!$A:$G,5,0),"") -> 40 | H30: Benzène | I30: 0.054 | J30: =IFERROR(IF(OR(B30="GEH1a",B30="GEH1b",B30="GEH2",B30="GEH3",B30="GEH4"),I30/G30,((I30*(D30-E30))+(I30*(E30/G30)))/(D30-F30)),"") -> 0.00135 | K30: =IFERROR(VLOOKUP($C30,'Nom Prénom'!$A:$I,8,0),"") -> 0 | L30: =IFERROR(J30*K30,"") -> 0 | M30: =IFERROR(VLOOKUP($C30,'Nom Prénom'!$A:$I,9,0),"") -> 0 | N30: =IFERROR($J30/(VLOOKUP($H30,VLEP!$A:$B,2,0)),"") -> 0.00041538462 | O30: =N30 -> 0.00041538462
A31: =IFERROR(VLOOKUP($C31,'Nom Prénom'!$A:$G,7,0),"") -> 2019 | B31: =IFERROR(VLOOKUP($C31,'Nom Prénom'!$A:$G,6,0),"") -> GEH1b | C31: GHAZI MOUNIR | D31: =IFERROR(VLOOKUP($C31,'Nom Prénom'!$A:$G,2,0),"") -> 415 | E31: =IFERROR(VLOOKUP($C31,'Nom Prénom'!$A:$G,3,0),"") -> 270 | F31: =IFERROR(VLOOKUP($C31,'Nom Prénom'!$A:$G,4,0),"") -> 0 | G31: =IFERROR(VLOOKUP($C31,'Nom Prénom'!$A:$G,5,0),"") -> 40 | H31: Benzo(a)pyrène | I31: 0.0031 | J31: =IFERROR(IF(OR(B31="GEH1a",B31="GEH1b",B31="GEH2",B31="GEH3",B31="GEH4"),I31/G31,((I31*(D31-E31))+(I31*(E31/G31)))/(D31-F31)),"") -> 7.75e-05 | K31: =IFERROR(VLOOKUP($C31,'Nom Prénom'!$A:$I,8,0),"") -> 0 | L31: =IFERROR(J31*K31,"") -> 0 | M31: =IFERROR(VLOOKUP($C31,'Nom Prénom'!$A:$I,9,0),"") -> 0 | N31: =IFERROR($J31/(VLOOKUP($H31,VLEP!$A:$B,2,0)),"") -> 0.51666667 | O31: =N31 -> 0.51666667
A32: =IFERROR(VLOOKUP($C32,'Nom Prénom'!$A:$G,7,0),"") -> 2019 | B32: =IFERROR(VLOOKUP($C32,'Nom Prénom'!$A:$G,6,0),"") -> GEH1b | C32: GHAZI MOUNIR | D32: =IFERROR(VLOOKUP($C32,'Nom Prénom'!$A:$G,2,0),"") -> 415 | E32: =IFERROR(VLOOKUP($C32,'Nom Prénom'!$A:$G,3,0),"") -> 270 | F32: =IFERROR(VLOOKUP($C32,'Nom Prénom'!$A:$G,4,0),"") -> 0 | G32: =IFERROR(VLOOKUP($C32,'Nom Prénom'!$A:$G,5,0),"") -> 40 | H32: Valeur Poussière (Alvéolaire) | J32: =IFERROR(IF(OR(B32="GEH1a",B32="GEH1b",B32="GEH2",B32="GEH3",B32="GEH4"),I32/G32,((I32*(D32-E32))+(I32*(E32/G32)))/(D32-F32)),"") -> 0 | K32: =IFERROR(VLOOKUP($C32,'Nom Prénom'!$A:$I,8,0),"") -> 0 | L32: =IFERROR(J32*K32,"") -> 0 | M32: =IFERROR(VLOOKUP($C32,'Nom Prénom'!$A:$I,9,0),"") -> 0 | N32: =IFERROR($J32/(VLOOKUP($H32,VLEP!$A:$B,2,0)),"") -> 0
A33: =IFERROR(VLOOKUP($C33,'Nom Prénom'!$A:$G,7,0),"") -> 2019 | B33: =IFERROR(VLOOKUP($C33,'Nom Prénom'!$A:$G,6,0),"") -> GEH1b | C33: GHAZI MOUNIR | D33: =IFERROR(VLOOKUP($C33,'Nom Prénom'!$A:$G,2,0),"") -> 415 | E33: =IFERROR(VLOOKUP($C33,'Nom Prénom'!$A:$G,3,0),"") -> 270 | F33: =IFERROR(VLOOKUP($C33,'Nom Prénom'!$A:$G,4,0),"") -> 0 | G33: =IFERROR(VLOOKUP($C33,'Nom Prénom'!$A:$G,5,0),"") -> 40 | H33: Valeur Poussière (Inhalable) | I33: 2.67 | J33: =IFERROR(IF(OR(B33="GEH1a",B33="GEH1b",B33="GEH2",B33="GEH3",B33="GEH4"),I33/G33,((I33*(D33-E33))+(I33*(E33/G33)))/(D33-F33)),"") -> 0.06675 | K33: =IFERROR(VLOOKUP($C33,'Nom Prénom'!$A:$I,8,0),"") -> 0 | L33: =IFERROR(J33*K33,"") -> 0 | M33: =IFERROR(VLOOKUP($C33,'Nom Prénom'!$A:$I,9,0),"") -> 0 | N33: =IFERROR($J33/(VLOOKUP($H33,VLEP!$A:$B,2,0)),"") -> 0.006675 | O33: =N33 -> 0.006675
A34: =IFERROR(VLOOKUP($C34,'Nom Prénom'!$A:$G,7,0),"") -> 2019 | B34: =IFERROR(VLOOKUP($C34,'Nom Prénom'!$A:$G,6,0),"") -> GEH2 | C34: TASSART Christophe | D34: =IFERROR(VLOOKUP($C34,'Nom Prénom'!$A:$G,2,0),"") -> 310 | E34: =IFERROR(VLOOKUP($C34,'Nom Prénom'!$A:$G,3,0),"") -> 175 | F34: =IFERROR(VLOOKUP($C34,'Nom Prénom'!$A:$G,4,0),"") -> 0 | G34: =IFERROR(VLOOKUP($C34,'Nom Prénom'!$A:$G,5,0),"") -> 40 | H34: Benzène | I34: 0.063 | J34: =IFERROR(IF(OR(B34="GEH1a",B34="GEH1b",B34="GEH2",B34="GEH3",B34="GEH4"),I34/G34,((I34*(D34-E34))+(I34*(E34/G34)))/(D34-F34)),"") -> 0.001575 | K34: =IFERROR(VLOOKUP($C34,'Nom Prénom'!$A:$I,8,0),"") -> 0 | L34: =IFERROR(J34*K34,"") -> 0 | M34: =IFERROR(VLOOKUP($C34,'Nom Prénom'!$A:$I,9,0),"") -> 0 | N34: =IFERROR($J34/(VLOOKUP($H34,VLEP!$A:$B,2,0)),"") -> 0.00048461538 | O34: =N34 -> 0.00048461538
A35: =IFERROR(VLOOKUP($C35,'Nom Prénom'!$A:$G,7,0),"") -> 2019 | B35: =IFERROR(VLOOKUP($C35,'Nom Prénom'!$A:$G,6,0),"") -> GEH2 | C35: TASSART Christophe | D35: =IFERROR(VLOOKUP($C35,'Nom Prénom'!$A:$G,2,0),"") -> 310 | E35: =IFERROR(VLOOKUP($C35,'Nom Prénom'!$A:$G,3,0),"") -> 175 | F35: =IFERROR(VLOOKUP($C35,'Nom Prénom'!$A:$G,4,0),"") -> 0 | G35: =IFERROR(VLOOKUP($C35,'Nom Prénom'!$A:$G,5,0),"") -> 40 | H35: Benzo(a)pyrène | I35: 5.3e-05 | J35: =IFERROR(IF(OR(B35="GEH1a",B35="GEH1b",B35="GEH2",B35="GEH3",B35="GEH4"),I35/G35,((I35*(D35-E35))+(I35*(E35/G35)))/(D35-F35)),"") -> 1.325e-06 | K35: =IFERROR(VLOOKUP($C35,'Nom Prénom'!$A:$I,8,0),"") -> 0 | L35: =IFERROR(J35*K35,"") -> 0 | M35: =IFERROR(VLOOKUP($C35,'Nom Prénom'!$A:$I,9,0),"") -> 0 | N35: =IFERROR($J35/(VLOOKUP($H35,VLEP!$A:$B,2,0)),"") -> 0.0088333333 | O35: =N35 -> 0.0088333333
A36: =IFERROR(VLOOKUP($C36,'Nom Prénom'!$A:$G,7,0),"") -> 2019 | B36: =IFERROR(VLOOKUP($C36,'Nom Prénom'!$A:$G,6,0),"") -> GEH2 | C36: TASSART Christophe | D36: =IFERROR(VLOOKUP($C36,'Nom Prénom'!$A:$G,2,0),"") -> 310 | E36: =IFERROR(VLOOKUP($C36,'Nom Prénom'!$A:$G,3,0),"") -> 175 | F36: =IFERROR(VLOOKUP($C36,'Nom Prénom'!$A:$G,4,0),"") -> 0 | G36: =IFERROR(VLOOKUP($C36,'Nom Prénom'!$A:$G,5,0),"") -> 40 | H36: Valeur Poussière (Alvéolaire) | J36: =IFERROR(IF(OR(B36="GEH1a",B36="GEH1b",B36="GEH2",B36="GEH3",B36="GEH4"),I36/G36,((I36*(D36-E36))+(I36*(E36/G36)))/(D36-F36)),"") -> 0 | K36: =IFERROR(VLOOKUP($C36,'Nom Prénom'!$A:$I,8,0),"") -> 0 | L36: =IFERROR(J36*K36,"") -> 0 | M36: =IFERROR(VLOOKUP($C36,'Nom Prénom'!$A:$I,9,0),"") -> 0 | N36: =IFERROR($J36/(VLOOKUP($H36,VLEP!$A:$B,2,0)),"") -> 0
A37: =IFERROR(VLOOKUP($C37,'Nom Prénom'!$A:$G,7,0),"") -> 2019 | B37: =IFERROR(VLOOKUP($C37,'Nom Prénom'!$A:$G,6,0),"") -> GEH2 | C37: TASSART Christophe | D37: =IFERROR(VLOOKUP($C37,'Nom Prénom'!$A:$G,2,0),"") -> 310 | E37: =IFERROR(VLOOKUP($C37,'Nom Prénom'!$A:$G,3,0),"") -> 175 | F37: =IFERROR(VLOOKUP($C37,'Nom Prénom'!$A:$G,4,0),"") -> 0 | G37: =IFERROR(VLOOKUP($C37,'Nom Prénom'!$A:$G,5,0),"") -> 40 | H37: Valeur Poussière (Inhalable) | I37: 0.36 | J37: =IFERROR(IF(OR(B37="GEH1a",B37="GEH1b",B37="GEH2",B37="GEH3",B37="GEH4"),I37/G37,((I37*(D37-E37))+(I37*(E37/G37)))/(D37-F37)),"") -> 0.009 | K37: =IFERROR(VLOOKUP($C37,'Nom Prénom'!$A:$I,8,0),"") -> 0 | L37: =IFERROR(J37*K37,"") -> 0 | M37: =IFERROR(VLOOKUP($C37,'Nom Prénom'!$A:$I,9,0),"") -> 0 | N37: =IFERROR($J37/(VLOOKUP($H37,VLEP!$A:$B,2,0)),"") -> 0.0009 | O37: =N37 -> 0.0009
A38: =IFERROR(VLOOKUP($C38,'Nom Prénom'!$A:$G,7,0),"") -> 2019 | B38: =IFERROR(VLOOKUP($C38,'Nom Prénom'!$A:$G,6,0),"") -> GEH2 | C38: DURONT Nicolas 2 | D38: =IFERROR(VLOOKUP($C38,'Nom Prénom'!$A:$G,2,0),"") -> 330 | E38: =IFERROR(VLOOKUP($C38,'Nom Prénom'!$A:$G,3,0),"") -> 235 | F38: =IFERROR(VLOOKUP($C38,'Nom Prénom'!$A:$G,4,0),"") -> 0 | G38: =IFERROR(VLOOKUP($C38,'Nom Prénom'!$A:$G,5,0),"") -> 40 | H38: Benzène | I38: 0.48 | J38: =IFERROR(IF(OR(B38="GEH1a",B38="GEH1b",B38="GEH2",B38="GEH3",B38="GEH4"),I38/G38,((I38*(D38-E38))+(I38*(E38/G38)))/(D38-F38)),"") -> 0.012 | K38: =IFERROR(VLOOKUP($C38,'Nom Prénom'!$A:$I,8,0),"") -> 0 | L38: =IFERROR(J38*K38,"") -> 0 | M38: =IFERROR(VLOOKUP($C38,'Nom Prénom'!$A:$I,9,0),"") -> 0 | N38: =IFERROR($J38/(VLOOKUP($H38,VLEP!$A:$B,2,0)),"") -> 0.0036923077 | O38: =N38 -> 0.0036923077
A39: =IFERROR(VLOOKUP($C39,'Nom Prénom'!$A:$G,7,0),"") -> 2019 | B39: =IFERROR(VLOOKUP($C39,'Nom Prénom'!$A:$G,6,0),"") -> GEH2 | C39: DURONT Nicolas 2 | D39: =IFERROR(VLOOKUP($C39,'Nom Prénom'!$A:$G,2,0),"") -> 330 | E39: =IFERROR(VLOOKUP($C39,'Nom Prénom'!$A:$G,3,0),"") -> 235 | F39: =IFERROR(VLOOKUP($C39,'Nom Prénom'!$A:$G,4,0),"") -> 0 | G39: =IFERROR(VLOOKUP($C39,'Nom Prénom'!$A:$G,5,0),"") -> 40 | H39: Benzo(a)pyrène | I39: 0.0015 | J39: =IFERROR(IF(OR(B39="GEH1a",B39="GEH1b",B39="GEH2",B39="GEH3",B39="GEH4"),I39/G39,((I39*(D39-E39))+(I39*(E39/G39)))/(D39-F39)),"") -> 3.75e-05 | K39: =IFERROR(VLOOKUP($C39,'Nom Prénom'!$A:$I,8,0),"") -> 0 | L39: =IFERROR(J39*K39,"") -> 0 | M39: =IFERROR(VLOOKUP($C39,'Nom Prénom'!$A:$I,9,0),"") -> 0 | N39: =IFERROR($J39/(VLOOKUP($H39,VLEP!$A:$B,2,0)),"") -> 0.25 | O39: =N39 -> 0.25
A40: =IFERROR(VLOOKUP($C40,'Nom Prénom'!$A:$G,7,0),"") -> 2019 | B40: =IFERROR(VLOOKUP($C40,'Nom Prénom'!$A:$G,6,0),"") -> GEH2 | C40: DURONT Nicolas 2 | D40: =IFERROR(VLOOKUP($C40,'Nom Prénom'!$A:$G,2,0),"") -> 330 | E40: =IFERROR(VLOOKUP($C40,'Nom Prénom'!$A:$G,3,0),"") -> 235 | F40: =IFERROR(VLOOKUP($C40,'Nom Prénom'!$A:$G,4,0),"") -> 0 | G40: =IFERROR(VLOOKUP($C40,'Nom Prénom'!$A:$G,5,0),"") -> 40 | H40: Valeur Poussière (Alvéolaire) | I40: 1.09 | J40: =IFERROR(IF(OR(B40="GEH1a",B40="GEH1b",B40="GEH2",B40="GEH3",B40="GEH4"),I40/G40,((I40*(D40-E40))+(I40*(E40/G40)))/(D40-F40)),"") -> 0.02725 | K40: =IFERROR(VLOOKUP($C40,'Nom Prénom'!$A:$I,8,0),"") -> 0 | L40: =IFERROR(J40*K40,"") -> 0 | M40: =IFERROR(VLOOKUP($C40,'Nom Prénom'!$A:$I,9,0),"") -> 0 | N40: =IFERROR($J40/(VLOOKUP($H40,VLEP!$A:$B,2,0)),"") -> 0.00545 | O40: =N40 -> 0.00545
...

Sheet VLEP
A1: Polluants | B1: VLEP
A2: Benzène | B2: 3.25
A3: Benzo(a)pyrène | B3: 0.00015
A4: Valeur Poussière (Inhalable) | B4: 10
A5: Valeur Poussière (Alvéolaire) | B5: 5
A6: Acénaphtène
A7: Anthracène
A8: Benzo(a)anthracène
A9: Benzo(b)fluoranthène
A10: Benzo(j)fluoranthène
A11: Benzo(k)fluoranthène
A12: Benzo(g,h,i)pérylène
A13: Chrysène
A14: Dibenzo(a,h)anthracene
A15: Fluoranthène
A16: Fluorène
A17: indéno(1,2,3-c,d)pyrène
A18: Naphtalène | B18: 50
A19: Phénantrène
A20: Pyrène
A21: Silice cristalline (cristobalite) | B21: 0.05
A22: Silice cristalline (quartz) | B22: 0.1
A23: Ammoniac (NH3) | B23: 7
A24: Hydrogène sulfuré (H2S) | B24: 7
A25: Toluène | B25: 76.8
A26: Ethylbenzène | B26: 88.4
A27: Xylène | B27: 221

Sheet TEST
A1: METEYER Anthony 1 | B1: 273 | C1: 0 | D1: 30 | E1: 1 | F1: GEH4 | G1: 2019 | H1: 0.04
A2: METEYER Anthony 2 | B2: 75 | C2: 75 | D2: 0 | E2: 40 | F2: GEH4 | G2: 2019
B3: =B1*($B$1/($B$1+$B$2)) -> 214.16379 | C3: =C1*($B$1/($B$1+$B$2)) -> 0 | D3: =D1*($B$1/($B$1+$B$2)) -> 23.534483 | E3: =E1*($B$1/($B$1+$B$2)) -> 0.78448276
B4: =B2*($B$1/($B$1+$B$2)) -> 58.836207 | C4: =C2*($B$1/($B$1+$B$2)) -> 58.836207 | D4: =D2*($B$1/($B$1+$B$2)) -> 0 | E4: =E2*($B$1/($B$1+$B$2)) -> 31.37931
B5: =B3+B4 -> 273
C8: =((H1*(B3-C3-D3))+(H1*(C3/E3)))/(B3-D3) -> 0.04
A12: GEH4 | B12: T | C12: TEPI | D12: TNONEXP | E12: FPA | G12: CEP | H12: CEP Corrigé
B13: 265 | C13: 0 | D13: 0 | E13: 1 | G13: 0.24 | H13: =G13/E13 -> 0.24
I14: =(H13*(B13/(B13+B15)))+(H15*(B15/(B13+B15))) -> 0.16465313
B15: 135 | C15: 135 | D15: 60 | E15: 40 | G15: 0.67 | H15: =G15/E15 -> 0.01675
