Workbook
Name RefProduit: Novembre!$B$3:OFFSET(Novembre!$B$3,MATCH("",Novembre!$B:$B,-1)-3,0)

Sheet ENTREE
A1: 1 | B1: 2 | C1: 3 | D1: 4 | E1: 5 | F1: 6 | G1: 7 | H1: 8 | I1: 9 | J1: 10 | K1: 11
A2: N° ligne | B2: Nomenclature produit | C2: Pays Provenance | D2: Valeur en Euro | E2: Régime | F2: Masse nette | G2: Unité suppl. | H2: Nature Trans. | I2: Mode transport | J2: Localisation | K2: Pays d'origine
A3: 1
A4: 2
A5: 3
A6: 4
A7: 5
A8: 6
A9: 7
A10: 8
A11: 9
A12: 10
A13: 11
A14: 12
... A20: 18
A21: 19 | B21: =IF(Novembre!E20<>"",Novembre!F20,"") | C21: =IF(Novembre!F20<>"",Novembre!G20,"") | F21: =IF(Novembre!E20<>"",(Novembre!I20*Novembre!J20),"") | G21: =IF(Novembre!E20<>"",Novembre!J20,"") | J21: =IF(Novembre!E20<>"",Novembre!K20,"") | K21: =IF(Novembre!F20<>"",Novembre!K20,"")
A22: 20 | B22: =IF(Novembre!E21<>"",Novembre!F21,"") | C22: =IF(Novembre!F21<>"",Novembre!G21,"") | F22: =IF(Novembre!E21<>"",(Novembre!I21*Novembre!J21),"") | G22: =IF(Novembre!E21<>"",Novembre!J21,"") | J22: =IF(Novembre!E21<>"",Novembre!K21,"") | K22: =IF(Novembre!F21<>"",Novembre!K21,"")
A23: 21 | B23: =IF(Novembre!E22<>"",Novembre!F22,"") | C23: =IF(Novembre!F22<>"",Novembre!G22,"") | F23: =IF(Novembre!E22<>"",(Novembre!I22*Novembre!J22),"") | G23: =IF(Novembre!E22<>"",Novembre!J22,"") | J23: =IF(Novembre!E22<>"",Novembre!K22,"") | K23: =IF(Novembre!F22<>"",Novembre!K22,"")
A24: 22 | B24: =IF(Novembre!E23<>"",Novembre!F23,"") | C24: =IF(Novembre!F23<>"",Novembre!G23,"") | F24: =IF(Novembre!E23<>"",(Novembre!I23*Novembre!J23),"") | G24: =IF(Novembre!E23<>"",Novembre!J23,"") | J24: =IF(Novembre!E23<>"",Novembre!K23,"") | K24: =IF(Novembre!F23<>"",Novembre!K23,"")
A25: 23 | B25: =IF(Novembre!E24<>"",Novembre!F24,"") | C25: =IF(Novembre!F24<>"",Novembre!G24,"") | F25: =IF(Novembre!E24<>"",(Novembre!I24*Novembre!J24),"") | G25: =IF(Novembre!E24<>"",Novembre!J24,"") | J25: =IF(Novembre!E24<>"",Novembre!K24,"") | K25: =IF(Novembre!F24<>"",Novembre!K24,"")
A26: 24 | B26: =IF(Novembre!E25<>"",Novembre!F25,"") | C26: =IF(Novembre!F25<>"",Novembre!G25,"") | F26: =IF(Novembre!E25<>"",(Novembre!I25*Novembre!J25),"") | G26: =IF(Novembre!E25<>"",Novembre!J25,"") | J26: =IF(Novembre!E25<>"",Novembre!K25,"") | K26: =IF(Novembre!F25<>"",Novembre!K25,"")
A27: 25 | B27: =IF(Novembre!E26<>"",Novembre!F26,"") | C27: =IF(Novembre!F26<>"",Novembre!G26,"") | F27: =IF(Novembre!E26<>"",(Novembre!I26*Novembre!J26),"") | G27: =IF(Novembre!E26<>"",Novembre!J26,"") | J27: =IF(Novembre!E26<>"",Novembre!K26,"") | K27: =IF(Novembre!F26<>"",Novembre!K26,"")
A28: 26 | B28: =IF(Novembre!E27<>"",Novembre!F27,"") | C28: =IF(Novembre!F27<>"",Novembre!G27,"") | F28: =IF(Novembre!E27<>"",(Novembre!I27*Novembre!J27),"") | G28: =IF(Novembre!E27<>"",Novembre!J27,"") | J28: =IF(Novembre!E27<>"",Novembre!K27,"") | K28: =IF(Novembre!F27<>"",Novembre!K27,"")
A29: 27 | B29: =IF(Novembre!E28<>"",Novembre!F28,"") | C29: =IF(Novembre!F28<>"",Novembre!G28,"") | F29: =IF(Novembre!E28<>"",(Novembre!I28*Novembre!J28),"") | G29: =IF(Novembre!E28<>"",Novembre!J28,"") | J29: =IF(Novembre!E28<>"",Novembre!K28,"") | K29: =IF(Novembre!F28<>"",Novembre!K28,"")
A30: 28 | B30: =IF(Novembre!E29<>"",Novembre!F29,"") | C30: =IF(Novembre!F29<>"",Novembre!G29,"") | F30: =IF(Novembre!E29<>"",(Novembre!I29*Novembre!J29),"") | G30: =IF(Novembre!E29<>"",Novembre!J29,"") | J30: =IF(Novembre!E29<>"",Novembre!K29,"") | K30: =IF(Novembre!F29<>"",Novembre!K29,"")
A31: 29 | B31: =IF(Novembre!E30<>"",Novembre!F30,"") | C31: =IF(Novembre!F30<>"",Novembre!G30,"") | F31: =IF(Novembre!E30<>"",(Novembre!I30*Novembre!J30),"") | G31: =IF(Novembre!E30<>"",Novembre!J30,"") | J31: =IF(Novembre!E30<>"",Novembre!K30,"") | K31: =IF(Novembre!F30<>"",Novembre!K30,"")
A32: 30 | B32: =IF(Novembre!E31<>"",Novembre!F31,"") | C32: =IF(Novembre!F31<>"",Novembre!G31,"") | F32: =IF(Novembre!E31<>"",(Novembre!I31*Novembre!J31),"") | G32: =IF(Novembre!E31<>"",Novembre!J31,"") | J32: =IF(Novembre!E31<>"",Novembre!K31,"") | K32: =IF(Novembre!F31<>"",Novembre!K31,"")
... A116: 114 | B116: =IF(Novembre!E115<>"",Novembre!F115,"") | C116: =IF(Novembre!F115<>"",Novembre!G115,"") | F116: =IF(Novembre!E115<>"",(Novembre!I115*Novembre!J115),"") | G116: =IF(Novembre!E115<>"",Novembre!J115,"") | J116: =IF(Novembre!E115<>"",Novembre!K115,"") | K116: =IF(Novembre!F115<>"",Novembre!K115,"")

Sheet Novembre
A1: liste des Arrivages | E1: Ref produit | F1: Code douanier | G1: pays de Provenance | H1: prix d'achat (€) | I1: Poids unitaire (kg) | J1: Quantité Reçu | K1: Pays d'origine (made in)
A2: client | B2: Ref produit | C2: Quantité | E2: {=IFERROR(INDEX(RefProduit,MATCH(0,COUNTIF($E$1:E1,RefProduit),0)),"")} -> CTS CH 00C | F2: =IFERROR(VLOOKUP(E2,[1]index!$B$2:$F$1376,4,0),"") -> 0 | G2: =IFERROR(VLOOKUP(E2,[1]index!$B$2:$F$1376,5,0),"") -> Uk | I2: =IF(E2<>"",VLOOKUP(E2,[1]index!$B$2:$G$1376,2,FALSE),"") -> 0 | J2: =IF(E2="","",SUMIFS($C:$C,$B:$B,E2)) -> 1 | K2: =IFERROR(VLOOKUP(E2,[1]index!$B$2:$F$1376,3,0),"") -> 0
A3: CONNECT2 | B3: CTS CH 00C | C3: 1 | E3: {=IFERROR(INDEX(RefProduit,MATCH(0,COUNTIF($E$1:E2,RefProduit),0)),"")} -> CTK MB 11 | F3: =IFERROR(VLOOKUP(E3,[1]index!$B$2:$F$1376,4,0),"") -> 0 | G3: =IFERROR(VLOOKUP(E3,[1]index!$B$2:$F$1376,5,0),"") -> Uk | I3: =IF(E3<>"",VLOOKUP(E3,[1]index!$B$2:$G$1376,2,FALSE),"") -> 0 | J3: =IF(E3="","",SUMIFS($C:$C,$B:$B,E3)) -> 1 | K3: =IFERROR(VLOOKUP(E3,[1]index!$B$2:$F$1376,3,0),"") -> 0
A4: CONNECT2 | B4: CTK MB 11 | C4: 1 | E4: {=IFERROR(INDEX(RefProduit,MATCH(0,COUNTIF($E$1:E3,RefProduit),0)),"")} -> CTS FO 20.2 | F4: =IFERROR(VLOOKUP(E4,[1]index!$B$2:$F$1376,4,0),"") | G4: =IFERROR(VLOOKUP(E4,[1]index!$B$2:$F$1376,5,0),"") | I4: =IF(E4<>"",VLOOKUP(E4,[1]index!$B$2:$G$1376,2,FALSE),"") -> #N/A | J4: =IF(E4="","",SUMIFS($C:$C,$B:$B,E4)) -> 1 | K4: =IFERROR(VLOOKUP(E4,[1]index!$B$2:$F$1376,3,0),"")
A5: CONNECT2 | B5: CTS FO 20.2 | C5: 1 | E5: {=IFERROR(INDEX(RefProduit,MATCH(0,COUNTIF($E$1:E4,RefProduit),0)),"")} -> CAM 24 | F5: =IFERROR(VLOOKUP(E5,[1]index!$B$2:$F$1376,4,0),"") | G5: =IFERROR(VLOOKUP(E5,[1]index!$B$2:$F$1376,5,0),"") | I5: =IF(E5<>"",VLOOKUP(E5,[1]index!$B$2:$G$1376,2,FALSE),"") -> #N/A | J5: =IF(E5="","",SUMIFS($C:$C,$B:$B,E5)) -> 14 | K5: =IFERROR(VLOOKUP(E5,[1]index!$B$2:$F$1376,3,0),"")
A6: CONNECT2 | B6: CAM 24 | C6: 14 | E6: {=IFERROR(INDEX(RefProduit,MATCH(0,COUNTIF($E$1:E5,RefProduit),0)),"")} -> CAM HD1 RT | F6: =IFERROR(VLOOKUP(E6,[1]index!$B$2:$F$1376,4,0),"") | G6: =IFERROR(VLOOKUP(E6,[1]index!$B$2:$F$1376,5,0),"") | I6: =IF(E6<>"",VLOOKUP(E6,[1]index!$B$2:$G$1376,2,FALSE),"") -> #N/A | J6: =IF(E6="","",SUMIFS($C:$C,$B:$B,E6)) -> 1 | K6: =IFERROR(VLOOKUP(E6,[1]index!$B$2:$F$1376,3,0),"")
A7: CONNECT2 | B7: CAM HD1 RT | C7: 1 | E7: {=IFERROR(INDEX(RefProduit,MATCH(0,COUNTIF($E$1:E6,RefProduit),0)),"")} -> CTK DC 01 | F7: =IFERROR(VLOOKUP(E7,[1]index!$B$2:$F$1376,4,0),"") | G7: =IFERROR(VLOOKUP(E7,[1]index!$B$2:$F$1376,5,0),"") | I7: =IF(E7<>"",VLOOKUP(E7,[1]index!$B$2:$G$1376,2,FALSE),"") -> #N/A | J7: =IF(E7="","",SUMIFS($C:$C,$B:$B,E7)) -> 7 | K7: =IFERROR(VLOOKUP(E7,[1]index!$B$2:$F$1376,3,0),"")
A8: CONNECT2 | B8: CTK DC 01 | C8: 7 | E8: {=IFERROR(INDEX(RefProduit,MATCH(0,COUNTIF($E$1:E7,RefProduit),0)),"")} -> CTK DC 02 | F8: =IFERROR(VLOOKUP(E8,[1]index!$B$2:$F$1376,4,0),"") -> 85299049 | G8: =IFERROR(VLOOKUP(E8,[1]index!$B$2:$F$1376,5,0),"") -> Uk | I8: =IF(E8<>"",VLOOKUP(E8,[1]index!$B$2:$G$1376,2,FALSE),"") -> 0.52 | J8: =IF(E8="","",SUMIFS($C:$C,$B:$B,E8)) -> 4 | K8: =IFERROR(VLOOKUP(E8,[1]index!$B$2:$F$1376,3,0),"") -> Uk
A9: CONNECT2 | B9: CTK DC 02 | C9: 4 | E9: {=IFERROR(INDEX(RefProduit,MATCH(0,COUNTIF($E$1:E8,RefProduit),0)),"")} -> CTK DC 04 | F9: =IFERROR(VLOOKUP(E9,[1]index!$B$2:$F$1376,4,0),"") -> 85299049 | G9: =IFERROR(VLOOKUP(E9,[1]index!$B$2:$F$1376,5,0),"") -> Uk | I9: =IF(E9<>"",VLOOKUP(E9,[1]index!$B$2:$G$1376,2,FALSE),"") -> 0.38 | J9: =IF(E9="","",SUMIFS($C:$C,$B:$B,E9)) -> 2 | K9: =IFERROR(VLOOKUP(E9,[1]index!$B$2:$F$1376,3,0),"") -> Uk
A10: CONNECT2 | B10: CTK DC 04 | C10: 2 | E10: {=IFERROR(INDEX(RefProduit,MATCH(0,COUNTIF($E$1:E9,RefProduit),0)),"")} -> CTK FD 57 | F10: =IFERROR(VLOOKUP(E10,[1]index!$B$2:$F$1376,4,0),"") | G10: =IFERROR(VLOOKUP(E10,[1]index!$B$2:$F$1376,5,0),"") | I10: =IF(E10<>"",VLOOKUP(E10,[1]index!$B$2:$G$1376,2,FALSE),"") -> #N/A | J10: =IF(E10="","",SUMIFS($C:$C,$B:$B,E10)) -> 1 | K10: =IFERROR(VLOOKUP(E10,[1]index!$B$2:$F$1376,3,0),"")
A11: CONNECT2 | B11: CTK FD 57 | C11: 1 | E11: {=IFERROR(INDEX(RefProduit,MATCH(0,COUNTIF($E$1:E10,RefProduit),0)),"")} -> CTK FT 02 | F11: =IFERROR(VLOOKUP(E11,[1]index!$B$2:$F$1376,4,0),"") | G11: =IFERROR(VLOOKUP(E11,[1]index!$B$2:$F$1376,5,0),"") | I11: =IF(E11<>"",VLOOKUP(E11,[1]index!$B$2:$G$1376,2,FALSE),"") -> #N/A | J11: =IF(E11="","",SUMIFS($C:$C,$B:$B,E11)) -> 1 | K11: =IFERROR(VLOOKUP(E11,[1]index!$B$2:$F$1376,3,0),"")
A12: CONNECT2 | B12: CTK FT 02 | C12: 1 | E12: {=IFERROR(INDEX(RefProduit,MATCH(0,COUNTIF($E$1:E11,RefProduit),0)),"")} -> CTK LR 04 | F12: =IFERROR(VLOOKUP(E12,[1]index!$B$2:$F$1376,4,0),"") -> 85299049 | G12: =IFERROR(VLOOKUP(E12,[1]index!$B$2:$F$1376,5,0),"") -> Uk | I12: =IF(E12<>"",VLOOKUP(E12,[1]index!$B$2:$G$1376,2,FALSE),"") -> 0.54 | J12: =IF(E12="","",SUMIFS($C:$C,$B:$B,E12)) -> 1 | K12: =IFERROR(VLOOKUP(E12,[1]index!$B$2:$F$1376,3,0),"") -> Uk
A13: CONNECT2 | B13: CTK LR 04 | C13: 1 | E13: {=IFERROR(INDEX(RefProduit,MATCH(0,COUNTIF($E$1:E12,RefProduit),0)),"")} -> CTK SU 01 | F13: =IFERROR(VLOOKUP(E13,[1]index!$B$2:$F$1376,4,0),"") | G13: =IFERROR(VLOOKUP(E13,[1]index!$B$2:$F$1376,5,0),"") | I13: =IF(E13<>"",VLOOKUP(E13,[1]index!$B$2:$G$1376,2,FALSE),"") -> #N/A | J13: =IF(E13="","",SUMIFS($C:$C,$B:$B,E13)) -> 1 | K13: =IFERROR(VLOOKUP(E13,[1]index!$B$2:$F$1376,3,0),"")
A14: CONNECT2 | B14: CTK SU 01 | C14: 1 | E14: {=IFERROR(INDEX(RefProduit,MATCH(0,COUNTIF($E$1:E13,RefProduit),0)),"")} -> CTS PO 001.2 | F14: =IFERROR(VLOOKUP(E14,[1]index!$B$2:$F$1376,4,0),"") -> 85443000 | G14: =IFERROR(VLOOKUP(E14,[1]index!$B$2:$F$1376,5,0),"") -> Uk | I14: =IF(E14<>"",VLOOKUP(E14,[1]index!$B$2:$G$1376,2,FALSE),"") -> 0.12 | J14: =IF(E14="","",SUMIFS($C:$C,$B:$B,E14)) -> 4 | K14: =IFERROR(VLOOKUP(E14,[1]index!$B$2:$F$1376,3,0),"") -> Uk
... A20: CONNECT2 | B20: CAM 23 | C20: 2 | E20: {=IFERROR(INDEX(RefProduit,MATCH(0,COUNTIF($E$1:E19,RefProduit),0)),"")} | F20: =IFERROR(VLOOKUP(E20,[1]index!$B$2:$F$1376,4,0),"") | G20: =IFERROR(VLOOKUP(E20,[1]index!$B$2:$F$1376,5,0),"") | I20: =IF(E20<>"",VLOOKUP(E20,[1]index!$B$2:$G$1376,2,FALSE),"") | J20: =IF(E20="","",SUMIFS($C:$C,$B:$B,E20)) | K20: =IFERROR(VLOOKUP(E20,[1]index!$B$2:$F$1376,3,0),"")
E21: {=IFERROR(INDEX(RefProduit,MATCH(0,COUNTIF($E$1:E20,RefProduit),0)),"")} | F21: =IFERROR(VLOOKUP(E21,[1]index!$B$2:$F$1376,4,0),"") | G21: =IFERROR(VLOOKUP(E21,[1]index!$B$2:$F$1376,5,0),"") | I21: =IF(E21<>"",VLOOKUP(E21,[1]index!$B$2:$G$1376,2,FALSE),"") | J21: =IF(E21="","",SUMIFS($C:$C,$B:$B,E21)) | K21: =IFERROR(VLOOKUP(E21,[1]index!$B$2:$F$1376,3,0),"")
E22: {=IFERROR(INDEX(RefProduit,MATCH(0,COUNTIF($E$1:E21,RefProduit),0)),"")} | F22: =IFERROR(VLOOKUP(E22,[1]index!$B$2:$F$1376,4,0),"") | G22: =IFERROR(VLOOKUP(E22,[1]index!$B$2:$F$1376,5,0),"") | I22: =IF(E22<>"",VLOOKUP(E22,[1]index!$B$2:$G$1376,2,FALSE),"") | J22: =IF(E22="","",SUMIFS($C:$C,$B:$B,E22)) | K22: =IFERROR(VLOOKUP(E22,[1]index!$B$2:$F$1376,3,0),"")
E23: {=IFERROR(INDEX(RefProduit,MATCH(0,COUNTIF($E$1:E22,RefProduit),0)),"")} | F23: =IFERROR(VLOOKUP(E23,[1]index!$B$2:$F$1376,4,0),"") | G23: =IFERROR(VLOOKUP(E23,[1]index!$B$2:$F$1376,5,0),"") | I23: =IF(E23<>"",VLOOKUP(E23,[1]index!$B$2:$G$1376,2,FALSE),"") | J23: =IF(E23="","",SUMIFS($C:$C,$B:$B,E23)) | K23: =IFERROR(VLOOKUP(E23,[1]index!$B$2:$F$1376,3,0),"")
E24: {=IFERROR(INDEX(RefProduit,MATCH(0,COUNTIF($E$1:E23,RefProduit),0)),"")} | F24: =IFERROR(VLOOKUP(E24,[1]index!$B$2:$F$1376,4,0),"") | G24: =IFERROR(VLOOKUP(E24,[1]index!$B$2:$F$1376,5,0),"") | I24: =IF(E24<>"",VLOOKUP(E24,[1]index!$B$2:$G$1376,2,FALSE),"") | J24: =IF(E24="","",SUMIFS($C:$C,$B:$B,E24)) | K24: =IFERROR(VLOOKUP(E24,[1]index!$B$2:$F$1376,3,0),"")
E25: {=IFERROR(INDEX(RefProduit,MATCH(0,COUNTIF($E$1:E24,RefProduit),0)),"")} | F25: =IFERROR(VLOOKUP(E25,[1]index!$B$2:$F$1376,4,0),"") | G25: =IFERROR(VLOOKUP(E25,[1]index!$B$2:$F$1376,5,0),"") | I25: =IF(E25<>"",VLOOKUP(E25,[1]index!$B$2:$G$1376,2,FALSE),"") | J25: =IF(E25="","",SUMIFS($C:$C,$B:$B,E25)) | K25: =IFERROR(VLOOKUP(E25,[1]index!$B$2:$F$1376,3,0),"")
E26: {=IFERROR(INDEX(RefProduit,MATCH(0,COUNTIF($E$1:E25,RefProduit),0)),"")} | F26: =IFERROR(VLOOKUP(E26,[1]index!$B$2:$F$1376,4,0),"") | G26: =IFERROR(VLOOKUP(E26,[1]index!$B$2:$F$1376,5,0),"") | I26: =IF(E26<>"",VLOOKUP(E26,[1]index!$B$2:$G$1376,2,FALSE),"") | J26: =IF(E26="","",SUMIFS($C:$C,$B:$B,E26)) | K26: =IFERROR(VLOOKUP(E26,[1]index!$B$2:$F$1376,3,0),"")
E27: {=IFERROR(INDEX(RefProduit,MATCH(0,COUNTIF($E$1:E26,RefProduit),0)),"")} | F27: =IFERROR(VLOOKUP(E27,[1]index!$B$2:$F$1376,4,0),"") | G27: =IFERROR(VLOOKUP(E27,[1]index!$B$2:$F$1376,5,0),"") | I27: =IF(E27<>"",VLOOKUP(E27,[1]index!$B$2:$G$1376,2,FALSE),"") | J27: =IF(E27="","",SUMIFS($C:$C,$B:$B,E27)) | K27: =IFERROR(VLOOKUP(E27,[1]index!$B$2:$F$1376,3,0),"")
E28: {=IFERROR(INDEX(RefProduit,MATCH(0,COUNTIF($E$1:E27,RefProduit),0)),"")} | F28: =IFERROR(VLOOKUP(E28,[1]index!$B$2:$F$1376,4,0),"") | G28: =IFERROR(VLOOKUP(E28,[1]index!$B$2:$F$1376,5,0),"") | I28: =IF(E28<>"",VLOOKUP(E28,[1]index!$B$2:$G$1376,2,FALSE),"") | J28: =IF(E28="","",SUMIFS($C:$C,$B:$B,E28)) | K28: =IFERROR(VLOOKUP(E28,[1]index!$B$2:$F$1376,3,0),"")
E29: {=IFERROR(INDEX(RefProduit,MATCH(0,COUNTIF($E$1:E28,RefProduit),0)),"")} | F29: =IFERROR(VLOOKUP(E29,[1]index!$B$2:$F$1376,4,0),"") | G29: =IFERROR(VLOOKUP(E29,[1]index!$B$2:$F$1376,5,0),"") | I29: =IF(E29<>"",VLOOKUP(E29,[1]index!$B$2:$G$1376,2,FALSE),"") | J29: =IF(E29="","",SUMIFS($C:$C,$B:$B,E29)) | K29: =IFERROR(VLOOKUP(E29,[1]index!$B$2:$F$1376,3,0),"")
E30: {=IFERROR(INDEX(RefProduit,MATCH(0,COUNTIF($E$1:E29,RefProduit),0)),"")} | F30: =IFERROR(VLOOKUP(E30,[1]index!$B$2:$F$1376,4,0),"") | G30: =IFERROR(VLOOKUP(E30,[1]index!$B$2:$F$1376,5,0),"") | I30: =IF(E30<>"",VLOOKUP(E30,[1]index!$B$2:$G$1376,2,FALSE),"") | J30: =IF(E30="","",SUMIFS($C:$C,$B:$B,E30)) | K30: =IFERROR(VLOOKUP(E30,[1]index!$B$2:$F$1376,3,0),"")
E31: {=IFERROR(INDEX(RefProduit,MATCH(0,COUNTIF($E$1:E30,RefProduit),0)),"")} | F31: =IFERROR(VLOOKUP(E31,[1]index!$B$2:$F$1376,4,0),"") | G31: =IFERROR(VLOOKUP(E31,[1]index!$B$2:$F$1376,5,0),"") | I31: =IF(E31<>"",VLOOKUP(E31,[1]index!$B$2:$G$1376,2,FALSE),"") | J31: =IF(E31="","",SUMIFS($C:$C,$B:$B,E31)) | K31: =IFERROR(VLOOKUP(E31,[1]index!$B$2:$F$1376,3,0),"")
E32: {=IFERROR(INDEX(RefProduit,MATCH(0,COUNTIF($E$1:E31,RefProduit),0)),"")} | F32: =IFERROR(VLOOKUP(E32,[1]index!$B$2:$F$1376,4,0),"") | G32: =IFERROR(VLOOKUP(E32,[1]index!$B$2:$F$1376,5,0),"") | I32: =IF(E32<>"",VLOOKUP(E32,[1]index!$B$2:$G$1376,2,FALSE),"") | J32: =IF(E32="","",SUMIFS($C:$C,$B:$B,E32)) | K32: =IFERROR(VLOOKUP(E32,[1]index!$B$2:$F$1376,3,0),"")
... E116: {=IFERROR(INDEX(RefProduit,MATCH(0,COUNTIF($E$1:E115,RefProduit),0)),"")} | F116: =IFERROR(VLOOKUP(E116,[1]index!$B$2:$F$1376,4,0),"") | G116: =IFERROR(VLOOKUP(E116,[1]index!$B$2:$F$1376,5,0),"") | I116: =IF(E116<>"",VLOOKUP(E116,[1]index!$B$2:$G$1376,2,FALSE),"") | J116: =IF(E116="","",SUMIFS($C:$C,$B:$B,E116)) | K116: =IFERROR(VLOOKUP(E116,[1]index!$B$2:$F$1376,3,0),"")
