Workbook
Name RefProduit: [1]Novembre!$B$3:OFFSET([1]Novembre!$B$3,MATCH("",[1]Novembre!$B:$B,-1)-3,0)

Sheet ACCUEIL
H1: ACCUEIL
J7: COLIS France
J12: PALETTE France
J17: COLIS Export
J22: PALETTE Export

Sheet COLIS FR
G2: COMMANDE COLIS France
B4: COLIS France | G4: Client : | M4: Date : | N4: =TODAY() -> 43839
G6: Mode d'expédition : | M6: France
G8: Poid :
B9: PALETTE France
G10: Qté | H10: Ref | I10: Prix d'achat € | J10: Reduction % | K10: Marge | L10: Prix Net | M10: Prix de vente Unitaire € | N10: Prix total
N11: =SUM(N12:N53) -> 0
I12: =IF(G12<>"",(VLOOKUP(H12,index!$B$2:$J$5026,7,FALSE)),"") | J12: 0 | K12: 1 | M12: =IF(L12<>"",L12,(IF(I12<>"",((I12-(I12*J12))/K12),""))) | N12: =IF(I12<>"",(M12*G12),"") | T12: GLS | U12: 1 | V12: 0
I13: =IF(G13<>"",(VLOOKUP(H13,index!$B$2:$J$5026,7,FALSE)),"") | J13: 0 | K13: 1 | M13: =IF(L13<>"",L13,(IF(I13<>"",((I13-(I13*J13))/K13),""))) | N13: =IF(I13<>"",(M13*G13),"") | T13: COLISSIMO | U13: 0.5 | V13: 0.28
B14: COLIS Export | I14: =IF(G14<>"",(VLOOKUP(H14,index!$B$2:$J$5026,7,FALSE)),"") | J14: 0 | K14: 1 | M14: =IF(L14<>"",L14,(IF(I14<>"",((I14-(I14*J14))/K14),""))) | N14: =IF(I14<>"",(M14*G14),"") | T14: CHRONOPOST | U14: 0.55 | V14: 0.35
I15: =IF(G15<>"",(VLOOKUP(H15,index!$B$2:$J$5026,7,FALSE)),"") | J15: 0 | K15: 1 | M15: =IF(L15<>"",L15,(IF(I15<>"",((I15-(I15*J15))/K15),""))) | N15: =IF(I15<>"",(M15*G15),"") | T15: GEODIS | U15: 0.6 | V15: 0.4
I16: =IF(G16<>"",(VLOOKUP(H16,index!$B$2:$J$5026,7,FALSE)),"") | J16: 0 | K16: 1 | M16: =IF(L16<>"",L16,(IF(I16<>"",((I16-(I16*J16))/K16),""))) | N16: =IF(I16<>"",(M16*G16),"") | T16: DAVID | U16: 0.65
I17: =IF(G17<>"",(VLOOKUP(H17,index!$B$2:$J$5026,7,FALSE)),"") | J17: 0 | K17: 1 | M17: =IF(L17<>"",L17,(IF(I17<>"",((I17-(I17*J17))/K17),""))) | N17: =IF(I17<>"",(M17*G17),"") | U17: 0.7
I18: =IF(G18<>"",(VLOOKUP(H18,index!$B$2:$J$5026,7,FALSE)),"") | J18: 0 | K18: 1 | M18: =IF(L18<>"",L18,(IF(I18<>"",((I18-(I18*J18))/K18),""))) | N18: =IF(I18<>"",(M18*G18),"") | U18: 0.75
B19: PALETTE Export | I19: =IF(G19<>"",(VLOOKUP(H19,index!$B$2:$J$5026,7,FALSE)),"") | J19: 0 | K19: 1 | M19: =IF(L19<>"",L19,(IF(I19<>"",((I19-(I19*J19))/K19),""))) | N19: =IF(I19<>"",(M19*G19),"") | U19: 0.8
I20: =IF(G20<>"",(VLOOKUP(H20,index!$B$2:$J$5026,7,FALSE)),"") | J20: 0 | K20: 1 | M20: =IF(L20<>"",L20,(IF(I20<>"",((I20-(I20*J20))/K20),""))) | N20: =IF(I20<>"",(M20*G20),"") | U20: 0.85
I21: =IF(G21<>"",(VLOOKUP(H21,index!$B$2:$J$5026,7,FALSE)),"") | J21: 0 | K21: 1 | M21: =IF(L21<>"",L21,(IF(I21<>"",((I21-(I21*J21))/K21),""))) | N21: =IF(I21<>"",(M21*G21),"") | U21: 0.9
I22: =IF(G22<>"",(VLOOKUP(H22,index!$B$2:$J$5026,7,FALSE)),"") | J22: 0 | K22: 1 | M22: =IF(L22<>"",L22,(IF(I22<>"",((I22-(I22*J22))/K22),""))) | N22: =IF(I22<>"",(M22*G22),"")
I23: =IF(G23<>"",(VLOOKUP(H23,index!$B$2:$J$5026,7,FALSE)),"") | J23: 0 | K23: 1 | M23: =IF(L23<>"",L23,(IF(I23<>"",((I23-(I23*J23))/K23),""))) | N23: =IF(I23<>"",(M23*G23),"")
I24: =IF(G24<>"",(VLOOKUP(H24,index!$B$2:$J$5026,7,FALSE)),"") | J24: 0 | K24: 1 | M24: =IF(L24<>"",L24,(IF(I24<>"",((I24-(I24*J24))/K24),""))) | N24: =IF(I24<>"",(M24*G24),"")
I25: =IF(G25<>"",(VLOOKUP(H25,index!$B$2:$J$5026,7,FALSE)),"") | J25: 0 | K25: 1 | M25: =IF(L25<>"",L25,(IF(I25<>"",((I25-(I25*J25))/K25),""))) | N25: =IF(I25<>"",(M25*G25),"")
I26: =IF(G26<>"",(VLOOKUP(H26,index!$B$2:$J$5026,7,FALSE)),"") | J26: 0 | K26: 1 | M26: =IF(L26<>"",L26,(IF(I26<>"",((I26-(I26*J26))/K26),""))) | N26: =IF(I26<>"",(M26*G26),"")
I27: =IF(G27<>"",(VLOOKUP(H27,index!$B$2:$J$5026,7,FALSE)),"") | J27: 0 | K27: 1 | M27: =IF(L27<>"",L27,(IF(I27<>"",((I27-(I27*J27))/K27),""))) | N27: =IF(I27<>"",(M27*G27),"")
I28: =IF(G28<>"",(VLOOKUP(H28,index!$B$2:$J$5026,7,FALSE)),"") | J28: 0 | K28: 1 | M28: =IF(L28<>"",L28,(IF(I28<>"",((I28-(I28*J28))/K28),""))) | N28: =IF(I28<>"",(M28*G28),"")
I29: =IF(G29<>"",(VLOOKUP(H29,index!$B$2:$J$5026,7,FALSE)),"") | J29: 0 | K29: 1 | M29: =IF(L29<>"",L29,(IF(I29<>"",((I29-(I29*J29))/K29),""))) | N29: =IF(I29<>"",(M29*G29),"")
I30: =IF(G30<>"",(VLOOKUP(H30,index!$B$2:$J$5026,7,FALSE)),"") | J30: 0 | K30: 1 | M30: =IF(L30<>"",L30,(IF(I30<>"",((I30-(I30*J30))/K30),""))) | N30: =IF(I30<>"",(M30*G30),"")
I31: =IF(G31<>"",(VLOOKUP(H31,index!$B$2:$J$5026,7,FALSE)),"") | J31: 0 | K31: 1 | M31: =IF(L31<>"",L31,(IF(I31<>"",((I31-(I31*J31))/K31),""))) | N31: =IF(I31<>"",(M31*G31),"")
I32: =IF(G32<>"",(VLOOKUP(H32,index!$B$2:$J$5026,7,FALSE)),"") | J32: 0 | K32: 1 | M32: =IF(L32<>"",L32,(IF(I32<>"",((I32-(I32*J32))/K32),""))) | N32: =IF(I32<>"",(M32*G32),"")
I33: =IF(G33<>"",(VLOOKUP(H33,index!$B$2:$J$5026,7,FALSE)),"") | J33: 0 | K33: 1 | M33: =IF(L33<>"",L33,(IF(I33<>"",((I33-(I33*J33))/K33),""))) | N33: =IF(I33<>"",(M33*G33),"")
... I53: =IF(G53<>"",(VLOOKUP(H53,index!$B$2:$J$5026,7,FALSE)),"") | J53: 0 | K53: 1 | M53: =IF(L53<>"",L53,(IF(I53<>"",((I53-(I53*J53))/K53),""))) | N53: =IF(I53<>"",(M53*G53),"")

Sheet PALETTE FR
G2: COMMANDE PALETTE France
G3: Client : | P3: Date : | Q3: =TODAY() -> 43839
B5: COLIS France | G5: Qté Palette | H5: Poids Palette | I5: Dimensions palette | K5: Nbr de colis | L5: Poid emballages | M5: poids marchandise | P5: Poids Total
H6: Europe (800 x 1200)
G7: 1 | H7: =IF(H6=Feuil3!A3,Feuil3!B3,IF(H6=Feuil3!A2,Feuil3!B2,IF(H6=Feuil3!A4,Feuil3!B4,IF(H6=Feuil3!A5,Feuil3!B5)))) -> 20 | L7: =IF(K7<>"",(K7*0.55),"") | M7: =SUM(J11:J69) -> 0 | P7: =IF(L7<>"",(H7+M7+L7),"")
G9: Qté | H9: Ref | I9: Poids article U | J9: Poids article Total | K9: Prix d'achat € | L9: Reduction % | M9: Marge | N9: Prix Net | O9: Prix de vente Unitaire € | P9: Prix total
P10: =SUM(P11:Q70) -> 0
I11: =IF(G11<>"",(VLOOKUP(H11,index!$B$2:$J$5026,2,FALSE)),"") | J11: =IF(I11<>"",(I11*G11),"") | K11: =IF(G11<>"",(VLOOKUP(H11,index!$B$2:$J$5026,7,FALSE)),"") | L11: 0 | M11: 1 | O11: =IF(N11<>"",N11,(IF(K11<>"",((K11-(K11*L11))/M11),""))) | P11: =IF(K11<>"",(O11*G11),"")
B12: PALETTE France | I12: =IF(G12<>"",(VLOOKUP(H12,index!$B$2:$J$5026,2,FALSE)),"") | J12: =IF(I12<>"",(I12*G12),"") | K12: =IF(G12<>"",(VLOOKUP(H12,index!$B$2:$J$5026,7,FALSE)),"") | L12: 0 | M12: 1 | O12: =IF(N12<>"",N12,(IF(K12<>"",((K12-(K12*L12))/M12),""))) | P12: =IF(K12<>"",(O12*G12),"") | W12: GLS | X12: 1 | Y12: 0
I13: =IF(G13<>"",(VLOOKUP(H13,index!$B$2:$J$5026,2,FALSE)),"") | J13: =IF(I13<>"",(I13*G13),"") | K13: =IF(G13<>"",(VLOOKUP(H13,index!$B$2:$J$5026,7,FALSE)),"") | L13: 0 | M13: 1 | O13: =IF(N13<>"",N13,(IF(K13<>"",((K13-(K13*L13))/M13),""))) | P13: =IF(K13<>"",(O13*G13),"") | W13: COLLISSIMO | X13: 0.5 | Y13: 0.28
I14: =IF(G14<>"",(VLOOKUP(H14,index!$B$2:$J$5026,2,FALSE)),"") | J14: =IF(I14<>"",(I14*G14),"") | K14: =IF(G14<>"",(VLOOKUP(H14,index!$B$2:$J$5026,7,FALSE)),"") | L14: 0 | M14: 1 | O14: =IF(N14<>"",N14,(IF(K14<>"",((K14-(K14*L14))/M14),""))) | P14: =IF(K14<>"",(O14*G14),"") | W14: CHRONOPOST | X14: 0.55 | Y14: 0.35
I15: =IF(G15<>"",(VLOOKUP(H15,index!$B$2:$J$5026,2,FALSE)),"") | J15: =IF(I15<>"",(I15*G15),"") | K15: =IF(G15<>"",(VLOOKUP(H15,index!$B$2:$J$5026,7,FALSE)),"") | L15: 0 | M15: 1 | O15: =IF(N15<>"",N15,(IF(K15<>"",((K15-(K15*L15))/M15),""))) | P15: =IF(K15<>"",(O15*G15),"") | W15: GEODIS | X15: 0.6 | Y15: 0.4
I16: =IF(G16<>"",(VLOOKUP(H16,index!$B$2:$J$5026,2,FALSE)),"") | J16: =IF(I16<>"",(I16*G16),"") | K16: =IF(G16<>"",(VLOOKUP(H16,index!$B$2:$J$5026,7,FALSE)),"") | L16: 0 | M16: 1 | O16: =IF(N16<>"",N16,(IF(K16<>"",((K16-(K16*L16))/M16),""))) | P16: =IF(K16<>"",(O16*G16),"") | X16: 0.65
B17: COLIS Export | I17: =IF(G17<>"",(VLOOKUP(H17,index!$B$2:$J$5026,2,FALSE)),"") | J17: =IF(I17<>"",(I17*G17),"") | K17: =IF(G17<>"",(VLOOKUP(H17,index!$B$2:$J$5026,7,FALSE)),"") | L17: 0 | M17: 1 | O17: =IF(N17<>"",N17,(IF(K17<>"",((K17-(K17*L17))/M17),""))) | P17: =IF(K17<>"",(O17*G17),"") | X17: 0.7
I18: =IF(G18<>"",(VLOOKUP(H18,index!$B$2:$J$5026,2,FALSE)),"") | J18: =IF(I18<>"",(I18*G18),"") | K18: =IF(G18<>"",(VLOOKUP(H18,index!$B$2:$J$5026,7,FALSE)),"") | L18: 0 | M18: 1 | O18: =IF(N18<>"",N18,(IF(K18<>"",((K18-(K18*L18))/M18),""))) | P18: =IF(K18<>"",(O18*G18),"") | X18: 0.75
I19: =IF(G19<>"",(VLOOKUP(H19,index!$B$2:$J$5026,2,FALSE)),"") | J19: =IF(I19<>"",(I19*G19),"") | K19: =IF(G19<>"",(VLOOKUP(H19,index!$B$2:$J$5026,7,FALSE)),"") | L19: 0 | M19: 1 | O19: =IF(N19<>"",N19,(IF(K19<>"",((K19-(K19*L19))/M19),""))) | P19: =IF(K19<>"",(O19*G19),"") | X19: 0.8
I20: =IF(G20<>"",(VLOOKUP(H20,index!$B$2:$J$5026,2,FALSE)),"") | J20: =IF(I20<>"",(I20*G20),"") | K20: =IF(G20<>"",(VLOOKUP(H20,index!$B$2:$J$5026,7,FALSE)),"") | L20: 0 | M20: 1 | O20: =IF(N20<>"",N20,(IF(K20<>"",((K20-(K20*L20))/M20),""))) | P20: =IF(K20<>"",(O20*G20),"") | X20: 0.85
I21: =IF(G21<>"",(VLOOKUP(H21,index!$B$2:$J$5026,2,FALSE)),"") | J21: =IF(I21<>"",(I21*G21),"") | K21: =IF(G21<>"",(VLOOKUP(H21,index!$B$2:$J$5026,7,FALSE)),"") | L21: 0 | M21: 1 | O21: =IF(N21<>"",N21,(IF(K21<>"",((K21-(K21*L21))/M21),""))) | P21: =IF(K21<>"",(O21*G21),"") | X21: 0.9
B22: PALETTE Export | I22: =IF(G22<>"",(VLOOKUP(H22,index!$B$2:$J$5026,2,FALSE)),"") | J22: =IF(I22<>"",(I22*G22),"") | K22: =IF(G22<>"",(VLOOKUP(H22,index!$B$2:$J$5026,7,FALSE)),"") | L22: 0 | M22: 1 | O22: =IF(N22<>"",N22,(IF(K22<>"",((K22-(K22*L22))/M22),""))) | P22: =IF(K22<>"",(O22*G22),"")
I23: =IF(G23<>"",(VLOOKUP(H23,index!$B$2:$J$5026,2,FALSE)),"") | J23: =IF(I23<>"",(I23*G23),"") | K23: =IF(G23<>"",(VLOOKUP(H23,index!$B$2:$J$5026,7,FALSE)),"") | L23: 0 | M23: 1 | O23: =IF(N23<>"",N23,(IF(K23<>"",((K23-(K23*L23))/M23),""))) | P23: =IF(K23<>"",(O23*G23),"")
I24: =IF(G24<>"",(VLOOKUP(H24,index!$B$2:$J$5026,2,FALSE)),"") | J24: =IF(I24<>"",(I24*G24),"") | K24: =IF(G24<>"",(VLOOKUP(H24,index!$B$2:$J$5026,7,FALSE)),"") | L24: 0 | M24: 1 | O24: =IF(N24<>"",N24,(IF(K24<>"",((K24-(K24*L24))/M24),""))) | P24: =IF(K24<>"",(O24*G24),"")
I25: =IF(G25<>"",(VLOOKUP(H25,index!$B$2:$J$5026,2,FALSE)),"") | J25: =IF(I25<>"",(I25*G25),"") | K25: =IF(G25<>"",(VLOOKUP(H25,index!$B$2:$J$5026,7,FALSE)),"") | L25: 0 | M25: 1 | O25: =IF(N25<>"",N25,(IF(K25<>"",((K25-(K25*L25))/M25),""))) | P25: =IF(K25<>"",(O25*G25),"")
I26: =IF(G26<>"",(VLOOKUP(H26,index!$B$2:$J$5026,2,FALSE)),"") | J26: =IF(I26<>"",(I26*G26),"") | K26: =IF(G26<>"",(VLOOKUP(H26,index!$B$2:$J$5026,7,FALSE)),"") | L26: 0 | M26: 1 | O26: =IF(N26<>"",N26,(IF(K26<>"",((K26-(K26*L26))/M26),""))) | P26: =IF(K26<>"",(O26*G26),"")
I27: =IF(G27<>"",(VLOOKUP(H27,index!$B$2:$J$5026,2,FALSE)),"") | J27: =IF(I27<>"",(I27*G27),"") | K27: =IF(G27<>"",(VLOOKUP(H27,index!$B$2:$J$5026,7,FALSE)),"") | L27: 0 | M27: 1 | O27: =IF(N27<>"",N27,(IF(K27<>"",((K27-(K27*L27))/M27),""))) | P27: =IF(K27<>"",(O27*G27),"")
I28: =IF(G28<>"",(VLOOKUP(H28,index!$B$2:$J$5026,2,FALSE)),"") | J28: =IF(I28<>"",(I28*G28),"") | K28: =IF(G28<>"",(VLOOKUP(H28,index!$B$2:$J$5026,7,FALSE)),"") | L28: 0 | M28: 1 | O28: =IF(N28<>"",N28,(IF(K28<>"",((K28-(K28*L28))/M28),""))) | P28: =IF(K28<>"",(O28*G28),"")
I29: =IF(G29<>"",(VLOOKUP(H29,index!$B$2:$J$5026,2,FALSE)),"") | J29: =IF(I29<>"",(I29*G29),"") | K29: =IF(G29<>"",(VLOOKUP(H29,index!$B$2:$J$5026,7,FALSE)),"") | L29: 0 | M29: 1 | O29: =IF(N29<>"",N29,(IF(K29<>"",((K29-(K29*L29))/M29),""))) | P29: =IF(K29<>"",(O29*G29),"")
I30: =IF(G30<>"",(VLOOKUP(H30,index!$B$2:$J$5026,2,FALSE)),"") | J30: =IF(I30<>"",(I30*G30),"") | K30: =IF(G30<>"",(VLOOKUP(H30,index!$B$2:$J$5026,7,FALSE)),"") | L30: 0 | M30: 1 | O30: =IF(N30<>"",N30,(IF(K30<>"",((K30-(K30*L30))/M30),""))) | P30: =IF(K30<>"",(O30*G30),"")
I31: =IF(G31<>"",(VLOOKUP(H31,index!$B$2:$J$5026,2,FALSE)),"") | J31: =IF(I31<>"",(I31*G31),"") | K31: =IF(G31<>"",(VLOOKUP(H31,index!$B$2:$J$5026,7,FALSE)),"") | L31: 0 | M31: 1 | O31: =IF(N31<>"",N31,(IF(K31<>"",((K31-(K31*L31))/M31),""))) | P31: =IF(K31<>"",(O31*G31),"")
I32: =IF(G32<>"",(VLOOKUP(H32,index!$B$2:$J$5026,2,FALSE)),"") | J32: =IF(I32<>"",(I32*G32),"") | K32: =IF(G32<>"",(VLOOKUP(H32,index!$B$2:$J$5026,7,FALSE)),"") | L32: 0 | M32: 1 | O32: =IF(N32<>"",N32,(IF(K32<>"",((K32-(K32*L32))/M32),""))) | P32: =IF(K32<>"",(O32*G32),"")
I33: =IF(G33<>"",(VLOOKUP(H33,index!$B$2:$J$5026,2,FALSE)),"") | J33: =IF(I33<>"",(I33*G33),"") | K33: =IF(G33<>"",(VLOOKUP(H33,index!$B$2:$J$5026,7,FALSE)),"") | L33: 0 | M33: 1 | O33: =IF(N33<>"",N33,(IF(K33<>"",((K33-(K33*L33))/M33),""))) | P33: =IF(K33<>"",(O33*G33),"")
I34: =IF(G34<>"",(VLOOKUP(H34,index!$B$2:$J$5026,2,FALSE)),"") | J34: =IF(I34<>"",(I34*G34),"") | K34: =IF(G34<>"",(VLOOKUP(H34,index!$B$2:$J$5026,7,FALSE)),"") | L34: 0 | M34: 1 | O34: =IF(N34<>"",N34,(IF(K34<>"",((K34-(K34*L34))/M34),""))) | P34: =IF(K34<>"",(O34*G34),"")
... I70: =IF(G70<>"",(VLOOKUP(H70,index!$B$2:$J$5026,2,FALSE)),"") | J70: =IF(I70<>"",(I70*G70),"") | K70: =IF(G70<>"",(VLOOKUP(H70,index!$B$2:$J$5026,7,FALSE)),"") | L70: 0 | M70: 1 | O70: =IF(N70<>"",N70,(IF(K70<>"",((K70-(K70*L70))/M70),""))) | P70: =IF(K70<>"",(O70*G70),"")

Sheet PALETTE EXPT
G2: COMMANDE PALETTE EXPORT
G3: Client : | P3: Date : | Q3: =TODAY() -> 43839
B5: COLIS France | G5: Qté Palette | H5: Poids Palette | I5: Dimensions palette | K5: Nbr de colis | L5: Poid emballages | M5: poids marchandise | O5: Poids Total
H6: Europe (800 x 1200)
G7: 1 | H7: =IF(H6=Feuil3!A3,Feuil3!B3,IF(H6=Feuil3!A2,Feuil3!B2,IF(H6=Feuil3!A4,Feuil3!B4,IF(H6=Feuil3!A5,Feuil3!B5)))) -> 20 | I7: 800 X 600 X 940 | K7: 6 | L7: =IF(K7<>"",(K7*0.55),"") -> 3.3 | M7: =SUM(J11:J71) -> 0 | O7: =IF(L7<>"",(H7+M7+L7),"") -> 23.3
G9: Qté | H9: Ref | I9: Poids article U | J9: Poids article Total | K9: Origine | L9: Prix d'achat € | M9: Reduction % | N9: Marge | O9: Prix net | P9: Prix de vente Unitaire € | Q9: Prix total
Q10: =SUM(Q11:Q72) -> 0
I11: =IF(G11<>"",(VLOOKUP(H11,index!$B$2:$J$5026,2,FALSE)),"") | J11: =IF(I11<>"",(I11*G11),"") | K11: =IF(G11<>"",(VLOOKUP(H11,index!$B$2:$J$5026,3,FALSE)),"") | L11: =IF(G11<>"",(VLOOKUP(H11,index!$B$2:$J$5026,7,FALSE)),"") | M11: 0 | N11: 1 | P11: =IF(O11<>"",O11,IF(L11<>"",((L11-(L11*M11))/N11),"")) | Q11: =IF(L11<>"",(P11*G11),"")
B12: PALETTE France | I12: =IF(G12<>"",(VLOOKUP(H12,index!$B$2:$J$5026,2,FALSE)),"") | J12: =IF(I12<>"",(I12*G12),"") | K12: =IF(G12<>"",(VLOOKUP(H12,index!$B$2:$J$5026,3,FALSE)),"") | L12: =IF(G12<>"",(VLOOKUP(H12,index!$B$2:$J$5026,7,FALSE)),"") | M12: 0 | N12: 1 | P12: =IF(O12<>"",O12,IF(L12<>"",((L12-(L12*M12))/N12),"")) | Q12: =IF(L12<>"",(P12*G12),"") | X12: GLS | Y12: 1 | Z12: 0
I13: =IF(G13<>"",(VLOOKUP(H13,index!$B$2:$J$5026,2,FALSE)),"") | J13: =IF(I13<>"",(I13*G13),"") | K13: =IF(G13<>"",(VLOOKUP(H13,index!$B$2:$J$5026,3,FALSE)),"") | L13: =IF(G13<>"",(VLOOKUP(H13,index!$B$2:$J$5026,7,FALSE)),"") | M13: 0 | N13: 1 | P13: =IF(O13<>"",O13,IF(L13<>"",((L13-(L13*M13))/N13),"")) | Q13: =IF(L13<>"",(P13*G13),"") | X13: COLLISSIMO | Y13: 0.5 | Z13: 0.28
I14: =IF(G14<>"",(VLOOKUP(H14,index!$B$2:$J$5026,2,FALSE)),"") | J14: =IF(I14<>"",(I14*G14),"") | K14: =IF(G14<>"",(VLOOKUP(H14,index!$B$2:$J$5026,3,FALSE)),"") | L14: =IF(G14<>"",(VLOOKUP(H14,index!$B$2:$J$5026,7,FALSE)),"") | M14: 0 | N14: 1 | P14: =IF(O14<>"",O14,IF(L14<>"",((L14-(L14*M14))/N14),"")) | Q14: =IF(L14<>"",(P14*G14),"") | X14: CHRONOPOST | Y14: 0.55 | Z14: 0.35
I15: =IF(G15<>"",(VLOOKUP(H15,index!$B$2:$J$5026,2,FALSE)),"") | J15: =IF(I15<>"",(I15*G15),"") | K15: =IF(G15<>"",(VLOOKUP(H15,index!$B$2:$J$5026,3,FALSE)),"") | L15: =IF(G15<>"",(VLOOKUP(H15,index!$B$2:$J$5026,7,FALSE)),"") | M15: 0 | N15: 1 | P15: =IF(O15<>"",O15,IF(L15<>"",((L15-(L15*M15))/N15),"")) | Q15: =IF(L15<>"",(P15*G15),"") | X15: GEODIS | Y15: 0.6 | Z15: 0.4
I16: =IF(G16<>"",(VLOOKUP(H16,index!$B$2:$J$5026,2,FALSE)),"") | J16: =IF(I16<>"",(I16*G16),"") | K16: =IF(G16<>"",(VLOOKUP(H16,index!$B$2:$J$5026,3,FALSE)),"") | L16: =IF(G16<>"",(VLOOKUP(H16,index!$B$2:$J$5026,7,FALSE)),"") | M16: 0 | N16: 1 | P16: =IF(O16<>"",O16,IF(L16<>"",((L16-(L16*M16))/N16),"")) | Q16: =IF(L16<>"",(P16*G16),"") | Y16: 0.65
B17: COLIS Export | I17: =IF(G17<>"",(VLOOKUP(H17,index!$B$2:$J$5026,2,FALSE)),"") | J17: =IF(I17<>"",(I17*G17),"") | K17: =IF(G17<>"",(VLOOKUP(H17,index!$B$2:$J$5026,3,FALSE)),"") | L17: =IF(G17<>"",(VLOOKUP(H17,index!$B$2:$J$5026,7,FALSE)),"") | M17: 0 | N17: 1 | P17: =IF(O17<>"",O17,IF(L17<>"",((L17-(L17*M17))/N17),"")) | Q17: =IF(L17<>"",(P17*G17),"") | Y17: 0.7
I18: =IF(G18<>"",(VLOOKUP(H18,index!$B$2:$J$5026,2,FALSE)),"") | J18: =IF(I18<>"",(I18*G18),"") | K18: =IF(G18<>"",(VLOOKUP(H18,index!$B$2:$J$5026,3,FALSE)),"") | L18: =IF(G18<>"",(VLOOKUP(H18,index!$B$2:$J$5026,7,FALSE)),"") | M18: 0 | N18: 1 | P18: =IF(O18<>"",O18,IF(L18<>"",((L18-(L18*M18))/N18),"")) | Q18: =IF(L18<>"",(P18*G18),"") | Y18: 0.75
I19: =IF(G19<>"",(VLOOKUP(H19,index!$B$2:$J$5026,2,FALSE)),"") | J19: =IF(I19<>"",(I19*G19),"") | K19: =IF(G19<>"",(VLOOKUP(H19,index!$B$2:$J$5026,3,FALSE)),"") | L19: =IF(G19<>"",(VLOOKUP(H19,index!$B$2:$J$5026,7,FALSE)),"") | M19: 0 | N19: 1 | P19: =IF(O19<>"",O19,IF(L19<>"",((L19-(L19*M19))/N19),"")) | Q19: =IF(L19<>"",(P19*G19),"") | Y19: 0.8
I20: =IF(G20<>"",(VLOOKUP(H20,index!$B$2:$J$5026,2,FALSE)),"") | J20: =IF(I20<>"",(I20*G20),"") | K20: =IF(G20<>"",(VLOOKUP(H20,index!$B$2:$J$5026,3,FALSE)),"") | L20: =IF(G20<>"",(VLOOKUP(H20,index!$B$2:$J$5026,7,FALSE)),"") | M20: 0 | N20: 1 | P20: =IF(O20<>"",O20,IF(L20<>"",((L20-(L20*M20))/N20),"")) | Q20: =IF(L20<>"",(P20*G20),"") | Y20: 0.85
I21: =IF(G21<>"",(VLOOKUP(H21,index!$B$2:$J$5026,2,FALSE)),"") | J21: =IF(I21<>"",(I21*G21),"") | K21: =IF(G21<>"",(VLOOKUP(H21,index!$B$2:$J$5026,3,FALSE)),"") | L21: =IF(G21<>"",(VLOOKUP(H21,index!$B$2:$J$5026,7,FALSE)),"") | M21: 0 | N21: 1 | P21: =IF(O21<>"",O21,IF(L21<>"",((L21-(L21*M21))/N21),"")) | Q21: =IF(L21<>"",(P21*G21),"") | Y21: 0.9
B22: PALETTE Export | I22: =IF(G22<>"",(VLOOKUP(H22,index!$B$2:$J$5026,2,FALSE)),"") | J22: =IF(I22<>"",(I22*G22),"") | K22: =IF(G22<>"",(VLOOKUP(H22,index!$B$2:$J$5026,3,FALSE)),"") | L22: =IF(G22<>"",(VLOOKUP(H22,index!$B$2:$J$5026,7,FALSE)),"") | M22: 0 | N22: 1 | P22: =IF(O22<>"",O22,IF(L22<>"",((L22-(L22*M22))/N22),"")) | Q22: =IF(L22<>"",(P22*G22),"")
I23: =IF(G23<>"",(VLOOKUP(H23,index!$B$2:$J$5026,2,FALSE)),"") | J23: =IF(I23<>"",(I23*G23),"") | K23: =IF(G23<>"",(VLOOKUP(H23,index!$B$2:$J$5026,3,FALSE)),"") | L23: =IF(G23<>"",(VLOOKUP(H23,index!$B$2:$J$5026,7,FALSE)),"") | M23: 0 | N23: 1 | P23: =IF(O23<>"",O23,IF(L23<>"",((L23-(L23*M23))/N23),"")) | Q23: =IF(L23<>"",(P23*G23),"")
I24: =IF(G24<>"",(VLOOKUP(H24,index!$B$2:$J$5026,2,FALSE)),"") | J24: =IF(I24<>"",(I24*G24),"") | K24: =IF(G24<>"",(VLOOKUP(H24,index!$B$2:$J$5026,3,FALSE)),"") | L24: =IF(G24<>"",(VLOOKUP(H24,index!$B$2:$J$5026,7,FALSE)),"") | M24: 0 | N24: 1 | P24: =IF(O24<>"",O24,IF(L24<>"",((L24-(L24*M24))/N24),"")) | Q24: =IF(L24<>"",(P24*G24),"")
I25: =IF(G25<>"",(VLOOKUP(H25,index!$B$2:$J$5026,2,FALSE)),"") | J25: =IF(I25<>"",(I25*G25),"") | K25: =IF(G25<>"",(VLOOKUP(H25,index!$B$2:$J$5026,3,FALSE)),"") | L25: =IF(G25<>"",(VLOOKUP(H25,index!$B$2:$J$5026,7,FALSE)),"") | M25: 0 | N25: 1 | P25: =IF(O25<>"",O25,IF(L25<>"",((L25-(L25*M25))/N25),"")) | Q25: =IF(L25<>"",(P25*G25),"")
I26: =IF(G26<>"",(VLOOKUP(H26,index!$B$2:$J$5026,2,FALSE)),"") | J26: =IF(I26<>"",(I26*G26),"") | K26: =IF(G26<>"",(VLOOKUP(H26,index!$B$2:$J$5026,3,FALSE)),"") | L26: =IF(G26<>"",(VLOOKUP(H26,index!$B$2:$J$5026,7,FALSE)),"") | M26: 0 | N26: 1 | P26: =IF(O26<>"",O26,IF(L26<>"",((L26-(L26*M26))/N26),"")) | Q26: =IF(L26<>"",(P26*G26),"")
I27: =IF(G27<>"",(VLOOKUP(H27,index!$B$2:$J$5026,2,FALSE)),"") | J27: =IF(I27<>"",(I27*G27),"") | K27: =IF(G27<>"",(VLOOKUP(H27,index!$B$2:$J$5026,3,FALSE)),"") | L27: =IF(G27<>"",(VLOOKUP(H27,index!$B$2:$J$5026,7,FALSE)),"") | M27: 0 | N27: 1 | P27: =IF(O27<>"",O27,IF(L27<>"",((L27-(L27*M27))/N27),"")) | Q27: =IF(L27<>"",(P27*G27),"")
I28: =IF(G28<>"",(VLOOKUP(H28,index!$B$2:$J$5026,2,FALSE)),"") | J28: =IF(I28<>"",(I28*G28),"") | K28: =IF(G28<>"",(VLOOKUP(H28,index!$B$2:$J$5026,3,FALSE)),"") | L28: =IF(G28<>"",(VLOOKUP(H28,index!$B$2:$J$5026,7,FALSE)),"") | M28: 0 | N28: 1 | P28: =IF(O28<>"",O28,IF(L28<>"",((L28-(L28*M28))/N28),"")) | Q28: =IF(L28<>"",(P28*G28),"")
I29: =IF(G29<>"",(VLOOKUP(H29,index!$B$2:$J$5026,2,FALSE)),"") | J29: =IF(I29<>"",(I29*G29),"") | K29: =IF(G29<>"",(VLOOKUP(H29,index!$B$2:$J$5026,3,FALSE)),"") | L29: =IF(G29<>"",(VLOOKUP(H29,index!$B$2:$J$5026,7,FALSE)),"") | M29: 0 | N29: 1 | P29: =IF(O29<>"",O29,IF(L29<>"",((L29-(L29*M29))/N29),"")) | Q29: =IF(L29<>"",(P29*G29),"")
I30: =IF(G30<>"",(VLOOKUP(H30,index!$B$2:$J$5026,2,FALSE)),"") | J30: =IF(I30<>"",(I30*G30),"") | K30: =IF(G30<>"",(VLOOKUP(H30,index!$B$2:$J$5026,3,FALSE)),"") | L30: =IF(G30<>"",(VLOOKUP(H30,index!$B$2:$J$5026,7,FALSE)),"") | M30: 0 | N30: 1 | P30: =IF(O30<>"",O30,IF(L30<>"",((L30-(L30*M30))/N30),"")) | Q30: =IF(L30<>"",(P30*G30),"")
I31: =IF(G31<>"",(VLOOKUP(H31,index!$B$2:$J$5026,2,FALSE)),"") | J31: =IF(I31<>"",(I31*G31),"") | K31: =IF(G31<>"",(VLOOKUP(H31,index!$B$2:$J$5026,3,FALSE)),"") | L31: =IF(G31<>"",(VLOOKUP(H31,index!$B$2:$J$5026,7,FALSE)),"") | M31: 0 | N31: 1 | P31: =IF(O31<>"",O31,IF(L31<>"",((L31-(L31*M31))/N31),"")) | Q31: =IF(L31<>"",(P31*G31),"")
I32: =IF(G32<>"",(VLOOKUP(H32,index!$B$2:$J$5026,2,FALSE)),"") | J32: =IF(I32<>"",(I32*G32),"") | K32: =IF(G32<>"",(VLOOKUP(H32,index!$B$2:$J$5026,3,FALSE)),"") | L32: =IF(G32<>"",(VLOOKUP(H32,index!$B$2:$J$5026,7,FALSE)),"") | M32: 0 | N32: 1 | P32: =IF(O32<>"",O32,IF(L32<>"",((L32-(L32*M32))/N32),"")) | Q32: =IF(L32<>"",(P32*G32),"")
I33: =IF(G33<>"",(VLOOKUP(H33,index!$B$2:$J$5026,2,FALSE)),"") | J33: =IF(I33<>"",(I33*G33),"") | K33: =IF(G33<>"",(VLOOKUP(H33,index!$B$2:$J$5026,3,FALSE)),"") | L33: =IF(G33<>"",(VLOOKUP(H33,index!$B$2:$J$5026,7,FALSE)),"") | M33: 0 | N33: 1 | P33: =IF(O33<>"",O33,IF(L33<>"",((L33-(L33*M33))/N33),"")) | Q33: =IF(L33<>"",(P33*G33),"")
I34: =IF(G34<>"",(VLOOKUP(H34,index!$B$2:$J$5026,2,FALSE)),"") | J34: =IF(I34<>"",(I34*G34),"") | K34: =IF(G34<>"",(VLOOKUP(H34,index!$B$2:$J$5026,3,FALSE)),"") | L34: =IF(G34<>"",(VLOOKUP(H34,index!$B$2:$J$5026,7,FALSE)),"") | M34: 0 | N34: 1 | P34: =IF(O34<>"",O34,IF(L34<>"",((L34-(L34*M34))/N34),"")) | Q34: =IF(L34<>"",(P34*G34),"")
... I72: =IF(G72<>"",(VLOOKUP(H72,index!$B$2:$J$5026,2,FALSE)),"") | J72: =IF(I72<>"",(I72*G72),"") | K72: =IF(G72<>"",(VLOOKUP(H72,index!$B$2:$J$5026,3,FALSE)),"") | L72: =IF(G72<>"",(VLOOKUP(H72,index!$B$2:$J$5026,7,FALSE)),"") | M72: 0 | N72: 1 | P72: =IF(O72<>"",O72,IF(L72<>"",((L72-(L72*M72))/N72),"")) | Q72: =IF(L72<>"",(P72*G72),"")

Sheet COLIS EXPT
G2: COMMANDE COLIS EXPORT
G3: Client : | P3: Date : | Q3: =TODAY() -> 43839
B5: COLIS France | G5: Mode d'expedition : | I5: COLLISSIMO | L5: Dimensions :
G7: Poid marchandise : | I7: =SUM(J11:J50) -> 0 | L7: Poid Total :
G9: Qté | H9: Ref | I9: Poids article U | J9: Poids article Total | K9: Origine | L9: Prix d'achat € | M9: Reduction % | N9: Marge | O9: Prix net | P9: Prix de vente Unitaire € | Q9: Prix total €
Q10: =SUM(Q11:Q50) -> 0
B11: PALETTE France | I11: =IF(G11<>"",(VLOOKUP(H11,index!$B$2:$J$5026,2,FALSE)),"") | J11: =IF(I11<>"",(I11*G11),"") | K11: =IF(G11<>"",(VLOOKUP(H11,index!$B$2:$J$5026,3,FALSE)),"") | L11: =IF(G11<>"",(VLOOKUP(H11,index!$B$2:$J$5026,7,FALSE)),"") | M11: 0 | N11: 1 | P11: =IF(O11<>"",O11,IF(L11<>"",((L11-(L11*M11))/N11),"")) | Q11: =IF(G11<>"",(P11*G11),"")
I12: =IF(G12<>"",(VLOOKUP(H12,index!$B$2:$J$5026,2,FALSE)),"") | J12: =IF(I12<>"",(I12*G12),"") | K12: =IF(G12<>"",(VLOOKUP(H12,index!$B$2:$J$5026,3,FALSE)),"") | L12: =IF(G12<>"",(VLOOKUP(H12,index!$B$2:$J$5026,7,FALSE)),"") | M12: 0 | N12: 1 | P12: =IF(O12<>"",O12,IF(L12<>"",((L12-(L12*M12))/N12),"")) | Q12: =IF(G12<>"",(P12*G12),"") | W12: GLS | X12: 1 | Y12: 0
I13: =IF(G13<>"",(VLOOKUP(H13,index!$B$2:$J$5026,2,FALSE)),"") | J13: =IF(I13<>"",(I13*G13),"") | K13: =IF(G13<>"",(VLOOKUP(H13,index!$B$2:$J$5026,3,FALSE)),"") | L13: =IF(G13<>"",(VLOOKUP(H13,index!$B$2:$J$5026,7,FALSE)),"") | M13: 0 | N13: 1 | P13: =IF(O13<>"",O13,IF(L13<>"",((L13-(L13*M13))/N13),"")) | Q13: =IF(G13<>"",(P13*G13),"") | W13: COLLISSIMO | X13: 0.5 | Y13: 0.28
I14: =IF(G14<>"",(VLOOKUP(H14,index!$B$2:$J$5026,2,FALSE)),"") | J14: =IF(I14<>"",(I14*G14),"") | K14: =IF(G14<>"",(VLOOKUP(H14,index!$B$2:$J$5026,3,FALSE)),"") | L14: =IF(G14<>"",(VLOOKUP(H14,index!$B$2:$J$5026,7,FALSE)),"") | M14: 0 | N14: 1 | P14: =IF(O14<>"",O14,IF(L14<>"",((L14-(L14*M14))/N14),"")) | Q14: =IF(G14<>"",(P14*G14),"") | W14: CHRONOPOST | X14: 0.55 | Y14: 0.35
I15: =IF(G15<>"",(VLOOKUP(H15,index!$B$2:$J$5026,2,FALSE)),"") | J15: =IF(I15<>"",(I15*G15),"") | K15: =IF(G15<>"",(VLOOKUP(H15,index!$B$2:$J$5026,3,FALSE)),"") | L15: =IF(G15<>"",(VLOOKUP(H15,index!$B$2:$J$5026,7,FALSE)),"") | M15: 0 | N15: 1 | P15: =IF(O15<>"",O15,IF(L15<>"",((L15-(L15*M15))/N15),"")) | Q15: =IF(G15<>"",(P15*G15),"") | W15: GEODIS | X15: 0.6 | Y15: 0.4
B16: COLIS Export | I16: =IF(G16<>"",(VLOOKUP(H16,index!$B$2:$J$5026,2,FALSE)),"") | J16: =IF(I16<>"",(I16*G16),"") | K16: =IF(G16<>"",(VLOOKUP(H16,index!$B$2:$J$5026,3,FALSE)),"") | L16: =IF(G16<>"",(VLOOKUP(H16,index!$B$2:$J$5026,7,FALSE)),"") | M16: 0 | N16: 1 | P16: =IF(O16<>"",O16,IF(L16<>"",((L16-(L16*M16))/N16),"")) | Q16: =IF(G16<>"",(P16*G16),"") | X16: 0.65
I17: =IF(G17<>"",(VLOOKUP(H17,index!$B$2:$J$5026,2,FALSE)),"") | J17: =IF(I17<>"",(I17*G17),"") | K17: =IF(G17<>"",(VLOOKUP(H17,index!$B$2:$J$5026,3,FALSE)),"") | L17: =IF(G17<>"",(VLOOKUP(H17,index!$B$2:$J$5026,7,FALSE)),"") | M17: 0 | N17: 1 | P17: =IF(O17<>"",O17,IF(L17<>"",((L17-(L17*M17))/N17),"")) | Q17: =IF(G17<>"",(P17*G17),"") | X17: 0.7
I18: =IF(G18<>"",(VLOOKUP(H18,index!$B$2:$J$5026,2,FALSE)),"") | J18: =IF(I18<>"",(I18*G18),"") | K18: =IF(G18<>"",(VLOOKUP(H18,index!$B$2:$J$5026,3,FALSE)),"") | L18: =IF(G18<>"",(VLOOKUP(H18,index!$B$2:$J$5026,7,FALSE)),"") | M18: 0 | N18: 1 | P18: =IF(O18<>"",O18,IF(L18<>"",((L18-(L18*M18))/N18),"")) | Q18: =IF(G18<>"",(P18*G18),"") | X18: 0.75
I19: =IF(G19<>"",(VLOOKUP(H19,index!$B$2:$J$5026,2,FALSE)),"") | J19: =IF(I19<>"",(I19*G19),"") | K19: =IF(G19<>"",(VLOOKUP(H19,index!$B$2:$J$5026,3,FALSE)),"") | L19: =IF(G19<>"",(VLOOKUP(H19,index!$B$2:$J$5026,7,FALSE)),"") | M19: 0 | N19: 1 | P19: =IF(O19<>"",O19,IF(L19<>"",((L19-(L19*M19))/N19),"")) | Q19: =IF(G19<>"",(P19*G19),"") | X19: 0.8
I20: =IF(G20<>"",(VLOOKUP(H20,index!$B$2:$J$5026,2,FALSE)),"") | J20: =IF(I20<>"",(I20*G20),"") | K20: =IF(G20<>"",(VLOOKUP(H20,index!$B$2:$J$5026,3,FALSE)),"") | L20: =IF(G20<>"",(VLOOKUP(H20,index!$B$2:$J$5026,7,FALSE)),"") | M20: 0 | N20: 1 | P20: =IF(O20<>"",O20,IF(L20<>"",((L20-(L20*M20))/N20),"")) | Q20: =IF(G20<>"",(P20*G20),"") | X20: 0.85
B21: PALETTE Export | I21: =IF(G21<>"",(VLOOKUP(H21,index!$B$2:$J$5026,2,FALSE)),"") | J21: =IF(I21<>"",(I21*G21),"") | K21: =IF(G21<>"",(VLOOKUP(H21,index!$B$2:$J$5026,3,FALSE)),"") | L21: =IF(G21<>"",(VLOOKUP(H21,index!$B$2:$J$5026,7,FALSE)),"") | M21: 0 | N21: 1 | P21: =IF(O21<>"",O21,IF(L21<>"",((L21-(L21*M21))/N21),"")) | Q21: =IF(G21<>"",(P21*G21),"") | X21: 0.9
I22: =IF(G22<>"",(VLOOKUP(H22,index!$B$2:$J$5026,2,FALSE)),"") | J22: =IF(I22<>"",(I22*G22),"") | K22: =IF(G22<>"",(VLOOKUP(H22,index!$B$2:$J$5026,3,FALSE)),"") | L22: =IF(G22<>"",(VLOOKUP(H22,index!$B$2:$J$5026,7,FALSE)),"") | M22: 0 | N22: 1 | P22: =IF(O22<>"",O22,IF(L22<>"",((L22-(L22*M22))/N22),"")) | Q22: =IF(G22<>"",(P22*G22),"")
I23: =IF(G23<>"",(VLOOKUP(H23,index!$B$2:$J$5026,2,FALSE)),"") | J23: =IF(I23<>"",(I23*G23),"") | K23: =IF(G23<>"",(VLOOKUP(H23,index!$B$2:$J$5026,3,FALSE)),"") | L23: =IF(G23<>"",(VLOOKUP(H23,index!$B$2:$J$5026,7,FALSE)),"") | M23: 0 | N23: 1 | P23: =IF(O23<>"",O23,IF(L23<>"",((L23-(L23*M23))/N23),"")) | Q23: =IF(G23<>"",(P23*G23),"")
I24: =IF(G24<>"",(VLOOKUP(H24,index!$B$2:$J$5026,2,FALSE)),"") | J24: =IF(I24<>"",(I24*G24),"") | K24: =IF(G24<>"",(VLOOKUP(H24,index!$B$2:$J$5026,3,FALSE)),"") | L24: =IF(G24<>"",(VLOOKUP(H24,index!$B$2:$J$5026,7,FALSE)),"") | M24: 0 | N24: 1 | P24: =IF(O24<>"",O24,IF(L24<>"",((L24-(L24*M24))/N24),"")) | Q24: =IF(G24<>"",(P24*G24),"")
I25: =IF(G25<>"",(VLOOKUP(H25,index!$B$2:$J$5026,2,FALSE)),"") | J25: =IF(I25<>"",(I25*G25),"") | K25: =IF(G25<>"",(VLOOKUP(H25,index!$B$2:$J$5026,3,FALSE)),"") | L25: =IF(G25<>"",(VLOOKUP(H25,index!$B$2:$J$5026,7,FALSE)),"") | M25: 0 | N25: 1 | P25: =IF(O25<>"",O25,IF(L25<>"",((L25-(L25*M25))/N25),"")) | Q25: =IF(G25<>"",(P25*G25),"")
I26: =IF(G26<>"",(VLOOKUP(H26,index!$B$2:$J$5026,2,FALSE)),"") | J26: =IF(I26<>"",(I26*G26),"") | K26: =IF(G26<>"",(VLOOKUP(H26,index!$B$2:$J$5026,3,FALSE)),"") | L26: =IF(G26<>"",(VLOOKUP(H26,index!$B$2:$J$5026,7,FALSE)),"") | M26: 0 | N26: 1 | P26: =IF(O26<>"",O26,IF(L26<>"",((L26-(L26*M26))/N26),"")) | Q26: =IF(G26<>"",(P26*G26),"")
I27: =IF(G27<>"",(VLOOKUP(H27,index!$B$2:$J$5026,2,FALSE)),"") | J27: =IF(I27<>"",(I27*G27),"") | K27: =IF(G27<>"",(VLOOKUP(H27,index!$B$2:$J$5026,3,FALSE)),"") | L27: =IF(G27<>"",(VLOOKUP(H27,index!$B$2:$J$5026,7,FALSE)),"") | M27: 0 | N27: 1 | P27: =IF(O27<>"",O27,IF(L27<>"",((L27-(L27*M27))/N27),"")) | Q27: =IF(G27<>"",(P27*G27),"")
I28: =IF(G28<>"",(VLOOKUP(H28,index!$B$2:$J$5026,2,FALSE)),"") | J28: =IF(I28<>"",(I28*G28),"") | K28: =IF(G28<>"",(VLOOKUP(H28,index!$B$2:$J$5026,3,FALSE)),"") | L28: =IF(G28<>"",(VLOOKUP(H28,index!$B$2:$J$5026,7,FALSE)),"") | M28: 0 | N28: 1 | P28: =IF(O28<>"",O28,IF(L28<>"",((L28-(L28*M28))/N28),"")) | Q28: =IF(G28<>"",(P28*G28),"")
I29: =IF(G29<>"",(VLOOKUP(H29,index!$B$2:$J$5026,2,FALSE)),"") | J29: =IF(I29<>"",(I29*G29),"") | K29: =IF(G29<>"",(VLOOKUP(H29,index!$B$2:$J$5026,3,FALSE)),"") | L29: =IF(G29<>"",(VLOOKUP(H29,index!$B$2:$J$5026,7,FALSE)),"") | M29: 0 | N29: 1 | P29: =IF(O29<>"",O29,IF(L29<>"",((L29-(L29*M29))/N29),"")) | Q29: =IF(G29<>"",(P29*G29),"")
I30: =IF(G30<>"",(VLOOKUP(H30,index!$B$2:$J$5026,2,FALSE)),"") | J30: =IF(I30<>"",(I30*G30),"") | K30: =IF(G30<>"",(VLOOKUP(H30,index!$B$2:$J$5026,3,FALSE)),"") | L30: =IF(G30<>"",(VLOOKUP(H30,index!$B$2:$J$5026,7,FALSE)),"") | M30: 0 | N30: 1 | P30: =IF(O30<>"",O30,IF(L30<>"",((L30-(L30*M30))/N30),"")) | Q30: =IF(G30<>"",(P30*G30),"")
I31: =IF(G31<>"",(VLOOKUP(H31,index!$B$2:$J$5026,2,FALSE)),"") | J31: =IF(I31<>"",(I31*G31),"") | K31: =IF(G31<>"",(VLOOKUP(H31,index!$B$2:$J$5026,3,FALSE)),"") | L31: =IF(G31<>"",(VLOOKUP(H31,index!$B$2:$J$5026,7,FALSE)),"") | M31: 0 | N31: 1 | P31: =IF(O31<>"",O31,IF(L31<>"",((L31-(L31*M31))/N31),"")) | Q31: =IF(G31<>"",(P31*G31),"")
I32: =IF(G32<>"",(VLOOKUP(H32,index!$B$2:$J$5026,2,FALSE)),"") | J32: =IF(I32<>"",(I32*G32),"") | K32: =IF(G32<>"",(VLOOKUP(H32,index!$B$2:$J$5026,3,FALSE)),"") | L32: =IF(G32<>"",(VLOOKUP(H32,index!$B$2:$J$5026,7,FALSE)),"") | M32: 0 | N32: 1 | P32: =IF(O32<>"",O32,IF(L32<>"",((L32-(L32*M32))/N32),"")) | Q32: =IF(G32<>"",(P32*G32),"")
I33: =IF(G33<>"",(VLOOKUP(H33,index!$B$2:$J$5026,2,FALSE)),"") | J33: =IF(I33<>"",(I33*G33),"") | K33: =IF(G33<>"",(VLOOKUP(H33,index!$B$2:$J$5026,3,FALSE)),"") | L33: =IF(G33<>"",(VLOOKUP(H33,index!$B$2:$J$5026,7,FALSE)),"") | M33: 0 | N33: 1 | P33: =IF(O33<>"",O33,IF(L33<>"",((L33-(L33*M33))/N33),"")) | Q33: =IF(G33<>"",(P33*G33),"")
... I50: =IF(G50<>"",(VLOOKUP(H50,index!$B$2:$J$5026,2,FALSE)),"") | J50: =IF(I50<>"",(I50*G50),"") | K50: =IF(G50<>"",(VLOOKUP(H50,index!$B$2:$J$5026,3,FALSE)),"") | L50: =IF(G50<>"",(VLOOKUP(H50,index!$B$2:$J$5026,7,FALSE)),"") | M50: 0 | N50: 1 | P50: =IF(O50<>"",O50,IF(L50<>"",((L50-(L50*M50))/N50),"")) | Q50: =IF(G50<>"",(P50*G50),"")

Sheet index
A1: Marque | B1: Article | C1: Poids | D1: Made in | E1: Code Douanier | F1: Pays entreprise | G1: MARQUE VOITURE | H1: Prix d'Achat | I1: Prix Export | J1: Prix France | K1: Remise | L1: GEN CODE
A2: Soundstream | B2: P.152 | C2: 5.72 | D2: CHINE | F2: Italie
A3: Soundstream | B3: PCA2.130 | C3: 3.28 | D3: CHINE | E3: 85185000 | F3: Italie
A4: Soundstream | B4: WK4G | C4: 1.78 | D4: CHINE | E4: 85443000 | F4: Italie
A5: Soundstream | B5: R2.154 | C5: 10.64 | D5: CHINE | F5: Italie
A6: Soundstream | B6: SST8.2 | C6: 5.14 | D6: CHINE | E6: 85182100 | F6: Italie
A7: Bassworkx | B7: GSH212 S | C7: 18.58 | D7: CHINE | E7: 85299097 | F7: Italie
A8: Bassworkx | B8: WBP15134 | C8: 15.28 | D8: CHINE | E8: 85299097 | F8: Italie | H8: 49 | L8: 694970502710
A9: Bassworkx | B9: WBP12134 | C9: 11.68 | D9: CHINE | E9: 85299097 | F9: Italie | H9: 45 | L9: 694970293687
A10: Bassworkx | B10: SWP12B | C10: 9.14 | D10: CHINE | E10: 85299097 | F10: Italie | H10: 34 | L10: 694970411449
A11: Bassworkx | B11: SWP212B | C11: 16 | D11: CHINE | E11: 85299097 | F11: Italie | H11: 69 | L11: 694970614079
A12: Bassworkx | B12: SWP215B | C12: 19.36 | D12: CHINE | E12: 85299097 | F12: Italie | H12: 79 | L12: 694970309142
A13: Bassworkx | B13: SWS12 | C13: 8.86 | D13: CHINE | E13: 85299097 | F13: Italie
A14: JBL | B14: STAGE1200B | C14: 12.2 | D14: CHINE | E14: 85182100 | F14: Italie | H14: 50.24
A15: JBL | B15: STAGEA6002 | C15: 1.24 | D15: CHINE | E15: 85182100 | F15: Italie | H15: 38.027
A16: JBL | B16: STAGEA6004 | C16: 1.52 | D16: CHINE | E16: 85182100 | F16: Italie
A17: JBL | B17: CSX1400BP | C17: 20.42 | D17: CHINE | E17: 85182100 | F17: Italie | H17: 69.78
A18: JBL | B18: S21224SS | C18: 18.46 | D18: CHINE | E18: 85182100 | F18: Italie | H18: 68.72
A19: JBL | B19: BASSPROSL | C19: 4.6 | D19: CHINE | E19: 85182100 | F19: Italie | H19: 96.8
A20: JBL | B20: BASSPROHUB | C20: 11.3 | D20: CHINE | E20: 85182100 | F20: Italie | H20: 84.6
A21: JBL | B21: BASSPROMICRO | C21: 9.72 | D21: CHINE | E21: 85182100 | F21: Italie | H21: 126
A22: JBL | B22: CLUB5020 | C22: 1.26 | D22: VIETNAM | E22: 85182100 | F22: Italie | H22: 25
A23: JBL | B23: CLUB6520 | C23: 1.7 | D23: VIETNAM | E23: 85182100 | F23: Italie | H23: 29.23
A24: JBL | B24: CLUB6500 C | C24: 2.02 | D24: VIETNAM | E24: 85182100 | F24: Italie | H24: 38.61
A25: Pioneer | B25: TSG1331 I | C25: 1.04 | D25: VIETNAM | F25: Italie
A26: Pioneer | B26: TSG1732 I | C26: 1.42 | D26: VIETNAM | F26: Italie
A27: Pioneer | B27: SPHDA230DAB | C27: 2.02 | D27: THAILANDE | E27: 85272159 | F27: Italie | H27: 250
A28: Kenwood | B28: KMM205 | C28: 0.82 | D28: INDONESIE | E28: 85272159 | F28: Italie | H28: 37
A29: Kenwood | B29: KMMBT205 | C29: 0.86 | D29: INDONESIE | E29: 85272159 | F29: Italie | H29: 52
A30: Kenwood | B30: KMMBT206 | C30: 0.84 | D30: INDONESIE | E30: 85272159 | F30: Italie | H30: 52
A31: Kenwood | B31: KWM25BT | C31: 1.48 | D31: CHINE | E31: 85272159 | F31: Italie | H31: 120
A32: Kenwood | B32: DMX120BT | C32: 1.48 | D32: CHINE | E32: 85272159 | F32: Italie | H32: 120
A33: Kenwood | B33: DDX318BT | C33: 2.82 | D33: INDONESIE | E33: 85272159 | F33: Italie | H33: 166.38
A34: Kenwood | B34: DMX7018BTS | C34: 2.08 | D34: CHINE | E34: 85272159 | F34: Italie | H34: 273.57
A35: Kenwood | B35: DPX5100BT | C35: 2.16 | D35: INDONESIE | E35: 85272159 | F35: Italie | H35: 92.04
A36: Kenwood | B36: DPXM3100BT | E36: 85272159 | F36: Italie | H36: 87.44
A37: JVC | B37: KDC110UB | C37: 1.56 | D37: INDONESIE | E37: 85272159 | F37: Italie | H37: 36
A38: JVC | B38: KDC110UR | C38: 1.56 | D38: INDONESIE | E38: 85272160 | F38: Italie | H38: 37
A39: JVC | B39: KDC120UB | E39: 85272159 | H39: 36
A40: JVC | B40: KDCBT520U | C40: 1.6 | D40: INDONESIE | E40: 85272159 | F40: Italie | H40: 48
...

Sheet Feuil3
A1: Type Palette
A2: Europe (800 x 1200) | B2: 20
A3: Pas Europe (800 x 1200) | B3: 15
A4: Demi-Palette (800 x 600) | B4: 7
A5: Autre (1000 x 1200) | B5: 22

Sheet RELIQUATS
A1: RELIQUATS
G5: ECRIRE "OK" OU DATE
A7: client | B7: marque | C7: Qté | D7: Ref | E7: Prix net | F7: Date | G7: Commandé | H7: Expédié | I7: Commentaire
A8: Norauto voiron | B8: MACAUDIO | C8: 1 | D8: MMSSUB108A | E8: 79 | F8: 43838
A9: Norauto voiron | B9: PHONOCAR | C9: 1 | D9: 6/1071 | E9: /07 | F9: 43838
