Workbook
Name dommages: [1]Liste!$A$2:$A$3
Name dommages: Liste!$A$2:$A$3
Name Exposition: [1]Liste!$D$2:$D$5
Name Exposition: Liste!$D$2:$D$5
Name gravité: [1]Liste!$B$2:$B$6
Name gravité: Liste!$B$2:$B$6
Name probabilité: [1]Liste!$F$2:$F$5
Name probabilité: Liste!$F$2:$F$5
Name Record: #REF!
Name Record: #REF!
Name Record: #REF!
Name risques: [1]Liste!$H$2:$H$28
Name risques: Liste!$H$2:$H$28

Sheet EVRP_2019
A1: EVALUATION DES RISQUES PROFESSIONNELS
A2: Intitulé de l’unité de travail | B2: Source de danger | C2: Intitulé du danger (risque) | D2: Scénario | E2: Intitulé du dommage | F2: Intitulé des indices | G2: Cotation | H2: Valeurs des indices | I2: TOTAL BRUT | J2: Evaluation du risque Brut | K2: Mesures de prévention et de protection organisationnelle(s) | L2: Mesures de prévention et de protection technique(s) | M2: Mesures de prévention et de protection humain | N2: Mesures de prévention et de protection environnementales | O2: Maitrise du risque | P2: TOTAL RESIDUEL | Q2: Evaluation du risque Résiduel
A3: V | B3: =IF(C3="","",LOOKUP(C3,Liste!$H$2:$I$28)) -> Sol glissant, inégal, défectueux, passage étroit, encombré | C3: 01 - Risques de chute de plain-pied | D3: Déplacement dans l'atelier | E3: Dommage immédiat | F3: Gravité du Dommage : | G3: Arrêt de 8 à 30 j, restrictions temporaires, Taux d'incapacité permanent < 10% | H3: =IF(G3="","",LOOKUP(G3,gravité,Liste!$C$2:$C$6)) -> 15 | I3: =H3*H4*H5 -> 420 | J3: =IF(D3="Non Concerné","Non Concerné",IF(D3="CF évaluation du Risque Chimique","CF évaluation du Risque Chimique",IF(D3="CF DRPCE","CF DRPCE",IF(H3*H4*H5<=90,"Risque mineur",IF(H3*H4*H5<=250,"Risque moyen",IF(H3*H4*H5<=450,"Risque élevé","Risque Majeur")))))) -> Risque élevé | O3: 0.5 | P3: =I3*O3 -> 210 | Q3: =IF(O3*(H3*H4*H5)<=90,"Risque mineur",IF(O3*(H3*H4*H5)<=250,"Risque moyen",IF(O3*(H3*H4*H5)<=450,"Risque élevé","Risque Majeur"))) -> Risque moyen
F4: Exposition au danger : | G4: Permanente (J>6h, S>3j, M>15j, A>5m) | H4: =IF(G4="","",LOOKUP(G4,Exposition,Liste!$E$2:$E$7)) -> 4
F5: Probabilité du dommage : | G5: Probable | H5: =IF(G5="","",LOOKUP(G5,probabilité,Liste!$G$2:$G$6)) -> 7
A6: E | B6: =IF(C6="","",LOOKUP(C6,Liste!$H$2:$I$28)) -> Escalier, passerelle, accès à des parties hautes : toiture, utilisation d’échelle, escabeau, échafaudage, chaise, rack de stockage | C6: 02 - Risques de chute de hauteur | D6: Intervention | E6: Dommage immédiat | F6: Gravité du Dommage : | G6: Arrêt > 30j, restrictions définitives, reconversion professionnelle, taux d'incapacité permanent > 10% | H6: =IF(G6="","",LOOKUP(G6,gravité,Liste!$C$2:$C$6)) -> 20 | I6: =H6*H7*H8 -> 560 | J6: =IF(D6="Non Concerné","Non Concerné",IF(D6="CF évaluation du Risque Chimique","CF évaluation du Risque Chimique",IF(D6="CF DRPCE","CF DRPCE",IF(H6*H7*H8<=90,"Risque mineur",IF(H6*H7*H8<=250,"Risque moyen",IF(H6*H7*H8<=450,"Risque élevé","Risque Majeur")))))) -> Risque Majeur | O6: 0.5 | P6: =I6*O6 -> 280 | Q6: =IF(O6*(H6*H7*H8)<=90,"Risque mineur",IF(O6*(H6*H7*H8)<=250,"Risque moyen",IF(O6*(H6*H7*H8)<=450,"Risque élevé","Risque Majeur"))) -> Risque élevé
F7: Exposition au danger : | G7: Permanente (J>6h, S>3j, M>15j, A>5m) | H7: =IF(G7="","",LOOKUP(G7,Exposition,Liste!$E$2:$E$7)) -> 4
F8: Probabilité du dommage : | G8: Probable | H8: =IF(G8="","",LOOKUP(G8,probabilité,Liste!$G$2:$G$6)) -> 7
A9: Q | B9: =IF(C9="","",LOOKUP(C9,Liste!$H$2:$I$28)) -> Objets stockés en hauteur, empilés, travaux effectués en hauteur, dans des tranchées, des puits… | C9: 03 - Risques liés aux chutes d'objets et aux effondrements | D9: manutention | E9: Dommage immédiat | F9: Gravité du Dommage : | G9: Arrêt de 8 à 30 j, restrictions temporaires, Taux d'incapacité permanent < 10% | H9: =IF(G9="","",LOOKUP(G9,gravité,Liste!$C$2:$C$6)) -> 15 | I9: =H9*H10*H11 -> 15 | J9: =IF(D9="Non Concerné","Non Concerné",IF(D9="CF évaluation du Risque Chimique","CF évaluation du Risque Chimique",IF(D9="CF DRPCE","CF DRPCE",IF(H9*H10*H11<=90,"Risque mineur",IF(H9*H10*H11<=250,"Risque moyen",IF(H9*H10*H11<=450,"Risque élevé","Risque Majeur")))))) -> Risque mineur | O9: 0.5 | P9: =I9*O9 -> 7.5 | Q9: =IF(O9*(H9*H10*H11)<=90,"Risque mineur",IF(O9*(H9*H10*H11)<=250,"Risque moyen",IF(O9*(H9*H10*H11)<=450,"Risque élevé","Risque Majeur"))) -> Risque mineur
F10: Exposition au danger : | G10: Occasionnelle (J<30mn, S<2h, M<1j, A<15j) | H10: =IF(G10="","",LOOKUP(G10,Exposition,Liste!$E$2:$E$7)) -> 1
F11: Probabilité du dommage : | G11: Improbable | H11: =IF(G11="","",LOOKUP(G11,probabilité,Liste!$G$2:$G$6)) -> 1
A12: E | B12: =IF(C12="","",LOOKUP(C12,Liste!$H$2:$I$28)) -> Sol glissant, inégal, défectueux, passage étroit, encombré | C12: 01 - Risques de chute de plain-pied | D12: Déplacement dans l'atelier | E12: Dommage immédiat | F12: Gravité du Dommage : | G12: Arrêt de 8 à 30 j, restrictions temporaires, Taux d'incapacité permanent < 10% | H12: =IF(G12="","",LOOKUP(G12,gravité,Liste!$C$2:$C$6)) -> 15 | I12: =H12*H13*H14 -> 420 | J12: =IF(D12="Non Concerné","Non Concerné",IF(D12="CF évaluation du Risque Chimique","CF évaluation du Risque Chimique",IF(D12="CF DRPCE","CF DRPCE",IF(H12*H13*H14<=90,"Risque mineur",IF(H12*H13*H14<=250,"Risque moyen",IF(H12*H13*H14<=450,"Risque élevé","Risque Majeur")))))) -> Risque élevé | O12: 0.5 | P12: =I12*O12 -> 210 | Q12: =IF(O12*(H12*H13*H14)<=90,"Risque mineur",IF(O12*(H12*H13*H14)<=250,"Risque moyen",IF(O12*(H12*H13*H14)<=450,"Risque élevé","Risque Majeur"))) -> Risque moyen
F13: Exposition au danger : | G13: Permanente (J>6h, S>3j, M>15j, A>5m) | H13: =IF(G13="","",LOOKUP(G13,Exposition,Liste!$E$2:$E$7)) -> 4
F14: Probabilité du dommage : | G14: Probable | H14: =IF(G14="","",LOOKUP(G14,probabilité,Liste!$G$2:$G$6)) -> 7
A15: Q | B15: =IF(C15="","",LOOKUP(C15,Liste!$H$2:$I$28)) -> Escalier, passerelle, accès à des parties hautes : toiture, utilisation d’échelle, escabeau, échafaudage, chaise, rack de stockage | C15: 02 - Risques de chute de hauteur | D15: Intervention | E15: Dommage immédiat | F15: Gravité du Dommage : | G15: Arrêt > 30j, restrictions définitives, reconversion professionnelle, taux d'incapacité permanent > 10% | H15: =IF(G15="","",LOOKUP(G15,gravité,Liste!$C$2:$C$6)) -> 20 | I15: =H15*H16*H17 -> 560 | J15: =IF(D15="Non Concerné","Non Concerné",IF(D15="CF évaluation du Risque Chimique","CF évaluation du Risque Chimique",IF(D15="CF DRPCE","CF DRPCE",IF(H15*H16*H17<=90,"Risque mineur",IF(H15*H16*H17<=250,"Risque moyen",IF(H15*H16*H17<=450,"Risque élevé","Risque Majeur")))))) -> Risque Majeur | O15: 0.5 | P15: =I15*O15 -> 280 | Q15: =IF(O15*(H15*H16*H17)<=90,"Risque mineur",IF(O15*(H15*H16*H17)<=250,"Risque moyen",IF(O15*(H15*H16*H17)<=450,"Risque élevé","Risque Majeur"))) -> Risque élevé
F16: Exposition au danger : | G16: Permanente (J>6h, S>3j, M>15j, A>5m) | H16: =IF(G16="","",LOOKUP(G16,Exposition,Liste!$E$2:$E$7)) -> 4
F17: Probabilité du dommage : | G17: Probable | H17: =IF(G17="","",LOOKUP(G17,probabilité,Liste!$G$2:$G$6)) -> 7
A18: V | B18: =IF(C18="","",LOOKUP(C18,Liste!$H$2:$I$28)) -> Objets stockés en hauteur, empilés, travaux effectués en hauteur, dans des tranchées, des puits… | C18: 03 - Risques liés aux chutes d'objets et aux effondrements | D18: manutention | E18: Dommage immédiat | F18: Gravité du Dommage : | G18: Arrêt de 8 à 30 j, restrictions temporaires, Taux d'incapacité permanent < 10% | H18: =IF(G18="","",LOOKUP(G18,gravité,Liste!$C$2:$C$6)) -> 15 | I18: =H18*H19*H20 -> 15 | J18: =IF(D18="Non Concerné","Non Concerné",IF(D18="CF évaluation du Risque Chimique","CF évaluation du Risque Chimique",IF(D18="CF DRPCE","CF DRPCE",IF(H18*H19*H20<=90,"Risque mineur",IF(H18*H19*H20<=250,"Risque moyen",IF(H18*H19*H20<=450,"Risque élevé","Risque Majeur")))))) -> Risque mineur | O18: 0.5 | P18: =I18*O18 -> 7.5 | Q18: =IF(O18*(H18*H19*H20)<=90,"Risque mineur",IF(O18*(H18*H19*H20)<=250,"Risque moyen",IF(O18*(H18*H19*H20)<=450,"Risque élevé","Risque Majeur"))) -> Risque mineur
F19: Exposition au danger : | G19: Occasionnelle (J<30mn, S<2h, M<1j, A<15j) | H19: =IF(G19="","",LOOKUP(G19,Exposition,Liste!$E$2:$E$7)) -> 1
F20: Probabilité du dommage : | G20: Improbable | H20: =IF(G20="","",LOOKUP(G20,probabilité,Liste!$G$2:$G$6)) -> 1

Sheet Affichage_QSE
A5: DOCUMENT UNIQUE (DU)
I9: =YEAR(TODAY()) -> 2019
A12: Le Document Unique (DU) permet de recenser et de coter tous les risques de l'activité suivant les groupes de travail
A16: Légende des groupes de travail
A19: Nombre de risque résiduel mineur | F19: Nombre de risque résiduel moyen
A36: Risque principale | F36: Risque principale
A38: {=INDEX(EVRP_2019!$C$3:$C$20,MATCH(MAX((EVRP_2019!P3:P20)*(EVRP_2019!Q3:Q20="Risque mineur")),((EVRP_2019!P3:P20)*(EVRP_2019!Q3:Q20="Risque mineur")),0))} -> 03 - Risques liés aux chutes d'objets et aux effondrements
C43: Nombre de risque résiduel élévé
A58: Ce document est la propriété exclusive de la RATP. Il ne peut être utilisé, reproduit ou communiqué sans son autorisation écrite.

Sheet SYNTHESE
A1: RISQUE RESIDUEL MINEUR | E1: RISQUE RESIDUEL MOYEN | I1: RISQUE RESIDUEL ELEVE | M1: RISQUE RESIDUEL MAJEUR
A2: NE PAS OUBLIER D'ACTUALISER | E2: NE PAS OUBLIER D'ACTUALISER | I2: NE PAS OUBLIER D'ACTUALISER | M2: NE PAS OUBLIER D'ACTUALISER
A3: Nombre de Intitulé du danger (risque) | B3: Étiquettes de colonnes | E3: Nombre de Intitulé du danger (risque) | F3: Étiquettes de colonnes | I3: Nombre de Intitulé du danger (risque) | J3: Étiquettes de colonnes | M3: Nombre de Intitulé du danger (risque) | N3: Étiquettes de colonnes
A4: Étiquettes de lignes | B4: Risque mineur | C4: Total général | E4: Étiquettes de lignes | F4: Risque moyen | G4: Total général | I4: Étiquettes de lignes | J4: Risque élevé | K4: Total général | M4: Étiquettes de lignes | N4: Total général
A5: V | B5: 1 | C5: 1 | E5: V | F5: 1 | G5: 1 | I5: E | J5: 1 | K5: 1 | M5: Total général
A6: Q | B6: 1 | C6: 1 | E6: E | F6: 1 | G6: 1 | I6: Q | J6: 1 | K6: 1
A7: Total général | B7: 2 | C7: 2 | E7: Total général | F7: 2 | G7: 2 | I7: Total général | J7: 2 | K7: 2

Sheet Liste
A1: Intitulés des dommages | B1: GRAVITE du dommage | C1: Valeur | D1: EXPOSITION au danger | E1: Valeur | F1: PROBABILITE du dommage | G1: Valeur | H1: Intitulés des risques | I1: Intitulé de la source de danger | J1: Maitrise du risque
A2: Dommage immédiat | B2: Arrêt > 30j, restrictions définitives, reconversion professionnelle, taux d'incapacité permanent > 10% | C2: 20 | D2: Fréquente (J<6h, S<3j, M<15j, A<5m | E2: 3 | F2: Improbable | G2: 1 | H2: 01 - Risques de chute de plain-pied | I2: Sol glissant, inégal, défectueux, passage étroit, encombré | J2: 1
A3: Dommage différé | B3: Arrêt de 8 à 30 j, restrictions temporaires, Taux d'incapacité permanent < 10% | C3: 15 | D3: Intermittente (J<2h, S<8h, M<6j, A<2m) | E3: 2 | F3: Peu probable | G3: 3 | H3: 02 - Risques de chute de hauteur | I3: Escalier, passerelle, accès à des parties hautes : toiture, utilisation d’échelle, escabeau, échafaudage, chaise, rack de stockage | J3: 0.75
B4: Arrêt de travail < 8j, effets reversibles après soins | C4: 10 | D4: Occasionnelle (J<30mn, S<2h, M<1j, A<15j) | E4: 1 | F4: Probable | G4: 7 | H4: 03 - Risques liés aux chutes d'objets et aux effondrements | I4: Objets stockés en hauteur, empilés, travaux effectués en hauteur, dans des tranchées, des puits… | J4: 0.5
B5: ATB ou AT déclaré sans arret | C5: 5 | D5: Permanente (J>6h, S>3j, M>15j, A>5m) | E5: 4 | F5: Très probable | G5: 10 | H5: 04 - Risques liés aux circulations dans l'entreprise (hors voie ferrée) ou sur un chantier | I5: Zones de circulation communes aux piétons et aux véhicules, voies étroites, encombrées, mauvais état des véhicules | J5: 0.3
B6: Décés, incapacité permanente totale | C6: 25 | H6: 05 - Risques routiers | I6: Dispersion des lieux de travail, véhicules défaillants, communication pendant la conduite (tel portable)
H7: 06 - Risques liés à la circulation ferroviaire | I7: Accident de la circulation, heurt de deux trains, heurt d’une personne circulant sur les voies, impossibilité de se dégager d’un train
H8: 07 - Risques liés à l'activité physique | I8: Efforts physiques intenses ou répétitifs, contraintes posturales
H9: 08 - Risques liés à la manutention manuelle | I9: Mouvements répétitifs, mauvaises postures, dos courbés, charges éloignées du corps, trop lourdes
H10: 09 - Risques liés à la manutention mécanique | I10: Utilisation d’un moyen de manutention inadapté, instabilité du moyen de manutention (mauvais état du sol), instabilité de la charge (arrimage)
H11: 10 - Risques liés aux équipements de travail | I11: Partie mobile accessible, utilisation d’outils tranchants, non consignation d’une machine lors de sa réparation
H12: 11 - Risques liés aux vibrations | I12: Engins de chantier, marteaux piqueurs, marteaux perforateurs, meuleuses, machines percutantes
H13: 12 - Risques liés aux produits, émissions, déchets | I13: Utilisation de produits chimique, émission de gaz, poussières, fumées, absence d’étiquetage
H14: 13 - Risques d'incendies, d'explosions | I14: Produits inflammables, explosifs, mélange de produits incompatibles ou stockage dans leur proximité
H15: 14 - Risques liés à l'électricité | I15: Conducteur nu accessible, matériel défectueux, non consignation
H16: 15 - Risques liés au travail sur écran | I16: Mobilier non adapté, écran mal réglé, mauvaises postures
H17: 16 - Risques et nuisances liés au bruit | I17: Machines, haut-parleurs, signaux sonores
H18: 17 - Risques liés aux ambiances climatiques | I18: Ambiance chaude, froide, courant d’air
... H28: 27 - Risques psychosociaux | I28: Violence au travail : agressions, rixes, conditions de travail, rapports sociaux, environnement physique, perspectives professionnelles, articulation vie privée/vie professionnelle
