Workbook

Sheet Base de données cours
A1: Date | B1: PALC | C1: SCRC | D1: SICC | E1: SOGC | F1: SPHC | G1: BRVM-AGR | H1: STAC | I1: BRVM-AUT | J1: ABJC | K1: BNBC | L1: CFAC | M1: PRSC | N1: SHEC | O1: TTLC | P1: TTLS | Q1: BRVM-DIS | R1: BICC | S1: BOAB | T1: BOABF | U1: BOAC | V1: BOAM | W1: BOAN | X1: BOAS | Y1: CBIBF | Z1: ECOC | AA1: ETIT | AB1: NSBC | AC1: ORGT | AD1: SAFC | AE1: SGBC | AF1: SIBC | AG1: BRVM-FIN | AH1: CABC | AI1: FTSC | AJ1: NEIC | AK1: NTLC | AL1: SEMC | AM1: SIVC | AN1: SLBC | AO1: SMBC | AP1: STBC | AQ1: UNLC | AR1: UNXC | AS1: BRVM-IND | AT1: CIEC | AU1: ONTBF | AV1: SDCC | AW1: SNTS | AX1: BRVM-SPU | AY1: SDSC | AZ1: SVOC | BA1: BRVM-TRP | BB1: BRVM-10 | BC1: BRVM-C
A2: 42373 | B2: 11100 | D2: 8270 | E2: 25600 | F2: 11500 | G2: 168.54 | H2: 52705 | I2: 650.68 | J2: 85000 | K2: 179900 | L2: 91000 | M2: 408000 | N2: 69375 | O2: 19600 | P2: 25000 | Q2: 564.13 | R2: 100000 | S2: 130000 | T2: 120000 | U2: 125000 | W2: 85000 | X2: 74000 | AA2: 47 | AD2: 33000 | AE2: 133000 | AG2: 104.97 | AH2: 123500 | AI2: 30000 | AJ2: 4200 | AK2: 49000 | AL2: 44990 | AM2: 19500 | AN2: 189995 | AO2: 19000 | AP2: 156000 | AQ2: 25005 | AR2: 28500 | AS2: 173.73 | AT2: 69500 | AU2: 13900 | AV2: 103995 | AW2: 25600 | AX2: 823.26 | AY2: 315505 | AZ2: 5100 | BA2: 1524.65 | BB2: 289.45 | BC2: 302.43
A3: 42374 | B3: 11200 | D3: 8110 | E3: 26000 | F3: 11500 | G3: 169.8 | H3: 52705 | I3: 650.68 | J3: 85000 | K3: 179900 | L3: 91000 | M3: 408000 | N3: 64175 | O3: 20000 | P3: 26000 | Q3: 565.44 | R3: 100000 | S3: 130000 | T3: 118000 | U3: 123000 | W3: 79000 | X3: 74000 | AA3: 47 | AD3: 33000 | AE3: 133000 | AG3: 104.46 | AH3: 120000 | AI3: 29505 | AJ3: 4200 | AK3: 50000 | AL3: 44000 | AM3: 19500 | AN3: 189995 | AO3: 19300 | AP3: 156000 | AQ3: 25005 | AR3: 28500 | AS3: 173.49 | AT3: 68900 | AU3: 13505 | AV3: 98500 | AW3: 25600 | AX3: 818.29 | AY3: 291845 | AZ3: 5100 | BA3: 1411.71 | BB3: 287.41 | BC3: 300.27
A4: 42383 | B4: 10500 | D4: 8110 | E4: 26600 | F4: 11500 | G4: 166.42 | H4: 52700 | I4: 650.62 | J4: 80000 | K4: 179000 | L4: 91000 | M4: 422000 | N4: 66005 | O4: 20000 | P4: 26000 | Q4: 566.58 | R4: 96000 | S4: 130000 | T4: 119000 | U4: 131000 | W4: 84500 | X4: 66500 | AA4: 50 | AD4: 35000 | AE4: 126000 | AG4: 106.05 | AH4: 123000 | AI4: 30000 | AJ4: 4095 | AK4: 48400 | AL4: 44000 | AM4: 19500 | AN4: 175000 | AO4: 19000 | AP4: 160000 | AQ4: 25005 | AR4: 27500 | AS4: 168.44 | AT4: 68000 | AU4: 13500 | AV4: 90800 | AW4: 24900 | AX4: 798.55 | AY4: 290250 | AZ4: 4900 | BA4: 1403.37 | BB4: 285.03 | BC4: 297.06
A5: 42454 | B5: 9550 | D5: 7000 | E5: 30000 | F5: 11300 | G5: 165.03 | H5: 49000 | I5: 604.94 | J5: 83000 | K5: 204000 | L5: 156000 | M5: 650275 | N5: 120000 | O5: 18500 | P5: 27205 | Q5: 729.68 | R5: 105050 | S5: 265470 | T5: 149000 | U5: 195000 | W5: 109000 | X5: 80000 | AA5: 33 | AD5: 26915 | AE5: 155000 | AG5: 109.2 | AH5: 94990 | AI5: 29600 | AJ5: 3600 | AK5: 50000 | AL5: 43000 | AM5: 20000 | AN5: 201000 | AO5: 26500 | AP5: 160000 | AQ5: 22800 | AR5: 29000 | AS5: 179.56 | AT5: 88000 | AU5: 14200 | AV5: 96000 | AW5: 25000 | AX5: 821.97 | AY5: 293505 | AZ5: 4800 | BA5: 1418.54 | BB5: 277.52 | BC5: 314.38
A6: 42458 | B6: 9650 | D6: 7000 | E6: 31000 | F6: 11200 | G6: 167.02 | H6: 49000 | I6: 604.94 | J6: 82800 | K6: 205000 | L6: 156000 | M6: 663280 | N6: 120000 | O6: 18700 | P6: 27205 | Q6: 733.29 | R6: 105000 | S6: 245560 | T6: 149000 | U6: 195000 | W6: 117000 | X6: 80000 | AA6: 35 | AD6: 27000 | AE6: 158995 | AG6: 111.12 | AH6: 94990 | AI6: 30000 | AJ6: 3600 | AK6: 51000 | AL6: 43000 | AM6: 20000 | AN6: 205000 | AO6: 25000 | AP6: 162200 | AQ6: 22800 | AR6: 28500 | AS6: 180.83 | AT6: 87000 | AU6: 14000 | AV6: 97000 | AW6: 25000 | AX6: 819.81 | AY6: 293500 | AZ6: 4800 | BA6: 1418.51 | BB6: 279.71 | BC6: 316.04
A7: 42459 | B7: 9500 | D7: 7000 | E7: 30000 | F7: 11500 | G7: 165.55 | H7: 46000 | I7: 567.9 | J7: 83000 | K7: 205000 | L7: 156000 | M7: 699500 | N7: 120000 | O7: 18500 | P7: 27500 | Q7: 736.56 | R7: 100000 | S7: 227145 | T7: 149000 | U7: 195000 | W7: 117000 | X7: 78000 | AA7: 37 | AD7: 27005 | AE7: 158000 | AG7: 111.32 | AH7: 90000 | AI7: 30000 | AJ7: 3600 | AK7: 51005 | AL7: 40000 | AM7: 19600 | AN7: 201000 | AO7: 26000 | AP7: 165000 | AQ7: 22800 | AR7: 28500 | AS7: 179.8 | AT7: 87000 | AU7: 14000 | AV7: 96000 | AW7: 24900 | AX7: 817.11 | AY7: 290000 | AZ7: 4440 | BA7: 1400.49 | BB7: 280.69 | BC7: 315.46
A8: 42460 | B8: 9500 | D8: 6500 | E8: 30000 | F8: 12005 | G8: 167.43 | H8: 46000 | I8: 567.9 | J8: 82500 | K8: 192500 | L8: 156000 | M8: 699000 | N8: 111000 | O8: 18100 | P8: 28000 | Q8: 722.12 | R8: 100000 | S8: 210110 | T8: 149000 | U8: 194000 | W8: 114445 | X8: 74500 | AA8: 38 | AD8: 27005 | AE8: 155000 | AG8: 110.47 | AH8: 90000 | AI8: 30900 | AJ8: 3600 | AK8: 51005 | AL8: 40000 | AM8: 20000 | AN8: 205000 | AO8: 27000 | AP8: 170000 | AQ8: 22800 | AR8: 28500 | AS8: 183.13 | AT8: 88000 | AU8: 14500 | AV8: 103200 | AW8: 24500 | AX8: 813.71 | AY8: 295000 | AZ8: 4440 | BA8: 1424.35 | BB8: 280.41 | BC8: 314.46
A9: 42461 | B9: 9500 | D9: 6985 | E9: 28600 | F9: 12350 | G9: 166.63 | H9: 45000 | I9: 555.56 | J9: 82500 | K9: 194000 | L9: 159120 | M9: 699000 | N9: 113220 | O9: 18000 | P9: 30000 | Q9: 732.78 | R9: 100000 | S9: 194355 | T9: 143100 | U9: 195000 | W9: 114700 | X9: 75000 | AA9: 39 | AD9: 27005 | AE9: 153000 | AG9: 109.99 | AH9: 90000 | AI9: 29600 | AJ9: 3600 | AK9: 52500 | AL9: 38000 | AM9: 20100 | AN9: 205000 | AO9: 28000 | AP9: 170000 | AQ9: 22800 | AR9: 28500 | AS9: 182.7 | AT9: 86995 | AU9: 14500 | AV9: 103200 | AW9: 24700 | AX9: 817.97 | AY9: 290000 | AZ9: 4770 | BA9: 1401.7 | BB9: 281.75 | BC9: 315.03
A10: 42464 | B10: 9300 | D10: 6985 | E10: 30000 | F10: 12350 | G10: 167.85 | H10: 45000 | I10: 555.56 | J10: 83000 | K10: 194000 | L10: 159120 | M10: 699000 | N10: 120000 | O10: 18000 | P10: 32000 | Q10: 744.28 | R10: 105005 | S10: 182000 | T10: 145000 | U10: 186120 | W10: 114500 | X10: 79000 | AA10: 39 | AD10: 27005 | AE10: 152000 | AG10: 109.58 | AH10: 90000 | AI10: 30000 | AJ10: 3600 | AK10: 52500 | AL10: 39000 | AM10: 21000 | AN10: 205015 | AO10: 30000 | AP10: 168000 | AQ10: 22800 | AR10: 28750 | AS10: 183.88 | AT10: 86500 | AU10: 14895 | AV10: 97005 | AW10: 24700 | AX10: 819.57 | AY10: 292000 | AZ10: 5000 | BA10: 1412.09 | BB10: 281.88 | BC10: 315.99
A11: 42465 | B11: 9600 | D11: 6845 | E11: 30000 | F11: 12200 | G11: 169.06 | H11: 46000 | I11: 567.9 | J11: 84000 | K11: 194000 | L11: 150000 | M11: 690000 | N11: 111000 | O11: 18000 | P11: 34000 | Q11: 727.58 | R11: 107000 | S11: 168350 | T11: 145010 | U11: 189995 | W11: 112000 | X11: 79510 | AA11: 38 | AD11: 27005 | AE11: 152000 | AG11: 108.14 | AH11: 90000 | AI11: 30100 | AJ11: 3600 | AK11: 54500 | AL11: 39000 | AM11: 21120 | AN11: 205000 | AO11: 29500 | AP11: 170000 | AQ11: 22800 | AR11: 29000 | AS11: 184.77 | AT11: 87000 | AU11: 14505 | AV11: 98005 | AW11: 24600 | AX11: 814.38 | AY11: 290000 | AZ11: 5000 | BA11: 1402.54 | BB11: 280.04 | BC11: 313.3
A12: 42466 | B12: 9305 | D12: 6845 | E12: 30000 | F12: 12200 | G12: 167.18 | H12: 46000 | I12: 567.9 | J12: 86000 | K12: 194000 | L12: 150000 | M12: 690000 | N12: 102675 | O12: 18000 | P12: 32250 | Q12: 716.25 | R12: 104860 | S12: 163000 | T12: 145010 | U12: 190000 | W12: 112000 | X12: 80000 | AA12: 38 | AD12: 27005 | AE12: 154900 | AG12: 108.17 | AH12: 88000 | AI12: 29600 | AJ12: 3600 | AK12: 52000 | AL12: 40500 | AM12: 21120 | AN12: 205000 | AO12: 31000 | AP12: 170000 | AQ12: 23500 | AR12: 29000 | AS12: 184.8 | AT12: 87000 | AU12: 14600 | AV12: 98005 | AW12: 24675 | AX12: 817.04 | AY12: 295000 | AZ12: 5000 | BA12: 1426.41 | BB12: 280.91 | BC12: 313.29
A13: 42467 | B13: 9600 | D13: 6845 | E13: 29500 | F13: 12200 | G13: 168.17 | H13: 46005 | I13: 567.96 | J13: 83000 | K13: 200000 | L13: 145000 | M13: 690000 | N13: 102675 | O13: 18500 | P13: 32250 | Q13: 714.44 | R13: 103000 | S13: 168000 | T13: 155000 | U13: 190000 | W13: 110000 | X13: 80000 | AA13: 38 | AD13: 27005 | AE13: 155000 | AG13: 108.78 | AH13: 88000 | AI13: 30000 | AJ13: 3800 | AK13: 52000 | AL13: 40500 | AM13: 21005 | AN13: 210000 | AO13: 32000 | AP13: 168100 | AQ13: 24000 | AR13: 28900 | AS13: 186.88 | AT13: 87000 | AU13: 14490 | AV13: 98005 | AW13: 24700 | AX13: 816.73 | AY13: 295000 | AZ13: 5000 | BA13: 1426.41 | BB13: 281.4 | BC13: 314.06
... A22: 42509 | B22: 12000 | D22: 6000 | E22: 35300 | F22: 14000 | G22: 200.89 | H22: 58000 | I22: 716.05 | J22: 147000 | K22: 210000 | L22: 144995 | M22: 670000 | N22: 105995 | O22: 17650 | P22: 29000 | Q22: 727.88 | R22: 101000 | S22: 187500 | T22: 145000 | U22: 200000 | W22: 111500 | X22: 69000 | AA22: 39 | AD22: 29670 | AE22: 156000 | AG22: 110.02 | AH22: 115000 | AI22: 29175 | AJ22: 4370 | AK22: 50000 | AL22: 52000 | AM22: 19200 | AN22: 210000 | AO22: 37985 | AP22: 173000 | AQ22: 28550 | AR22: 27450 | AS22: 191.47 | AT22: 89000 | AU22: 14300 | AV22: 103000 | AW22: 24000 | AX22: 800.28 | AY22: 295000 | AZ22: 6400 | BA22: 1431.53 | BB22: 279.06 | BC22: 315.69
A23: 42538 | B23: 10000 | D23: 6000 | E23: 33980 | F23: 15100 | G23: 190.45 | H23: 50000 | I23: 617.28 | J23: 150000 | K23: 192080 | L23: 117005 | M23: 554905 | N23: 153005 | O23: 18300 | P23: 29500 | Q23: 724.55 | R23: 102000 | S23: 202105 | T23: 150005 | U23: 204205 | V23: 61875 | W23: 106000 | X23: 66000 | AA23: 33 | AD23: 36855 | AE23: 150000 | AG23: 108.5 | AH23: 115000 | AI23: 27300 | AJ23: 4370 | AK23: 50000 | AL23: 50000 | AM23: 20000 | AN23: 195000 | AO23: 31490 | AP23: 170000 | AQ23: 27000 | AR23: 26995 | AS23: 181.12 | AT23: 82000 | AU23: 13505 | AV23: 92010 | AW23: 23995 | AX23: 786.14 | AY23: 305000 | AZ23: 6200 | BA23: 1478.53 | BB23: 268.68 | BC23: 309.82
A24: 42541 | B24: 9850 | D24: 6000 | E24: 34000 | F24: 15500 | G24: 191.22 | H24: 46500 | I24: 574.07 | J24: 150000 | K24: 192500 | L24: 117005 | M24: 554905 | N24: 150000 | O24: 18400 | P24: 29990 | Q24: 723.96 | R24: 100000 | S24: 217260 | T24: 138755 | U24: 205000 | V24: 66515 | W24: 105015 | X24: 65995 | AA24: 35 | AD24: 39615 | AE24: 149990 | AG24: 110.85 | AH24: 115000 | AI24: 27400 | AJ24: 4370 | AK24: 50000 | AL24: 50000 | AM24: 19500 | AN24: 195010 | AO24: 30950 | AP24: 170000 | AQ24: 27000 | AR24: 26990 | AS24: 180.89 | AT24: 80000 | AU24: 13525 | AV24: 92010 | AW24: 23900 | AX24: 782.57 | AY24: 305000 | AZ24: 6200 | BA24: 1478.53 | BB24: 269.95 | BC24: 311
A25: 42737 | B25: 13000 | C25: 14495 | D25: 11000 | E25: 33000 | F25: 13005 | G25: 207.35 | H25: 35000 | I25: 432.1 | J25: 5300 | K25: 174000 | L25: 60000 | M25: 400000 | N25: 2900 | O25: 18500 | P25: 20000 | Q25: 576.99 | R25: 98900 | S25: 168000 | T25: 140000 | U25: 139000 | V25: 40000 | W25: 90000 | X25: 46500 | Y25: 39825 | AA25: 24 | AD25: 23030 | AE25: 138500 | AF25: 23500 | AG25: 95 | AH25: 87500 | AI25: 23500 | AJ25: 3000 | AK25: 53000 | AL25: 33000 | AM25: 10900 | AN25: 177375 | AO25: 18500 | AP25: 150000 | AQ25: 18500 | AR25: 25500 | AS25: 155.94 | AT25: 74500 | AU25: 11500 | AV25: 84500 | AW25: 24495 | AX25: 774.76 | AY25: 297000 | AZ25: 3900 | BA25: 1431.92 | BB25: 254.64 | BC25: 285.18
A26: 42738 | B26: 13000 | C26: 14000 | D26: 11000 | E26: 31500 | F26: 13100 | G26: 203.95 | H26: 35000 | I26: 432.1 | J26: 5250 | K26: 174000 | L26: 60000 | M26: 400000 | N26: 2800 | O26: 19495 | P26: 20000 | Q26: 581.25 | R26: 98900 | S26: 170000 | T26: 139000 | U26: 138990 | V26: 39995 | W26: 89000 | X26: 47000 | Y26: 42810 | AA26: 24 | AD26: 23030 | AE26: 138000 | AF26: 23400 | AG26: 95.72 | AH26: 87500 | AI26: 23500 | AJ26: 3000 | AK26: 55000 | AL26: 33000 | AM26: 10900 | AN26: 177375 | AO26: 18000 | AP26: 147000 | AQ26: 18000 | AR26: 26000 | AS26: 155.86 | AT26: 70005 | AU26: 11200 | AV26: 84500 | AW26: 24100 | AX26: 759.31 | AY26: 297000 | AZ26: 3900 | BA26: 1431.92 | BB26: 251.55 | BC26: 283.45
A27: 42739 | B27: 13000 | C27: 13995 | D27: 10900 | E27: 31500 | F27: 13100 | G27: 203.9 | H27: 35000 | I27: 432.1 | J27: 5000 | K27: 174000 | L27: 60000 | M27: 370500 | N27: 2800 | O27: 18500 | P27: 20000 | Q27: 566.26 | R27: 98900 | S27: 170000 | T27: 140000 | U27: 138000 | V27: 40000 | W27: 88005 | X27: 48000 | Y27: 43000 | AA27: 24 | AD27: 23030 | AE27: 138100 | AF27: 23395 | AG27: 95.79 | AH27: 87500 | AI27: 22500 | AJ27: 3000 | AK27: 57100 | AL27: 33000 | AM27: 11000 | AN27: 177375 | AO27: 18500 | AP27: 147000 | AQ27: 18000 | AR27: 24500 | AS27: 154.59 | AT27: 75000 | AU27: 11200 | AV27: 78165 | AW27: 24100 | AX27: 761.37 | AY27: 297000 | AZ27: 3895 | BA27: 1431.9 | BB27: 251.64 | BC27: 282.83
A28: 42740 | B28: 13000 | C28: 13700 | D28: 10850 | E28: 31900 | F28: 13100 | G28: 203.49 | H28: 35000 | I28: 432.1 | J28: 5000 | K28: 174000 | L28: 60000 | M28: 350000 | N28: 2700 | O28: 18500 | P28: 19500 | Q28: 557.85 | R28: 97500 | S28: 170000 | T28: 140000 | U28: 136000 | V28: 39000 | W28: 88000 | X28: 48000 | Y28: 45000 | AA28: 24 | AD28: 23030 | AE28: 138000 | AF28: 23105 | AG28: 95.92 | AH28: 87500 | AI28: 22005 | AJ28: 2960 | AK28: 57100 | AL28: 33000 | AM28: 10900 | AN28: 177375 | AO28: 18500 | AP28: 147000 | AQ28: 18000 | AR28: 24000 | AS28: 153.81 | AT28: 75000 | AU28: 10900 | AV28: 73000 | AW28: 24300 | AX28: 762.65 | AY28: 297000 | AZ28: 3900 | BA28: 1431.92 | BB28: 251.54 | BC28: 282.54
A29: 42741 | B29: 13000 | C29: 13500 | D29: 10795 | E29: 31900 | F29: 13100 | G29: 202.83 | H29: 35000 | I29: 432.1 | J29: 5000 | K29: 174000 | L29: 60000 | M29: 350000 | N29: 2695 | O29: 18490 | P29: 19495 | Q29: 557.51 | R29: 97500 | S29: 170000 | T29: 142015 | U29: 137500 | V29: 40000 | W29: 87995 | X29: 51600 | Y29: 48000 | AA29: 23 | AD29: 23030 | AE29: 136000 | AF29: 22700 | AG29: 95.94 | AH29: 87500 | AI29: 22900 | AJ29: 3000 | AK29: 57100 | AL29: 33000 | AM29: 10800 | AN29: 165000 | AO29: 18500 | AP29: 145000 | AQ29: 18000 | AR29: 23000 | AS29: 149.2 | AT29: 73000 | AU29: 10900 | AV29: 73000 | AW29: 24000 | AX29: 753.82 | AY29: 297000 | AZ29: 4190 | BA29: 1432.98 | BB29: 248.14 | BC29: 280.28
A30: 42744 | B30: 12950 | C30: 13000 | D30: 10795 | E30: 31800 | F30: 13200 | G30: 201.16 | H30: 35000 | I30: 432.1 | J30: 5000 | K30: 174000 | L30: 60000 | M30: 325000 | N30: 2695 | O30: 18000 | P30: 19490 | Q30: 549.87 | R30: 97500 | S30: 170000 | T30: 142000 | U30: 136010 | V30: 39990 | W30: 88000 | X30: 50000 | Y30: 47000 | AA30: 24 | AD30: 23030 | AE30: 138000 | AF30: 22700 | AG30: 96.57 | AH30: 87500 | AI30: 22600 | AJ30: 3000 | AK30: 58900 | AL30: 33000 | AM30: 10800 | AN30: 165000 | AO30: 18500 | AP30: 145000 | AQ30: 18000 | AR30: 24000 | AS30: 150.21 | AT30: 74000 | AU30: 10900 | AV30: 70000 | AW30: 24100 | AX30: 756.32 | AY30: 297000 | AZ30: 4190 | BA30: 1432.98 | BB30: 249.75 | BC30: 280.93
A31: 42745 | B31: 13100 | C31: 13000 | D31: 10795 | E31: 33000 | F31: 13200 | G31: 203.62 | H31: 35000 | I31: 432.1 | J31: 4995 | K31: 174000 | L31: 59000 | M31: 325000 | N31: 2645 | O31: 18000 | P31: 19490 | Q31: 546.1 | R31: 97500 | S31: 170000 | T31: 142000 | U31: 136010 | V31: 40000 | W31: 87995 | X31: 50000 | Y31: 43510 | AA31: 24 | AD31: 23030 | AE31: 136500 | AF31: 23000 | AG31: 95.56 | AH31: 87500 | AI31: 22600 | AJ31: 3000 | AK31: 58900 | AL31: 32800 | AM31: 10810 | AN31: 165000 | AO31: 18500 | AP31: 145000 | AQ31: 18000 | AR31: 24000 | AS31: 150.19 | AT31: 74000 | AU31: 10500 | AV31: 71000 | AW31: 24050 | AX31: 751.94 | AY31: 297000 | AZ31: 4190 | BA31: 1432.98 | BB31: 248.58 | BC31: 279.32
A32: 42746 | B32: 12950 | C32: 12800 | D32: 10795 | E32: 33000 | F32: 14190 | G32: 205.54 | H32: 35000 | I32: 432.1 | J32: 4995 | K32: 174000 | L32: 59000 | M32: 325000 | N32: 2550 | O32: 18000 | P32: 19200 | Q32: 540.91 | R32: 97500 | S32: 170000 | T32: 142000 | U32: 132005 | V32: 40000 | W32: 86000 | X32: 49005 | Y32: 46400 | AA32: 24 | AD32: 23030 | AE32: 136500 | AF32: 22600 | AG32: 95.85 | AH32: 87500 | AI32: 22490 | AJ32: 3000 | AK32: 58900 | AL32: 34000 | AM32: 10810 | AN32: 165000 | AO32: 18000 | AP32: 145000 | AQ32: 18000 | AR32: 23495 | AS32: 149.65 | AT32: 73000 | AU32: 10900 | AV32: 70000 | AW32: 24495 | AX32: 765.42 | AY32: 297000 | AZ32: 4190 | BA32: 1432.98 | BB32: 250.91 | BC32: 281.38
A33: 42747 | B33: 12950 | C33: 12845 | D33: 10790 | E33: 33000 | F33: 13995 | G33: 205.03 | H33: 35000 | I33: 432.1 | J33: 4995 | K33: 174000 | L33: 59000 | M33: 325000 | N33: 2655 | O33: 18000 | P33: 19000 | Q33: 545.38 | R33: 91000 | S33: 170000 | T33: 142005 | U33: 136500 | V33: 40000 | W33: 87000 | X33: 49100 | Y33: 45000 | AA33: 24 | AD33: 23000 | AE33: 138000 | AF33: 22960 | AG33: 95.61 | AH33: 87500 | AI33: 22490 | AJ33: 3000 | AK33: 60000 | AL33: 34000 | AM33: 11100 | AN33: 165000 | AO33: 18000 | AP33: 145000 | AQ33: 18000 | AR33: 24000 | AS33: 150.36 | AT33: 74000 | AU33: 10900 | AV33: 70000 | AW33: 24495 | AX33: 766.12 | AY33: 274725 | AZ33: 4000 | BA33: 1325.97 | BB33: 251.27 | BC33: 280.68
A34: 42748 | B34: 12950 | C34: 12050 | D34: 10790 | E34: 34180 | F34: 13205 | G34: 201.49 | H34: 35000 | I34: 432.1 | J34: 4900 | K34: 174000 | L34: 59000 | M34: 300625 | N34: 2800 | O34: 18000 | P34: 18000 | Q34: 546.09 | R34: 91000 | S34: 170000 | T34: 142010 | U34: 136000 | V34: 40000 | W34: 88000 | X34: 49400 | Y34: 46450 | AA34: 24 | AD34: 23000 | AE34: 138000 | AF34: 22300 | AG34: 95.75 | AH34: 87500 | AI34: 20805 | AJ34: 3000 | AK34: 60000 | AL34: 34000 | AM34: 11100 | AN34: 165000 | AO34: 18000 | AP34: 141000 | AQ34: 18000 | AR34: 23100 | AS34: 147.72 | AT34: 71000 | AU34: 10900 | AV34: 64750 | AW34: 24300 | AX34: 758.03 | AY34: 254125 | AZ34: 4000 | BA34: 1227.64 | BB34: 249.93 | BC34: 278.05
A35: 42751 | B35: 12950 | C35: 12050 | D35: 10790 | E35: 34250 | F35: 13205 | G35: 201.59 | H35: 35000 | I35: 432.1 | J35: 4800 | K35: 168000 | L35: 59000 | M35: 290000 | N35: 3000 | O35: 17900 | P35: 18000 | Q35: 551.01 | R35: 91000 | S35: 170000 | T35: 143000 | U35: 135000 | V35: 40000 | W35: 86000 | X35: 49000 | Y35: 46550 | AA35: 24 | AD35: 21275 | AE35: 137505 | AF35: 22980 | AG35: 95.89 | AH35: 87500 | AI35: 20995 | AJ35: 3000 | AK35: 56000 | AL35: 36550 | AM35: 11110 | AN35: 165000 | AO35: 18500 | AP35: 140000 | AQ35: 18000 | AR35: 23995 | AS35: 148.05 | AT35: 71000 | AU35: 11100 | AV35: 69605 | AW35: 24200 | AX35: 758.32 | AY35: 270000 | AZ35: 4000 | BA35: 1303.41 | BB35: 250.64 | BC35: 279.19
A36: 42752 | B36: 12950 | C36: 12000 | D36: 10790 | E36: 36815 | F36: 13200 | G36: 205.05 | H36: 35000 | I36: 432.1 | J36: 4700 | K36: 168000 | L36: 59000 | M36: 290000 | N36: 3000 | O36: 17900 | P36: 17305 | Q36: 548.49 | R36: 90100 | S36: 171500 | T36: 142000 | U36: 135500 | V36: 40300 | W36: 86500 | X36: 49500 | Y36: 47000 | AA36: 24 | AD36: 21275 | AE36: 136515 | AF36: 22500 | AG36: 95.72 | AH36: 85000 | AI36: 20995 | AJ36: 3000 | AK36: 56000 | AL36: 39290 | AM36: 11200 | AN36: 165000 | AO36: 18000 | AP36: 140000 | AQ36: 16750 | AR36: 23000 | AS36: 146.92 | AT36: 70000 | AU36: 11000 | AV36: 70000 | AW36: 24500 | AX36: 764.31 | AY36: 270000 | AZ36: 4000 | BA36: 1303.41 | BB36: 251.4 | BC36: 279.81
... A60: 42804 | B60: 13005 | C60: 11000 | D60: 6500 | E60: 34000 | F60: 12750 | G60: 194.92 | H60: 27000 | I60: 333.33 | J60: 3900 | K60: 146450 | L60: 63500 | M60: 280000 | N60: 1840 | O60: 17000 | P60: 17300 | Q60: 478.17 | R60: 94500 | S60: 198500 | T60: 160000 | U60: 149750 | V60: 53000 | W60: 95000 | X60: 49005 | Y60: 57500 | AA60: 22 | AD60: 24840 | AE60: 150000 | AF60: 23800 | AG60: 103.8 | AH60: 78000 | AI60: 16000 | AJ60: 2775 | AK60: 55000 | AL60: 38000 | AM60: 10000 | AN60: 162000 | AO60: 24300 | AP60: 115000 | AQ60: 15400 | AR60: 22990 | AS60: 139.17 | AT60: 67000 | AU60: 11500 | AV60: 70500 | AW60: 25000 | AX60: 778.95 | AY60: 230000 | AZ60: 3900 | BA60: 1112.12 | BB60: 251.44 | BC60: 281.85
A61: 43160 | B61: 7000 | C61: 1705 | D61: 3850 | E61: 5295 | F61: 4055 | G61: 237.55 | H61: 180 | I61: 222.1 | J61: 1745 | K61: 3150 | L61: 615 | M61: 289000 | N61: 1330 | O61: 2155 | P61: 1695 | Q61: 354.39 | R61: 8390 | S61: 6600 | T61: 7100 | U61: 4900 | V61: 4315 | W61: 5100 | X61: 3115 | Y61: 9000 | Z61: 25000 | AA61: 19 | AB61: 8400 | AD61: 9700 | AE61: 14000 | AF61: 16995 | AG61: 86.93 | AH61: 1895 | AI61: 4940 | AJ61: 100 | AK61: 2000 | AL61: 13500 | AM61: 455 | AN61: 110000 | AO61: 13600 | AP61: 55000 | AQ61: 7100 | AR61: 3350 | AS61: 94.76 | AT61: 1985 | AU61: 8450 | AV61: 3795 | AW61: 21500 | AX61: 640.25 | AY61: 4300 | AZ61: 3000 | BA61: 1037.22 | BB61: 210.17 | BC61: 233.84
A62: 43161 | B62: 7140 | C62: 1580 | D62: 3850 | E62: 5570 | F62: 4055 | G62: 241.26 | H62: 190 | I62: 234.44 | J62: 1745 | K62: 3200 | L62: 660 | M62: 289000 | N62: 1425 | O62: 2200 | P62: 1820 | Q62: 370.43 | R62: 8390 | S62: 6595 | T62: 7100 | U62: 4900 | V62: 4250 | W62: 5100 | X62: 3200 | Y62: 9000 | Z62: 24990 | AA62: 18 | AB62: 8400 | AD62: 9700 | AE62: 13995 | AF62: 17000 | AG62: 86.32 | AH62: 1935 | AI62: 4930 | AJ62: 100 | AK62: 2000 | AL62: 13500 | AM62: 455 | AN62: 117000 | AO62: 13600 | AP62: 54000 | AQ62: 7100 | AR62: 3305 | AS62: 96.71 | AT62: 1985 | AU62: 8450 | AV62: 3795 | AW62: 21500 | AX62: 640.25 | AY62: 4405 | AZ62: 3000 | BA62: 1062.28 | BB62: 210.04 | BC62: 234.75
A63: 43164 | B63: 6605 | C63: 1465 | D63: 3850 | E63: 5500 | F63: 4355 | G63: 238.4 | H63: 200 | I63: 246.78 | J63: 1745 | K63: 3140 | L63: 660 | M63: 289000 | N63: 1530 | O63: 2200 | P63: 1955 | Q63: 378.4 | R63: 8200 | S63: 6500 | T63: 7050 | U63: 4995 | V63: 4300 | W63: 5100 | X63: 3250 | Y63: 9000 | Z63: 24500 | AA63: 19 | AB63: 8395 | AD63: 9700 | AE63: 14185 | AF63: 16800 | AG63: 86.82 | AH63: 1820 | AI63: 4925 | AJ63: 105 | AK63: 2010 | AL63: 13500 | AM63: 485 | AN63: 117000 | AO63: 12605 | AP63: 53500 | AQ63: 7100 | AR63: 3450 | AS63: 96.79 | AT63: 1955 | AU63: 8500 | AV63: 3995 | AW63: 21500 | AX63: 640.7 | AY63: 4410 | AZ63: 3000 | BA63: 1063.47 | BB63: 211.28 | BC63: 235.56
A64: 43165 | B64: 6180 | C64: 1360 | D64: 3850 | E64: 5200 | F64: 4360 | G64: 228.56 | H64: 215 | I64: 265.28 | J64: 1745 | K64: 3100 | L64: 615 | M64: 289000 | N64: 1600 | O64: 2200 | P64: 1990 | Q64: 376.24 | R64: 8395 | S64: 6600 | T64: 7050 | U64: 5000 | V64: 4300 | W64: 5100 | X64: 3010 | Y64: 9000 | Z64: 25000 | AA64: 19 | AB64: 8390 | AD64: 9700 | AE64: 14465 | AF64: 16500 | AG64: 87.2 | AH64: 1910 | AI64: 4945 | AJ64: 110 | AK64: 2010 | AL64: 13500 | AM64: 520 | AN64: 119000 | AO64: 13550 | AP64: 55000 | AQ64: 7100 | AR64: 3550 | AS64: 98.72 | AT64: 1955 | AU64: 8500 | AV64: 4075 | AW64: 21500 | AX64: 640.88 | AY64: 4495 | AZ64: 3000 | BA64: 1083.76 | BB64: 211.85 | BC64: 235.85
A65: 43166 | B65: 6500 | C65: 1280 | D65: 3850 | E65: 5200 | F65: 4360 | G65: 230.78 | H65: 230 | I65: 283.79 | J65: 1830 | K65: 3000 | L65: 660 | M65: 267325 | N65: 1580 | O65: 2200 | P65: 1960 | Q65: 378.28 | R65: 8350 | S65: 6500 | T65: 7000 | U65: 5000 | V65: 4300 | W65: 5000 | X65: 2900 | Y65: 9000 | Z65: 26000 | AA65: 19 | AB65: 8295 | AD65: 9700 | AE65: 14000 | AF65: 16800 | AG65: 86.83 | AH65: 1890 | AI65: 4945 | AJ65: 115 | AK65: 2050 | AL65: 13500 | AM65: 550 | AN65: 119000 | AO65: 13600 | AP65: 55000 | AQ65: 7100 | AR65: 3300 | AS65: 97.93 | AT65: 1950 | AU65: 8530 | AV65: 4075 | AW65: 21605 | AX65: 643.67 | AY65: 4700 | AZ65: 3000 | BA65: 1132.68 | BB65: 212.06 | BC65: 236.36
A66: 43167 | B66: 6500 | C66: 1280 | D66: 3850 | E66: 5200 | F66: 4360 | G66: 230.78 | H66: 230 | I66: 283.79 | J66: 1830 | K66: 3000 | L66: 660 | M66: 267325 | N66: 1580 | O66: 2200 | P66: 1960 | Q66: 378.28 | R66: 8350 | S66: 6500 | T66: 7000 | U66: 5000 | V66: 4300 | W66: 5000 | X66: 2900 | Y66: 9000 | Z66: 26000 | AA66: 19 | AB66: 8295 | AD66: 9700 | AE66: 14000 | AF66: 16800 | AG66: 86.83 | AH66: 1890 | AI66: 4945 | AJ66: 115 | AK66: 2050 | AL66: 13500 | AM66: 550 | AN66: 119000 | AO66: 13600 | AP66: 55000 | AQ66: 7100 | AR66: 3300 | AS66: 97.93 | AT66: 1950 | AU66: 8530 | AV66: 4075 | AW66: 21605 | AX66: 643.67 | AY66: 4700 | AZ66: 3000 | BA66: 1132.68 | BB66: 212.06 | BC66: 236.36
A67: 43168 | B67: 6500 | C67: 1300 | D67: 3850 | E67: 5225 | F67: 4000 | G67: 225.36 | H67: 260 | I67: 320.81 | J67: 1900 | K67: 3000 | L67: 705 | M67: 250000 | N67: 1360 | O67: 2115 | P67: 1960 | Q67: 368.48 | R67: 8355 | S67: 6500 | T67: 6995 | U67: 4910 | V67: 4150 | W67: 5000 | X67: 2795 | Y67: 9000 | Z67: 25000 | AA67: 19 | AB67: 8300 | AD67: 9700 | AE67: 14000 | AF67: 16520 | AG67: 86.1 | AH67: 1870 | AI67: 4930 | AJ67: 120 | AK67: 2100 | AL67: 14510 | AM67: 555 | AN67: 117500 | AO67: 14500 | AP67: 53500 | AQ67: 7100 | AR67: 3550 | AS67: 98.85 | AT67: 1900 | AU67: 8650 | AV67: 4380 | AW67: 22250 | AX67: 660.66 | AY67: 4695 | AZ67: 3000 | BA67: 1131.49 | BB67: 215.48 | BC67: 237.48
A68: 43171 | B68: 6900 | C68: 1395 | D68: 3850 | E68: 5100 | F68: 4200 | G68: 232.22 | H68: 275 | I68: 339.32 | J68: 1900 | K68: 3000 | L68: 755 | M68: 250000 | N68: 1450 | O68: 2000 | P68: 1920 | Q68: 373.13 | R68: 8365 | S68: 6405 | T68: 6990 | U68: 4900 | V68: 4300 | W68: 5000 | X68: 2890 | Y68: 9000 | Z68: 24995 | AA68: 19 | AB68: 8295 | AD68: 9700 | AE68: 14150 | AF68: 16500 | AG68: 86.35 | AH68: 1870 | AI68: 4930 | AJ68: 120 | AK68: 2100 | AL68: 14510 | AM68: 545 | AN68: 117500 | AO68: 15585 | AP68: 53500 | AQ68: 7100 | AR68: 3400 | AS68: 98.63 | AT68: 1945 | AU68: 8615 | AV68: 4700 | AW68: 21995 | AX68: 655.38 | AY68: 4690 | AZ68: 2900 | BA68: 1129.93 | BB68: 214.26 | BC68: 237.52
A69: 43172 | B69: 7255 | C69: 1495 | D69: 3850 | E69: 5350 | F69: 4300 | G69: 242.33 | H69: 295 | I69: 364 | J69: 1900 | K69: 3000 | L69: 805 | M69: 250000 | N69: 1490 | O69: 2000 | P69: 1920 | Q69: 381.82 | R69: 8200 | S69: 6400 | T69: 6800 | U69: 5095 | V69: 4215 | W69: 5180 | X69: 3100 | Y69: 9000 | Z69: 24995 | AA69: 18 | AB69: 8125 | AD69: 8975 | AE69: 14000 | AF69: 16800 | AG69: 85.6 | AH69: 1935 | AI69: 5000 | AJ69: 125 | AK69: 2250 | AL69: 14510 | AM69: 550 | AN69: 117500 | AO69: 16750 | AP69: 53500 | AQ69: 7100 | AR69: 3350 | AS69: 99.83 | AT69: 1900 | AU69: 8675 | AV69: 4610 | AW69: 22010 | AX69: 655.43 | AY69: 4500 | AZ69: 2775 | BA69: 1084.13 | BB69: 212.53 | BC69: 237.59
A70: 43173 | B70: 7400 | C70: 1505 | D70: 3565 | E70: 5495 | F70: 4300 | G70: 245.87 | H70: 315 | I70: 388.67 | J70: 1830 | K70: 3000 | L70: 865 | M70: 250000 | N70: 1450 | O70: 2150 | P70: 1920 | Q70: 394.61 | R70: 8445 | S70: 6500 | T70: 6990 | U70: 5400 | V70: 4290 | W70: 5190 | X70: 2950 | Y70: 9000 | Z70: 25900 | AA70: 19 | AB70: 8295 | AD70: 8975 | AE70: 14460 | AF70: 17000 | AG70: 87.82 | AH70: 1960 | AI70: 4995 | AJ70: 130 | AK70: 2365 | AL70: 14510 | AM70: 585 | AN70: 118000 | AO70: 18005 | AP70: 54000 | AQ70: 7100 | AR70: 3510 | AS70: 101.82 | AT70: 1930 | AU70: 8700 | AV70: 4795 | AW70: 22100 | AX70: 658.7 | AY70: 4800 | AZ70: 2800 | BA70: 1155.82 | BB70: 216.22 | BC70: 242.02
A71: 43174 | B71: 7500 | C71: 1600 | D71: 3565 | E71: 5500 | F71: 4400 | G71: 249.86 | H71: 330 | I71: 407.18 | J71: 1800 | K71: 3000 | L71: 810 | M71: 250000 | N71: 1345 | O71: 2100 | P71: 1800 | Q71: 376.62 | R71: 8300 | S71: 6495 | T71: 6985 | U71: 5000 | V71: 4250 | W71: 5000 | X71: 2955 | Y71: 9000 | Z71: 25000 | AA71: 20 | AB71: 8295 | AD71: 8305 | AE71: 13980 | AF71: 17500 | AG71: 87.26 | AH71: 1900 | AI71: 4995 | AJ71: 130 | AK71: 2295 | AL71: 14510 | AM71: 600 | AN71: 118000 | AO71: 19000 | AP71: 54000 | AQ71: 7500 | AR71: 3440 | AS71: 101.69 | AT71: 1990 | AU71: 8500 | AV71: 4700 | AW71: 22500 | AX71: 667.55 | AY71: 4770 | AZ71: 2800 | BA71: 1148.66 | BB71: 217.87 | BC71: 242.03
...

Sheet Min-Max
C1: 2018 | F1: 2016 | G1: 2017 | H1: 2018 | I1: 2019 | J1: 2020 | K1: 2021 | L1: 2022 | M1: 2023 | N1: 2024
B2: PALC | C2: SCRC | D2: SICC | E2: SOGC | F2: SPHC | G2: BRVM-AGR | H2: STAC | I2: BRVM-AUT | J2: ABJC | K2: BNBC | L2: CFAC | M2: PRSC | N2: SHEC | O2: TTLC | P2: TTLS | Q2: BRVM-DIS | R2: BICC | S2: BOAB | T2: BOABF | U2: BOAC | V2: BOAM | W2: BOAN | X2: BOAS | Y2: CBIBF | Z2: ECOC | AA2: ETIT | AB2: NSBC | AC2: ORGT | AD2: SAFC | AE2: SGBC | AF2: SIBC | AG2: BRVM-FIN | AH2: CABC | AI2: FTSC | AJ2: NEIC | AK2: NTLC | AL2: SEMC | AM2: SIVC | AN2: SLBC | AO2: SMBC | AP2: STBC | AQ2: UNLC | AR2: UNXC | AS2: BRVM-IND | AT2: CIEC | AU2: ONTBF | AV2: SDCC | AW2: SNTS | AX2: BRVM-SPU | AY2: SDSC | AZ2: SVOC | BA2: BRVM-TRP | BB2: BRVM-10 | BC2: BRVM-C
A3: Min | B3: {=MIN(IF((YEAR('Base de données cours'!$A$2:$A$91)=$C$1)*('Base de données cours'!$B$1:$BC$1=B$2),'Base de données cours'!$B$2:$BC$91))} -> 6180 | C3: {=MIN(IF((YEAR('Base de données cours'!$A$2:$A$91)=$C$1)*('Base de données cours'!$B$1:$BC$1=C$2),'Base de données cours'!$B$2:$BC$91))} -> 1280 | D3: {=MIN(IF((YEAR('Base de données cours'!$A$2:$A$91)=$C$1)*('Base de données cours'!$B$1:$BC$1=D$2),'Base de données cours'!$B$2:$BC$91))} -> 3565 | E3: {=MIN(IF((YEAR('Base de données cours'!$A$2:$A$91)=$C$1)*('Base de données cours'!$B$1:$BC$1=E$2),'Base de données cours'!$B$2:$BC$91))} -> 5100 | F3: {=MIN(IF((YEAR('Base de données cours'!$A$2:$A$91)=$C$1)*('Base de données cours'!$B$1:$BC$1=F$2),'Base de données cours'!$B$2:$BC$91))} -> 4000 | G3: {=MIN(IF((YEAR('Base de données cours'!$A$2:$A$91)=$C$1)*('Base de données cours'!$B$1:$BC$1=G$2),'Base de données cours'!$B$2:$BC$91))} -> 225.36 | H3: {=MIN(IF((YEAR('Base de données cours'!$A$2:$A$91)=$C$1)*('Base de données cours'!$B$1:$BC$1=H$2),'Base de données cours'!$B$2:$BC$91))} -> 180 | I3: {=MIN(IF((YEAR('Base de données cours'!$A$2:$A$91)=$C$1)*('Base de données cours'!$B$1:$BC$1=I$2),'Base de données cours'!$B$2:$BC$91))} -> 222.1 | ... BC3: {=MIN(IF((YEAR('Base de données cours'!$A$2:$A$91)=$C$1)*('Base de données cours'!$B$1:$BC$1=BC$2),'Base de données cours'!$B$2:$BC$91))} -> 233.84
A4: Max | B4: {=MAX(IF((YEAR('Base de données cours'!$A$2:$A$91)=$C$1)*('Base de données cours'!$B$1:$BC$1=B$2),'Base de données cours'!$B$2:$BC$91))} -> 7500 | C4: {=MAX(IF((YEAR('Base de données cours'!$A$2:$A$91)=$C$1)*('Base de données cours'!$B$1:$BC$1=C$2),'Base de données cours'!$B$2:$BC$91))} -> 1800 | D4: {=MAX(IF((YEAR('Base de données cours'!$A$2:$A$91)=$C$1)*('Base de données cours'!$B$1:$BC$1=D$2),'Base de données cours'!$B$2:$BC$91))} -> 3850 | E4: {=MAX(IF((YEAR('Base de données cours'!$A$2:$A$91)=$C$1)*('Base de données cours'!$B$1:$BC$1=E$2),'Base de données cours'!$B$2:$BC$91))} -> 5590 | F4: {=MAX(IF((YEAR('Base de données cours'!$A$2:$A$91)=$C$1)*('Base de données cours'!$B$1:$BC$1=F$2),'Base de données cours'!$B$2:$BC$91))} -> 4400 | G4: {=MAX(IF((YEAR('Base de données cours'!$A$2:$A$91)=$C$1)*('Base de données cours'!$B$1:$BC$1=G$2),'Base de données cours'!$B$2:$BC$91))} -> 249.86 | H4: {=MAX(IF((YEAR('Base de données cours'!$A$2:$A$91)=$C$1)*('Base de données cours'!$B$1:$BC$1=H$2),'Base de données cours'!$B$2:$BC$91))} -> 430 | I4: {=MAX(IF((YEAR('Base de données cours'!$A$2:$A$91)=$C$1)*('Base de données cours'!$B$1:$BC$1=I$2),'Base de données cours'!$B$2:$BC$91))} -> 530.57 | ... BC4: {=MAX(IF((YEAR('Base de données cours'!$A$2:$A$91)=$C$1)*('Base de données cours'!$B$1:$BC$1=BC$2),'Base de données cours'!$B$2:$BC$91))} -> 242.03
