Workbook
Name Nom: [1]Feuil1!$A$3:$A$14

Sheet TRAVAUX
A1: NOM DU CHANTIER/CLIENT | B1: TRAVAUX A EFFECTUER | C1: NOM SALARIE
A2: PIERRE | B2: membrane en fonction de l'échafaudage | C2: Christophe
B3: récupérer les clés | C3: Jacques
A4: JEAN | B4: finition parquet | C4: Patrick
B5: livraison garde-corps | C5: Paul
A6: JULIEN | B6: Led | C6: Christophe
B7: livraison miroir | C7: Jacques
B8: livraison meubles vasque | C8: Patrick
B9: finition à partir de 44 | C9: Paul

Sheet Christophe
A1: TRAVAUX A EFFECTUER | B1: Christophe
A2: =INDEX(TRAVAUX!$B:$B,MATCH($B$1,TRAVAUX!$C:$C,0)) -> membrane en fonction de l'échafaudage
A3: =INDEX(TRAVAUX!$B:$B,MATCH($B$1,TRAVAUX!$C:$C,0)) -> membrane en fonction de l'échafaudage
A4: =INDEX(TRAVAUX!$B:$B,MATCH($B$1,TRAVAUX!$C:$C,0)) -> membrane en fonction de l'échafaudage
A5: =INDEX(TRAVAUX!$B:$B,MATCH($B$1,TRAVAUX!$C:$C,0)) -> membrane en fonction de l'échafaudage
A6: =INDEX(TRAVAUX!$B:$B,MATCH($B$1,TRAVAUX!$C:$C,0)) -> membrane en fonction de l'échafaudage
A7: =INDEX(TRAVAUX!$B:$B,MATCH($B$1,TRAVAUX!$C:$C,0)) -> membrane en fonction de l'échafaudage

Sheet Jacques
A1: TRAVAUX A EFFECTUER | B1: Jacques
A2: =INDEX(TRAVAUX!$B:$B,MATCH($B$1,TRAVAUX!$C:$C,0)) -> récupérer les clés
A3: =INDEX(TRAVAUX!$B:$B,MATCH($B$1,TRAVAUX!$C:$C,0)) -> récupérer les clés
A4: =INDEX(TRAVAUX!$B:$B,MATCH($B$1,TRAVAUX!$C:$C,0)) -> récupérer les clés
A5: =INDEX(TRAVAUX!$B:$B,MATCH($B$1,TRAVAUX!$C:$C,0)) -> récupérer les clés
A6: =INDEX(TRAVAUX!$B:$B,MATCH($B$1,TRAVAUX!$C:$C,0)) -> récupérer les clés
A7: =INDEX(TRAVAUX!$B:$B,MATCH($B$1,TRAVAUX!$C:$C,0)) -> récupérer les clés

Sheet Patrick
A1: TRAVAUX A EFFECTUER | B1: Patrick
A2: =INDEX(TRAVAUX!$B:$B,MATCH($B$1,TRAVAUX!$C:$C,0)) -> finition parquet
A3: =INDEX(TRAVAUX!$B:$B,MATCH($B$1,TRAVAUX!$C:$C,0)) -> finition parquet
A4: =INDEX(TRAVAUX!$B:$B,MATCH($B$1,TRAVAUX!$C:$C,0)) -> finition parquet
A5: =INDEX(TRAVAUX!$B:$B,MATCH($B$1,TRAVAUX!$C:$C,0)) -> finition parquet
A6: =INDEX(TRAVAUX!$B:$B,MATCH($B$1,TRAVAUX!$C:$C,0)) -> finition parquet
A7: =INDEX(TRAVAUX!$B:$B,MATCH($B$1,TRAVAUX!$C:$C,0)) -> finition parquet

Sheet Paul
A1: TRAVAUX A EFFECTUER | B1: Paul
A2: =INDEX(TRAVAUX!$B:$B,MATCH($B$1,TRAVAUX!$C:$C,0)) -> livraison garde-corps
A3: =INDEX(TRAVAUX!$B:$B,MATCH($B$1,TRAVAUX!$C:$C,0)) -> livraison garde-corps
A4: =INDEX(TRAVAUX!$B:$B,MATCH($B$1,TRAVAUX!$C:$C,0)) -> livraison garde-corps
A5: =INDEX(TRAVAUX!$B:$B,MATCH($B$1,TRAVAUX!$C:$C,0)) -> livraison garde-corps
A6: =INDEX(TRAVAUX!$B:$B,MATCH($B$1,TRAVAUX!$C:$C,0)) -> livraison garde-corps
A7: =INDEX(TRAVAUX!$B:$B,MATCH($B$1,TRAVAUX!$C:$C,0)) -> livraison garde-corps
