Workbook

Sheet Role Dep
A1: Role | B1: Department
A2: user
A3: admin
A4: reader
A5: editor

Sheet Mapping
A1: Name | B1: Role | C1: Department | H1: Valeur voulu | M1: A | N1: B | O1: C | P1: D | Q1: E
A2: Charles | B2: user | C2: =VLOOKUP(A2,'Name Dep'!A:B,2,0) -> Accounting | F2: user | H2: Management | M2: {=IF(B2:B13=F2,C2:C13,ROW())} -> Accounting | N2: {=COUNTIF(M2:M13,M2:M13)} -> 1 | O2: =MAX(N2:N13) -> 2 | P2: =MATCH(O2,N2:N13,0) -> 6 | Q2: =INDEX(C2:C13,P2) -> Management
A3: Charles | B3: admin | C3: =VLOOKUP(A3,'Name Dep'!A:B,2,0) -> Accounting | F3: admin | H3: HR | M3: 3 | N3: 1
A4: Josh | B4: admin | C4: =VLOOKUP(A4,'Name Dep'!A:B,2,0) -> HR | F4: reader | H4: Management | M4: 4 | N4: 1
A5: Josh | B5: admin | C5: =VLOOKUP(A5,'Name Dep'!A:B,2,0) -> HR | F5: editor | H5: Accounting | M5: 5 | N5: 1
A6: Josh | B6: admin | C6: HR | M6: 6 | N6: 1
A7: Kevin | B7: user | C7: =VLOOKUP(A7,'Name Dep'!A:B,2,0) -> Management | M7: Management | N7: 2
A8: Kevin | B8: admin | C8: =VLOOKUP(A8,'Name Dep'!A:B,2,0) -> Management | M8: 8 | N8: 1
A9: Kevin | B9: reader | C9: =VLOOKUP(A9,'Name Dep'!A:B,2,0) -> Management | M9: 9 | N9: 1
A10: Kevin | B10: editor | C10: Accounting | M10: 10 | N10: 1
A11: Sophie | B11: user | C11: =VLOOKUP(A11,'Name Dep'!A:B,2,0) -> Management | M11: Management | N11: 2
A12: Sophie | B12: reader | C12: =VLOOKUP(A12,'Name Dep'!A:B,2,0) -> Management | M12: 12 | N12: 1
A13: Sophie | B13: editor | C13: Accounting | M13: 13 | N13: 1
J17: A | K17: =_xlfn.FORMULATEXT(M2) -> {=SI(B2:B13=F2;C2:C13;LIGNE())} | Q17: =INDEX(C2:C13,MATCH(O2,N2:N13,0)) -> Management | R17: =IFERROR(_xlfn.FORMULATEXT(Q17),"") -> =INDEX(C2:C13;EQUIV(O2;N2:N13;0))
J18: B | K18: =_xlfn.FORMULATEXT(N2) -> {=NB.SI(M2:M13;M2:M13)} | Q18: =INDEX(C2:C13,MATCH(MAX(N2:N13),N2:N13,0)) -> Management | R18: =IFERROR(_xlfn.FORMULATEXT(Q18),"") -> =INDEX(C2:C13;EQUIV(MAX(N2:N13);N2:N13;0))
J19: C | K19: =_xlfn.FORMULATEXT(O2) -> =MAX(N2:N13) | Q19: {=INDEX(C2:C13,MATCH(MAX(COUNTIF(M2:M13,M2:M13)),N2:N13,0))} -> Management | R19: =IFERROR(_xlfn.FORMULATEXT(Q19),"") -> {=INDEX(C2:C13;EQUIV(MAX(NB.SI(M2:M13;M2:M13));N2:N13;0))}
J20: D | K20: =_xlfn.FORMULATEXT(P2) -> =EQUIV(O2;N2:N13;0) | Q20: {=INDEX(C2:C13,MATCH(MAX(COUNTIF(M2:M13,M2:M13)),COUNTIF(M2:M13,M2:M13),0))} -> Management | R20: =IFERROR(_xlfn.FORMULATEXT(Q20),"") -> {=INDEX(C2:C13;EQUIV(MAX(NB.SI(M2:M13;M2:M13));NB.SI(M2:M13;M2:M13);0))}
J21: E | K21: =_xlfn.FORMULATEXT(Q2) -> =INDEX(C2:C13;P2) | Q21: {=INDEX(C1:C12,MATCH(MAX(COUNTIF(IF(B2:B13=F5,C2:C13,ROW()),IF(B2:B13=F5,C2:C13,ROW()))),COUNTIF(IF(B2:B13=F5,C2:C13,ROW()),IF(B2:B13=F5,C2:C13,ROW())),0))} -> #VALUE! | R21: =IFERROR(_xlfn.FORMULATEXT(Q21),"") -> {=INDEX(C1:C12;EQUIV(MAX(NB.SI(SI(B2:B13=F5;C2:C13;LIGNE());SI(B2:B13=F5;C2:C13;LIGNE())));NB.SI(SI(B2:B13=F5;C2:C13;LIGNE());SI(B2:B13=F5;C2:C13;LIGNE()));0))}
R22: =IFERROR(_xlfn.FORMULATEXT(Q22),"")
R23: =IFERROR(_xlfn.FORMULATEXT(Q23),"")
R24: =IFERROR(_xlfn.FORMULATEXT(Q24),"")
R25: =IFERROR(_xlfn.FORMULATEXT(Q25),"")
R26: =IFERROR(_xlfn.FORMULATEXT(Q26),"")
R27: =IFERROR(_xlfn.FORMULATEXT(Q27),"")
R28: =IFERROR(_xlfn.FORMULATEXT(Q28),"")
R29: =IFERROR(_xlfn.FORMULATEXT(Q29),"")

Sheet Name Dep
A1: Name | B1: Dep
A2: Charles | B2: Accounting
A3: Josh | B3: HR
A4: Kevin | B4: Management
A5: Sophie | B5: Management
